{"text_format":"1","workbook":"xlsx","n_sheets":17,"sheets":["popis","CUP","hlavicka","počty","start","vyslSL","1.ko","obrac","STY","STYobr","sk SK","stběh","SK","SK dod","SL dod","EL_V_SL","EL_V_SK"],"not_rendered":{"charts":0,"images":0,"macros":1,"external_links":2,"defined_names":16,"comments":4,"pivot_tables":0},"unopened":[],"bounds":{"document_bytes":16777216,"sheet_cells":100000,"rows_first":2000,"rows_last":500,"rows_between":2000,"halvings":0,"cell_chars":16384,"cell_head_chars":4096},"cells_cut":0,"cells_raw":0,"read":"whole","date_system":"1900"}

{"sheet":"popis","index":0,"n_rows":36,"n_cols":5,"rows_kept":36,"cut":false,"hidden":false,"merged":[[19,0,19,10],[24,0,27,0],[28,0,30,0],[10,0,10,13],[11,0,11,13]]}
[]
["V listinach je potřeba skrýt nebo zobrazit potřebné řádky- řádky na dolním okraji listin - dle počtu závodníku."]
[]
["Lze tisknout karty pro rozhodčí A až E a to pro obě kole. Zase je třeba skrýt nepotrebne radky."]
["Když je druhé kolo bez obraceneho pořadí, lze vytisknout STYL karty jako pro první kolo tak ze v listu STYL1 prepiš hodnotu buňky F1 na číslo 2."]
[]
["Vyplň udaje v listu \"hlavicka\""]
["Vyplňuj jen modre buňky v listu \"počty\""]
[]
["nesmí se vkládat ani odstraňovat buňky, sloupce ani řádky - raději jen mazat hodnoty nebo skrýt sloupec"]
["POZOR při kopirování dat do listu \"počty\" z jiných tabulek ci souborů ,aby nedošlo k překopírování vzorců. Například při kopírování jmena, klub,roč…  lze vlozit najednou st.číslo, jmeno, klub, stát, nar. , komb.   ALE \"m\" jako mimo pořadí musí byt vloženo zvlašť, aby nedošlo ke překopírování vzorců."]
["V případě tohoto kopírování dej \"vložit jinak\" a zadej \"hodnoty\""]
[]
["Starovka je vypis zavodníku dle startovnich čísel od nejmenšího po největší, ignoruje i chybějící startovní čísla, nesmí byt však číslo shodné."]
[]
["Závodník je výsl. listinach jen pokud absolvuje 1.kolo - to znamena pokud nemá napsané metry nezobrazí se ještě ve výsledcích. Nelze aby nastoupil jen do 2.kola = diskvalifikace"]
["závodnící kteří nejdou do 2.kola mají automaticky nula bodu (žádné minus body) a mohou se tak objevit před slabšími závodníky s mínusovými body, kteří však jeli obě kola."]
[]
["Počet postupujicich do druheho kola: přeti si pozorně řádek číslo 10 v listu \"hlavicka\""]
["Seřadit list \"počty\" podle pořadí v 1. kole sestupně. Když se jede ve 2.kole v opačném pořadí podle výsledků, tak jdi do Data/ Seřadit  a vyber z rozbalovacího menu \"1.k.xxxxxx\" a zadej řázení sestupně. Položky které se používají k řazení jsem označil X-kama aby se dobře hledaly v rozbalovacím menu. Takto bude řazení stejné jako ve startovce do 2. kola."]
["Před tímto řazením měj kurzor v některé buňce se jmenem zavodníka"]
[]
["Ve výsl. listině lze použít či nepoužít nasledující údaje:"]
["Tyto udaje skrývam protože nejsou duležité, každy vidí kolik bylo zavodníků, ale jinak jsem tam dal vzorce, které počítají následovné:"]
["skok","počet přihlášených:",null,null,"vzorec počíta počet vepsanych jmen zavodniku do listu POČTY - sloupec \"O\""]
[null,"počet startujících:",null,null,"vzorec počíta počet hodnocenych zavodniku v listu pocty - sloupec \"AP\""]
[null,"počet klasifikovaných:",null,null,"vzorec počíta počet hodn. zavodniku v listu pocty bez mimo sotěž - sloupec \"BL\""]
[null,"počet mimo soutěž:",null,null,"zavodníci mimo soutěž - počet M ve vysled. listine ve sloupci \"B\""]
["kombinace","počet přihlášených:",null,null,"vzorec počíta počet \"x\" ( = přihlašených do kombinace)"]
[null,"počet startujících do skoku:",null,null,"vzorec počíta počet startujících ve skok do kombinace"]
[null,"dobehlo do cíle:",null,null,"vzorec počíta všechny co doběhli"]
[null,"z toho mimo soutěž (M):",null,null,"vzorec počítá ty co doběhli, ale co jsou mimo soutěž"]
[]
["Poharove Body","pokud není potreba stačí skrýt sloupec \"R\" ve vysledkove listine"]
[]
["MIMO sotěž","označ zavodniky písmenem \"m\" v listu POČTY  ve sloupci B."]

{"sheet":"CUP","index":1,"n_rows":561,"n_cols":18,"rows_kept":561,"cut":false,"hidden":false,"merged":[]}
[null,null,null,null,null,null,null,null,null,null,null,null,"toto nemazat"]
[null,"pořadí","pohar body",null,null,null,null,null,null,null,null,null,null,null,null,null,0.5,0.5]
[null,1,50,null,"lze zmenit bodove hodnoceni poharu",null,null,null,null,null,null,null,"ř.",null,null,null,1,1]
[null,2,42,null,"POZOR prepiš jenom žluté bunky",null,null,null,null,null,null,null,"M",null,null,null,1.5,1.5]
[null,3,35,null,null,null,null,null,null,null,null,null,null,null,null,null,2,2]
[null,4,30,null,null,null,null,null,null,null,null,null,null,null,null,null,2.5,2.5]
[null,5,26,null,null,null,null,null,null,null,null,null,"toto nemazat",null,null,null,3,3]
[null,6,22,null,null,null,null,null,null,null,null,null,null,null,null,null,3.5,3.5]
[null,7,19,null,null,null,null,null,null,null,null,null,"poř.",null,null,null,4,4]
[null,8,16,null,null,null,null,null,null,null,null,null,"M",null,null,null,4.5,4.5]
[null,9,14,null,null,null,null,null,null,null,null,null,null,null,null,null,5,5]
[null,10,12,null,null,null,null,null,null,null,null,null,null,null,null,null,5.5,5.5]
[null,11,10,null,null,null,null,null,null,null,null,null,"toto nemazat",null,null,null,6,6]
[null,12,9,null,null,null,null,null,null,null,null,null,null,null,null,null,6.5,6.5]
[null,13,8,null,null,null,null,null,null,null,null,null,"kotrola psaní časů",null,null,null,7,7]
[null,14,7,null,null,null,null,null,null,null,null,null,"nestartuje - nepiš žádný čas",null,null,null,7.5,7.5]
[null,15,6,null,null,null,null,null,null,null,null,null,null,null,null,null,8,8]
[null,16,5,null,null,null,null,null,null,null,null,null,null,null,null,null,8.5,8.5]
[null,17,4,null,null,null,null,null,null,null,null,null,"toto nemazat",null,null,null,9,9]
[null,18,3,null,null,null,null,null,null,null,null,null,null,null,null,null,9.5,9.5]
[null,19,2,null,null,null,null,null,null,null,null,null,"kotrola psaní časů",null,null,null,10,10]
[null,20,1,null,null,null,null,null,null,null,null,null,"menší čas cíl než čas startu",null,null,null,10.5,10.5]
[null,21,null,null,null,null,null,null,null,null,null,null,null,null,null,null,11,11]
[null,22,null,null,null,null,null,null,null,null,null,null,null,null,null,null,11.5,11.5]
[null,23,null,null,null,null,null,null,null,null,null,null,null,null,null,null,12,12]
[null,24,null,null,null,null,null,null,null,null,null,null,null,null,null,null,12.5,12.5]
[null,25,null,null,null,null,null,null,null,null,null,null,null,null,null,null,13,13]
[null,26,null,null,null,null,null,null,null,null,null,null,null,null,null,null,13.5,13.5]
[null,27,null,null,null,null,null,null,null,null,null,null,null,null,null,null,14,14]
[null,28,null,null,null,null,null,null,null,null,null,null,null,null,null,null,14.5,14.5]
[null,29,null,null,null,null,null,null,null,null,null,null,null,null,null,null,15,15]
[null,30,null,null,null,null,null,null,null,null,null,null,null,null,null,null,15.5,15.5]
[null,31,null,null,null,null,null,null,null,null,null,null,null,null,null,null,16,16]
[null,32,null,null,null,null,null,null,null,null,null,null,null,null,null,null,16.5,16.5]
[null,33,null,null,null,null,null,null,null,null,null,null,null,null,null,null,17,17]
[null,34,null,null,null,null,null,null,null,null,null,null,null,null,null,null,17.5,17.5]
[null,35,null,null,null,null,null,null,null,null,null,null,null,null,null,null,18,18]
[null,36,null,null,null,null,null,null,null,null,null,null,null,null,null,null,18.5,18.5]
[null,37,null,null,null,null,null,null,null,null,null,null,null,null,null,null,19,19]
[null,38,null,null,null,null,null,null,null,null,null,null,null,null,null,null,19.5,19.5]
[null,39,null,null,null,null,null,null,null,null,null,null,null,null,null,null,20,20]
[null,40,null,null,null,null,null,null,null,null,null,null,null,null,null,null,20.5]
[null,41,null,null,null,null,null,null,null,null,null,null,null,null,null,null,21]
[null,42,null,null,null,null,null,null,null,null,null,null,null,null,null,null,21.5]
[null,43,null,null,null,null,null,null,null,null,null,null,null,null,null,null,22]
[null,44,null,null,null,null,null,null,null,null,null,null,null,null,null,null,22.5]
[null,45,null,null,null,null,null,null,null,null,null,null,null,null,null,null,23]
[null,46,null,null,null,null,null,null,null,null,null,null,null,null,null,null,23.5]
[null,47,null,null,null,null,null,null,null,null,null,null,null,null,null,null,24]
[null,48,null,null,null,null,null,null,null,null,null,null,null,null,null,null,24.5]
[null,49,null,null,null,null,null,null,null,null,null,null,null,null,null,null,25]
[null,50,null,null,null,null,null,null,null,null,null,null,null,null,null,null,25.5]
[null,51,null,null,null,null,null,null,null,null,null,null,null,null,null,null,26]
[null,52,null,null,null,null,null,null,null,null,null,null,null,null,null,null,26.5]
[null,53,null,null,null,null,null,null,null,null,null,null,null,null,null,null,27]
[null,54,null,null,null,null,null,null,null,null,null,null,null,null,null,null,27.5]
[null,55,null,null,null,null,null,null,null,null,null,null,null,null,null,null,28]
[null,56,null,null,null,null,null,null,null,null,null,null,null,null,null,null,28.5]
[null,57,null,null,null,null,null,null,null,null,null,null,null,null,null,null,29]
[null,58,null,null,null,null,null,null,null,null,null,null,null,null,null,null,29.5]
[null,59,null,null,null,null,null,null,null,null,null,null,null,null,null,null,30]
[null,60,null,null,null,null,null,null,null,null,null,null,null,null,null,null,30.5]
[null,61,null,null,null,null,null,null,null,null,null,null,null,null,null,null,31]
[null,62,null,null,null,null,null,null,null,null,null,null,null,null,null,null,31.5]
[null,63,null,null,null,null,null,null,null,null,null,null,null,null,null,null,32]
[null,64,null,null,null,null,null,null,null,null,null,null,null,null,null,null,32.5]
[null,65,null,null,null,null,null,null,null,null,null,null,null,null,null,null,33]
[null,66,null,null,null,null,null,null,null,null,null,null,null,null,null,null,33.5]
[null,67,null,null,null,null,null,null,null,null,null,null,null,null,null,null,34]
[null,68,null,null,null,null,null,null,null,null,null,null,null,null,null,null,34.5]
[null,69,null,null,null,null,null,null,null,null,null,null,null,null,null,null,35]
[null,70,null,null,null,null,null,null,null,null,null,null,null,null,null,null,35.5]
[null,71,null,null,null,null,null,null,null,null,null,null,null,null,null,null,36]
[null,72,null,null,null,null,null,null,null,null,null,null,null,null,null,null,36.5]
[null,73,null,null,null,null,null,null,null,null,null,null,null,null,null,null,37]
[null,74,null,null,null,null,null,null,null,null,null,null,null,null,null,null,37.5]
[null,75,null,null,null,null,null,null,null,null,null,null,null,null,null,null,38]
[null,76,null,null,null,null,null,null,null,null,null,null,null,null,null,null,38.5]
[null,77,null,null,null,null,null,null,null,null,null,null,null,null,null,null,39]
[null,78,null,null,null,null,null,null,null,null,null,null,null,null,null,null,39.5]
[null,79,null,null,null,null,null,null,null,null,null,null,null,null,null,null,40]
[null,80,null,null,null,null,null,null,null,null,null,null,null,null,null,null,40.5]
[null,81,null,null,null,null,null,null,null,null,null,null,null,null,null,null,41]
[null,82,null,null,null,null,null,null,null,null,null,null,null,null,null,null,41.5]
[null,83,null,null,null,null,null,null,null,null,null,null,null,null,null,null,42]
[null,84,null,null,null,null,null,null,null,null,null,null,null,null,null,null,42.5]
[null,85,null,null,null,null,null,null,null,null,null,null,null,null,null,null,43]
[null,86,null,null,null,null,null,null,null,null,null,null,null,null,null,null,43.5]
[null,87,null,null,null,null,null,null,null,null,null,null,null,null,null,null,44]
[null,88,null,null,null,null,null,null,null,null,null,null,null,null,null,null,44.5]
[null,89,null,null,null,null,null,null,null,null,null,null,null,null,null,null,45]
[null,90,null,null,null,null,null,null,null,null,null,null,null,null,null,null,45.5]
[null,91,null,null,null,null,null,null,null,null,null,null,null,null,null,null,46]
[null,92,null,null,null,null,null,null,null,null,null,null,null,null,null,null,46.5]
[null,93,null,null,null,null,null,null,null,null,null,null,null,null,null,null,47]
[null,94,null,null,null,null,null,null,null,null,null,null,null,null,null,null,47.5]
[null,95,null,null,null,null,null,null,null,null,null,null,null,null,null,null,48]
[null,96,null,null,null,null,null,null,null,null,null,null,null,null,null,null,48.5]
[null,97,null,null,null,null,null,null,null,null,null,null,null,null,null,null,49]
[null,98,null,null,null,null,null,null,null,null,null,null,null,null,null,null,49.5]
[null,99,null,null,null,null,null,null,null,null,null,null,null,null,null,null,50]
[null,100,null,null,null,null,null,null,null,null,null,null,null,null,null,null,50.5]
[null,null,null,null,null,null,null,null,null,null,null,null,null,null,null,null,51]
[null,null,null,null,null,null,null,null,null,null,null,null,null,null,null,null,51.5]
[null,null,null,null,null,null,null,null,null,null,null,null,null,null,null,null,52]
[null,null,null,null,null,null,null,null,null,null,null,null,null,null,null,null,52.5]
[null,null,null,null,null,null,null,null,null,null,null,null,null,null,null,null,53]
[null,null,null,null,null,null,null,null,null,null,null,null,null,null,null,null,53.5]
[null,null,null,null,null,null,null,null,null,null,null,null,null,null,null,null,54]
[null,null,null,null,null,null,null,null,null,null,null,null,null,null,null,null,54.5]
[null,null,null,null,null,null,null,null,null,null,null,null,null,null,null,null,55]
[null,null,null,null,null,null,null,null,null,null,null,null,null,null,null,null,55.5]
[null,null,null,null,null,null,null,null,null,null,null,null,null,null,null,null,56]
[null,null,null,null,null,null,null,null,null,null,null,null,null,null,null,null,56.5]
[null,null,null,null,null,null,null,null,null,null,null,null,null,null,null,null,57]
[null,null,null,null,null,null,null,null,null,null,null,null,null,null,null,null,57.5]
[null,null,null,null,null,null,null,null,null,null,null,null,null,null,null,null,58]
[null,null,null,null,null,null,null,null,null,null,null,null,null,null,null,null,58.5]
[null,null,null,null,null,null,null,null,null,null,null,null,null,null,null,null,59]
[null,null,null,null,null,null,null,null,null,null,null,null,null,null,null,null,59.5]
[null,null,null,null,null,null,null,null,null,null,null,null,null,null,null,null,60]
[null,null,null,null,null,null,null,null,null,null,null,null,null,null,null,null,60.5]
[null,null,null,null,null,null,null,null,null,null,null,null,null,null,null,null,61]
[null,null,null,null,null,null,null,null,null,null,null,null,null,null,null,null,61.5]
[null,null,null,null,null,null,null,null,null,null,null,null,null,null,null,null,62]
[null,null,null,null,null,null,null,null,null,null,null,null,null,null,null,null,62.5]
[null,null,null,null,null,null,null,null,null,null,null,null,null,null,null,null,63]
[null,null,null,null,null,null,null,null,null,null,null,null,null,null,null,null,63.5]
[null,null,null,null,null,null,null,null,null,null,null,null,null,null,null,null,64]
[null,null,null,null,null,null,null,null,null,null,null,null,null,null,null,null,64.5]
[null,null,null,null,null,null,null,null,null,null,null,null,null,null,null,null,65]
[null,null,null,null,null,null,null,null,null,null,null,null,null,null,null,null,65.5]
[null,null,null,null,null,null,null,null,null,null,null,null,null,null,null,null,66]
[null,null,null,null,null,null,null,null,null,null,null,null,null,null,null,null,66.5]
[null,null,null,null,null,null,null,null,null,null,null,null,null,null,null,null,67]
[null,null,null,null,null,null,null,null,null,null,null,null,null,null,null,null,67.5]
[null,null,null,null,null,null,null,null,null,null,null,null,null,null,null,null,68]
[null,null,null,null,null,null,null,null,null,null,null,null,null,null,null,null,68.5]
[null,null,null,null,null,null,null,null,null,null,null,null,null,null,null,null,69]
[null,null,null,null,null,null,null,null,null,null,null,null,null,null,null,null,69.5]
[null,null,null,null,null,null,null,null,null,null,null,null,null,null,null,null,70]
[null,null,null,null,null,null,null,null,null,null,null,null,null,null,null,null,70.5]
[null,null,null,null,null,null,null,null,null,null,null,null,null,null,null,null,71]
[null,null,null,null,null,null,null,null,null,null,null,null,null,null,null,null,71.5]
[null,null,null,null,null,null,null,null,null,null,null,null,null,null,null,null,72]
[null,null,null,null,null,null,null,null,null,null,null,null,null,null,null,null,72.5]
[null,null,null,null,null,null,null,null,null,null,null,null,null,null,null,null,73]
[null,null,null,null,null,null,null,null,null,null,null,null,null,null,null,null,73.5]
[null,null,null,null,null,null,null,null,null,null,null,null,null,null,null,null,74]
[null,null,null,null,null,null,null,null,null,null,null,null,null,null,null,null,74.5]
[null,null,null,null,null,null,null,null,null,null,null,null,null,null,null,null,75]
[null,null,null,null,null,null,null,null,null,null,null,null,null,null,null,null,75.5]
[null,null,null,null,null,null,null,null,null,null,null,null,null,null,null,null,76]
[null,null,null,null,null,null,null,null,null,null,null,null,null,null,null,null,76.5]
[null,null,null,null,null,null,null,null,null,null,null,null,null,null,null,null,77]
[null,null,null,null,null,null,null,null,null,null,null,null,null,null,null,null,77.5]
[null,null,null,null,null,null,null,null,null,null,null,null,null,null,null,null,78]
[null,null,null,null,null,null,null,null,null,null,null,null,null,null,null,null,78.5]
[null,null,null,null,null,null,null,null,null,null,null,null,null,null,null,null,79]
[null,null,null,null,null,null,null,null,null,null,null,null,null,null,null,null,79.5]
[null,null,null,null,null,null,null,null,null,null,null,null,null,null,null,null,80]
[null,null,null,null,null,null,null,null,null,null,null,null,null,null,null,null,80.5]
[null,null,null,null,null,null,null,null,null,null,null,null,null,null,null,null,81]
[null,null,null,null,null,null,null,null,null,null,null,null,null,null,null,null,81.5]
[null,null,null,null,null,null,null,null,null,null,null,null,null,null,null,null,82]
[null,null,null,null,null,null,null,null,null,null,null,null,null,null,null,null,82.5]
[null,null,null,null,null,null,null,null,null,null,null,null,null,null,null,null,83]
[null,null,null,null,null,null,null,null,null,null,null,null,null,null,null,null,83.5]
[null,null,null,null,null,null,null,null,null,null,null,null,null,null,null,null,84]
[null,null,null,null,null,null,null,null,null,null,null,null,null,null,null,null,84.5]
[null,null,null,null,null,null,null,null,null,null,null,null,null,null,null,null,85]
[null,null,null,null,null,null,null,null,null,null,null,null,null,null,null,null,85.5]
[null,null,null,null,null,null,null,null,null,null,null,null,null,null,null,null,86]
[null,null,null,null,null,null,null,null,null,null,null,null,null,null,null,null,86.5]
[null,null,null,null,null,null,null,null,null,null,null,null,null,null,null,null,87]
[null,null,null,null,null,null,null,null,null,null,null,null,null,null,null,null,87.5]
[null,null,null,null,null,null,null,null,null,null,null,null,null,null,null,null,88]
[null,null,null,null,null,null,null,null,null,null,null,null,null,null,null,null,88.5]
[null,null,null,null,null,null,null,null,null,null,null,null,null,null,null,null,89]
[null,null,null,null,null,null,null,null,null,null,null,null,null,null,null,null,89.5]
[null,null,null,null,null,null,null,null,null,null,null,null,null,null,null,null,90]
[null,null,null,null,null,null,null,null,null,null,null,null,null,null,null,null,90.5]
[null,null,null,null,null,null,null,null,null,null,null,null,null,null,null,null,91]
[null,null,null,null,null,null,null,null,null,null,null,null,null,null,null,null,91.5]
[null,null,null,null,null,null,null,null,null,null,null,null,null,null,null,null,92]
[null,null,null,null,null,null,null,null,null,null,null,null,null,null,null,null,92.5]
[null,null,null,null,null,null,null,null,null,null,null,null,null,null,null,null,93]
[null,null,null,null,null,null,null,null,null,null,null,null,null,null,null,null,93.5]
[null,null,null,null,null,null,null,null,null,null,null,null,null,null,null,null,94]
[null,null,null,null,null,null,null,null,null,null,null,null,null,null,null,null,94.5]
[null,null,null,null,null,null,null,null,null,null,null,null,null,null,null,null,95]
[null,null,null,null,null,null,null,null,null,null,null,null,null,null,null,null,95.5]
[null,null,null,null,null,null,null,null,null,null,null,null,null,null,null,null,96]
[null,null,null,null,null,null,null,null,null,null,null,null,null,null,null,null,96.5]
[null,null,null,null,null,null,null,null,null,null,null,null,null,null,null,null,97]
[null,null,null,null,null,null,null,null,null,null,null,null,null,null,null,null,97.5]
[null,null,null,null,null,null,null,null,null,null,null,null,null,null,null,null,98]
[null,null,null,null,null,null,null,null,null,null,null,null,null,null,null,null,98.5]
[null,null,null,null,null,null,null,null,null,null,null,null,null,null,null,null,99]
[null,null,null,null,null,null,null,null,null,null,null,null,null,null,null,null,99.5]
[null,null,null,null,null,null,null,null,null,null,null,null,null,null,null,null,100]
[null,null,null,null,null,null,null,null,null,null,null,null,null,null,null,null,100.5]
[null,null,null,null,null,null,null,null,null,null,null,null,null,null,null,null,101]
[null,null,null,null,null,null,null,null,null,null,null,null,null,null,null,null,101.5]
[null,null,null,null,null,null,null,null,null,null,null,null,null,null,null,null,102]
[null,null,null,null,null,null,null,null,null,null,null,null,null,null,null,null,102.5]
[null,null,null,null,null,null,null,null,null,null,null,null,null,null,null,null,103]
[null,null,null,null,null,null,null,null,null,null,null,null,null,null,null,null,103.5]
[null,null,null,null,null,null,null,null,null,null,null,null,null,null,null,null,104]
[null,null,null,null,null,null,null,null,null,null,null,null,null,null,null,null,104.5]
[null,null,null,null,null,null,null,null,null,null,null,null,null,null,null,null,105]
[null,null,null,null,null,null,null,null,null,null,null,null,null,null,null,null,105.5]
[null,null,null,null,null,null,null,null,null,null,null,null,null,null,null,null,106]
[null,null,null,null,null,null,null,null,null,null,null,null,null,null,null,null,106.5]
[null,null,null,null,null,null,null,null,null,null,null,null,null,null,null,null,107]
[null,null,null,null,null,null,null,null,null,null,null,null,null,null,null,null,107.5]
[null,null,null,null,null,null,null,null,null,null,null,null,null,null,null,null,108]
[null,null,null,null,null,null,null,null,null,null,null,null,null,null,null,null,108.5]
[null,null,null,null,null,null,null,null,null,null,null,null,null,null,null,null,109]
[null,null,null,null,null,null,null,null,null,null,null,null,null,null,null,null,109.5]
[null,null,null,null,null,null,null,null,null,null,null,null,null,null,null,null,110]
[null,null,null,null,null,null,null,null,null,null,null,null,null,null,null,null,110.5]
[null,null,null,null,null,null,null,null,null,null,null,null,null,null,null,null,111]
[null,null,null,null,null,null,null,null,null,null,null,null,null,null,null,null,111.5]
[null,null,null,null,null,null,null,null,null,null,null,null,null,null,null,null,112]
[null,null,null,null,null,null,null,null,null,null,null,null,null,null,null,null,112.5]
[null,null,null,null,null,null,null,null,null,null,null,null,null,null,null,null,113]
[null,null,null,null,null,null,null,null,null,null,null,null,null,null,null,null,113.5]
[null,null,null,null,null,null,null,null,null,null,null,null,null,null,null,null,114]
[null,null,null,null,null,null,null,null,null,null,null,null,null,null,null,null,114.5]
[null,null,null,null,null,null,null,null,null,null,null,null,null,null,null,null,115]
[null,null,null,null,null,null,null,null,null,null,null,null,null,null,null,null,115.5]
[null,null,null,null,null,null,null,null,null,null,null,null,null,null,null,null,116]
[null,null,null,null,null,null,null,null,null,null,null,null,null,null,null,null,116.5]
[null,null,null,null,null,null,null,null,null,null,null,null,null,null,null,null,117]
[null,null,null,null,null,null,null,null,null,null,null,null,null,null,null,null,117.5]
[null,null,null,null,null,null,null,null,null,null,null,null,null,null,null,null,118]
[null,null,null,null,null,null,null,null,null,null,null,null,null,null,null,null,118.5]
[null,null,null,null,null,null,null,null,null,null,null,null,null,null,null,null,119]
[null,null,null,null,null,null,null,null,null,null,null,null,null,null,null,null,119.5]
[null,null,null,null,null,null,null,null,null,null,null,null,null,null,null,null,120]
[null,null,null,null,null,null,null,null,null,null,null,null,null,null,null,null,120.5]
[null,null,null,null,null,null,null,null,null,null,null,null,null,null,null,null,121]
[null,null,null,null,null,null,null,null,null,null,null,null,null,null,null,null,121.5]
[null,null,null,null,null,null,null,null,null,null,null,null,null,null,null,null,122]
[null,null,null,null,null,null,null,null,null,null,null,null,null,null,null,null,122.5]
[null,null,null,null,null,null,null,null,null,null,null,null,null,null,null,null,123]
[null,null,null,null,null,null,null,null,null,null,null,null,null,null,null,null,123.5]
[null,null,null,null,null,null,null,null,null,null,null,null,null,null,null,null,124]
[null,null,null,null,null,null,null,null,null,null,null,null,null,null,null,null,124.5]
[null,null,null,null,null,null,null,null,null,null,null,null,null,null,null,null,125]
[null,null,null,null,null,null,null,null,null,null,null,null,null,null,null,null,125.5]
[null,null,null,null,null,null,null,null,null,null,null,null,null,null,null,null,126]
[null,null,null,null,null,null,null,null,null,null,null,null,null,null,null,null,126.5]
[null,null,null,null,null,null,null,null,null,null,null,null,null,null,null,null,127]
[null,null,null,null,null,null,null,null,null,null,null,null,null,null,null,null,127.5]
[null,null,null,null,null,null,null,null,null,null,null,null,null,null,null,null,128]
[null,null,null,null,null,null,null,null,null,null,null,null,null,null,null,null,128.5]
[null,null,null,null,null,null,null,null,null,null,null,null,null,null,null,null,129]
[null,null,null,null,null,null,null,null,null,null,null,null,null,null,null,null,129.5]
[null,null,null,null,null,null,null,null,null,null,null,null,null,null,null,null,130]
[null,null,null,null,null,null,null,null,null,null,null,null,null,null,null,null,130.5]
[null,null,null,null,null,null,null,null,null,null,null,null,null,null,null,null,131]
[null,null,null,null,null,null,null,null,null,null,null,null,null,null,null,null,131.5]
[null,null,null,null,null,null,null,null,null,null,null,null,null,null,null,null,132]
[null,null,null,null,null,null,null,null,null,null,null,null,null,null,null,null,132.5]
[null,null,null,null,null,null,null,null,null,null,null,null,null,null,null,null,133]
[null,null,null,null,null,null,null,null,null,null,null,null,null,null,null,null,133.5]
[null,null,null,null,null,null,null,null,null,null,null,null,null,null,null,null,134]
[null,null,null,null,null,null,null,null,null,null,null,null,null,null,null,null,134.5]
[null,null,null,null,null,null,null,null,null,null,null,null,null,null,null,null,135]
[null,null,null,null,null,null,null,null,null,null,null,null,null,null,null,null,135.5]
[null,null,null,null,null,null,null,null,null,null,null,null,null,null,null,null,136]
[null,null,null,null,null,null,null,null,null,null,null,null,null,null,null,null,136.5]
[null,null,null,null,null,null,null,null,null,null,null,null,null,null,null,null,137]
[null,null,null,null,null,null,null,null,null,null,null,null,null,null,null,null,137.5]
[null,null,null,null,null,null,null,null,null,null,null,null,null,null,null,null,138]
[null,null,null,null,null,null,null,null,null,null,null,null,null,null,null,null,138.5]
[null,null,null,null,null,null,null,null,null,null,null,null,null,null,null,null,139]
[null,null,null,null,null,null,null,null,null,null,null,null,null,null,null,null,139.5]
[null,null,null,null,null,null,null,null,null,null,null,null,null,null,null,null,140]
[null,null,null,null,null,null,null,null,null,null,null,null,null,null,null,null,140.5]
[null,null,null,null,null,null,null,null,null,null,null,null,null,null,null,null,141]
[null,null,null,null,null,null,null,null,null,null,null,null,null,null,null,null,141.5]
[null,null,null,null,null,null,null,null,null,null,null,null,null,null,null,null,142]
[null,null,null,null,null,null,null,null,null,null,null,null,null,null,null,null,142.5]
[null,null,null,null,null,null,null,null,null,null,null,null,null,null,null,null,143]
[null,null,null,null,null,null,null,null,null,null,null,null,null,null,null,null,143.5]
[null,null,null,null,null,null,null,null,null,null,null,null,null,null,null,null,144]
[null,null,null,null,null,null,null,null,null,null,null,null,null,null,null,null,144.5]
[null,null,null,null,null,null,null,null,null,null,null,null,null,null,null,null,145]
[null,null,null,null,null,null,null,null,null,null,null,null,null,null,null,null,145.5]
[null,null,null,null,null,null,null,null,null,null,null,null,null,null,null,null,146]
[null,null,null,null,null,null,null,null,null,null,null,null,null,null,null,null,146.5]
[null,null,null,null,null,null,null,null,null,null,null,null,null,null,null,null,147]
[null,null,null,null,null,null,null,null,null,null,null,null,null,null,null,null,147.5]
[null,null,null,null,null,null,null,null,null,null,null,null,null,null,null,null,148]
[null,null,null,null,null,null,null,null,null,null,null,null,null,null,null,null,148.5]
[null,null,null,null,null,null,null,null,null,null,null,null,null,null,null,null,149]
[null,null,null,null,null,null,null,null,null,null,null,null,null,null,null,null,149.5]
[null,null,null,null,null,null,null,null,null,null,null,null,null,null,null,null,150]
[null,null,null,null,null,null,null,null,null,null,null,null,null,null,null,null,150.5]
[null,null,null,null,null,null,null,null,null,null,null,null,null,null,null,null,151]
[null,null,null,null,null,null,null,null,null,null,null,null,null,null,null,null,151.5]
[null,null,null,null,null,null,null,null,null,null,null,null,null,null,null,null,152]
[null,null,null,null,null,null,null,null,null,null,null,null,null,null,null,null,152.5]
[null,null,null,null,null,null,null,null,null,null,null,null,null,null,null,null,153]
[null,null,null,null,null,null,null,null,null,null,null,null,null,null,null,null,153.5]
[null,null,null,null,null,null,null,null,null,null,null,null,null,null,null,null,154]
[null,null,null,null,null,null,null,null,null,null,null,null,null,null,null,null,154.5]
[null,null,null,null,null,null,null,null,null,null,null,null,null,null,null,null,155]
[null,null,null,null,null,null,null,null,null,null,null,null,null,null,null,null,155.5]
[null,null,null,null,null,null,null,null,null,null,null,null,null,null,null,null,156]
[null,null,null,null,null,null,null,null,null,null,null,null,null,null,null,null,156.5]
[null,null,null,null,null,null,null,null,null,null,null,null,null,null,null,null,157]
[null,null,null,null,null,null,null,null,null,null,null,null,null,null,null,null,157.5]
[null,null,null,null,null,null,null,null,null,null,null,null,null,null,null,null,158]
[null,null,null,null,null,null,null,null,null,null,null,null,null,null,null,null,158.5]
[null,null,null,null,null,null,null,null,null,null,null,null,null,null,null,null,159]
[null,null,null,null,null,null,null,null,null,null,null,null,null,null,null,null,159.5]
[null,null,null,null,null,null,null,null,null,null,null,null,null,null,null,null,160]
[null,null,null,null,null,null,null,null,null,null,null,null,null,null,null,null,160.5]
[null,null,null,null,null,null,null,null,null,null,null,null,null,null,null,null,161]
[null,null,null,null,null,null,null,null,null,null,null,null,null,null,null,null,161.5]
[null,null,null,null,null,null,null,null,null,null,null,null,null,null,null,null,162]
[null,null,null,null,null,null,null,null,null,null,null,null,null,null,null,null,162.5]
[null,null,null,null,null,null,null,null,null,null,null,null,null,null,null,null,163]
[null,null,null,null,null,null,null,null,null,null,null,null,null,null,null,null,163.5]
[null,null,null,null,null,null,null,null,null,null,null,null,null,null,null,null,164]
[null,null,null,null,null,null,null,null,null,null,null,null,null,null,null,null,164.5]
[null,null,null,null,null,null,null,null,null,null,null,null,null,null,null,null,165]
[null,null,null,null,null,null,null,null,null,null,null,null,null,null,null,null,165.5]
[null,null,null,null,null,null,null,null,null,null,null,null,null,null,null,null,166]
[null,null,null,null,null,null,null,null,null,null,null,null,null,null,null,null,166.5]
[null,null,null,null,null,null,null,null,null,null,null,null,null,null,null,null,167]
[null,null,null,null,null,null,null,null,null,null,null,null,null,null,null,null,167.5]
[null,null,null,null,null,null,null,null,null,null,null,null,null,null,null,null,168]
[null,null,null,null,null,null,null,null,null,null,null,null,null,null,null,null,168.5]
[null,null,null,null,null,null,null,null,null,null,null,null,null,null,null,null,169]
[null,null,null,null,null,null,null,null,null,null,null,null,null,null,null,null,169.5]
[null,null,null,null,null,null,null,null,null,null,null,null,null,null,null,null,170]
[null,null,null,null,null,null,null,null,null,null,null,null,null,null,null,null,170.5]
[null,null,null,null,null,null,null,null,null,null,null,null,null,null,null,null,171]
[null,null,null,null,null,null,null,null,null,null,null,null,null,null,null,null,171.5]
[null,null,null,null,null,null,null,null,null,null,null,null,null,null,null,null,172]
[null,null,null,null,null,null,null,null,null,null,null,null,null,null,null,null,172.5]
[null,null,null,null,null,null,null,null,null,null,null,null,null,null,null,null,173]
[null,null,null,null,null,null,null,null,null,null,null,null,null,null,null,null,173.5]
[null,null,null,null,null,null,null,null,null,null,null,null,null,null,null,null,174]
[null,null,null,null,null,null,null,null,null,null,null,null,null,null,null,null,174.5]
[null,null,null,null,null,null,null,null,null,null,null,null,null,null,null,null,175]
[null,null,null,null,null,null,null,null,null,null,null,null,null,null,null,null,175.5]
[null,null,null,null,null,null,null,null,null,null,null,null,null,null,null,null,176]
[null,null,null,null,null,null,null,null,null,null,null,null,null,null,null,null,176.5]
[null,null,null,null,null,null,null,null,null,null,null,null,null,null,null,null,177]
[null,null,null,null,null,null,null,null,null,null,null,null,null,null,null,null,177.5]
[null,null,null,null,null,null,null,null,null,null,null,null,null,null,null,null,178]
[null,null,null,null,null,null,null,null,null,null,null,null,null,null,null,null,178.5]
[null,null,null,null,null,null,null,null,null,null,null,null,null,null,null,null,179]
[null,null,null,null,null,null,null,null,null,null,null,null,null,null,null,null,179.5]
[null,null,null,null,null,null,null,null,null,null,null,null,null,null,null,null,180]
[null,null,null,null,null,null,null,null,null,null,null,null,null,null,null,null,180.5]
[null,null,null,null,null,null,null,null,null,null,null,null,null,null,null,null,181]
[null,null,null,null,null,null,null,null,null,null,null,null,null,null,null,null,181.5]
[null,null,null,null,null,null,null,null,null,null,null,null,null,null,null,null,182]
[null,null,null,null,null,null,null,null,null,null,null,null,null,null,null,null,182.5]
[null,null,null,null,null,null,null,null,null,null,null,null,null,null,null,null,183]
[null,null,null,null,null,null,null,null,null,null,null,null,null,null,null,null,183.5]
[null,null,null,null,null,null,null,null,null,null,null,null,null,null,null,null,184]
[null,null,null,null,null,null,null,null,null,null,null,null,null,null,null,null,184.5]
[null,null,null,null,null,null,null,null,null,null,null,null,null,null,null,null,185]
[null,null,null,null,null,null,null,null,null,null,null,null,null,null,null,null,185.5]
[null,null,null,null,null,null,null,null,null,null,null,null,null,null,null,null,186]
[null,null,null,null,null,null,null,null,null,null,null,null,null,null,null,null,186.5]
[null,null,null,null,null,null,null,null,null,null,null,null,null,null,null,null,187]
[null,null,null,null,null,null,null,null,null,null,null,null,null,null,null,null,187.5]
[null,null,null,null,null,null,null,null,null,null,null,null,null,null,null,null,188]
[null,null,null,null,null,null,null,null,null,null,null,null,null,null,null,null,188.5]
[null,null,null,null,null,null,null,null,null,null,null,null,null,null,null,null,189]
[null,null,null,null,null,null,null,null,null,null,null,null,null,null,null,null,189.5]
[null,null,null,null,null,null,null,null,null,null,null,null,null,null,null,null,190]
[null,null,null,null,null,null,null,null,null,null,null,null,null,null,null,null,190.5]
[null,null,null,null,null,null,null,null,null,null,null,null,null,null,null,null,191]
[null,null,null,null,null,null,null,null,null,null,null,null,null,null,null,null,191.5]
[null,null,null,null,null,null,null,null,null,null,null,null,null,null,null,null,192]
[null,null,null,null,null,null,null,null,null,null,null,null,null,null,null,null,192.5]
[null,null,null,null,null,null,null,null,null,null,null,null,null,null,null,null,193]
[null,null,null,null,null,null,null,null,null,null,null,null,null,null,null,null,193.5]
[null,null,null,null,null,null,null,null,null,null,null,null,null,null,null,null,194]
[null,null,null,null,null,null,null,null,null,null,null,null,null,null,null,null,194.5]
[null,null,null,null,null,null,null,null,null,null,null,null,null,null,null,null,195]
[null,null,null,null,null,null,null,null,null,null,null,null,null,null,null,null,195.5]
[null,null,null,null,null,null,null,null,null,null,null,null,null,null,null,null,196]
[null,null,null,null,null,null,null,null,null,null,null,null,null,null,null,null,196.5]
[null,null,null,null,null,null,null,null,null,null,null,null,null,null,null,null,197]
[null,null,null,null,null,null,null,null,null,null,null,null,null,null,null,null,197.5]
[null,null,null,null,null,null,null,null,null,null,null,null,null,null,null,null,198]
[null,null,null,null,null,null,null,null,null,null,null,null,null,null,null,null,198.5]
[null,null,null,null,null,null,null,null,null,null,null,null,null,null,null,null,199]
[null,null,null,null,null,null,null,null,null,null,null,null,null,null,null,null,199.5]
[null,null,null,null,null,null,null,null,null,null,null,null,null,null,null,null,200]
[null,null,null,null,null,null,null,null,null,null,null,null,null,null,null,null,200.5]
[null,null,null,null,null,null,null,null,null,null,null,null,null,null,null,null,201]
[null,null,null,null,null,null,null,null,null,null,null,null,null,null,null,null,201.5]
[null,null,null,null,null,null,null,null,null,null,null,null,null,null,null,null,202]
[null,null,null,null,null,null,null,null,null,null,null,null,null,null,null,null,202.5]
[null,null,null,null,null,null,null,null,null,null,null,null,null,null,null,null,203]
[null,null,null,null,null,null,null,null,null,null,null,null,null,null,null,null,203.5]
[null,null,null,null,null,null,null,null,null,null,null,null,null,null,null,null,204]
[null,null,null,null,null,null,null,null,null,null,null,null,null,null,null,null,204.5]
[null,null,null,null,null,null,null,null,null,null,null,null,null,null,null,null,205]
[null,null,null,null,null,null,null,null,null,null,null,null,null,null,null,null,205.5]
[null,null,null,null,null,null,null,null,null,null,null,null,null,null,null,null,206]
[null,null,null,null,null,null,null,null,null,null,null,null,null,null,null,null,206.5]
[null,null,null,null,null,null,null,null,null,null,null,null,null,null,null,null,207]
[null,null,null,null,null,null,null,null,null,null,null,null,null,null,null,null,207.5]
[null,null,null,null,null,null,null,null,null,null,null,null,null,null,null,null,208]
[null,null,null,null,null,null,null,null,null,null,null,null,null,null,null,null,208.5]
[null,null,null,null,null,null,null,null,null,null,null,null,null,null,null,null,209]
[null,null,null,null,null,null,null,null,null,null,null,null,null,null,null,null,209.5]
[null,null,null,null,null,null,null,null,null,null,null,null,null,null,null,null,210]
[null,null,null,null,null,null,null,null,null,null,null,null,null,null,null,null,210.5]
[null,null,null,null,null,null,null,null,null,null,null,null,null,null,null,null,211]
[null,null,null,null,null,null,null,null,null,null,null,null,null,null,null,null,211.5]
[null,null,null,null,null,null,null,null,null,null,null,null,null,null,null,null,212]
[null,null,null,null,null,null,null,null,null,null,null,null,null,null,null,null,212.5]
[null,null,null,null,null,null,null,null,null,null,null,null,null,null,null,null,213]
[null,null,null,null,null,null,null,null,null,null,null,null,null,null,null,null,213.5]
[null,null,null,null,null,null,null,null,null,null,null,null,null,null,null,null,214]
[null,null,null,null,null,null,null,null,null,null,null,null,null,null,null,null,214.5]
[null,null,null,null,null,null,null,null,null,null,null,null,null,null,null,null,215]
[null,null,null,null,null,null,null,null,null,null,null,null,null,null,null,null,215.5]
[null,null,null,null,null,null,null,null,null,null,null,null,null,null,null,null,216]
[null,null,null,null,null,null,null,null,null,null,null,null,null,null,null,null,216.5]
[null,null,null,null,null,null,null,null,null,null,null,null,null,null,null,null,217]
[null,null,null,null,null,null,null,null,null,null,null,null,null,null,null,null,217.5]
[null,null,null,null,null,null,null,null,null,null,null,null,null,null,null,null,218]
[null,null,null,null,null,null,null,null,null,null,null,null,null,null,null,null,218.5]
[null,null,null,null,null,null,null,null,null,null,null,null,null,null,null,null,219]
[null,null,null,null,null,null,null,null,null,null,null,null,null,null,null,null,219.5]
[null,null,null,null,null,null,null,null,null,null,null,null,null,null,null,null,220]
[null,null,null,null,null,null,null,null,null,null,null,null,null,null,null,null,220.5]
[null,null,null,null,null,null,null,null,null,null,null,null,null,null,null,null,221]
[null,null,null,null,null,null,null,null,null,null,null,null,null,null,null,null,221.5]
[null,null,null,null,null,null,null,null,null,null,null,null,null,null,null,null,222]
[null,null,null,null,null,null,null,null,null,null,null,null,null,null,null,null,222.5]
[null,null,null,null,null,null,null,null,null,null,null,null,null,null,null,null,223]
[null,null,null,null,null,null,null,null,null,null,null,null,null,null,null,null,223.5]
[null,null,null,null,null,null,null,null,null,null,null,null,null,null,null,null,224]
[null,null,null,null,null,null,null,null,null,null,null,null,null,null,null,null,224.5]
[null,null,null,null,null,null,null,null,null,null,null,null,null,null,null,null,225]
[null,null,null,null,null,null,null,null,null,null,null,null,null,null,null,null,225.5]
[null,null,null,null,null,null,null,null,null,null,null,null,null,null,null,null,226]
[null,null,null,null,null,null,null,null,null,null,null,null,null,null,null,null,226.5]
[null,null,null,null,null,null,null,null,null,null,null,null,null,null,null,null,227]
[null,null,null,null,null,null,null,null,null,null,null,null,null,null,null,null,227.5]
[null,null,null,null,null,null,null,null,null,null,null,null,null,null,null,null,228]
[null,null,null,null,null,null,null,null,null,null,null,null,null,null,null,null,228.5]
[null,null,null,null,null,null,null,null,null,null,null,null,null,null,null,null,229]
[null,null,null,null,null,null,null,null,null,null,null,null,null,null,null,null,229.5]
[null,null,null,null,null,null,null,null,null,null,null,null,null,null,null,null,230]
[null,null,null,null,null,null,null,null,null,null,null,null,null,null,null,null,230.5]
[null,null,null,null,null,null,null,null,null,null,null,null,null,null,null,null,231]
[null,null,null,null,null,null,null,null,null,null,null,null,null,null,null,null,231.5]
[null,null,null,null,null,null,null,null,null,null,null,null,null,null,null,null,232]
[null,null,null,null,null,null,null,null,null,null,null,null,null,null,null,null,232.5]
[null,null,null,null,null,null,null,null,null,null,null,null,null,null,null,null,233]
[null,null,null,null,null,null,null,null,null,null,null,null,null,null,null,null,233.5]
[null,null,null,null,null,null,null,null,null,null,null,null,null,null,null,null,234]
[null,null,null,null,null,null,null,null,null,null,null,null,null,null,null,null,234.5]
[null,null,null,null,null,null,null,null,null,null,null,null,null,null,null,null,235]
[null,null,null,null,null,null,null,null,null,null,null,null,null,null,null,null,235.5]
[null,null,null,null,null,null,null,null,null,null,null,null,null,null,null,null,236]
[null,null,null,null,null,null,null,null,null,null,null,null,null,null,null,null,236.5]
[null,null,null,null,null,null,null,null,null,null,null,null,null,null,null,null,237]
[null,null,null,null,null,null,null,null,null,null,null,null,null,null,null,null,237.5]
[null,null,null,null,null,null,null,null,null,null,null,null,null,null,null,null,238]
[null,null,null,null,null,null,null,null,null,null,null,null,null,null,null,null,238.5]
[null,null,null,null,null,null,null,null,null,null,null,null,null,null,null,null,239]
[null,null,null,null,null,null,null,null,null,null,null,null,null,null,null,null,239.5]
[null,null,null,null,null,null,null,null,null,null,null,null,null,null,null,null,240]
[null,null,null,null,null,null,null,null,null,null,null,null,null,null,null,null,240.5]
[null,null,null,null,null,null,null,null,null,null,null,null,null,null,null,null,241]
[null,null,null,null,null,null,null,null,null,null,null,null,null,null,null,null,241.5]
[null,null,null,null,null,null,null,null,null,null,null,null,null,null,null,null,242]
[null,null,null,null,null,null,null,null,null,null,null,null,null,null,null,null,242.5]
[null,null,null,null,null,null,null,null,null,null,null,null,null,null,null,null,243]
[null,null,null,null,null,null,null,null,null,null,null,null,null,null,null,null,243.5]
[null,null,null,null,null,null,null,null,null,null,null,null,null,null,null,null,244]
[null,null,null,null,null,null,null,null,null,null,null,null,null,null,null,null,244.5]
[null,null,null,null,null,null,null,null,null,null,null,null,null,null,null,null,245]
[null,null,null,null,null,null,null,null,null,null,null,null,null,null,null,null,245.5]
[null,null,null,null,null,null,null,null,null,null,null,null,null,null,null,null,246]
[null,null,null,null,null,null,null,null,null,null,null,null,null,null,null,null,246.5]
[null,null,null,null,null,null,null,null,null,null,null,null,null,null,null,null,247]
[null,null,null,null,null,null,null,null,null,null,null,null,null,null,null,null,247.5]
[null,null,null,null,null,null,null,null,null,null,null,null,null,null,null,null,248]
[null,null,null,null,null,null,null,null,null,null,null,null,null,null,null,null,248.5]
[null,null,null,null,null,null,null,null,null,null,null,null,null,null,null,null,249]
[null,null,null,null,null,null,null,null,null,null,null,null,null,null,null,null,249.5]
[null,null,null,null,null,null,null,null,null,null,null,null,null,null,null,null,250]
[null,null,null,null,null,null,null,null,null,null,null,null,null,null,null,null,250.5]
[null,null,null,null,null,null,null,null,null,null,null,null,null,null,null,null,251]
[null,null,null,null,null,null,null,null,null,null,null,null,null,null,null,null,251.5]
[null,null,null,null,null,null,null,null,null,null,null,null,null,null,null,null,252]
[null,null,null,null,null,null,null,null,null,null,null,null,null,null,null,null,252.5]
[null,null,null,null,null,null,null,null,null,null,null,null,null,null,null,null,253]
[null,null,null,null,null,null,null,null,null,null,null,null,null,null,null,null,253.5]
[null,null,null,null,null,null,null,null,null,null,null,null,null,null,null,null,254]
[null,null,null,null,null,null,null,null,null,null,null,null,null,null,null,null,254.5]
[null,null,null,null,null,null,null,null,null,null,null,null,null,null,null,null,255]
[null,null,null,null,null,null,null,null,null,null,null,null,null,null,null,null,255.5]
[null,null,null,null,null,null,null,null,null,null,null,null,null,null,null,null,256]
[null,null,null,null,null,null,null,null,null,null,null,null,null,null,null,null,256.5]
[null,null,null,null,null,null,null,null,null,null,null,null,null,null,null,null,257]
[null,null,null,null,null,null,null,null,null,null,null,null,null,null,null,null,257.5]
[null,null,null,null,null,null,null,null,null,null,null,null,null,null,null,null,258]
[null,null,null,null,null,null,null,null,null,null,null,null,null,null,null,null,258.5]
[null,null,null,null,null,null,null,null,null,null,null,null,null,null,null,null,259]
[null,null,null,null,null,null,null,null,null,null,null,null,null,null,null,null,259.5]
[null,null,null,null,null,null,null,null,null,null,null,null,null,null,null,null,260]
[null,null,null,null,null,null,null,null,null,null,null,null,null,null,null,null,260.5]
[null,null,null,null,null,null,null,null,null,null,null,null,null,null,null,null,261]
[null,null,null,null,null,null,null,null,null,null,null,null,null,null,null,null,261.5]
[null,null,null,null,null,null,null,null,null,null,null,null,null,null,null,null,262]
[null,null,null,null,null,null,null,null,null,null,null,null,null,null,null,null,262.5]
[null,null,null,null,null,null,null,null,null,null,null,null,null,null,null,null,263]
[null,null,null,null,null,null,null,null,null,null,null,null,null,null,null,null,263.5]
[null,null,null,null,null,null,null,null,null,null,null,null,null,null,null,null,264]
[null,null,null,null,null,null,null,null,null,null,null,null,null,null,null,null,264.5]
[null,null,null,null,null,null,null,null,null,null,null,null,null,null,null,null,265]
[null,null,null,null,null,null,null,null,null,null,null,null,null,null,null,null,265.5]
[null,null,null,null,null,null,null,null,null,null,null,null,null,null,null,null,266]
[null,null,null,null,null,null,null,null,null,null,null,null,null,null,null,null,266.5]
[null,null,null,null,null,null,null,null,null,null,null,null,null,null,null,null,267]
[null,null,null,null,null,null,null,null,null,null,null,null,null,null,null,null,267.5]
[null,null,null,null,null,null,null,null,null,null,null,null,null,null,null,null,268]
[null,null,null,null,null,null,null,null,null,null,null,null,null,null,null,null,268.5]
[null,null,null,null,null,null,null,null,null,null,null,null,null,null,null,null,269]
[null,null,null,null,null,null,null,null,null,null,null,null,null,null,null,null,269.5]
[null,null,null,null,null,null,null,null,null,null,null,null,null,null,null,null,270]
[null,null,null,null,null,null,null,null,null,null,null,null,null,null,null,null,270.5]
[null,null,null,null,null,null,null,null,null,null,null,null,null,null,null,null,271]
[null,null,null,null,null,null,null,null,null,null,null,null,null,null,null,null,271.5]
[null,null,null,null,null,null,null,null,null,null,null,null,null,null,null,null,272]
[null,null,null,null,null,null,null,null,null,null,null,null,null,null,null,null,272.5]
[null,null,null,null,null,null,null,null,null,null,null,null,null,null,null,null,273]
[null,null,null,null,null,null,null,null,null,null,null,null,null,null,null,null,273.5]
[null,null,null,null,null,null,null,null,null,null,null,null,null,null,null,null,274]
[null,null,null,null,null,null,null,null,null,null,null,null,null,null,null,null,274.5]
[null,null,null,null,null,null,null,null,null,null,null,null,null,null,null,null,275]
[null,null,null,null,null,null,null,null,null,null,null,null,null,null,null,null,275.5]
[null,null,null,null,null,null,null,null,null,null,null,null,null,null,null,null,276]
[null,null,null,null,null,null,null,null,null,null,null,null,null,null,null,null,276.5]
[null,null,null,null,null,null,null,null,null,null,null,null,null,null,null,null,277]
[null,null,null,null,null,null,null,null,null,null,null,null,null,null,null,null,277.5]
[null,null,null,null,null,null,null,null,null,null,null,null,null,null,null,null,278]
[null,null,null,null,null,null,null,null,null,null,null,null,null,null,null,null,278.5]
[null,null,null,null,null,null,null,null,null,null,null,null,null,null,null,null,279]
[null,null,null,null,null,null,null,null,null,null,null,null,null,null,null,null,279.5]
[null,null,null,null,null,null,null,null,null,null,null,null,null,null,null,null,280]

{"sheet":"hlavicka","index":2,"n_rows":40,"n_cols":5,"rows_kept":40,"cut":false,"hidden":false,"merged":[[9,4,9,19],[31,3,31,19]]}
[null,"vyplnuj žlutá políčka / přešti si list \"popis\"",null,null,"pokud neviš udaje nepis nic v hlavicce tak nic nebude (ani nula) :-)"]
[null,"název závodu  ve skoku","Český pohár žactva ve skoku na lyžích"]
[null,"evid. číslo závodu ve skoku","9/SL"]
[null,"pořadatel, areal","LSK Lomnice"]
[null,"Datum","21.11.2015"]
[null,"Kritický bod",13]
[null,"koef./1m",6]
[null,"certifikát mustku č.:","135/C35/SL"]
[null,"platnost certifikatu"]
[null,"Počet závodníků do 2.kola",125,null,"Když není potreba omezit počet zavodníku do 2.kola, nechej v buňce \"C10\" počet 125. Jinak do buňky \"C10\" napiš požadovaný počet zavodníku do 2.kola. POZOR - pokud jsou na posledním postupovém místě dva nebo více zavodníků, budou startovat všichni - a to se objeví automaticky i ve startovce. Pokud není potřeba obraceneho pořadí ignoruj tento udaj a  list \"obrac\" ignoruj taky. "]
[null,"kategorie","Žáci U10M 2017-2016"]
[]
[]
[null,"SOUTĚŽNÍ VÝBOR"]
[null,"ŘZ","Ing. Stanislav Jirásek","CZE"]
[null,"TD","Kamil Rybář","CZE"]
[null,"ATD","Pavel Bernat","CZE"]
[null,"ZRS"]
[null,"ZZ"]
[]
[null,"ROZHODČÍ STYLU"]
[null,"A","Čestmír Kožíšek st.","CZE"]
[null,"B","Lukáš Doležal","CZE"]
[null,"C","Michal Šváb","CZE"]
[null,"D",null,"CZE"]
[null,"E",null,"CZE"]
[]
[null,"Údaje jenom pro kombinaci:"]
[null,"délka tratě",1,"km"]
[null,"počet bodů za 1 minutu",50,"body/min"]
[null,"startovni číslo vitěze Sev. kombinace",20,"například v kategorii ml.žáci poběží vítěz z číslem 41 a zanim další čisla dle pořadí tak napiš číslo \"41\""]
[null,"spol.časová vlna od:","00:59:59","pro urychlení závodu se pustí najednou závodníci od určitého času - ,,,, pokud není potreba spol. vlny napis nechej zapis 59:59 nebo napis vetší čas než je start posledniho závodníka"]
[null,"nazev závodu pro kombinaci:","Český pohár žactva v severské kombinaci"]
[null,"evid. číslo závodu pro kombinaci:","2/SK"]
[null,"JURY KOMBINACE pokud se liší od skoku přepiš"]
[null,"ŘZ",{"$f":"+C15","v":"Ing. Stanislav Jirásek"},"CZE"]
[null,"TD","Pavel Bernat","CZE"]
[null,"ATD","Kamil Rybář","CZE"]
[null,"ZRS",null,0]
[null,"ZZ",null,0]

{"sheet":"počty","index":3,"n_rows":65,"n_cols":76,"rows_kept":65,"cut":false,"hidden":false,"merged":[[2,13,2,17],[2,61,2,62]]}
[null,{"$f":"SUM(C1:BO1)-85-199+2926","v":5500},{"$f":"COUNTA(C6:C65)","v":60},60,60,60,60,60,60,60,60,60,60,null,{"$f":"COUNTA(A3:BK5)","v":85},{"$f":"COLUMNS(A1:BP65)+ROWS(A1:BP65)","v":133},null,null,null,null,null,null,null,null,null,{"$f":"COUNTA(Z6:Z65)","v":60},{"$f":"COUNTA(AA6:AA65)","v":60},{"$f":"COUNTA(AB6:AB65)","v":60},{"$f":"COUNTA(AC6:AC65)","v":60},null,null,null,null,null,null,null,{"$f":"COUNTA(AK6:AK65)","v":60},60,60,60,60,60,60,60,60,60,60,60,60,60,60,60,60,60,60,60,60,60,60,60,60,null,null,{"$f":"COUNTA(BL6:BL65)","v":60},{"$f":"COUNTA(BM6:BM65)","v":60},{"$f":"COUNTA(BN6:BN65)","v":60},{"$f":"COUNTA(BO6:BO65)","v":60}]
["a","a","a",null,null,null,null,null,null,"a",null,"a",null,"a","a","a","a","a","a","a","a","a","a","a","a",null,null,null,"a",null,"a","a","a","a","a","a",null,null,null,"a",null,null,null,null,null,null,null,null,null,null,null,null,null,null,null,null,null,null,"a","a",null,"a","a"]
[null,"mimo soutěž","komb. poř.","komb. poř.","st.č.běh",null,"skok kombinace",null,"rankStč","1.skok poř.","1.skok","skok poř.","skok obě kola","CHYBOVÉ HLÁŠENÍ -dej příkaz ZPĚT pří zčernání buněk",null,null,null,null,null,"1.kolo  1.kolo  1.kolo  1.kolo",null,null,null,null,null,null,null,null,null,null,"2.kolo  2.kolo  2.kolo  2.kolo",null,null,null,null,null,null,null,null,null,"obě kola",null,null,"do 2.kola jen tito",null,"skok do kombinace",null,null,"běh do kombinace",null,null,null,"nepouzivane","kombinace - skok jednotlivě",null,null,null,null,"st.číslo na běh",{"$f":"+hlavicka!C32","v":"00:59:59"},{"$f":"DCOUNTA(BK5:BK65,1,CUP!M15:M16)+DCOUNTA(BK5:BK65,1,CUP!M21:M22)","v":0},"****  CHYBNĚ NAPSANÝ ČAS **** dej ZPĚT a napiš čas znova",null,"pořadí bez mimo","body jen legal","pořadí bez času cíl mimo","časy cíl jen legal","prezentace závodníků bude teď jenom tady"]
[]
[null,"mimo","komb","komb-st.č.","Brank","Bčíslo","sk","sk-st.č.","rankStč","1.k. xxxxxxx","1.k.-st.č.","obě k.","obě k.-st.č.","st.č.skok xxxxxx","jméno","klub","stát","nar.","komb","délka","A","B","C","D","E","b.m","b.s","c 1","1.skok-poř.","náj.r.","délka","A","B","C","D","E","b.m","b.s","c 2","2.skok-pořadí","body","poř.celk xxxxxxxxxxxx","pomoc2.kolo","ano 2.kolo","pomoc poř. 2.kolo","SKbody","SKpoř.","SKztráta","čas cíl","čistý čas","poř.běh ","SK celk","VT body","1skok b.","1skok poř","2skok b.","pomoc 2.kolo","2skok poř","st.č.beh xxxxxxxxx","start s vlnou","dopočet","naměř.čas cíl","kotrola psaní časů","skokMIM","skokMIM","SKmimo","SKmimo","Start. číslo","Jméno","Příjmení","Klub","Gender","Ročník","Stát","Kod závodníka","FIS kód"]
[{"$f":"+A5+1","v":1},null,{"$f":"IF(D6=\"x\",\"x\",RANK(D6,$D$6:$D$65,1))","v":2},{"$f":"IF(AZ6=\"x\",\"x\",AZ6-N6/1000)","v":1.9870000000000001},{"$f":"IF(F6=\"x\",\"x\",RANK(F6,$F$6:$F$65,1))","v":2},{"$f":"IF(BG6=\"\",\"x\",BG6)","v":21},{"$f":"IF(H6=\"x\",\"x\",RANK(H6,$H$6:$H$65,1))","v":2},{"$f":"IF(AU6=\"x\",\"x\",AU6-N6/1000)","v":0.98699999999999999},{"$f":"IF(N6=\"\",\"x\",RANK(N6,$N$6:$N$65,1))","v":1},{"$f":"IF(K6=\"x\",\"x\",RANK(K6,$K$6:$K$163,1))","v":2},{"$f":"IF(AC6=\"x\",\"x\",AC6-N6/1000)","v":0.98699999999999999},{"$f":"IF(M6=\"x\",\"x\",RANK(M6,$M$6:$M$163,1))","v":1},{"$f":"IF(AP6=\"x\",\"x\",AP6-N6/1000)","v":0.98699999999999999},{"$f":"IF(BP6=\"\",\"\",BP6)","v":13},{"$f":"CONCATENATE(BR6,\" \",BQ6)","v":"Zapadlová Sára"},{"$f":"+BS6","v":"Lyžařský sportovní klub Lomnice nad Popelkou"},{"$f":"+BV6","v":"CZE"},{"$f":"+BU6","v":2016},"x",11.5,15,15,14.5,1,20,{"$f":"60-hlavicka!$C$7*(+hlavicka!$C$6-T6)","v":51},{"$f":"SUM(U6:Y6)-MAX(U6:Y6)-MIN(U6:Y6)","v":44.5},{"$f":"+Z6+AA6","v":95.5},{"$f":"IF(T6=\"\",\"x\",RANK(AB6,$AB$6:$AB$163,0))","v":1},null,11.5,15,15,14.5,1,20,{"$f":"IF(AE6=\"\",\"0\",60-hlavicka!$C$7*(+hlavicka!$C$6-AE6))","v":51},{"$f":"SUM(AF6:AJ6)-MAX(AF6:AJ6)-MIN(AF6:AJ6)","v":44.5},{"$f":"+AK6+AL6","v":95.5},{"$f":"IF(AQ6=\"x\",\"x\",RANK(AQ6,$AQ$6:$AQ$65,0))","v":1},{"$f":"+AB6+AM6","v":191},{"$f":"IF(T6=\"\",\"x\",IF(B6=\"m\",RANK(AO6,$AO$6:$AO$163,0)+1000,RANK(AO6,$AO$6:$AO$163,0)))","v":1},{"$f":"IF(AE6=\"\",\"x\",60-hlavicka!$C$7*(+hlavicka!$C$6-AE6)+AL6)","v":95.5},{"$f":"IF(AC6<=hlavicka!$C$10,\"ano\",\"\")","v":"ano"},{"$f":"IF(AR6=\"ano\",J6,\"\")","v":2},{"$f":"IF(T6=\"\",\"x\",IF(S6=\"x\",AB6,\"x\"))","v":95.5},{"$f":"IF(AT6=\"x\",\"x\",RANK(AT6,$AT$6:$AT$65))","v":1},{"$f":"IF(AT6=\"x\",\"x\",(MAX($AT$6:$AT$65)-AT6)/hlavicka!$C$30/60/24)","v":"00:00:00"},{"$f":"IF(BJ6=\"\",\"x\",BJ6+BI6)","v":"00:05:47.200"},{"$f":"IF(AW6=\"x\",\"x\",AW6-AV6)","v":"00:05:47.200"},{"$f":"IF(AX6=\"x\",\"x\",RANK(AX6,$AX$6:$AX$65,1))","v":2},{"$f":"IF(AW6=\"x\",\"x\",IF(B6=\"m\",RANK(AW6,$AW$6:$AW$65,1)+1000,RANK(AW6,$AW$6:$AW$65,1)))","v":2},{"$f":"IF(AZ6=\"x\",\"x\",(-MAX($AT$6:$AT$65)+AT6+240)+220-hlavicka!$C$30*(-MIN($AX$6:$AX$65)+AX6)*60*24)","v":431.5},{"$f":"IF(AT6=\"x\",\"x\",AB6)","v":95.5},{"$f":"IF(BB6=\"x\",\"x\",RANK(BB6,$BB$6:$BB$65))","v":1},{"$f":"IF(AT6=\"x\",\"x\",AM6)","v":95.5},{"$f":"IF(AT6=\"x\",\"x\",AQ6)","v":95.5},{"$f":"IF(BE6=\"x\",\"x\",RANK(BE6,$BE$6:$BE$65))","v":1},{"$f":"IF(G6=\"x\",\"x\",(+hlavicka!$C$31+G6-1))","v":21},{"$f":"IF(AV6=\"x\",\"x\",IF(AV6>=hlavicka!$C$32,hlavicka!$C$32,AV6))","v":"00:00:00"},{"$f":"IF(AU6=\"x\",\"x\",AV6-BH6)","v":"00:00:00"},"00:05:47.200",{"$f":"IF((BG6=\"x\")+(BJ6<>\"\")=2,\"nestartuje - nepiš žádný čas\",IF((BH6>BJ6)+(BJ6<>\"\")=2,\"menší čas cíl než čas startu\",IF(BJ6<>\"\",\"OK\",\"\")))","v":"OK"},{"$f":"IF(BM6=\"x\",\"x\",RANK(BM6,$BM$6:$BM$65,0))","v":1},{"$f":"IF(AP6=\"x\",\"x\",IF(B6=\"m\",\"x\",AO6))","v":191},{"$f":"IF(BO6=\"x\",\"x\",RANK(BO6,$BO$6:$BO$65,1))","v":2},{"$f":"IF(B6=\"m\",\"x\",AW6)","v":"00:05:47.200"},13,"Sára","Zapadlová","Lyžařský sportovní klub Lomnice nad Popelkou","WOMEN",2016,"CZE",890332]
[2,null,1,0.97799999999999998,1,20,1,0.97799999999999998,2,1,0.97799999999999998,5,4.9779999999999998,{"$f":"IF(BP7=\"\",\"\",BP7)","v":22},{"$f":"CONCATENATE(BR7,\" \",BQ7)","v":"Sankot Antonín"},{"$f":"+BS7","v":"Lyžařský sportovní klub Lomnice nad Popelkou"},{"$f":"+BV7","v":"CZE"},{"$f":"+BU7","v":2017},"x",12,14.5,14,13,1,20,{"$f":"60-hlavicka!$C$7*(+hlavicka!$C$6-T7)","v":54},{"$f":"SUM(U7:Y7)-MAX(U7:Y7)-MIN(U7:Y7)","v":41.5},95.5,1,null,12.5,8,8,8,1,20,{"$f":"IF(AE7=\"\",\"0\",60-hlavicka!$C$7*(+hlavicka!$C$6-AE7))","v":57},24,81,5,176.5,5,{"$f":"IF(AE7=\"\",\"x\",60-hlavicka!$C$7*(+hlavicka!$C$6-AE7)+AL7)","v":81},{"$f":"IF(AC7<=hlavicka!$C$10,\"ano\",\"\")","v":"ano"},1,{"$f":"IF(T7=\"\",\"x\",IF(S7=\"x\",AB7,\"x\"))","v":95.5},1,{"$f":"IF(AT7=\"x\",\"x\",(MAX($AT$6:$AT$65)-AT7)/hlavicka!$C$30/60/24)","v":"00:00:00"},"00:05:13","00:05:13",1,1,{"$f":"IF(AZ7=\"x\",\"x\",(-MAX($AT$6:$AT$65)+AT7+240)+220-hlavicka!$C$30*(-MIN($AX$6:$AX$65)+AX7)*60*24)","v":460},95.5,1,81,81,5,{"$f":"IF(G7=\"x\",\"x\",(+hlavicka!$C$31+G7-1))","v":20},{"$f":"IF(AV7=\"x\",\"x\",IF(AV7>=hlavicka!$C$32,hlavicka!$C$32,AV7))","v":"00:00:00"},"00:00:00","00:05:13","OK",5,176.5,1,"00:05:13",22,"Antonín","Sankot","Lyžařský sportovní klub Lomnice nad Popelkou","MEN",2017,"CZE",777372]
[3,null,3,2.9769999999999999,5,24,5,4.9770000000000003,3,5,4.9770000000000003,4,3.9769999999999999,23,"Břečka Matyáš","Lyžařský sportovní klub Lomnice nad Popelkou","CZE",2014,"x",11,14.5,14,13,1,20,{"$f":"60-hlavicka!$C$7*(+hlavicka!$C$6-T8)","v":48},{"$f":"SUM(U8:Y8)-MAX(U8:Y8)-MIN(U8:Y8)","v":41.5},89.5,5,null,11.5,13,13,12.5,1,20,{"$f":"IF(AE8=\"\",\"0\",60-hlavicka!$C$7*(+hlavicka!$C$6-AE8))","v":51},38.5,89.5,4,179,4,{"$f":"IF(AE8=\"\",\"x\",60-hlavicka!$C$7*(+hlavicka!$C$6-AE8)+AL8)","v":89.5},{"$f":"IF(AC8<=hlavicka!$C$10,\"ano\",\"\")","v":"ano"},5,89.5,5,{"$f":"IF(AT8=\"x\",\"x\",(MAX($AT$6:$AT$65)-AT8)/hlavicka!$C$30/60/24)","v":"00:00:07.200"},"00:06:14.200","00:06:07",3,3,{"$f":"IF(AZ8=\"x\",\"x\",(-MAX($AT$6:$AT$65)+AT8+240)+220-hlavicka!$C$30*(-MIN($AX$6:$AX$65)+AX8)*60*24)","v":409},89.5,5,89.5,89.5,4,{"$f":"IF(G8=\"x\",\"x\",(+hlavicka!$C$31+G8-1))","v":24},{"$f":"IF(AV8=\"x\",\"x\",IF(AV8>=hlavicka!$C$32,hlavicka!$C$32,AV8))","v":"00:00:07.200"},"00:00:00","00:06:14.200","OK",4,179,3,"00:06:14.200",23,"Matyáš","Břečka","Lyžařský sportovní klub Lomnice nad Popelkou","MEN",2014,"CZE",774426]
[4,null,4,3.976,3,22,3,2.976,4,3,2.976,2,1.976,24,"Huráňová Karolína","Lyžařský sportovní klub Lomnice nad Popelkou","CZE",2015,"x",11.5,14.5,15,13.5,1,20,{"$f":"60-hlavicka!$C$7*(+hlavicka!$C$6-T9)","v":51},{"$f":"SUM(U9:Y9)-MAX(U9:Y9)-MIN(U9:Y9)","v":43},94,3,null,11.5,14.5,15,13.5,1,20,{"$f":"IF(AE9=\"\",\"0\",60-hlavicka!$C$7*(+hlavicka!$C$6-AE9))","v":51},43,94,2,188,2,{"$f":"IF(AE9=\"\",\"x\",60-hlavicka!$C$7*(+hlavicka!$C$6-AE9)+AL9)","v":94},{"$f":"IF(AC9<=hlavicka!$C$10,\"ano\",\"\")","v":"ano"},3,94,3,{"$f":"IF(AT9=\"x\",\"x\",(MAX($AT$6:$AT$65)-AT9)/hlavicka!$C$30/60/24)","v":"00:00:01.800"},"00:06:32.800","00:06:31",4,4,{"$f":"IF(AZ9=\"x\",\"x\",(-MAX($AT$6:$AT$65)+AT9+240)+220-hlavicka!$C$30*(-MIN($AX$6:$AX$65)+AX9)*60*24)","v":393.5},94,3,94,94,2,{"$f":"IF(G9=\"x\",\"x\",(+hlavicka!$C$31+G9-1))","v":22},{"$f":"IF(AV9=\"x\",\"x\",IF(AV9>=hlavicka!$C$32,hlavicka!$C$32,AV9))","v":"00:00:01.800"},"00:00:00","00:06:32.800","OK",2,188,4,"00:06:32.800",24,"Karolína","Huráňová","Lyžařský sportovní klub Lomnice nad Popelkou","WOMEN",2015,"CZE",889929]
[5,null,5,4.9749999999999996,4,23,4,3.9750000000000001,5,4,3.9750000000000001,3,2.9750000000000001,25,"Ježek Jakub","Lyžařský sportovní klub Lomnice nad Popelkou","CZE",2015,"x",11,14.5,14.5,13,1,20,{"$f":"60-hlavicka!$C$7*(+hlavicka!$C$6-T10)","v":48},{"$f":"SUM(U10:Y10)-MAX(U10:Y10)-MIN(U10:Y10)","v":42},90,4,null,11,14.5,14,14.5,1,20,{"$f":"IF(AE10=\"\",\"0\",60-hlavicka!$C$7*(+hlavicka!$C$6-AE10))","v":48},43,91,3,181,3,{"$f":"IF(AE10=\"\",\"x\",60-hlavicka!$C$7*(+hlavicka!$C$6-AE10)+AL10)","v":91},{"$f":"IF(AC10<=hlavicka!$C$10,\"ano\",\"\")","v":"ano"},4,90,4,{"$f":"IF(AT10=\"x\",\"x\",(MAX($AT$6:$AT$65)-AT10)/hlavicka!$C$30/60/24)","v":"00:00:06.600"},"00:06:56.300","00:06:49.700",5,5,{"$f":"IF(AZ10=\"x\",\"x\",(-MAX($AT$6:$AT$65)+AT10+240)+220-hlavicka!$C$30*(-MIN($AX$6:$AX$65)+AX10)*60*24)","v":373.9},90,4,91,91,3,{"$f":"IF(G10=\"x\",\"x\",(+hlavicka!$C$31+G10-1))","v":23},{"$f":"IF(AV10=\"x\",\"x\",IF(AV10>=hlavicka!$C$32,hlavicka!$C$32,AV10))","v":"00:00:06.600"},"00:00:00","00:06:56.300","OK",3,181,5,"00:06:56.300",25,"Jakub","Ježek","Lyžařský sportovní klub Lomnice nad Popelkou","MEN",2015,"CZE",774424]
[6,null,"x","x","x","x","x","x","x","x","x","x","x",""," ",0,0,0,null,null,null,null,null,null,null,{"$f":"60-hlavicka!$C$7*(+hlavicka!$C$6-T11)","v":-18},{"$f":"SUM(U11:Y11)-MAX(U11:Y11)-MIN(U11:Y11)","v":0},-18,"x",null,null,null,null,null,null,null,{"$f":"IF(AE11=\"\",\"0\",60-hlavicka!$C$7*(+hlavicka!$C$6-AE11))","v":"0"},0,0,"x",-18,"x",{"$f":"IF(AE11=\"\",\"x\",60-hlavicka!$C$7*(+hlavicka!$C$6-AE11)+AL11)","v":"x"},{"$f":"IF(AC11<=hlavicka!$C$10,\"ano\",\"\")","v":""},"","x","x",{"$f":"IF(AT11=\"x\",\"x\",(MAX($AT$6:$AT$65)-AT11)/hlavicka!$C$30/60/24)","v":"x"},"x","x","x","x",{"$f":"IF(AZ11=\"x\",\"x\",(-MAX($AT$6:$AT$65)+AT11+240)+220-hlavicka!$C$30*(-MIN($AX$6:$AX$65)+AX11)*60*24)","v":"x"},"x","x","x","x","x",{"$f":"IF(G11=\"x\",\"x\",(+hlavicka!$C$31+G11-1))","v":"x"},{"$f":"IF(AV11=\"x\",\"x\",IF(AV11>=hlavicka!$C$32,hlavicka!$C$32,AV11))","v":"x"},"x",null,"","x","x","x","x"]
[{"$f":"+A11+1","v":7},null,"x","x","x","x","x","x","x","x","x","x","x",""," ",0,0,0,null,null,null,null,null,null,null,{"$f":"60-hlavicka!$C$7*(+hlavicka!$C$6-T12)","v":-18},0,-18,"x",null,null,null,null,null,null,null,{"$f":"IF(AE12=\"\",\"0\",60-hlavicka!$C$7*(+hlavicka!$C$6-AE12))","v":"0"},0,0,"x",-18,"x",{"$f":"IF(AE12=\"\",\"x\",60-hlavicka!$C$7*(+hlavicka!$C$6-AE12)+AL12)","v":"x"},{"$f":"IF(AC12<=hlavicka!$C$10,\"ano\",\"\")","v":""},"","x","x",{"$f":"IF(AT12=\"x\",\"x\",(MAX($AT$6:$AT$65)-AT12)/hlavicka!$C$30/60/24)","v":"x"},"x","x","x","x",{"$f":"IF(AZ12=\"x\",\"x\",(-MAX($AT$6:$AT$65)+AT12+240)+220-hlavicka!$C$30*(-MIN($AX$6:$AX$65)+AX12)*60*24)","v":"x"},"x","x","x","x","x",{"$f":"IF(G12=\"x\",\"x\",(+hlavicka!$C$31+G12-1))","v":"x"},{"$f":"IF(AV12=\"x\",\"x\",IF(AV12>=hlavicka!$C$32,hlavicka!$C$32,AV12))","v":"x"},"x",null,"","x","x","x","x"]
[8,null,"x","x","x","x","x","x","x","x","x","x","x",""," ",0,0,0,null,null,null,null,null,null,null,{"$f":"60-hlavicka!$C$7*(+hlavicka!$C$6-T13)","v":-18},0,-18,"x",null,null,null,null,null,null,null,{"$f":"IF(AE13=\"\",\"0\",60-hlavicka!$C$7*(+hlavicka!$C$6-AE13))","v":"0"},0,0,"x",-18,"x",{"$f":"IF(AE13=\"\",\"x\",60-hlavicka!$C$7*(+hlavicka!$C$6-AE13)+AL13)","v":"x"},{"$f":"IF(AC13<=hlavicka!$C$10,\"ano\",\"\")","v":""},"","x","x",{"$f":"IF(AT13=\"x\",\"x\",(MAX($AT$6:$AT$65)-AT13)/hlavicka!$C$30/60/24)","v":"x"},"x","x","x","x",{"$f":"IF(AZ13=\"x\",\"x\",(-MAX($AT$6:$AT$65)+AT13+240)+220-hlavicka!$C$30*(-MIN($AX$6:$AX$65)+AX13)*60*24)","v":"x"},"x","x","x","x","x",{"$f":"IF(G13=\"x\",\"x\",(+hlavicka!$C$31+G13-1))","v":"x"},{"$f":"IF(AV13=\"x\",\"x\",IF(AV13>=hlavicka!$C$32,hlavicka!$C$32,AV13))","v":"x"},"x",null,"","x","x","x","x"]
[9,null,"x","x","x","x","x","x","x","x","x","x","x",""," ",0,0,0,null,null,null,null,null,null,null,{"$f":"60-hlavicka!$C$7*(+hlavicka!$C$6-T14)","v":-18},0,-18,"x",null,null,null,null,null,null,null,{"$f":"IF(AE14=\"\",\"0\",60-hlavicka!$C$7*(+hlavicka!$C$6-AE14))","v":"0"},0,0,"x",-18,"x",{"$f":"IF(AE14=\"\",\"x\",60-hlavicka!$C$7*(+hlavicka!$C$6-AE14)+AL14)","v":"x"},{"$f":"IF(AC14<=hlavicka!$C$10,\"ano\",\"\")","v":""},"","x","x",{"$f":"IF(AT14=\"x\",\"x\",(MAX($AT$6:$AT$65)-AT14)/hlavicka!$C$30/60/24)","v":"x"},"x","x","x","x",{"$f":"IF(AZ14=\"x\",\"x\",(-MAX($AT$6:$AT$65)+AT14+240)+220-hlavicka!$C$30*(-MIN($AX$6:$AX$65)+AX14)*60*24)","v":"x"},"x","x","x","x","x",{"$f":"IF(G14=\"x\",\"x\",(+hlavicka!$C$31+G14-1))","v":"x"},{"$f":"IF(AV14=\"x\",\"x\",IF(AV14>=hlavicka!$C$32,hlavicka!$C$32,AV14))","v":"x"},"x",null,"","x","x","x","x"]
[10,null,"x","x","x","x","x","x","x","x","x","x","x",""," ",0,0,0,null,null,null,null,null,null,null,{"$f":"60-hlavicka!$C$7*(+hlavicka!$C$6-T15)","v":-18},0,-18,"x",null,null,null,null,null,null,null,{"$f":"IF(AE15=\"\",\"0\",60-hlavicka!$C$7*(+hlavicka!$C$6-AE15))","v":"0"},0,0,"x",-18,"x",{"$f":"IF(AE15=\"\",\"x\",60-hlavicka!$C$7*(+hlavicka!$C$6-AE15)+AL15)","v":"x"},{"$f":"IF(AC15<=hlavicka!$C$10,\"ano\",\"\")","v":""},"","x","x",{"$f":"IF(AT15=\"x\",\"x\",(MAX($AT$6:$AT$65)-AT15)/hlavicka!$C$30/60/24)","v":"x"},"x","x","x","x",{"$f":"IF(AZ15=\"x\",\"x\",(-MAX($AT$6:$AT$65)+AT15+240)+220-hlavicka!$C$30*(-MIN($AX$6:$AX$65)+AX15)*60*24)","v":"x"},"x","x","x","x","x",{"$f":"IF(G15=\"x\",\"x\",(+hlavicka!$C$31+G15-1))","v":"x"},{"$f":"IF(AV15=\"x\",\"x\",IF(AV15>=hlavicka!$C$32,hlavicka!$C$32,AV15))","v":"x"},"x",null,"","x","x","x","x"]
[11,null,"x","x","x","x","x","x","x","x","x","x","x",""," ",0,0,0,null,null,null,null,null,null,null,{"$f":"60-hlavicka!$C$7*(+hlavicka!$C$6-T16)","v":-18},0,-18,"x",null,null,null,null,null,null,null,{"$f":"IF(AE16=\"\",\"0\",60-hlavicka!$C$7*(+hlavicka!$C$6-AE16))","v":"0"},0,0,"x",-18,"x",{"$f":"IF(AE16=\"\",\"x\",60-hlavicka!$C$7*(+hlavicka!$C$6-AE16)+AL16)","v":"x"},{"$f":"IF(AC16<=hlavicka!$C$10,\"ano\",\"\")","v":""},"","x","x",{"$f":"IF(AT16=\"x\",\"x\",(MAX($AT$6:$AT$65)-AT16)/hlavicka!$C$30/60/24)","v":"x"},"x","x","x","x",{"$f":"IF(AZ16=\"x\",\"x\",(-MAX($AT$6:$AT$65)+AT16+240)+220-hlavicka!$C$30*(-MIN($AX$6:$AX$65)+AX16)*60*24)","v":"x"},"x","x","x","x","x",{"$f":"IF(G16=\"x\",\"x\",(+hlavicka!$C$31+G16-1))","v":"x"},{"$f":"IF(AV16=\"x\",\"x\",IF(AV16>=hlavicka!$C$32,hlavicka!$C$32,AV16))","v":"x"},"x",null,"","x","x","x","x"]
[12,null,"x","x","x","x","x","x","x","x","x","x","x",""," ",0,0,0,null,null,null,null,null,null,null,{"$f":"60-hlavicka!$C$7*(+hlavicka!$C$6-T17)","v":-18},0,-18,"x",null,null,null,null,null,null,null,{"$f":"IF(AE17=\"\",\"0\",60-hlavicka!$C$7*(+hlavicka!$C$6-AE17))","v":"0"},0,0,"x",-18,"x",{"$f":"IF(AE17=\"\",\"x\",60-hlavicka!$C$7*(+hlavicka!$C$6-AE17)+AL17)","v":"x"},{"$f":"IF(AC17<=hlavicka!$C$10,\"ano\",\"\")","v":""},"","x","x",{"$f":"IF(AT17=\"x\",\"x\",(MAX($AT$6:$AT$65)-AT17)/hlavicka!$C$30/60/24)","v":"x"},"x","x","x","x",{"$f":"IF(AZ17=\"x\",\"x\",(-MAX($AT$6:$AT$65)+AT17+240)+220-hlavicka!$C$30*(-MIN($AX$6:$AX$65)+AX17)*60*24)","v":"x"},"x","x","x","x","x",{"$f":"IF(G17=\"x\",\"x\",(+hlavicka!$C$31+G17-1))","v":"x"},{"$f":"IF(AV17=\"x\",\"x\",IF(AV17>=hlavicka!$C$32,hlavicka!$C$32,AV17))","v":"x"},"x",null,"","x","x","x","x"]
[13,null,"x","x","x","x","x","x","x","x","x","x","x",""," ",0,0,0,null,null,null,null,null,null,null,{"$f":"60-hlavicka!$C$7*(+hlavicka!$C$6-T18)","v":-18},0,-18,"x",null,null,null,null,null,null,null,{"$f":"IF(AE18=\"\",\"0\",60-hlavicka!$C$7*(+hlavicka!$C$6-AE18))","v":"0"},0,0,"x",-18,"x",{"$f":"IF(AE18=\"\",\"x\",60-hlavicka!$C$7*(+hlavicka!$C$6-AE18)+AL18)","v":"x"},{"$f":"IF(AC18<=hlavicka!$C$10,\"ano\",\"\")","v":""},"","x","x",{"$f":"IF(AT18=\"x\",\"x\",(MAX($AT$6:$AT$65)-AT18)/hlavicka!$C$30/60/24)","v":"x"},"x","x","x","x",{"$f":"IF(AZ18=\"x\",\"x\",(-MAX($AT$6:$AT$65)+AT18+240)+220-hlavicka!$C$30*(-MIN($AX$6:$AX$65)+AX18)*60*24)","v":"x"},"x","x","x","x","x",{"$f":"IF(G18=\"x\",\"x\",(+hlavicka!$C$31+G18-1))","v":"x"},{"$f":"IF(AV18=\"x\",\"x\",IF(AV18>=hlavicka!$C$32,hlavicka!$C$32,AV18))","v":"x"},"x",null,"","x","x","x","x"]
[14,null,"x","x","x","x","x","x","x","x","x","x","x",""," ",0,0,0,null,null,null,null,null,null,null,{"$f":"60-hlavicka!$C$7*(+hlavicka!$C$6-T19)","v":-18},0,-18,"x",null,null,null,null,null,null,null,{"$f":"IF(AE19=\"\",\"0\",60-hlavicka!$C$7*(+hlavicka!$C$6-AE19))","v":"0"},0,0,"x",-18,"x",{"$f":"IF(AE19=\"\",\"x\",60-hlavicka!$C$7*(+hlavicka!$C$6-AE19)+AL19)","v":"x"},{"$f":"IF(AC19<=hlavicka!$C$10,\"ano\",\"\")","v":""},"","x","x",{"$f":"IF(AT19=\"x\",\"x\",(MAX($AT$6:$AT$65)-AT19)/hlavicka!$C$30/60/24)","v":"x"},"x","x","x","x",{"$f":"IF(AZ19=\"x\",\"x\",(-MAX($AT$6:$AT$65)+AT19+240)+220-hlavicka!$C$30*(-MIN($AX$6:$AX$65)+AX19)*60*24)","v":"x"},"x","x","x","x","x",{"$f":"IF(G19=\"x\",\"x\",(+hlavicka!$C$31+G19-1))","v":"x"},{"$f":"IF(AV19=\"x\",\"x\",IF(AV19>=hlavicka!$C$32,hlavicka!$C$32,AV19))","v":"x"},"x",null,"","x","x","x","x"]
[15,null,"x","x","x","x","x","x","x","x","x","x","x",""," ",0,0,0,null,null,null,null,null,null,null,{"$f":"60-hlavicka!$C$7*(+hlavicka!$C$6-T20)","v":-18},0,-18,"x",null,null,null,null,null,null,null,{"$f":"IF(AE20=\"\",\"0\",60-hlavicka!$C$7*(+hlavicka!$C$6-AE20))","v":"0"},0,0,"x",-18,"x",{"$f":"IF(AE20=\"\",\"x\",60-hlavicka!$C$7*(+hlavicka!$C$6-AE20)+AL20)","v":"x"},{"$f":"IF(AC20<=hlavicka!$C$10,\"ano\",\"\")","v":""},"","x","x",{"$f":"IF(AT20=\"x\",\"x\",(MAX($AT$6:$AT$65)-AT20)/hlavicka!$C$30/60/24)","v":"x"},"x","x","x","x",{"$f":"IF(AZ20=\"x\",\"x\",(-MAX($AT$6:$AT$65)+AT20+240)+220-hlavicka!$C$30*(-MIN($AX$6:$AX$65)+AX20)*60*24)","v":"x"},"x","x","x","x","x",{"$f":"IF(G20=\"x\",\"x\",(+hlavicka!$C$31+G20-1))","v":"x"},{"$f":"IF(AV20=\"x\",\"x\",IF(AV20>=hlavicka!$C$32,hlavicka!$C$32,AV20))","v":"x"},"x",null,"","x","x","x","x"]
[16,null,"x","x","x","x","x","x","x","x","x","x","x",""," ",0,0,0,null,null,null,null,null,null,null,{"$f":"60-hlavicka!$C$7*(+hlavicka!$C$6-T21)","v":-18},0,-18,"x",null,null,null,null,null,null,null,{"$f":"IF(AE21=\"\",\"0\",60-hlavicka!$C$7*(+hlavicka!$C$6-AE21))","v":"0"},0,0,"x",-18,"x",{"$f":"IF(AE21=\"\",\"x\",60-hlavicka!$C$7*(+hlavicka!$C$6-AE21)+AL21)","v":"x"},{"$f":"IF(AC21<=hlavicka!$C$10,\"ano\",\"\")","v":""},"","x","x",{"$f":"IF(AT21=\"x\",\"x\",(MAX($AT$6:$AT$65)-AT21)/hlavicka!$C$30/60/24)","v":"x"},"x","x","x","x",{"$f":"IF(AZ21=\"x\",\"x\",(-MAX($AT$6:$AT$65)+AT21+240)+220-hlavicka!$C$30*(-MIN($AX$6:$AX$65)+AX21)*60*24)","v":"x"},"x","x","x","x","x",{"$f":"IF(G21=\"x\",\"x\",(+hlavicka!$C$31+G21-1))","v":"x"},{"$f":"IF(AV21=\"x\",\"x\",IF(AV21>=hlavicka!$C$32,hlavicka!$C$32,AV21))","v":"x"},"x",null,"","x","x","x","x"]
[17,null,"x","x","x","x","x","x","x","x","x","x","x",""," ",0,0,0,null,null,null,null,null,null,null,{"$f":"60-hlavicka!$C$7*(+hlavicka!$C$6-T22)","v":-18},0,-18,"x",null,null,null,null,null,null,null,{"$f":"IF(AE22=\"\",\"0\",60-hlavicka!$C$7*(+hlavicka!$C$6-AE22))","v":"0"},0,0,"x",-18,"x",{"$f":"IF(AE22=\"\",\"x\",60-hlavicka!$C$7*(+hlavicka!$C$6-AE22)+AL22)","v":"x"},{"$f":"IF(AC22<=hlavicka!$C$10,\"ano\",\"\")","v":""},"","x","x",{"$f":"IF(AT22=\"x\",\"x\",(MAX($AT$6:$AT$65)-AT22)/hlavicka!$C$30/60/24)","v":"x"},"x","x","x","x",{"$f":"IF(AZ22=\"x\",\"x\",(-MAX($AT$6:$AT$65)+AT22+240)+220-hlavicka!$C$30*(-MIN($AX$6:$AX$65)+AX22)*60*24)","v":"x"},"x","x","x","x","x",{"$f":"IF(G22=\"x\",\"x\",(+hlavicka!$C$31+G22-1))","v":"x"},{"$f":"IF(AV22=\"x\",\"x\",IF(AV22>=hlavicka!$C$32,hlavicka!$C$32,AV22))","v":"x"},"x",null,"","x","x","x","x"]
[18,null,"x","x","x","x","x","x","x","x","x","x","x",""," ",0,0,0,null,null,null,null,null,null,null,{"$f":"60-hlavicka!$C$7*(+hlavicka!$C$6-T23)","v":-18},0,-18,"x",null,null,null,null,null,null,null,{"$f":"IF(AE23=\"\",\"0\",60-hlavicka!$C$7*(+hlavicka!$C$6-AE23))","v":"0"},0,0,"x",-18,"x",{"$f":"IF(AE23=\"\",\"x\",60-hlavicka!$C$7*(+hlavicka!$C$6-AE23)+AL23)","v":"x"},{"$f":"IF(AC23<=hlavicka!$C$10,\"ano\",\"\")","v":""},"","x","x",{"$f":"IF(AT23=\"x\",\"x\",(MAX($AT$6:$AT$65)-AT23)/hlavicka!$C$30/60/24)","v":"x"},"x","x","x","x",{"$f":"IF(AZ23=\"x\",\"x\",(-MAX($AT$6:$AT$65)+AT23+240)+220-hlavicka!$C$30*(-MIN($AX$6:$AX$65)+AX23)*60*24)","v":"x"},"x","x","x","x","x",{"$f":"IF(G23=\"x\",\"x\",(+hlavicka!$C$31+G23-1))","v":"x"},{"$f":"IF(AV23=\"x\",\"x\",IF(AV23>=hlavicka!$C$32,hlavicka!$C$32,AV23))","v":"x"},"x",null,"","x","x","x","x"]
[19,null,"x","x","x","x","x","x","x","x","x","x","x",""," ",0,0,0,null,null,null,null,null,null,null,{"$f":"60-hlavicka!$C$7*(+hlavicka!$C$6-T24)","v":-18},0,-18,"x",null,null,null,null,null,null,null,{"$f":"IF(AE24=\"\",\"0\",60-hlavicka!$C$7*(+hlavicka!$C$6-AE24))","v":"0"},0,0,"x",-18,"x",{"$f":"IF(AE24=\"\",\"x\",60-hlavicka!$C$7*(+hlavicka!$C$6-AE24)+AL24)","v":"x"},{"$f":"IF(AC24<=hlavicka!$C$10,\"ano\",\"\")","v":""},"","x","x",{"$f":"IF(AT24=\"x\",\"x\",(MAX($AT$6:$AT$65)-AT24)/hlavicka!$C$30/60/24)","v":"x"},"x","x","x","x",{"$f":"IF(AZ24=\"x\",\"x\",(-MAX($AT$6:$AT$65)+AT24+240)+220-hlavicka!$C$30*(-MIN($AX$6:$AX$65)+AX24)*60*24)","v":"x"},"x","x","x","x","x",{"$f":"IF(G24=\"x\",\"x\",(+hlavicka!$C$31+G24-1))","v":"x"},{"$f":"IF(AV24=\"x\",\"x\",IF(AV24>=hlavicka!$C$32,hlavicka!$C$32,AV24))","v":"x"},"x",null,"","x","x","x","x"]
[{"$f":"+A24+1","v":20},null,"x","x","x","x","x","x","x","x","x","x","x",""," ",0,0,0,null,null,null,null,null,null,null,{"$f":"60-hlavicka!$C$7*(+hlavicka!$C$6-T25)","v":-18},0,-18,"x",null,null,null,null,null,null,null,{"$f":"IF(AE25=\"\",\"0\",60-hlavicka!$C$7*(+hlavicka!$C$6-AE25))","v":"0"},0,0,"x",-18,"x",{"$f":"IF(AE25=\"\",\"x\",60-hlavicka!$C$7*(+hlavicka!$C$6-AE25)+AL25)","v":"x"},{"$f":"IF(AC25<=hlavicka!$C$10,\"ano\",\"\")","v":""},"","x","x",{"$f":"IF(AT25=\"x\",\"x\",(MAX($AT$6:$AT$65)-AT25)/hlavicka!$C$30/60/24)","v":"x"},"x","x","x","x",{"$f":"IF(AZ25=\"x\",\"x\",(-MAX($AT$6:$AT$65)+AT25+240)+220-hlavicka!$C$30*(-MIN($AX$6:$AX$65)+AX25)*60*24)","v":"x"},"x","x","x","x","x",{"$f":"IF(G25=\"x\",\"x\",(+hlavicka!$C$31+G25-1))","v":"x"},{"$f":"IF(AV25=\"x\",\"x\",IF(AV25>=hlavicka!$C$32,hlavicka!$C$32,AV25))","v":"x"},"x",null,"","x","x","x","x"]
[21,null,"x","x","x","x","x","x","x","x","x","x","x",""," ",0,0,0,null,null,null,null,null,null,null,{"$f":"60-hlavicka!$C$7*(+hlavicka!$C$6-T26)","v":-18},0,-18,"x",null,null,null,null,null,null,null,{"$f":"IF(AE26=\"\",\"0\",60-hlavicka!$C$7*(+hlavicka!$C$6-AE26))","v":"0"},0,0,"x",-18,"x",{"$f":"IF(AE26=\"\",\"x\",60-hlavicka!$C$7*(+hlavicka!$C$6-AE26)+AL26)","v":"x"},{"$f":"IF(AC26<=hlavicka!$C$10,\"ano\",\"\")","v":""},"","x","x",{"$f":"IF(AT26=\"x\",\"x\",(MAX($AT$6:$AT$65)-AT26)/hlavicka!$C$30/60/24)","v":"x"},"x","x","x","x",{"$f":"IF(AZ26=\"x\",\"x\",(-MAX($AT$6:$AT$65)+AT26+240)+220-hlavicka!$C$30*(-MIN($AX$6:$AX$65)+AX26)*60*24)","v":"x"},"x","x","x","x","x",{"$f":"IF(G26=\"x\",\"x\",(+hlavicka!$C$31+G26-1))","v":"x"},{"$f":"IF(AV26=\"x\",\"x\",IF(AV26>=hlavicka!$C$32,hlavicka!$C$32,AV26))","v":"x"},"x",null,"","x","x","x","x"]
[22,null,"x","x","x","x","x","x","x","x","x","x","x",""," ",0,0,0,null,null,null,null,null,null,null,{"$f":"60-hlavicka!$C$7*(+hlavicka!$C$6-T27)","v":-18},0,-18,"x",null,null,null,null,null,null,null,{"$f":"IF(AE27=\"\",\"0\",60-hlavicka!$C$7*(+hlavicka!$C$6-AE27))","v":"0"},0,0,"x",-18,"x",{"$f":"IF(AE27=\"\",\"x\",60-hlavicka!$C$7*(+hlavicka!$C$6-AE27)+AL27)","v":"x"},{"$f":"IF(AC27<=hlavicka!$C$10,\"ano\",\"\")","v":""},"","x","x",{"$f":"IF(AT27=\"x\",\"x\",(MAX($AT$6:$AT$65)-AT27)/hlavicka!$C$30/60/24)","v":"x"},"x","x","x","x",{"$f":"IF(AZ27=\"x\",\"x\",(-MAX($AT$6:$AT$65)+AT27+240)+220-hlavicka!$C$30*(-MIN($AX$6:$AX$65)+AX27)*60*24)","v":"x"},"x","x","x","x","x",{"$f":"IF(G27=\"x\",\"x\",(+hlavicka!$C$31+G27-1))","v":"x"},{"$f":"IF(AV27=\"x\",\"x\",IF(AV27>=hlavicka!$C$32,hlavicka!$C$32,AV27))","v":"x"},"x",null,"","x","x","x","x"]
[23,null,"x","x","x","x","x","x","x","x","x","x","x",""," ",0,0,0,null,null,null,null,null,null,null,{"$f":"60-hlavicka!$C$7*(+hlavicka!$C$6-T28)","v":-18},0,-18,"x",null,null,null,null,null,null,null,{"$f":"IF(AE28=\"\",\"0\",60-hlavicka!$C$7*(+hlavicka!$C$6-AE28))","v":"0"},0,0,"x",-18,"x",{"$f":"IF(AE28=\"\",\"x\",60-hlavicka!$C$7*(+hlavicka!$C$6-AE28)+AL28)","v":"x"},{"$f":"IF(AC28<=hlavicka!$C$10,\"ano\",\"\")","v":""},"","x","x",{"$f":"IF(AT28=\"x\",\"x\",(MAX($AT$6:$AT$65)-AT28)/hlavicka!$C$30/60/24)","v":"x"},"x","x","x","x",{"$f":"IF(AZ28=\"x\",\"x\",(-MAX($AT$6:$AT$65)+AT28+240)+220-hlavicka!$C$30*(-MIN($AX$6:$AX$65)+AX28)*60*24)","v":"x"},"x","x","x","x","x",{"$f":"IF(G28=\"x\",\"x\",(+hlavicka!$C$31+G28-1))","v":"x"},{"$f":"IF(AV28=\"x\",\"x\",IF(AV28>=hlavicka!$C$32,hlavicka!$C$32,AV28))","v":"x"},"x",null,"","x","x","x","x"]
[24,null,"x","x","x","x","x","x","x","x","x","x","x",""," ",0,0,0,null,null,null,null,null,null,null,{"$f":"60-hlavicka!$C$7*(+hlavicka!$C$6-T29)","v":-18},0,-18,"x",null,null,null,null,null,null,null,{"$f":"IF(AE29=\"\",\"0\",60-hlavicka!$C$7*(+hlavicka!$C$6-AE29))","v":"0"},0,0,"x",-18,"x",{"$f":"IF(AE29=\"\",\"x\",60-hlavicka!$C$7*(+hlavicka!$C$6-AE29)+AL29)","v":"x"},{"$f":"IF(AC29<=hlavicka!$C$10,\"ano\",\"\")","v":""},"","x","x",{"$f":"IF(AT29=\"x\",\"x\",(MAX($AT$6:$AT$65)-AT29)/hlavicka!$C$30/60/24)","v":"x"},"x","x","x","x",{"$f":"IF(AZ29=\"x\",\"x\",(-MAX($AT$6:$AT$65)+AT29+240)+220-hlavicka!$C$30*(-MIN($AX$6:$AX$65)+AX29)*60*24)","v":"x"},"x","x","x","x","x",{"$f":"IF(G29=\"x\",\"x\",(+hlavicka!$C$31+G29-1))","v":"x"},{"$f":"IF(AV29=\"x\",\"x\",IF(AV29>=hlavicka!$C$32,hlavicka!$C$32,AV29))","v":"x"},"x",null,"","x","x","x","x"]
[25,null,"x","x","x","x","x","x","x","x","x","x","x",""," ",0,0,0,null,null,null,null,null,null,null,{"$f":"60-hlavicka!$C$7*(+hlavicka!$C$6-T30)","v":-18},0,-18,"x",null,null,null,null,null,null,null,{"$f":"IF(AE30=\"\",\"0\",60-hlavicka!$C$7*(+hlavicka!$C$6-AE30))","v":"0"},0,0,"x",-18,"x",{"$f":"IF(AE30=\"\",\"x\",60-hlavicka!$C$7*(+hlavicka!$C$6-AE30)+AL30)","v":"x"},{"$f":"IF(AC30<=hlavicka!$C$10,\"ano\",\"\")","v":""},"","x","x",{"$f":"IF(AT30=\"x\",\"x\",(MAX($AT$6:$AT$65)-AT30)/hlavicka!$C$30/60/24)","v":"x"},"x","x","x","x",{"$f":"IF(AZ30=\"x\",\"x\",(-MAX($AT$6:$AT$65)+AT30+240)+220-hlavicka!$C$30*(-MIN($AX$6:$AX$65)+AX30)*60*24)","v":"x"},"x","x","x","x","x",{"$f":"IF(G30=\"x\",\"x\",(+hlavicka!$C$31+G30-1))","v":"x"},{"$f":"IF(AV30=\"x\",\"x\",IF(AV30>=hlavicka!$C$32,hlavicka!$C$32,AV30))","v":"x"},"x",null,"","x","x","x","x"]
[26,null,"x","x","x","x","x","x","x","x","x","x","x",""," ",0,0,0,null,null,null,null,null,null,null,{"$f":"60-hlavicka!$C$7*(+hlavicka!$C$6-T31)","v":-18},0,-18,"x",null,null,null,null,null,null,null,{"$f":"IF(AE31=\"\",\"0\",60-hlavicka!$C$7*(+hlavicka!$C$6-AE31))","v":"0"},0,0,"x",-18,"x",{"$f":"IF(AE31=\"\",\"x\",60-hlavicka!$C$7*(+hlavicka!$C$6-AE31)+AL31)","v":"x"},{"$f":"IF(AC31<=hlavicka!$C$10,\"ano\",\"\")","v":""},"","x","x",{"$f":"IF(AT31=\"x\",\"x\",(MAX($AT$6:$AT$65)-AT31)/hlavicka!$C$30/60/24)","v":"x"},"x","x","x","x",{"$f":"IF(AZ31=\"x\",\"x\",(-MAX($AT$6:$AT$65)+AT31+240)+220-hlavicka!$C$30*(-MIN($AX$6:$AX$65)+AX31)*60*24)","v":"x"},"x","x","x","x","x",{"$f":"IF(G31=\"x\",\"x\",(+hlavicka!$C$31+G31-1))","v":"x"},{"$f":"IF(AV31=\"x\",\"x\",IF(AV31>=hlavicka!$C$32,hlavicka!$C$32,AV31))","v":"x"},"x",null,"","x","x","x","x"]
[27,null,"x","x","x","x","x","x","x","x","x","x","x",""," ",0,0,0,null,null,null,null,null,null,null,{"$f":"60-hlavicka!$C$7*(+hlavicka!$C$6-T32)","v":-18},0,-18,"x",null,null,null,null,null,null,null,{"$f":"IF(AE32=\"\",\"0\",60-hlavicka!$C$7*(+hlavicka!$C$6-AE32))","v":"0"},0,0,"x",-18,"x",{"$f":"IF(AE32=\"\",\"x\",60-hlavicka!$C$7*(+hlavicka!$C$6-AE32)+AL32)","v":"x"},{"$f":"IF(AC32<=hlavicka!$C$10,\"ano\",\"\")","v":""},"","x","x",{"$f":"IF(AT32=\"x\",\"x\",(MAX($AT$6:$AT$65)-AT32)/hlavicka!$C$30/60/24)","v":"x"},"x","x","x","x",{"$f":"IF(AZ32=\"x\",\"x\",(-MAX($AT$6:$AT$65)+AT32+240)+220-hlavicka!$C$30*(-MIN($AX$6:$AX$65)+AX32)*60*24)","v":"x"},"x","x","x","x","x",{"$f":"IF(G32=\"x\",\"x\",(+hlavicka!$C$31+G32-1))","v":"x"},{"$f":"IF(AV32=\"x\",\"x\",IF(AV32>=hlavicka!$C$32,hlavicka!$C$32,AV32))","v":"x"},"x",null,"","x","x","x","x"]
[28,null,"x","x","x","x","x","x","x","x","x","x","x",""," ",0,0,0,null,null,null,null,null,null,null,{"$f":"60-hlavicka!$C$7*(+hlavicka!$C$6-T33)","v":-18},0,-18,"x",null,null,null,null,null,null,null,{"$f":"IF(AE33=\"\",\"0\",60-hlavicka!$C$7*(+hlavicka!$C$6-AE33))","v":"0"},0,0,"x",-18,"x",{"$f":"IF(AE33=\"\",\"x\",60-hlavicka!$C$7*(+hlavicka!$C$6-AE33)+AL33)","v":"x"},{"$f":"IF(AC33<=hlavicka!$C$10,\"ano\",\"\")","v":""},"","x","x",{"$f":"IF(AT33=\"x\",\"x\",(MAX($AT$6:$AT$65)-AT33)/hlavicka!$C$30/60/24)","v":"x"},"x","x","x","x",{"$f":"IF(AZ33=\"x\",\"x\",(-MAX($AT$6:$AT$65)+AT33+240)+220-hlavicka!$C$30*(-MIN($AX$6:$AX$65)+AX33)*60*24)","v":"x"},"x","x","x","x","x",{"$f":"IF(G33=\"x\",\"x\",(+hlavicka!$C$31+G33-1))","v":"x"},{"$f":"IF(AV33=\"x\",\"x\",IF(AV33>=hlavicka!$C$32,hlavicka!$C$32,AV33))","v":"x"},"x",null,"","x","x","x","x"]
[29,null,"x","x","x","x","x","x","x","x","x","x","x",""," ",0,0,0,null,null,null,null,null,null,null,{"$f":"60-hlavicka!$C$7*(+hlavicka!$C$6-T34)","v":-18},0,-18,"x",null,null,null,null,null,null,null,{"$f":"IF(AE34=\"\",\"0\",60-hlavicka!$C$7*(+hlavicka!$C$6-AE34))","v":"0"},0,0,"x",-18,"x",{"$f":"IF(AE34=\"\",\"x\",60-hlavicka!$C$7*(+hlavicka!$C$6-AE34)+AL34)","v":"x"},{"$f":"IF(AC34<=hlavicka!$C$10,\"ano\",\"\")","v":""},"","x","x",{"$f":"IF(AT34=\"x\",\"x\",(MAX($AT$6:$AT$65)-AT34)/hlavicka!$C$30/60/24)","v":"x"},"x","x","x","x",{"$f":"IF(AZ34=\"x\",\"x\",(-MAX($AT$6:$AT$65)+AT34+240)+220-hlavicka!$C$30*(-MIN($AX$6:$AX$65)+AX34)*60*24)","v":"x"},"x","x","x","x","x",{"$f":"IF(G34=\"x\",\"x\",(+hlavicka!$C$31+G34-1))","v":"x"},{"$f":"IF(AV34=\"x\",\"x\",IF(AV34>=hlavicka!$C$32,hlavicka!$C$32,AV34))","v":"x"},"x",null,"","x","x","x","x"]
[30,null,"x","x","x","x","x","x","x","x","x","x","x",""," ",0,0,0,null,null,null,null,null,null,null,{"$f":"60-hlavicka!$C$7*(+hlavicka!$C$6-T35)","v":-18},0,-18,"x",null,null,null,null,null,null,null,{"$f":"IF(AE35=\"\",\"0\",60-hlavicka!$C$7*(+hlavicka!$C$6-AE35))","v":"0"},0,0,"x",-18,"x",{"$f":"IF(AE35=\"\",\"x\",60-hlavicka!$C$7*(+hlavicka!$C$6-AE35)+AL35)","v":"x"},{"$f":"IF(AC35<=hlavicka!$C$10,\"ano\",\"\")","v":""},"","x","x",{"$f":"IF(AT35=\"x\",\"x\",(MAX($AT$6:$AT$65)-AT35)/hlavicka!$C$30/60/24)","v":"x"},"x","x","x","x",{"$f":"IF(AZ35=\"x\",\"x\",(-MAX($AT$6:$AT$65)+AT35+240)+220-hlavicka!$C$30*(-MIN($AX$6:$AX$65)+AX35)*60*24)","v":"x"},"x","x","x","x","x",{"$f":"IF(G35=\"x\",\"x\",(+hlavicka!$C$31+G35-1))","v":"x"},{"$f":"IF(AV35=\"x\",\"x\",IF(AV35>=hlavicka!$C$32,hlavicka!$C$32,AV35))","v":"x"},"x",null,"","x","x","x","x"]
[31,null,"x","x","x","x","x","x","x","x","x","x","x",""," ",0,0,0,null,null,null,null,null,null,null,{"$f":"60-hlavicka!$C$7*(+hlavicka!$C$6-T36)","v":-18},0,-18,"x",null,null,null,null,null,null,null,{"$f":"IF(AE36=\"\",\"0\",60-hlavicka!$C$7*(+hlavicka!$C$6-AE36))","v":"0"},0,0,"x",-18,"x",{"$f":"IF(AE36=\"\",\"x\",60-hlavicka!$C$7*(+hlavicka!$C$6-AE36)+AL36)","v":"x"},{"$f":"IF(AC36<=hlavicka!$C$10,\"ano\",\"\")","v":""},"","x","x",{"$f":"IF(AT36=\"x\",\"x\",(MAX($AT$6:$AT$65)-AT36)/hlavicka!$C$30/60/24)","v":"x"},"x","x","x","x",{"$f":"IF(AZ36=\"x\",\"x\",(-MAX($AT$6:$AT$65)+AT36+240)+220-hlavicka!$C$30*(-MIN($AX$6:$AX$65)+AX36)*60*24)","v":"x"},"x","x","x","x","x",{"$f":"IF(G36=\"x\",\"x\",(+hlavicka!$C$31+G36-1))","v":"x"},{"$f":"IF(AV36=\"x\",\"x\",IF(AV36>=hlavicka!$C$32,hlavicka!$C$32,AV36))","v":"x"},"x",null,"","x","x","x","x"]
[32,null,"x","x","x","x","x","x","x","x","x","x","x",""," ",0,0,0,null,null,null,null,null,null,null,{"$f":"60-hlavicka!$C$7*(+hlavicka!$C$6-T37)","v":-18},0,-18,"x",null,null,null,null,null,null,null,{"$f":"IF(AE37=\"\",\"0\",60-hlavicka!$C$7*(+hlavicka!$C$6-AE37))","v":"0"},0,0,"x",-18,"x",{"$f":"IF(AE37=\"\",\"x\",60-hlavicka!$C$7*(+hlavicka!$C$6-AE37)+AL37)","v":"x"},{"$f":"IF(AC37<=hlavicka!$C$10,\"ano\",\"\")","v":""},"","x","x",{"$f":"IF(AT37=\"x\",\"x\",(MAX($AT$6:$AT$65)-AT37)/hlavicka!$C$30/60/24)","v":"x"},"x","x","x","x",{"$f":"IF(AZ37=\"x\",\"x\",(-MAX($AT$6:$AT$65)+AT37+240)+220-hlavicka!$C$30*(-MIN($AX$6:$AX$65)+AX37)*60*24)","v":"x"},"x","x","x","x","x",{"$f":"IF(G37=\"x\",\"x\",(+hlavicka!$C$31+G37-1))","v":"x"},{"$f":"IF(AV37=\"x\",\"x\",IF(AV37>=hlavicka!$C$32,hlavicka!$C$32,AV37))","v":"x"},"x",null,"","x","x","x","x"]
[{"$f":"+A37+1","v":33},null,{"$f":"IF(D38=\"x\",\"x\",RANK(D38,$D$6:$D$65,1))","v":"x"},{"$f":"IF(AZ38=\"x\",\"x\",AZ38-N38/1000)","v":"x"},{"$f":"IF(F38=\"x\",\"x\",RANK(F38,$F$6:$F$65,1))","v":"x"},{"$f":"IF(BG38=\"\",\"x\",BG38)","v":"x"},{"$f":"IF(H38=\"x\",\"x\",RANK(H38,$H$6:$H$65,1))","v":"x"},{"$f":"IF(AU38=\"x\",\"x\",AU38-N38/1000)","v":"x"},{"$f":"IF(N38=\"\",\"x\",RANK(N38,$N$6:$N$65,1))","v":"x"},{"$f":"IF(K38=\"x\",\"x\",RANK(K38,$K$6:$K$163,1))","v":"x"},{"$f":"IF(AC38=\"x\",\"x\",AC38-N38/1000)","v":"x"},{"$f":"IF(M38=\"x\",\"x\",RANK(M38,$M$6:$M$163,1))","v":"x"},{"$f":"IF(AP38=\"x\",\"x\",AP38-N38/1000)","v":"x"},""," ",0,0,0,null,null,null,null,null,null,null,{"$f":"60-hlavicka!$C$7*(+hlavicka!$C$6-T38)","v":-18},{"$f":"SUM(U38:Y38)-MAX(U38:Y38)-MIN(U38:Y38)","v":0},{"$f":"+Z38+AA38","v":-18},{"$f":"IF(T38=\"\",\"x\",RANK(AB38,$AB$6:$AB$163,0))","v":"x"},null,null,null,null,null,null,null,{"$f":"IF(AE38=\"\",\"0\",60-hlavicka!$C$7*(+hlavicka!$C$6-AE38))","v":"0"},{"$f":"SUM(AF38:AJ38)-MAX(AF38:AJ38)-MIN(AF38:AJ38)","v":0},{"$f":"+AK38+AL38","v":0},{"$f":"IF(AQ38=\"x\",\"x\",RANK(AQ38,$AQ$6:$AQ$65,0))","v":"x"},{"$f":"+AB38+AM38","v":-18},{"$f":"IF(T38=\"\",\"x\",IF(B38=\"m\",RANK(AO38,$AO$6:$AO$163,0)+1000,RANK(AO38,$AO$6:$AO$163,0)))","v":"x"},{"$f":"IF(AE38=\"\",\"x\",60-hlavicka!$C$7*(+hlavicka!$C$6-AE38)+AL38)","v":"x"},{"$f":"IF(AC38<=hlavicka!$C$10,\"ano\",\"\")","v":""},{"$f":"IF(AR38=\"ano\",J38,\"\")","v":""},"x",{"$f":"IF(AT38=\"x\",\"x\",RANK(AT38,$AT$6:$AT$65))","v":"x"},{"$f":"IF(AT38=\"x\",\"x\",(MAX($AT$6:$AT$65)-AT38)/hlavicka!$C$30/60/24)","v":"x"},{"$f":"IF(BJ38=\"\",\"x\",BJ38+BI38)","v":"x"},{"$f":"IF(AW38=\"x\",\"x\",AW38-AV38)","v":"x"},{"$f":"IF(AX38=\"x\",\"x\",RANK(AX38,$AX$6:$AX$65,1))","v":"x"},{"$f":"IF(AW38=\"x\",\"x\",IF(B38=\"m\",RANK(AW38,$AW$6:$AW$65,1)+1000,RANK(AW38,$AW$6:$AW$65,1)))","v":"x"},{"$f":"IF(AZ38=\"x\",\"x\",(-MAX($AT$6:$AT$65)+AT38+240)+220-hlavicka!$C$30*(-MIN($AX$6:$AX$65)+AX38)*60*24)","v":"x"},{"$f":"IF(AT38=\"x\",\"x\",AB38)","v":"x"},{"$f":"IF(BB38=\"x\",\"x\",RANK(BB38,$BB$6:$BB$65))","v":"x"},{"$f":"IF(AT38=\"x\",\"x\",AM38)","v":"x"},{"$f":"IF(AT38=\"x\",\"x\",AQ38)","v":"x"},{"$f":"IF(BE38=\"x\",\"x\",RANK(BE38,$BE$6:$BE$65))","v":"x"},{"$f":"IF(G38=\"x\",\"x\",(+hlavicka!$C$31+G38-1))","v":"x"},{"$f":"IF(AV38=\"x\",\"x\",IF(AV38>=hlavicka!$C$32,hlavicka!$C$32,AV38))","v":"x"},{"$f":"IF(AU38=\"x\",\"x\",AV38-BH38)","v":"x"},null,{"$f":"IF((BG38=\"x\")+(BJ38<>\"\")=2,\"nestartuje - nepiš žádný čas\",IF((BH38>BJ38)+(BJ38<>\"\")=2,\"menší čas cíl než čas startu\",IF(BJ38<>\"\",\"OK\",\"\")))","v":""},{"$f":"IF(BM38=\"x\",\"x\",RANK(BM38,$BM$6:$BM$65,0))","v":"x"},{"$f":"IF(AP38=\"x\",\"x\",IF(B38=\"m\",\"x\",AO38))","v":"x"},{"$f":"IF(BO38=\"x\",\"x\",RANK(BO38,$BO$6:$BO$65,1))","v":"x"},{"$f":"IF(B38=\"m\",\"x\",AW38)","v":"x"}]
[34,null,"x","x","x","x","x","x","x","x","x","x","x",""," ",0,0,0,null,null,null,null,null,null,null,{"$f":"60-hlavicka!$C$7*(+hlavicka!$C$6-T39)","v":-18},0,-18,"x",null,null,null,null,null,null,null,{"$f":"IF(AE39=\"\",\"0\",60-hlavicka!$C$7*(+hlavicka!$C$6-AE39))","v":"0"},0,0,"x",-18,"x",{"$f":"IF(AE39=\"\",\"x\",60-hlavicka!$C$7*(+hlavicka!$C$6-AE39)+AL39)","v":"x"},{"$f":"IF(AC39<=hlavicka!$C$10,\"ano\",\"\")","v":""},"","x","x",{"$f":"IF(AT39=\"x\",\"x\",(MAX($AT$6:$AT$65)-AT39)/hlavicka!$C$30/60/24)","v":"x"},"x","x","x","x",{"$f":"IF(AZ39=\"x\",\"x\",(-MAX($AT$6:$AT$65)+AT39+240)+220-hlavicka!$C$30*(-MIN($AX$6:$AX$65)+AX39)*60*24)","v":"x"},"x","x","x","x","x",{"$f":"IF(G39=\"x\",\"x\",(+hlavicka!$C$31+G39-1))","v":"x"},{"$f":"IF(AV39=\"x\",\"x\",IF(AV39>=hlavicka!$C$32,hlavicka!$C$32,AV39))","v":"x"},"x",null,"","x","x","x","x"]
[35,null,"x","x","x","x","x","x","x","x","x","x","x",""," ",0,0,0,null,null,null,null,null,null,null,{"$f":"60-hlavicka!$C$7*(+hlavicka!$C$6-T40)","v":-18},0,-18,"x",null,null,null,null,null,null,null,{"$f":"IF(AE40=\"\",\"0\",60-hlavicka!$C$7*(+hlavicka!$C$6-AE40))","v":"0"},0,0,"x",-18,"x",{"$f":"IF(AE40=\"\",\"x\",60-hlavicka!$C$7*(+hlavicka!$C$6-AE40)+AL40)","v":"x"},{"$f":"IF(AC40<=hlavicka!$C$10,\"ano\",\"\")","v":""},"","x","x",{"$f":"IF(AT40=\"x\",\"x\",(MAX($AT$6:$AT$65)-AT40)/hlavicka!$C$30/60/24)","v":"x"},"x","x","x","x",{"$f":"IF(AZ40=\"x\",\"x\",(-MAX($AT$6:$AT$65)+AT40+240)+220-hlavicka!$C$30*(-MIN($AX$6:$AX$65)+AX40)*60*24)","v":"x"},"x","x","x","x","x",{"$f":"IF(G40=\"x\",\"x\",(+hlavicka!$C$31+G40-1))","v":"x"},{"$f":"IF(AV40=\"x\",\"x\",IF(AV40>=hlavicka!$C$32,hlavicka!$C$32,AV40))","v":"x"},"x",null,"","x","x","x","x"]
[36,null,"x","x","x","x","x","x","x","x","x","x","x",""," ",0,0,0,null,null,null,null,null,null,null,{"$f":"60-hlavicka!$C$7*(+hlavicka!$C$6-T41)","v":-18},0,-18,"x",null,null,null,null,null,null,null,{"$f":"IF(AE41=\"\",\"0\",60-hlavicka!$C$7*(+hlavicka!$C$6-AE41))","v":"0"},0,0,"x",-18,"x",{"$f":"IF(AE41=\"\",\"x\",60-hlavicka!$C$7*(+hlavicka!$C$6-AE41)+AL41)","v":"x"},{"$f":"IF(AC41<=hlavicka!$C$10,\"ano\",\"\")","v":""},"","x","x",{"$f":"IF(AT41=\"x\",\"x\",(MAX($AT$6:$AT$65)-AT41)/hlavicka!$C$30/60/24)","v":"x"},"x","x","x","x",{"$f":"IF(AZ41=\"x\",\"x\",(-MAX($AT$6:$AT$65)+AT41+240)+220-hlavicka!$C$30*(-MIN($AX$6:$AX$65)+AX41)*60*24)","v":"x"},"x","x","x","x","x",{"$f":"IF(G41=\"x\",\"x\",(+hlavicka!$C$31+G41-1))","v":"x"},{"$f":"IF(AV41=\"x\",\"x\",IF(AV41>=hlavicka!$C$32,hlavicka!$C$32,AV41))","v":"x"},"x",null,"","x","x","x","x"]
[37,null,"x","x","x","x","x","x","x","x","x","x","x",""," ",0,0,0,null,null,null,null,null,null,null,{"$f":"60-hlavicka!$C$7*(+hlavicka!$C$6-T42)","v":-18},0,-18,"x",null,null,null,null,null,null,null,{"$f":"IF(AE42=\"\",\"0\",60-hlavicka!$C$7*(+hlavicka!$C$6-AE42))","v":"0"},0,0,"x",-18,"x",{"$f":"IF(AE42=\"\",\"x\",60-hlavicka!$C$7*(+hlavicka!$C$6-AE42)+AL42)","v":"x"},{"$f":"IF(AC42<=hlavicka!$C$10,\"ano\",\"\")","v":""},"","x","x",{"$f":"IF(AT42=\"x\",\"x\",(MAX($AT$6:$AT$65)-AT42)/hlavicka!$C$30/60/24)","v":"x"},"x","x","x","x",{"$f":"IF(AZ42=\"x\",\"x\",(-MAX($AT$6:$AT$65)+AT42+240)+220-hlavicka!$C$30*(-MIN($AX$6:$AX$65)+AX42)*60*24)","v":"x"},"x","x","x","x","x",{"$f":"IF(G42=\"x\",\"x\",(+hlavicka!$C$31+G42-1))","v":"x"},{"$f":"IF(AV42=\"x\",\"x\",IF(AV42>=hlavicka!$C$32,hlavicka!$C$32,AV42))","v":"x"},"x",null,"","x","x","x","x"]
[38,null,"x","x","x","x","x","x","x","x","x","x","x",""," ",0,0,0,null,null,null,null,null,null,null,{"$f":"60-hlavicka!$C$7*(+hlavicka!$C$6-T43)","v":-18},0,-18,"x",null,null,null,null,null,null,null,{"$f":"IF(AE43=\"\",\"0\",60-hlavicka!$C$7*(+hlavicka!$C$6-AE43))","v":"0"},0,0,"x",-18,"x",{"$f":"IF(AE43=\"\",\"x\",60-hlavicka!$C$7*(+hlavicka!$C$6-AE43)+AL43)","v":"x"},{"$f":"IF(AC43<=hlavicka!$C$10,\"ano\",\"\")","v":""},"","x","x",{"$f":"IF(AT43=\"x\",\"x\",(MAX($AT$6:$AT$65)-AT43)/hlavicka!$C$30/60/24)","v":"x"},"x","x","x","x",{"$f":"IF(AZ43=\"x\",\"x\",(-MAX($AT$6:$AT$65)+AT43+240)+220-hlavicka!$C$30*(-MIN($AX$6:$AX$65)+AX43)*60*24)","v":"x"},"x","x","x","x","x",{"$f":"IF(G43=\"x\",\"x\",(+hlavicka!$C$31+G43-1))","v":"x"},{"$f":"IF(AV43=\"x\",\"x\",IF(AV43>=hlavicka!$C$32,hlavicka!$C$32,AV43))","v":"x"},"x",null,"","x","x","x","x"]
[39,null,"x","x","x","x","x","x","x","x","x","x","x",""," ",0,0,0,null,null,null,null,null,null,null,{"$f":"60-hlavicka!$C$7*(+hlavicka!$C$6-T44)","v":-18},0,-18,"x",null,null,null,null,null,null,null,{"$f":"IF(AE44=\"\",\"0\",60-hlavicka!$C$7*(+hlavicka!$C$6-AE44))","v":"0"},0,0,"x",-18,"x",{"$f":"IF(AE44=\"\",\"x\",60-hlavicka!$C$7*(+hlavicka!$C$6-AE44)+AL44)","v":"x"},{"$f":"IF(AC44<=hlavicka!$C$10,\"ano\",\"\")","v":""},"","x","x",{"$f":"IF(AT44=\"x\",\"x\",(MAX($AT$6:$AT$65)-AT44)/hlavicka!$C$30/60/24)","v":"x"},"x","x","x","x",{"$f":"IF(AZ44=\"x\",\"x\",(-MAX($AT$6:$AT$65)+AT44+240)+220-hlavicka!$C$30*(-MIN($AX$6:$AX$65)+AX44)*60*24)","v":"x"},"x","x","x","x","x",{"$f":"IF(G44=\"x\",\"x\",(+hlavicka!$C$31+G44-1))","v":"x"},{"$f":"IF(AV44=\"x\",\"x\",IF(AV44>=hlavicka!$C$32,hlavicka!$C$32,AV44))","v":"x"},"x",null,"","x","x","x","x"]
[40,null,"x","x","x","x","x","x","x","x","x","x","x",""," ",0,0,0,null,null,null,null,null,null,null,{"$f":"60-hlavicka!$C$7*(+hlavicka!$C$6-T45)","v":-18},0,-18,"x",null,null,null,null,null,null,null,{"$f":"IF(AE45=\"\",\"0\",60-hlavicka!$C$7*(+hlavicka!$C$6-AE45))","v":"0"},0,0,"x",-18,"x",{"$f":"IF(AE45=\"\",\"x\",60-hlavicka!$C$7*(+hlavicka!$C$6-AE45)+AL45)","v":"x"},{"$f":"IF(AC45<=hlavicka!$C$10,\"ano\",\"\")","v":""},"","x","x",{"$f":"IF(AT45=\"x\",\"x\",(MAX($AT$6:$AT$65)-AT45)/hlavicka!$C$30/60/24)","v":"x"},"x","x","x","x",{"$f":"IF(AZ45=\"x\",\"x\",(-MAX($AT$6:$AT$65)+AT45+240)+220-hlavicka!$C$30*(-MIN($AX$6:$AX$65)+AX45)*60*24)","v":"x"},"x","x","x","x","x",{"$f":"IF(G45=\"x\",\"x\",(+hlavicka!$C$31+G45-1))","v":"x"},{"$f":"IF(AV45=\"x\",\"x\",IF(AV45>=hlavicka!$C$32,hlavicka!$C$32,AV45))","v":"x"},"x",null,"","x","x","x","x"]
[41,null,"x","x","x","x","x","x","x","x","x","x","x",""," ",0,0,0,null,null,null,null,null,null,null,{"$f":"60-hlavicka!$C$7*(+hlavicka!$C$6-T46)","v":-18},0,-18,"x",null,null,null,null,null,null,null,{"$f":"IF(AE46=\"\",\"0\",60-hlavicka!$C$7*(+hlavicka!$C$6-AE46))","v":"0"},0,0,"x",-18,"x",{"$f":"IF(AE46=\"\",\"x\",60-hlavicka!$C$7*(+hlavicka!$C$6-AE46)+AL46)","v":"x"},{"$f":"IF(AC46<=hlavicka!$C$10,\"ano\",\"\")","v":""},"","x","x",{"$f":"IF(AT46=\"x\",\"x\",(MAX($AT$6:$AT$65)-AT46)/hlavicka!$C$30/60/24)","v":"x"},"x","x","x","x",{"$f":"IF(AZ46=\"x\",\"x\",(-MAX($AT$6:$AT$65)+AT46+240)+220-hlavicka!$C$30*(-MIN($AX$6:$AX$65)+AX46)*60*24)","v":"x"},"x","x","x","x","x",{"$f":"IF(G46=\"x\",\"x\",(+hlavicka!$C$31+G46-1))","v":"x"},{"$f":"IF(AV46=\"x\",\"x\",IF(AV46>=hlavicka!$C$32,hlavicka!$C$32,AV46))","v":"x"},"x",null,"","x","x","x","x"]
[42,null,"x","x","x","x","x","x","x","x","x","x","x",""," ",0,0,0,null,null,null,null,null,null,null,{"$f":"60-hlavicka!$C$7*(+hlavicka!$C$6-T47)","v":-18},0,-18,"x",null,null,null,null,null,null,null,{"$f":"IF(AE47=\"\",\"0\",60-hlavicka!$C$7*(+hlavicka!$C$6-AE47))","v":"0"},0,0,"x",-18,"x",{"$f":"IF(AE47=\"\",\"x\",60-hlavicka!$C$7*(+hlavicka!$C$6-AE47)+AL47)","v":"x"},{"$f":"IF(AC47<=hlavicka!$C$10,\"ano\",\"\")","v":""},"","x","x",{"$f":"IF(AT47=\"x\",\"x\",(MAX($AT$6:$AT$65)-AT47)/hlavicka!$C$30/60/24)","v":"x"},"x","x","x","x",{"$f":"IF(AZ47=\"x\",\"x\",(-MAX($AT$6:$AT$65)+AT47+240)+220-hlavicka!$C$30*(-MIN($AX$6:$AX$65)+AX47)*60*24)","v":"x"},"x","x","x","x","x",{"$f":"IF(G47=\"x\",\"x\",(+hlavicka!$C$31+G47-1))","v":"x"},{"$f":"IF(AV47=\"x\",\"x\",IF(AV47>=hlavicka!$C$32,hlavicka!$C$32,AV47))","v":"x"},"x",null,"","x","x","x","x"]
[43,null,"x","x","x","x","x","x","x","x","x","x","x",""," ",0,0,0,null,null,null,null,null,null,null,{"$f":"60-hlavicka!$C$7*(+hlavicka!$C$6-T48)","v":-18},0,-18,"x",null,null,null,null,null,null,null,{"$f":"IF(AE48=\"\",\"0\",60-hlavicka!$C$7*(+hlavicka!$C$6-AE48))","v":"0"},0,0,"x",-18,"x",{"$f":"IF(AE48=\"\",\"x\",60-hlavicka!$C$7*(+hlavicka!$C$6-AE48)+AL48)","v":"x"},{"$f":"IF(AC48<=hlavicka!$C$10,\"ano\",\"\")","v":""},"","x","x",{"$f":"IF(AT48=\"x\",\"x\",(MAX($AT$6:$AT$65)-AT48)/hlavicka!$C$30/60/24)","v":"x"},"x","x","x","x",{"$f":"IF(AZ48=\"x\",\"x\",(-MAX($AT$6:$AT$65)+AT48+240)+220-hlavicka!$C$30*(-MIN($AX$6:$AX$65)+AX48)*60*24)","v":"x"},"x","x","x","x","x",{"$f":"IF(G48=\"x\",\"x\",(+hlavicka!$C$31+G48-1))","v":"x"},{"$f":"IF(AV48=\"x\",\"x\",IF(AV48>=hlavicka!$C$32,hlavicka!$C$32,AV48))","v":"x"},"x",null,"","x","x","x","x"]
[44,null,"x","x","x","x","x","x","x","x","x","x","x",""," ",0,0,0,null,null,null,null,null,null,null,{"$f":"60-hlavicka!$C$7*(+hlavicka!$C$6-T49)","v":-18},0,-18,"x",null,null,null,null,null,null,null,{"$f":"IF(AE49=\"\",\"0\",60-hlavicka!$C$7*(+hlavicka!$C$6-AE49))","v":"0"},0,0,"x",-18,"x",{"$f":"IF(AE49=\"\",\"x\",60-hlavicka!$C$7*(+hlavicka!$C$6-AE49)+AL49)","v":"x"},{"$f":"IF(AC49<=hlavicka!$C$10,\"ano\",\"\")","v":""},"","x","x",{"$f":"IF(AT49=\"x\",\"x\",(MAX($AT$6:$AT$65)-AT49)/hlavicka!$C$30/60/24)","v":"x"},"x","x","x","x",{"$f":"IF(AZ49=\"x\",\"x\",(-MAX($AT$6:$AT$65)+AT49+240)+220-hlavicka!$C$30*(-MIN($AX$6:$AX$65)+AX49)*60*24)","v":"x"},"x","x","x","x","x",{"$f":"IF(G49=\"x\",\"x\",(+hlavicka!$C$31+G49-1))","v":"x"},{"$f":"IF(AV49=\"x\",\"x\",IF(AV49>=hlavicka!$C$32,hlavicka!$C$32,AV49))","v":"x"},"x",null,"","x","x","x","x"]
[45,null,"x","x","x","x","x","x","x","x","x","x","x",""," ",0,0,0,null,null,null,null,null,null,null,{"$f":"60-hlavicka!$C$7*(+hlavicka!$C$6-T50)","v":-18},0,-18,"x",null,null,null,null,null,null,null,{"$f":"IF(AE50=\"\",\"0\",60-hlavicka!$C$7*(+hlavicka!$C$6-AE50))","v":"0"},0,0,"x",-18,"x",{"$f":"IF(AE50=\"\",\"x\",60-hlavicka!$C$7*(+hlavicka!$C$6-AE50)+AL50)","v":"x"},{"$f":"IF(AC50<=hlavicka!$C$10,\"ano\",\"\")","v":""},"","x","x",{"$f":"IF(AT50=\"x\",\"x\",(MAX($AT$6:$AT$65)-AT50)/hlavicka!$C$30/60/24)","v":"x"},"x","x","x","x",{"$f":"IF(AZ50=\"x\",\"x\",(-MAX($AT$6:$AT$65)+AT50+240)+220-hlavicka!$C$30*(-MIN($AX$6:$AX$65)+AX50)*60*24)","v":"x"},"x","x","x","x","x",{"$f":"IF(G50=\"x\",\"x\",(+hlavicka!$C$31+G50-1))","v":"x"},{"$f":"IF(AV50=\"x\",\"x\",IF(AV50>=hlavicka!$C$32,hlavicka!$C$32,AV50))","v":"x"},"x",null,"","x","x","x","x"]
[46,null,"x","x","x","x","x","x","x","x","x","x","x",""," ",0,0,0,null,null,null,null,null,null,null,{"$f":"60-hlavicka!$C$7*(+hlavicka!$C$6-T51)","v":-18},0,-18,"x",null,null,null,null,null,null,null,{"$f":"IF(AE51=\"\",\"0\",60-hlavicka!$C$7*(+hlavicka!$C$6-AE51))","v":"0"},0,0,"x",-18,"x",{"$f":"IF(AE51=\"\",\"x\",60-hlavicka!$C$7*(+hlavicka!$C$6-AE51)+AL51)","v":"x"},{"$f":"IF(AC51<=hlavicka!$C$10,\"ano\",\"\")","v":""},"","x","x",{"$f":"IF(AT51=\"x\",\"x\",(MAX($AT$6:$AT$65)-AT51)/hlavicka!$C$30/60/24)","v":"x"},"x","x","x","x",{"$f":"IF(AZ51=\"x\",\"x\",(-MAX($AT$6:$AT$65)+AT51+240)+220-hlavicka!$C$30*(-MIN($AX$6:$AX$65)+AX51)*60*24)","v":"x"},"x","x","x","x","x",{"$f":"IF(G51=\"x\",\"x\",(+hlavicka!$C$31+G51-1))","v":"x"},{"$f":"IF(AV51=\"x\",\"x\",IF(AV51>=hlavicka!$C$32,hlavicka!$C$32,AV51))","v":"x"},"x",null,"","x","x","x","x"]
[47,null,"x","x","x","x","x","x","x","x","x","x","x",""," ",0,0,0,null,null,null,null,null,null,null,{"$f":"60-hlavicka!$C$7*(+hlavicka!$C$6-T52)","v":-18},0,-18,"x",null,null,null,null,null,null,null,{"$f":"IF(AE52=\"\",\"0\",60-hlavicka!$C$7*(+hlavicka!$C$6-AE52))","v":"0"},0,0,"x",-18,"x",{"$f":"IF(AE52=\"\",\"x\",60-hlavicka!$C$7*(+hlavicka!$C$6-AE52)+AL52)","v":"x"},{"$f":"IF(AC52<=hlavicka!$C$10,\"ano\",\"\")","v":""},"","x","x",{"$f":"IF(AT52=\"x\",\"x\",(MAX($AT$6:$AT$65)-AT52)/hlavicka!$C$30/60/24)","v":"x"},"x","x","x","x",{"$f":"IF(AZ52=\"x\",\"x\",(-MAX($AT$6:$AT$65)+AT52+240)+220-hlavicka!$C$30*(-MIN($AX$6:$AX$65)+AX52)*60*24)","v":"x"},"x","x","x","x","x",{"$f":"IF(G52=\"x\",\"x\",(+hlavicka!$C$31+G52-1))","v":"x"},{"$f":"IF(AV52=\"x\",\"x\",IF(AV52>=hlavicka!$C$32,hlavicka!$C$32,AV52))","v":"x"},"x",null,"","x","x","x","x"]
[48,null,"x","x","x","x","x","x","x","x","x","x","x",""," ",0,0,0,null,null,null,null,null,null,null,{"$f":"60-hlavicka!$C$7*(+hlavicka!$C$6-T53)","v":-18},0,-18,"x",null,null,null,null,null,null,null,{"$f":"IF(AE53=\"\",\"0\",60-hlavicka!$C$7*(+hlavicka!$C$6-AE53))","v":"0"},0,0,"x",-18,"x",{"$f":"IF(AE53=\"\",\"x\",60-hlavicka!$C$7*(+hlavicka!$C$6-AE53)+AL53)","v":"x"},{"$f":"IF(AC53<=hlavicka!$C$10,\"ano\",\"\")","v":""},"","x","x",{"$f":"IF(AT53=\"x\",\"x\",(MAX($AT$6:$AT$65)-AT53)/hlavicka!$C$30/60/24)","v":"x"},"x","x","x","x",{"$f":"IF(AZ53=\"x\",\"x\",(-MAX($AT$6:$AT$65)+AT53+240)+220-hlavicka!$C$30*(-MIN($AX$6:$AX$65)+AX53)*60*24)","v":"x"},"x","x","x","x","x",{"$f":"IF(G53=\"x\",\"x\",(+hlavicka!$C$31+G53-1))","v":"x"},{"$f":"IF(AV53=\"x\",\"x\",IF(AV53>=hlavicka!$C$32,hlavicka!$C$32,AV53))","v":"x"},"x",null,"","x","x","x","x"]
[49,null,"x","x","x","x","x","x","x","x","x","x","x",""," ",0,0,0,null,null,null,null,null,null,null,{"$f":"60-hlavicka!$C$7*(+hlavicka!$C$6-T54)","v":-18},0,-18,"x",null,null,null,null,null,null,null,{"$f":"IF(AE54=\"\",\"0\",60-hlavicka!$C$7*(+hlavicka!$C$6-AE54))","v":"0"},0,0,"x",-18,"x",{"$f":"IF(AE54=\"\",\"x\",60-hlavicka!$C$7*(+hlavicka!$C$6-AE54)+AL54)","v":"x"},{"$f":"IF(AC54<=hlavicka!$C$10,\"ano\",\"\")","v":""},"","x","x",{"$f":"IF(AT54=\"x\",\"x\",(MAX($AT$6:$AT$65)-AT54)/hlavicka!$C$30/60/24)","v":"x"},"x","x","x","x",{"$f":"IF(AZ54=\"x\",\"x\",(-MAX($AT$6:$AT$65)+AT54+240)+220-hlavicka!$C$30*(-MIN($AX$6:$AX$65)+AX54)*60*24)","v":"x"},"x","x","x","x","x",{"$f":"IF(G54=\"x\",\"x\",(+hlavicka!$C$31+G54-1))","v":"x"},{"$f":"IF(AV54=\"x\",\"x\",IF(AV54>=hlavicka!$C$32,hlavicka!$C$32,AV54))","v":"x"},"x",null,"","x","x","x","x"]
[50,null,"x","x","x","x","x","x","x","x","x","x","x",""," ",0,0,0,null,null,null,null,null,null,null,{"$f":"60-hlavicka!$C$7*(+hlavicka!$C$6-T55)","v":-18},0,-18,"x",null,null,null,null,null,null,null,{"$f":"IF(AE55=\"\",\"0\",60-hlavicka!$C$7*(+hlavicka!$C$6-AE55))","v":"0"},0,0,"x",-18,"x",{"$f":"IF(AE55=\"\",\"x\",60-hlavicka!$C$7*(+hlavicka!$C$6-AE55)+AL55)","v":"x"},{"$f":"IF(AC55<=hlavicka!$C$10,\"ano\",\"\")","v":""},"","x","x",{"$f":"IF(AT55=\"x\",\"x\",(MAX($AT$6:$AT$65)-AT55)/hlavicka!$C$30/60/24)","v":"x"},"x","x","x","x",{"$f":"IF(AZ55=\"x\",\"x\",(-MAX($AT$6:$AT$65)+AT55+240)+220-hlavicka!$C$30*(-MIN($AX$6:$AX$65)+AX55)*60*24)","v":"x"},"x","x","x","x","x",{"$f":"IF(G55=\"x\",\"x\",(+hlavicka!$C$31+G55-1))","v":"x"},{"$f":"IF(AV55=\"x\",\"x\",IF(AV55>=hlavicka!$C$32,hlavicka!$C$32,AV55))","v":"x"},"x",null,"","x","x","x","x"]
[51,null,"x","x","x","x","x","x","x","x","x","x","x",""," ",0,0,0,null,null,null,null,null,null,null,{"$f":"60-hlavicka!$C$7*(+hlavicka!$C$6-T56)","v":-18},0,-18,"x",null,null,null,null,null,null,null,{"$f":"IF(AE56=\"\",\"0\",60-hlavicka!$C$7*(+hlavicka!$C$6-AE56))","v":"0"},0,0,"x",-18,"x",{"$f":"IF(AE56=\"\",\"x\",60-hlavicka!$C$7*(+hlavicka!$C$6-AE56)+AL56)","v":"x"},{"$f":"IF(AC56<=hlavicka!$C$10,\"ano\",\"\")","v":""},"","x","x",{"$f":"IF(AT56=\"x\",\"x\",(MAX($AT$6:$AT$65)-AT56)/hlavicka!$C$30/60/24)","v":"x"},"x","x","x","x",{"$f":"IF(AZ56=\"x\",\"x\",(-MAX($AT$6:$AT$65)+AT56+240)+220-hlavicka!$C$30*(-MIN($AX$6:$AX$65)+AX56)*60*24)","v":"x"},"x","x","x","x","x",{"$f":"IF(G56=\"x\",\"x\",(+hlavicka!$C$31+G56-1))","v":"x"},{"$f":"IF(AV56=\"x\",\"x\",IF(AV56>=hlavicka!$C$32,hlavicka!$C$32,AV56))","v":"x"},"x",null,"","x","x","x","x"]
[52,null,"x","x","x","x","x","x","x","x","x","x","x",""," ",0,0,0,null,null,null,null,null,null,null,{"$f":"60-hlavicka!$C$7*(+hlavicka!$C$6-T57)","v":-18},0,-18,"x",null,null,null,null,null,null,null,{"$f":"IF(AE57=\"\",\"0\",60-hlavicka!$C$7*(+hlavicka!$C$6-AE57))","v":"0"},0,0,"x",-18,"x",{"$f":"IF(AE57=\"\",\"x\",60-hlavicka!$C$7*(+hlavicka!$C$6-AE57)+AL57)","v":"x"},{"$f":"IF(AC57<=hlavicka!$C$10,\"ano\",\"\")","v":""},"","x","x",{"$f":"IF(AT57=\"x\",\"x\",(MAX($AT$6:$AT$65)-AT57)/hlavicka!$C$30/60/24)","v":"x"},"x","x","x","x",{"$f":"IF(AZ57=\"x\",\"x\",(-MAX($AT$6:$AT$65)+AT57+240)+220-hlavicka!$C$30*(-MIN($AX$6:$AX$65)+AX57)*60*24)","v":"x"},"x","x","x","x","x",{"$f":"IF(G57=\"x\",\"x\",(+hlavicka!$C$31+G57-1))","v":"x"},{"$f":"IF(AV57=\"x\",\"x\",IF(AV57>=hlavicka!$C$32,hlavicka!$C$32,AV57))","v":"x"},"x",null,"","x","x","x","x"]
[53,null,"x","x","x","x","x","x","x","x","x","x","x",""," ",0,0,0,null,null,null,null,null,null,null,{"$f":"60-hlavicka!$C$7*(+hlavicka!$C$6-T58)","v":-18},0,-18,"x",null,null,null,null,null,null,null,{"$f":"IF(AE58=\"\",\"0\",60-hlavicka!$C$7*(+hlavicka!$C$6-AE58))","v":"0"},0,0,"x",-18,"x",{"$f":"IF(AE58=\"\",\"x\",60-hlavicka!$C$7*(+hlavicka!$C$6-AE58)+AL58)","v":"x"},{"$f":"IF(AC58<=hlavicka!$C$10,\"ano\",\"\")","v":""},"","x","x",{"$f":"IF(AT58=\"x\",\"x\",(MAX($AT$6:$AT$65)-AT58)/hlavicka!$C$30/60/24)","v":"x"},"x","x","x","x",{"$f":"IF(AZ58=\"x\",\"x\",(-MAX($AT$6:$AT$65)+AT58+240)+220-hlavicka!$C$30*(-MIN($AX$6:$AX$65)+AX58)*60*24)","v":"x"},"x","x","x","x","x",{"$f":"IF(G58=\"x\",\"x\",(+hlavicka!$C$31+G58-1))","v":"x"},{"$f":"IF(AV58=\"x\",\"x\",IF(AV58>=hlavicka!$C$32,hlavicka!$C$32,AV58))","v":"x"},"x",null,"","x","x","x","x"]
[54,null,"x","x","x","x","x","x","x","x","x","x","x",""," ",0,0,0,null,null,null,null,null,null,null,{"$f":"60-hlavicka!$C$7*(+hlavicka!$C$6-T59)","v":-18},0,-18,"x",null,null,null,null,null,null,null,{"$f":"IF(AE59=\"\",\"0\",60-hlavicka!$C$7*(+hlavicka!$C$6-AE59))","v":"0"},0,0,"x",-18,"x",{"$f":"IF(AE59=\"\",\"x\",60-hlavicka!$C$7*(+hlavicka!$C$6-AE59)+AL59)","v":"x"},{"$f":"IF(AC59<=hlavicka!$C$10,\"ano\",\"\")","v":""},"","x","x",{"$f":"IF(AT59=\"x\",\"x\",(MAX($AT$6:$AT$65)-AT59)/hlavicka!$C$30/60/24)","v":"x"},"x","x","x","x",{"$f":"IF(AZ59=\"x\",\"x\",(-MAX($AT$6:$AT$65)+AT59+240)+220-hlavicka!$C$30*(-MIN($AX$6:$AX$65)+AX59)*60*24)","v":"x"},"x","x","x","x","x",{"$f":"IF(G59=\"x\",\"x\",(+hlavicka!$C$31+G59-1))","v":"x"},{"$f":"IF(AV59=\"x\",\"x\",IF(AV59>=hlavicka!$C$32,hlavicka!$C$32,AV59))","v":"x"},"x",null,"","x","x","x","x"]
[55,null,"x","x","x","x","x","x","x","x","x","x","x",""," ",0,0,0,null,null,null,null,null,null,null,{"$f":"60-hlavicka!$C$7*(+hlavicka!$C$6-T60)","v":-18},0,-18,"x",null,null,null,null,null,null,null,{"$f":"IF(AE60=\"\",\"0\",60-hlavicka!$C$7*(+hlavicka!$C$6-AE60))","v":"0"},0,0,"x",-18,"x",{"$f":"IF(AE60=\"\",\"x\",60-hlavicka!$C$7*(+hlavicka!$C$6-AE60)+AL60)","v":"x"},{"$f":"IF(AC60<=hlavicka!$C$10,\"ano\",\"\")","v":""},"","x","x",{"$f":"IF(AT60=\"x\",\"x\",(MAX($AT$6:$AT$65)-AT60)/hlavicka!$C$30/60/24)","v":"x"},"x","x","x","x",{"$f":"IF(AZ60=\"x\",\"x\",(-MAX($AT$6:$AT$65)+AT60+240)+220-hlavicka!$C$30*(-MIN($AX$6:$AX$65)+AX60)*60*24)","v":"x"},"x","x","x","x","x",{"$f":"IF(G60=\"x\",\"x\",(+hlavicka!$C$31+G60-1))","v":"x"},{"$f":"IF(AV60=\"x\",\"x\",IF(AV60>=hlavicka!$C$32,hlavicka!$C$32,AV60))","v":"x"},"x",null,"","x","x","x","x"]
[56,null,"x","x","x","x","x","x","x","x","x","x","x",""," ",0,0,0,null,null,null,null,null,null,null,{"$f":"60-hlavicka!$C$7*(+hlavicka!$C$6-T61)","v":-18},0,-18,"x",null,null,null,null,null,null,null,{"$f":"IF(AE61=\"\",\"0\",60-hlavicka!$C$7*(+hlavicka!$C$6-AE61))","v":"0"},0,0,"x",-18,"x",{"$f":"IF(AE61=\"\",\"x\",60-hlavicka!$C$7*(+hlavicka!$C$6-AE61)+AL61)","v":"x"},{"$f":"IF(AC61<=hlavicka!$C$10,\"ano\",\"\")","v":""},"","x","x",{"$f":"IF(AT61=\"x\",\"x\",(MAX($AT$6:$AT$65)-AT61)/hlavicka!$C$30/60/24)","v":"x"},"x","x","x","x",{"$f":"IF(AZ61=\"x\",\"x\",(-MAX($AT$6:$AT$65)+AT61+240)+220-hlavicka!$C$30*(-MIN($AX$6:$AX$65)+AX61)*60*24)","v":"x"},"x","x","x","x","x",{"$f":"IF(G61=\"x\",\"x\",(+hlavicka!$C$31+G61-1))","v":"x"},{"$f":"IF(AV61=\"x\",\"x\",IF(AV61>=hlavicka!$C$32,hlavicka!$C$32,AV61))","v":"x"},"x",null,"","x","x","x","x"]
[57,null,"x","x","x","x","x","x","x","x","x","x","x",""," ",0,0,0,null,null,null,null,null,null,null,{"$f":"60-hlavicka!$C$7*(+hlavicka!$C$6-T62)","v":-18},0,-18,"x",null,null,null,null,null,null,null,{"$f":"IF(AE62=\"\",\"0\",60-hlavicka!$C$7*(+hlavicka!$C$6-AE62))","v":"0"},0,0,"x",-18,"x",{"$f":"IF(AE62=\"\",\"x\",60-hlavicka!$C$7*(+hlavicka!$C$6-AE62)+AL62)","v":"x"},{"$f":"IF(AC62<=hlavicka!$C$10,\"ano\",\"\")","v":""},"","x","x",{"$f":"IF(AT62=\"x\",\"x\",(MAX($AT$6:$AT$65)-AT62)/hlavicka!$C$30/60/24)","v":"x"},"x","x","x","x",{"$f":"IF(AZ62=\"x\",\"x\",(-MAX($AT$6:$AT$65)+AT62+240)+220-hlavicka!$C$30*(-MIN($AX$6:$AX$65)+AX62)*60*24)","v":"x"},"x","x","x","x","x",{"$f":"IF(G62=\"x\",\"x\",(+hlavicka!$C$31+G62-1))","v":"x"},{"$f":"IF(AV62=\"x\",\"x\",IF(AV62>=hlavicka!$C$32,hlavicka!$C$32,AV62))","v":"x"},"x",null,"","x","x","x","x"]
[58,null,"x","x","x","x","x","x","x","x","x","x","x",""," ",0,0,0,null,null,null,null,null,null,null,{"$f":"60-hlavicka!$C$7*(+hlavicka!$C$6-T63)","v":-18},0,-18,"x",null,null,null,null,null,null,null,{"$f":"IF(AE63=\"\",\"0\",60-hlavicka!$C$7*(+hlavicka!$C$6-AE63))","v":"0"},0,0,"x",-18,"x",{"$f":"IF(AE63=\"\",\"x\",60-hlavicka!$C$7*(+hlavicka!$C$6-AE63)+AL63)","v":"x"},{"$f":"IF(AC63<=hlavicka!$C$10,\"ano\",\"\")","v":""},"","x","x",{"$f":"IF(AT63=\"x\",\"x\",(MAX($AT$6:$AT$65)-AT63)/hlavicka!$C$30/60/24)","v":"x"},"x","x","x","x",{"$f":"IF(AZ63=\"x\",\"x\",(-MAX($AT$6:$AT$65)+AT63+240)+220-hlavicka!$C$30*(-MIN($AX$6:$AX$65)+AX63)*60*24)","v":"x"},"x","x","x","x","x",{"$f":"IF(G63=\"x\",\"x\",(+hlavicka!$C$31+G63-1))","v":"x"},{"$f":"IF(AV63=\"x\",\"x\",IF(AV63>=hlavicka!$C$32,hlavicka!$C$32,AV63))","v":"x"},"x",null,"","x","x","x","x"]
[59,null,"x","x","x","x","x","x","x","x","x","x","x",""," ",0,0,0,null,null,null,null,null,null,null,{"$f":"60-hlavicka!$C$7*(+hlavicka!$C$6-T64)","v":-18},0,-18,"x",null,null,null,null,null,null,null,{"$f":"IF(AE64=\"\",\"0\",60-hlavicka!$C$7*(+hlavicka!$C$6-AE64))","v":"0"},0,0,"x",-18,"x",{"$f":"IF(AE64=\"\",\"x\",60-hlavicka!$C$7*(+hlavicka!$C$6-AE64)+AL64)","v":"x"},{"$f":"IF(AC64<=hlavicka!$C$10,\"ano\",\"\")","v":""},"","x","x",{"$f":"IF(AT64=\"x\",\"x\",(MAX($AT$6:$AT$65)-AT64)/hlavicka!$C$30/60/24)","v":"x"},"x","x","x","x",{"$f":"IF(AZ64=\"x\",\"x\",(-MAX($AT$6:$AT$65)+AT64+240)+220-hlavicka!$C$30*(-MIN($AX$6:$AX$65)+AX64)*60*24)","v":"x"},"x","x","x","x","x",{"$f":"IF(G64=\"x\",\"x\",(+hlavicka!$C$31+G64-1))","v":"x"},{"$f":"IF(AV64=\"x\",\"x\",IF(AV64>=hlavicka!$C$32,hlavicka!$C$32,AV64))","v":"x"},"x",null,"","x","x","x","x"]
[60,null,"x","x","x","x","x","x","x","x","x","x","x",""," ",0,0,0,null,null,null,null,null,null,null,{"$f":"60-hlavicka!$C$7*(+hlavicka!$C$6-T65)","v":-18},0,-18,"x",null,null,null,null,null,null,null,{"$f":"IF(AE65=\"\",\"0\",60-hlavicka!$C$7*(+hlavicka!$C$6-AE65))","v":"0"},0,0,"x",-18,"x",{"$f":"IF(AE65=\"\",\"x\",60-hlavicka!$C$7*(+hlavicka!$C$6-AE65)+AL65)","v":"x"},{"$f":"IF(AC65<=hlavicka!$C$10,\"ano\",\"\")","v":""},"","x","x",{"$f":"IF(AT65=\"x\",\"x\",(MAX($AT$6:$AT$65)-AT65)/hlavicka!$C$30/60/24)","v":"x"},"x","x","x","x",{"$f":"IF(AZ65=\"x\",\"x\",(-MAX($AT$6:$AT$65)+AT65+240)+220-hlavicka!$C$30*(-MIN($AX$6:$AX$65)+AX65)*60*24)","v":"x"},"x","x","x","x","x",{"$f":"IF(G65=\"x\",\"x\",(+hlavicka!$C$31+G65-1))","v":"x"},{"$f":"IF(AV65=\"x\",\"x\",IF(AV65>=hlavicka!$C$32,hlavicka!$C$32,AV65))","v":"x"},"x",null,"","x","x","x","x"]

{"sheet":"start","index":4,"n_rows":65,"n_cols":9,"rows_kept":65,"cut":false,"hidden":false,"merged":[]}
[null,"Startovní listina",null,{"$f":"CONCATENATE(\"K \",hlavicka!C6)","v":"K 13"},null,null,null,null,{"$f":"+hlavicka!C11","v":"Žáci U10M 2017-2016"}]
[null,{"$f":"+vyslSL!B2","v":"Český pohár žactva ve skoku na lyžích - 9/SL"},null,null,null,null,null,null,{"$f":"+vyslSL!Q2","v":"dne: 21.11.2015"}]
[null,{"$f":"+vyslSL!B3","v":"skok.můstek: K 13"},null,null,null,null,null,null,{"$f":"+vyslSL!Q3","v":"LSK Lomnice"}]
[null,{"$f":"+vyslSL!B4","v":"certifikát můstku č.135/C35/SL pl. do "},null,null,null,null,null,null,{"$f":"+vyslSL!Q4","v":"K = 60 b. +/- 6 b./m"}]
[null,"st.č.","jméno","klub","stát","nar.","komb.","1. skok","2. skok"]
[1,{"$f":"VLOOKUP(A6,počty!$I$6:$AP$65,6,0)","v":13},{"$f":"VLOOKUP(A6,počty!$I$6:$AP$65,7,0)","v":"Zapadlová Sára"},{"$f":"VLOOKUP(A6,počty!$I$6:$AP$65,8,0)","v":"Lyžařský sportovní klub Lomnice nad Popelkou"},{"$f":"VLOOKUP(A6,počty!$I$6:$AP$65,9,0)","v":"CZE"},{"$f":"VLOOKUP(A6,počty!$I$6:$AP$65,10,0)","v":2016},{"$f":"VLOOKUP(A6,počty!$I$6:$AP$65,11,0)","v":"x"}]
[2,{"$f":"VLOOKUP(A7,počty!$I$6:$AP$65,6,0)","v":22},{"$f":"VLOOKUP(A7,počty!$I$6:$AP$65,7,0)","v":"Sankot Antonín"},{"$f":"VLOOKUP(A7,počty!$I$6:$AP$65,8,0)","v":"Lyžařský sportovní klub Lomnice nad Popelkou"},{"$f":"VLOOKUP(A7,počty!$I$6:$AP$65,9,0)","v":"CZE"},{"$f":"VLOOKUP(A7,počty!$I$6:$AP$65,10,0)","v":2017},{"$f":"VLOOKUP(A7,počty!$I$6:$AP$65,11,0)","v":"x"}]
[3,{"$f":"VLOOKUP(A8,počty!$I$6:$AP$65,6,0)","v":23},{"$f":"VLOOKUP(A8,počty!$I$6:$AP$65,7,0)","v":"Břečka Matyáš"},{"$f":"VLOOKUP(A8,počty!$I$6:$AP$65,8,0)","v":"Lyžařský sportovní klub Lomnice nad Popelkou"},{"$f":"VLOOKUP(A8,počty!$I$6:$AP$65,9,0)","v":"CZE"},{"$f":"VLOOKUP(A8,počty!$I$6:$AP$65,10,0)","v":2014},{"$f":"VLOOKUP(A8,počty!$I$6:$AP$65,11,0)","v":"x"}]
[4,{"$f":"VLOOKUP(A9,počty!$I$6:$AP$65,6,0)","v":24},{"$f":"VLOOKUP(A9,počty!$I$6:$AP$65,7,0)","v":"Huráňová Karolína"},{"$f":"VLOOKUP(A9,počty!$I$6:$AP$65,8,0)","v":"Lyžařský sportovní klub Lomnice nad Popelkou"},{"$f":"VLOOKUP(A9,počty!$I$6:$AP$65,9,0)","v":"CZE"},{"$f":"VLOOKUP(A9,počty!$I$6:$AP$65,10,0)","v":2015},{"$f":"VLOOKUP(A9,počty!$I$6:$AP$65,11,0)","v":"x"}]
[5,{"$f":"VLOOKUP(A10,počty!$I$6:$AP$65,6,0)","v":25},{"$f":"VLOOKUP(A10,počty!$I$6:$AP$65,7,0)","v":"Ježek Jakub"},{"$f":"VLOOKUP(A10,počty!$I$6:$AP$65,8,0)","v":"Lyžařský sportovní klub Lomnice nad Popelkou"},{"$f":"VLOOKUP(A10,počty!$I$6:$AP$65,9,0)","v":"CZE"},{"$f":"VLOOKUP(A10,počty!$I$6:$AP$65,10,0)","v":2015},{"$f":"VLOOKUP(A10,počty!$I$6:$AP$65,11,0)","v":"x"}]
[6,{"$f":"VLOOKUP(A11,počty!$I$6:$AP$65,6,0)","v":{"$error":"#N/A"}},{"$f":"VLOOKUP(A11,počty!$I$6:$AP$65,7,0)","v":{"$error":"#N/A"}},{"$f":"VLOOKUP(A11,počty!$I$6:$AP$65,8,0)","v":{"$error":"#N/A"}},{"$f":"VLOOKUP(A11,počty!$I$6:$AP$65,9,0)","v":{"$error":"#N/A"}},{"$f":"VLOOKUP(A11,počty!$I$6:$AP$65,10,0)","v":{"$error":"#N/A"}},{"$f":"VLOOKUP(A11,počty!$I$6:$AP$65,11,0)","v":{"$error":"#N/A"}}]
[7,{"$f":"VLOOKUP(A12,počty!$I$6:$AP$65,6,0)","v":{"$error":"#N/A"}},{"$f":"VLOOKUP(A12,počty!$I$6:$AP$65,7,0)","v":{"$error":"#N/A"}},{"$f":"VLOOKUP(A12,počty!$I$6:$AP$65,8,0)","v":{"$error":"#N/A"}},{"$f":"VLOOKUP(A12,počty!$I$6:$AP$65,9,0)","v":{"$error":"#N/A"}},{"$f":"VLOOKUP(A12,počty!$I$6:$AP$65,10,0)","v":{"$error":"#N/A"}},{"$f":"VLOOKUP(A12,počty!$I$6:$AP$65,11,0)","v":{"$error":"#N/A"}}]
[8,{"$f":"VLOOKUP(A13,počty!$I$6:$AP$65,6,0)","v":{"$error":"#N/A"}},{"$f":"VLOOKUP(A13,počty!$I$6:$AP$65,7,0)","v":{"$error":"#N/A"}},{"$f":"VLOOKUP(A13,počty!$I$6:$AP$65,8,0)","v":{"$error":"#N/A"}},{"$f":"VLOOKUP(A13,počty!$I$6:$AP$65,9,0)","v":{"$error":"#N/A"}},{"$f":"VLOOKUP(A13,počty!$I$6:$AP$65,10,0)","v":{"$error":"#N/A"}},{"$f":"VLOOKUP(A13,počty!$I$6:$AP$65,11,0)","v":{"$error":"#N/A"}}]
[9,{"$f":"VLOOKUP(A14,počty!$I$6:$AP$65,6,0)","v":{"$error":"#N/A"}},{"$f":"VLOOKUP(A14,počty!$I$6:$AP$65,7,0)","v":{"$error":"#N/A"}},{"$f":"VLOOKUP(A14,počty!$I$6:$AP$65,8,0)","v":{"$error":"#N/A"}},{"$f":"VLOOKUP(A14,počty!$I$6:$AP$65,9,0)","v":{"$error":"#N/A"}},{"$f":"VLOOKUP(A14,počty!$I$6:$AP$65,10,0)","v":{"$error":"#N/A"}},{"$f":"VLOOKUP(A14,počty!$I$6:$AP$65,11,0)","v":{"$error":"#N/A"}}]
[10,{"$f":"VLOOKUP(A15,počty!$I$6:$AP$65,6,0)","v":{"$error":"#N/A"}},{"$f":"VLOOKUP(A15,počty!$I$6:$AP$65,7,0)","v":{"$error":"#N/A"}},{"$f":"VLOOKUP(A15,počty!$I$6:$AP$65,8,0)","v":{"$error":"#N/A"}},{"$f":"VLOOKUP(A15,počty!$I$6:$AP$65,9,0)","v":{"$error":"#N/A"}},{"$f":"VLOOKUP(A15,počty!$I$6:$AP$65,10,0)","v":{"$error":"#N/A"}},{"$f":"VLOOKUP(A15,počty!$I$6:$AP$65,11,0)","v":{"$error":"#N/A"}}]
[11,{"$f":"VLOOKUP(A16,počty!$I$6:$AP$65,6,0)","v":{"$error":"#N/A"}},{"$f":"VLOOKUP(A16,počty!$I$6:$AP$65,7,0)","v":{"$error":"#N/A"}},{"$f":"VLOOKUP(A16,počty!$I$6:$AP$65,8,0)","v":{"$error":"#N/A"}},{"$f":"VLOOKUP(A16,počty!$I$6:$AP$65,9,0)","v":{"$error":"#N/A"}},{"$f":"VLOOKUP(A16,počty!$I$6:$AP$65,10,0)","v":{"$error":"#N/A"}},{"$f":"VLOOKUP(A16,počty!$I$6:$AP$65,11,0)","v":{"$error":"#N/A"}}]
[12,{"$f":"VLOOKUP(A17,počty!$I$6:$AP$65,6,0)","v":{"$error":"#N/A"}},{"$f":"VLOOKUP(A17,počty!$I$6:$AP$65,7,0)","v":{"$error":"#N/A"}},{"$f":"VLOOKUP(A17,počty!$I$6:$AP$65,8,0)","v":{"$error":"#N/A"}},{"$f":"VLOOKUP(A17,počty!$I$6:$AP$65,9,0)","v":{"$error":"#N/A"}},{"$f":"VLOOKUP(A17,počty!$I$6:$AP$65,10,0)","v":{"$error":"#N/A"}},{"$f":"VLOOKUP(A17,počty!$I$6:$AP$65,11,0)","v":{"$error":"#N/A"}}]
[13,{"$f":"VLOOKUP(A18,počty!$I$6:$AP$65,6,0)","v":{"$error":"#N/A"}},{"$f":"VLOOKUP(A18,počty!$I$6:$AP$65,7,0)","v":{"$error":"#N/A"}},{"$f":"VLOOKUP(A18,počty!$I$6:$AP$65,8,0)","v":{"$error":"#N/A"}},{"$f":"VLOOKUP(A18,počty!$I$6:$AP$65,9,0)","v":{"$error":"#N/A"}},{"$f":"VLOOKUP(A18,počty!$I$6:$AP$65,10,0)","v":{"$error":"#N/A"}},{"$f":"VLOOKUP(A18,počty!$I$6:$AP$65,11,0)","v":{"$error":"#N/A"}}]
[14,{"$f":"VLOOKUP(A19,počty!$I$6:$AP$65,6,0)","v":{"$error":"#N/A"}},{"$f":"VLOOKUP(A19,počty!$I$6:$AP$65,7,0)","v":{"$error":"#N/A"}},{"$f":"VLOOKUP(A19,počty!$I$6:$AP$65,8,0)","v":{"$error":"#N/A"}},{"$f":"VLOOKUP(A19,počty!$I$6:$AP$65,9,0)","v":{"$error":"#N/A"}},{"$f":"VLOOKUP(A19,počty!$I$6:$AP$65,10,0)","v":{"$error":"#N/A"}},{"$f":"VLOOKUP(A19,počty!$I$6:$AP$65,11,0)","v":{"$error":"#N/A"}}]
[15,{"$f":"VLOOKUP(A20,počty!$I$6:$AP$65,6,0)","v":{"$error":"#N/A"}},{"$f":"VLOOKUP(A20,počty!$I$6:$AP$65,7,0)","v":{"$error":"#N/A"}},{"$f":"VLOOKUP(A20,počty!$I$6:$AP$65,8,0)","v":{"$error":"#N/A"}},{"$f":"VLOOKUP(A20,počty!$I$6:$AP$65,9,0)","v":{"$error":"#N/A"}},{"$f":"VLOOKUP(A20,počty!$I$6:$AP$65,10,0)","v":{"$error":"#N/A"}},{"$f":"VLOOKUP(A20,počty!$I$6:$AP$65,11,0)","v":{"$error":"#N/A"}}]
[16,{"$f":"VLOOKUP(A21,počty!$I$6:$AP$65,6,0)","v":{"$error":"#N/A"}},{"$f":"VLOOKUP(A21,počty!$I$6:$AP$65,7,0)","v":{"$error":"#N/A"}},{"$f":"VLOOKUP(A21,počty!$I$6:$AP$65,8,0)","v":{"$error":"#N/A"}},{"$f":"VLOOKUP(A21,počty!$I$6:$AP$65,9,0)","v":{"$error":"#N/A"}},{"$f":"VLOOKUP(A21,počty!$I$6:$AP$65,10,0)","v":{"$error":"#N/A"}},{"$f":"VLOOKUP(A21,počty!$I$6:$AP$65,11,0)","v":{"$error":"#N/A"}}]
[17,{"$f":"VLOOKUP(A22,počty!$I$6:$AP$65,6,0)","v":{"$error":"#N/A"}},{"$f":"VLOOKUP(A22,počty!$I$6:$AP$65,7,0)","v":{"$error":"#N/A"}},{"$f":"VLOOKUP(A22,počty!$I$6:$AP$65,8,0)","v":{"$error":"#N/A"}},{"$f":"VLOOKUP(A22,počty!$I$6:$AP$65,9,0)","v":{"$error":"#N/A"}},{"$f":"VLOOKUP(A22,počty!$I$6:$AP$65,10,0)","v":{"$error":"#N/A"}},{"$f":"VLOOKUP(A22,počty!$I$6:$AP$65,11,0)","v":{"$error":"#N/A"}}]
[18,{"$f":"VLOOKUP(A23,počty!$I$6:$AP$65,6,0)","v":{"$error":"#N/A"}},{"$f":"VLOOKUP(A23,počty!$I$6:$AP$65,7,0)","v":{"$error":"#N/A"}},{"$f":"VLOOKUP(A23,počty!$I$6:$AP$65,8,0)","v":{"$error":"#N/A"}},{"$f":"VLOOKUP(A23,počty!$I$6:$AP$65,9,0)","v":{"$error":"#N/A"}},{"$f":"VLOOKUP(A23,počty!$I$6:$AP$65,10,0)","v":{"$error":"#N/A"}},{"$f":"VLOOKUP(A23,počty!$I$6:$AP$65,11,0)","v":{"$error":"#N/A"}}]
[19,{"$f":"VLOOKUP(A24,počty!$I$6:$AP$65,6,0)","v":{"$error":"#N/A"}},{"$f":"VLOOKUP(A24,počty!$I$6:$AP$65,7,0)","v":{"$error":"#N/A"}},{"$f":"VLOOKUP(A24,počty!$I$6:$AP$65,8,0)","v":{"$error":"#N/A"}},{"$f":"VLOOKUP(A24,počty!$I$6:$AP$65,9,0)","v":{"$error":"#N/A"}},{"$f":"VLOOKUP(A24,počty!$I$6:$AP$65,10,0)","v":{"$error":"#N/A"}},{"$f":"VLOOKUP(A24,počty!$I$6:$AP$65,11,0)","v":{"$error":"#N/A"}}]
[20,{"$f":"VLOOKUP(A25,počty!$I$6:$AP$65,6,0)","v":{"$error":"#N/A"}},{"$f":"VLOOKUP(A25,počty!$I$6:$AP$65,7,0)","v":{"$error":"#N/A"}},{"$f":"VLOOKUP(A25,počty!$I$6:$AP$65,8,0)","v":{"$error":"#N/A"}},{"$f":"VLOOKUP(A25,počty!$I$6:$AP$65,9,0)","v":{"$error":"#N/A"}},{"$f":"VLOOKUP(A25,počty!$I$6:$AP$65,10,0)","v":{"$error":"#N/A"}},{"$f":"VLOOKUP(A25,počty!$I$6:$AP$65,11,0)","v":{"$error":"#N/A"}}]
[21,{"$f":"VLOOKUP(A26,počty!$I$6:$AP$65,6,0)","v":{"$error":"#N/A"}},{"$f":"VLOOKUP(A26,počty!$I$6:$AP$65,7,0)","v":{"$error":"#N/A"}},{"$f":"VLOOKUP(A26,počty!$I$6:$AP$65,8,0)","v":{"$error":"#N/A"}},{"$f":"VLOOKUP(A26,počty!$I$6:$AP$65,9,0)","v":{"$error":"#N/A"}},{"$f":"VLOOKUP(A26,počty!$I$6:$AP$65,10,0)","v":{"$error":"#N/A"}},{"$f":"VLOOKUP(A26,počty!$I$6:$AP$65,11,0)","v":{"$error":"#N/A"}}]
[22,{"$f":"VLOOKUP(A27,počty!$I$6:$AP$65,6,0)","v":{"$error":"#N/A"}},{"$f":"VLOOKUP(A27,počty!$I$6:$AP$65,7,0)","v":{"$error":"#N/A"}},{"$f":"VLOOKUP(A27,počty!$I$6:$AP$65,8,0)","v":{"$error":"#N/A"}},{"$f":"VLOOKUP(A27,počty!$I$6:$AP$65,9,0)","v":{"$error":"#N/A"}},{"$f":"VLOOKUP(A27,počty!$I$6:$AP$65,10,0)","v":{"$error":"#N/A"}},{"$f":"VLOOKUP(A27,počty!$I$6:$AP$65,11,0)","v":{"$error":"#N/A"}}]
[23,{"$f":"VLOOKUP(A28,počty!$I$6:$AP$65,6,0)","v":{"$error":"#N/A"}},{"$f":"VLOOKUP(A28,počty!$I$6:$AP$65,7,0)","v":{"$error":"#N/A"}},{"$f":"VLOOKUP(A28,počty!$I$6:$AP$65,8,0)","v":{"$error":"#N/A"}},{"$f":"VLOOKUP(A28,počty!$I$6:$AP$65,9,0)","v":{"$error":"#N/A"}},{"$f":"VLOOKUP(A28,počty!$I$6:$AP$65,10,0)","v":{"$error":"#N/A"}},{"$f":"VLOOKUP(A28,počty!$I$6:$AP$65,11,0)","v":{"$error":"#N/A"}}]
[24,{"$f":"VLOOKUP(A29,počty!$I$6:$AP$65,6,0)","v":{"$error":"#N/A"}},{"$f":"VLOOKUP(A29,počty!$I$6:$AP$65,7,0)","v":{"$error":"#N/A"}},{"$f":"VLOOKUP(A29,počty!$I$6:$AP$65,8,0)","v":{"$error":"#N/A"}},{"$f":"VLOOKUP(A29,počty!$I$6:$AP$65,9,0)","v":{"$error":"#N/A"}},{"$f":"VLOOKUP(A29,počty!$I$6:$AP$65,10,0)","v":{"$error":"#N/A"}},{"$f":"VLOOKUP(A29,počty!$I$6:$AP$65,11,0)","v":{"$error":"#N/A"}}]
[25,{"$f":"VLOOKUP(A30,počty!$I$6:$AP$65,6,0)","v":{"$error":"#N/A"}},{"$f":"VLOOKUP(A30,počty!$I$6:$AP$65,7,0)","v":{"$error":"#N/A"}},{"$f":"VLOOKUP(A30,počty!$I$6:$AP$65,8,0)","v":{"$error":"#N/A"}},{"$f":"VLOOKUP(A30,počty!$I$6:$AP$65,9,0)","v":{"$error":"#N/A"}},{"$f":"VLOOKUP(A30,počty!$I$6:$AP$65,10,0)","v":{"$error":"#N/A"}},{"$f":"VLOOKUP(A30,počty!$I$6:$AP$65,11,0)","v":{"$error":"#N/A"}}]
[26,{"$f":"VLOOKUP(A31,počty!$I$6:$AP$65,6,0)","v":{"$error":"#N/A"}},{"$f":"VLOOKUP(A31,počty!$I$6:$AP$65,7,0)","v":{"$error":"#N/A"}},{"$f":"VLOOKUP(A31,počty!$I$6:$AP$65,8,0)","v":{"$error":"#N/A"}},{"$f":"VLOOKUP(A31,počty!$I$6:$AP$65,9,0)","v":{"$error":"#N/A"}},{"$f":"VLOOKUP(A31,počty!$I$6:$AP$65,10,0)","v":{"$error":"#N/A"}},{"$f":"VLOOKUP(A31,počty!$I$6:$AP$65,11,0)","v":{"$error":"#N/A"}}]
[27,{"$f":"VLOOKUP(A32,počty!$I$6:$AP$65,6,0)","v":{"$error":"#N/A"}},{"$f":"VLOOKUP(A32,počty!$I$6:$AP$65,7,0)","v":{"$error":"#N/A"}},{"$f":"VLOOKUP(A32,počty!$I$6:$AP$65,8,0)","v":{"$error":"#N/A"}},{"$f":"VLOOKUP(A32,počty!$I$6:$AP$65,9,0)","v":{"$error":"#N/A"}},{"$f":"VLOOKUP(A32,počty!$I$6:$AP$65,10,0)","v":{"$error":"#N/A"}},{"$f":"VLOOKUP(A32,počty!$I$6:$AP$65,11,0)","v":{"$error":"#N/A"}}]
[28,{"$f":"VLOOKUP(A33,počty!$I$6:$AP$65,6,0)","v":{"$error":"#N/A"}},{"$f":"VLOOKUP(A33,počty!$I$6:$AP$65,7,0)","v":{"$error":"#N/A"}},{"$f":"VLOOKUP(A33,počty!$I$6:$AP$65,8,0)","v":{"$error":"#N/A"}},{"$f":"VLOOKUP(A33,počty!$I$6:$AP$65,9,0)","v":{"$error":"#N/A"}},{"$f":"VLOOKUP(A33,počty!$I$6:$AP$65,10,0)","v":{"$error":"#N/A"}},{"$f":"VLOOKUP(A33,počty!$I$6:$AP$65,11,0)","v":{"$error":"#N/A"}}]
[29,{"$f":"VLOOKUP(A34,počty!$I$6:$AP$65,6,0)","v":{"$error":"#N/A"}},{"$f":"VLOOKUP(A34,počty!$I$6:$AP$65,7,0)","v":{"$error":"#N/A"}},{"$f":"VLOOKUP(A34,počty!$I$6:$AP$65,8,0)","v":{"$error":"#N/A"}},{"$f":"VLOOKUP(A34,počty!$I$6:$AP$65,9,0)","v":{"$error":"#N/A"}},{"$f":"VLOOKUP(A34,počty!$I$6:$AP$65,10,0)","v":{"$error":"#N/A"}},{"$f":"VLOOKUP(A34,počty!$I$6:$AP$65,11,0)","v":{"$error":"#N/A"}}]
[30,{"$f":"VLOOKUP(A35,počty!$I$6:$AP$65,6,0)","v":{"$error":"#N/A"}},{"$f":"VLOOKUP(A35,počty!$I$6:$AP$65,7,0)","v":{"$error":"#N/A"}},{"$f":"VLOOKUP(A35,počty!$I$6:$AP$65,8,0)","v":{"$error":"#N/A"}},{"$f":"VLOOKUP(A35,počty!$I$6:$AP$65,9,0)","v":{"$error":"#N/A"}},{"$f":"VLOOKUP(A35,počty!$I$6:$AP$65,10,0)","v":{"$error":"#N/A"}},{"$f":"VLOOKUP(A35,počty!$I$6:$AP$65,11,0)","v":{"$error":"#N/A"}}]
[31,{"$f":"VLOOKUP(A36,počty!$I$6:$AP$65,6,0)","v":{"$error":"#N/A"}},{"$f":"VLOOKUP(A36,počty!$I$6:$AP$65,7,0)","v":{"$error":"#N/A"}},{"$f":"VLOOKUP(A36,počty!$I$6:$AP$65,8,0)","v":{"$error":"#N/A"}},{"$f":"VLOOKUP(A36,počty!$I$6:$AP$65,9,0)","v":{"$error":"#N/A"}},{"$f":"VLOOKUP(A36,počty!$I$6:$AP$65,10,0)","v":{"$error":"#N/A"}},{"$f":"VLOOKUP(A36,počty!$I$6:$AP$65,11,0)","v":{"$error":"#N/A"}}]
[32,{"$f":"VLOOKUP(A37,počty!$I$6:$AP$65,6,0)","v":{"$error":"#N/A"}},{"$f":"VLOOKUP(A37,počty!$I$6:$AP$65,7,0)","v":{"$error":"#N/A"}},{"$f":"VLOOKUP(A37,počty!$I$6:$AP$65,8,0)","v":{"$error":"#N/A"}},{"$f":"VLOOKUP(A37,počty!$I$6:$AP$65,9,0)","v":{"$error":"#N/A"}},{"$f":"VLOOKUP(A37,počty!$I$6:$AP$65,10,0)","v":{"$error":"#N/A"}},{"$f":"VLOOKUP(A37,počty!$I$6:$AP$65,11,0)","v":{"$error":"#N/A"}}]
[33,{"$f":"VLOOKUP(A38,počty!$I$6:$AP$65,6,0)","v":{"$error":"#N/A"}},{"$f":"VLOOKUP(A38,počty!$I$6:$AP$65,7,0)","v":{"$error":"#N/A"}},{"$f":"VLOOKUP(A38,počty!$I$6:$AP$65,8,0)","v":{"$error":"#N/A"}},{"$f":"VLOOKUP(A38,počty!$I$6:$AP$65,9,0)","v":{"$error":"#N/A"}},{"$f":"VLOOKUP(A38,počty!$I$6:$AP$65,10,0)","v":{"$error":"#N/A"}},{"$f":"VLOOKUP(A38,počty!$I$6:$AP$65,11,0)","v":{"$error":"#N/A"}}]
[34,{"$f":"VLOOKUP(A39,počty!$I$6:$AP$65,6,0)","v":{"$error":"#N/A"}},{"$f":"VLOOKUP(A39,počty!$I$6:$AP$65,7,0)","v":{"$error":"#N/A"}},{"$f":"VLOOKUP(A39,počty!$I$6:$AP$65,8,0)","v":{"$error":"#N/A"}},{"$f":"VLOOKUP(A39,počty!$I$6:$AP$65,9,0)","v":{"$error":"#N/A"}},{"$f":"VLOOKUP(A39,počty!$I$6:$AP$65,10,0)","v":{"$error":"#N/A"}},{"$f":"VLOOKUP(A39,počty!$I$6:$AP$65,11,0)","v":{"$error":"#N/A"}}]
[35,{"$f":"VLOOKUP(A40,počty!$I$6:$AP$65,6,0)","v":{"$error":"#N/A"}},{"$f":"VLOOKUP(A40,počty!$I$6:$AP$65,7,0)","v":{"$error":"#N/A"}},{"$f":"VLOOKUP(A40,počty!$I$6:$AP$65,8,0)","v":{"$error":"#N/A"}},{"$f":"VLOOKUP(A40,počty!$I$6:$AP$65,9,0)","v":{"$error":"#N/A"}},{"$f":"VLOOKUP(A40,počty!$I$6:$AP$65,10,0)","v":{"$error":"#N/A"}},{"$f":"VLOOKUP(A40,počty!$I$6:$AP$65,11,0)","v":{"$error":"#N/A"}}]
[36,{"$f":"VLOOKUP(A41,počty!$I$6:$AP$65,6,0)","v":{"$error":"#N/A"}},{"$f":"VLOOKUP(A41,počty!$I$6:$AP$65,7,0)","v":{"$error":"#N/A"}},{"$f":"VLOOKUP(A41,počty!$I$6:$AP$65,8,0)","v":{"$error":"#N/A"}},{"$f":"VLOOKUP(A41,počty!$I$6:$AP$65,9,0)","v":{"$error":"#N/A"}},{"$f":"VLOOKUP(A41,počty!$I$6:$AP$65,10,0)","v":{"$error":"#N/A"}},{"$f":"VLOOKUP(A41,počty!$I$6:$AP$65,11,0)","v":{"$error":"#N/A"}}]
[37,{"$f":"VLOOKUP(A42,počty!$I$6:$AP$65,6,0)","v":{"$error":"#N/A"}},{"$f":"VLOOKUP(A42,počty!$I$6:$AP$65,7,0)","v":{"$error":"#N/A"}},{"$f":"VLOOKUP(A42,počty!$I$6:$AP$65,8,0)","v":{"$error":"#N/A"}},{"$f":"VLOOKUP(A42,počty!$I$6:$AP$65,9,0)","v":{"$error":"#N/A"}},{"$f":"VLOOKUP(A42,počty!$I$6:$AP$65,10,0)","v":{"$error":"#N/A"}},{"$f":"VLOOKUP(A42,počty!$I$6:$AP$65,11,0)","v":{"$error":"#N/A"}}]
[38,{"$f":"VLOOKUP(A43,počty!$I$6:$AP$65,6,0)","v":{"$error":"#N/A"}},{"$f":"VLOOKUP(A43,počty!$I$6:$AP$65,7,0)","v":{"$error":"#N/A"}},{"$f":"VLOOKUP(A43,počty!$I$6:$AP$65,8,0)","v":{"$error":"#N/A"}},{"$f":"VLOOKUP(A43,počty!$I$6:$AP$65,9,0)","v":{"$error":"#N/A"}},{"$f":"VLOOKUP(A43,počty!$I$6:$AP$65,10,0)","v":{"$error":"#N/A"}},{"$f":"VLOOKUP(A43,počty!$I$6:$AP$65,11,0)","v":{"$error":"#N/A"}}]
[39,{"$f":"VLOOKUP(A44,počty!$I$6:$AP$65,6,0)","v":{"$error":"#N/A"}},{"$f":"VLOOKUP(A44,počty!$I$6:$AP$65,7,0)","v":{"$error":"#N/A"}},{"$f":"VLOOKUP(A44,počty!$I$6:$AP$65,8,0)","v":{"$error":"#N/A"}},{"$f":"VLOOKUP(A44,počty!$I$6:$AP$65,9,0)","v":{"$error":"#N/A"}},{"$f":"VLOOKUP(A44,počty!$I$6:$AP$65,10,0)","v":{"$error":"#N/A"}},{"$f":"VLOOKUP(A44,počty!$I$6:$AP$65,11,0)","v":{"$error":"#N/A"}}]
[40,{"$f":"VLOOKUP(A45,počty!$I$6:$AP$65,6,0)","v":{"$error":"#N/A"}},{"$f":"VLOOKUP(A45,počty!$I$6:$AP$65,7,0)","v":{"$error":"#N/A"}},{"$f":"VLOOKUP(A45,počty!$I$6:$AP$65,8,0)","v":{"$error":"#N/A"}},{"$f":"VLOOKUP(A45,počty!$I$6:$AP$65,9,0)","v":{"$error":"#N/A"}},{"$f":"VLOOKUP(A45,počty!$I$6:$AP$65,10,0)","v":{"$error":"#N/A"}},{"$f":"VLOOKUP(A45,počty!$I$6:$AP$65,11,0)","v":{"$error":"#N/A"}}]
[41,{"$f":"VLOOKUP(A46,počty!$I$6:$AP$65,6,0)","v":{"$error":"#N/A"}},{"$f":"VLOOKUP(A46,počty!$I$6:$AP$65,7,0)","v":{"$error":"#N/A"}},{"$f":"VLOOKUP(A46,počty!$I$6:$AP$65,8,0)","v":{"$error":"#N/A"}},{"$f":"VLOOKUP(A46,počty!$I$6:$AP$65,9,0)","v":{"$error":"#N/A"}},{"$f":"VLOOKUP(A46,počty!$I$6:$AP$65,10,0)","v":{"$error":"#N/A"}},{"$f":"VLOOKUP(A46,počty!$I$6:$AP$65,11,0)","v":{"$error":"#N/A"}}]
[42,{"$f":"VLOOKUP(A47,počty!$I$6:$AP$65,6,0)","v":{"$error":"#N/A"}},{"$f":"VLOOKUP(A47,počty!$I$6:$AP$65,7,0)","v":{"$error":"#N/A"}},{"$f":"VLOOKUP(A47,počty!$I$6:$AP$65,8,0)","v":{"$error":"#N/A"}},{"$f":"VLOOKUP(A47,počty!$I$6:$AP$65,9,0)","v":{"$error":"#N/A"}},{"$f":"VLOOKUP(A47,počty!$I$6:$AP$65,10,0)","v":{"$error":"#N/A"}},{"$f":"VLOOKUP(A47,počty!$I$6:$AP$65,11,0)","v":{"$error":"#N/A"}}]
[43,{"$f":"VLOOKUP(A48,počty!$I$6:$AP$65,6,0)","v":{"$error":"#N/A"}},{"$f":"VLOOKUP(A48,počty!$I$6:$AP$65,7,0)","v":{"$error":"#N/A"}},{"$f":"VLOOKUP(A48,počty!$I$6:$AP$65,8,0)","v":{"$error":"#N/A"}},{"$f":"VLOOKUP(A48,počty!$I$6:$AP$65,9,0)","v":{"$error":"#N/A"}},{"$f":"VLOOKUP(A48,počty!$I$6:$AP$65,10,0)","v":{"$error":"#N/A"}},{"$f":"VLOOKUP(A48,počty!$I$6:$AP$65,11,0)","v":{"$error":"#N/A"}}]
[44,{"$f":"VLOOKUP(A49,počty!$I$6:$AP$65,6,0)","v":{"$error":"#N/A"}},{"$f":"VLOOKUP(A49,počty!$I$6:$AP$65,7,0)","v":{"$error":"#N/A"}},{"$f":"VLOOKUP(A49,počty!$I$6:$AP$65,8,0)","v":{"$error":"#N/A"}},{"$f":"VLOOKUP(A49,počty!$I$6:$AP$65,9,0)","v":{"$error":"#N/A"}},{"$f":"VLOOKUP(A49,počty!$I$6:$AP$65,10,0)","v":{"$error":"#N/A"}},{"$f":"VLOOKUP(A49,počty!$I$6:$AP$65,11,0)","v":{"$error":"#N/A"}}]
[45,{"$f":"VLOOKUP(A50,počty!$I$6:$AP$65,6,0)","v":{"$error":"#N/A"}},{"$f":"VLOOKUP(A50,počty!$I$6:$AP$65,7,0)","v":{"$error":"#N/A"}},{"$f":"VLOOKUP(A50,počty!$I$6:$AP$65,8,0)","v":{"$error":"#N/A"}},{"$f":"VLOOKUP(A50,počty!$I$6:$AP$65,9,0)","v":{"$error":"#N/A"}},{"$f":"VLOOKUP(A50,počty!$I$6:$AP$65,10,0)","v":{"$error":"#N/A"}},{"$f":"VLOOKUP(A50,počty!$I$6:$AP$65,11,0)","v":{"$error":"#N/A"}}]
[46,{"$f":"VLOOKUP(A51,počty!$I$6:$AP$65,6,0)","v":{"$error":"#N/A"}},{"$f":"VLOOKUP(A51,počty!$I$6:$AP$65,7,0)","v":{"$error":"#N/A"}},{"$f":"VLOOKUP(A51,počty!$I$6:$AP$65,8,0)","v":{"$error":"#N/A"}},{"$f":"VLOOKUP(A51,počty!$I$6:$AP$65,9,0)","v":{"$error":"#N/A"}},{"$f":"VLOOKUP(A51,počty!$I$6:$AP$65,10,0)","v":{"$error":"#N/A"}},{"$f":"VLOOKUP(A51,počty!$I$6:$AP$65,11,0)","v":{"$error":"#N/A"}}]
[47,{"$f":"VLOOKUP(A52,počty!$I$6:$AP$65,6,0)","v":{"$error":"#N/A"}},{"$f":"VLOOKUP(A52,počty!$I$6:$AP$65,7,0)","v":{"$error":"#N/A"}},{"$f":"VLOOKUP(A52,počty!$I$6:$AP$65,8,0)","v":{"$error":"#N/A"}},{"$f":"VLOOKUP(A52,počty!$I$6:$AP$65,9,0)","v":{"$error":"#N/A"}},{"$f":"VLOOKUP(A52,počty!$I$6:$AP$65,10,0)","v":{"$error":"#N/A"}},{"$f":"VLOOKUP(A52,počty!$I$6:$AP$65,11,0)","v":{"$error":"#N/A"}}]
[48,{"$f":"VLOOKUP(A53,počty!$I$6:$AP$65,6,0)","v":{"$error":"#N/A"}},{"$f":"VLOOKUP(A53,počty!$I$6:$AP$65,7,0)","v":{"$error":"#N/A"}},{"$f":"VLOOKUP(A53,počty!$I$6:$AP$65,8,0)","v":{"$error":"#N/A"}},{"$f":"VLOOKUP(A53,počty!$I$6:$AP$65,9,0)","v":{"$error":"#N/A"}},{"$f":"VLOOKUP(A53,počty!$I$6:$AP$65,10,0)","v":{"$error":"#N/A"}},{"$f":"VLOOKUP(A53,počty!$I$6:$AP$65,11,0)","v":{"$error":"#N/A"}}]
[49,{"$f":"VLOOKUP(A54,počty!$I$6:$AP$65,6,0)","v":{"$error":"#N/A"}},{"$f":"VLOOKUP(A54,počty!$I$6:$AP$65,7,0)","v":{"$error":"#N/A"}},{"$f":"VLOOKUP(A54,počty!$I$6:$AP$65,8,0)","v":{"$error":"#N/A"}},{"$f":"VLOOKUP(A54,počty!$I$6:$AP$65,9,0)","v":{"$error":"#N/A"}},{"$f":"VLOOKUP(A54,počty!$I$6:$AP$65,10,0)","v":{"$error":"#N/A"}},{"$f":"VLOOKUP(A54,počty!$I$6:$AP$65,11,0)","v":{"$error":"#N/A"}}]
[50,{"$f":"VLOOKUP(A55,počty!$I$6:$AP$65,6,0)","v":{"$error":"#N/A"}},{"$f":"VLOOKUP(A55,počty!$I$6:$AP$65,7,0)","v":{"$error":"#N/A"}},{"$f":"VLOOKUP(A55,počty!$I$6:$AP$65,8,0)","v":{"$error":"#N/A"}},{"$f":"VLOOKUP(A55,počty!$I$6:$AP$65,9,0)","v":{"$error":"#N/A"}},{"$f":"VLOOKUP(A55,počty!$I$6:$AP$65,10,0)","v":{"$error":"#N/A"}},{"$f":"VLOOKUP(A55,počty!$I$6:$AP$65,11,0)","v":{"$error":"#N/A"}}]
[51,{"$f":"VLOOKUP(A56,počty!$I$6:$AP$65,6,0)","v":{"$error":"#N/A"}},{"$f":"VLOOKUP(A56,počty!$I$6:$AP$65,7,0)","v":{"$error":"#N/A"}},{"$f":"VLOOKUP(A56,počty!$I$6:$AP$65,8,0)","v":{"$error":"#N/A"}},{"$f":"VLOOKUP(A56,počty!$I$6:$AP$65,9,0)","v":{"$error":"#N/A"}},{"$f":"VLOOKUP(A56,počty!$I$6:$AP$65,10,0)","v":{"$error":"#N/A"}},{"$f":"VLOOKUP(A56,počty!$I$6:$AP$65,11,0)","v":{"$error":"#N/A"}}]
[52,{"$f":"VLOOKUP(A57,počty!$I$6:$AP$65,6,0)","v":{"$error":"#N/A"}},{"$f":"VLOOKUP(A57,počty!$I$6:$AP$65,7,0)","v":{"$error":"#N/A"}},{"$f":"VLOOKUP(A57,počty!$I$6:$AP$65,8,0)","v":{"$error":"#N/A"}},{"$f":"VLOOKUP(A57,počty!$I$6:$AP$65,9,0)","v":{"$error":"#N/A"}},{"$f":"VLOOKUP(A57,počty!$I$6:$AP$65,10,0)","v":{"$error":"#N/A"}},{"$f":"VLOOKUP(A57,počty!$I$6:$AP$65,11,0)","v":{"$error":"#N/A"}}]
[53,{"$f":"VLOOKUP(A58,počty!$I$6:$AP$65,6,0)","v":{"$error":"#N/A"}},{"$f":"VLOOKUP(A58,počty!$I$6:$AP$65,7,0)","v":{"$error":"#N/A"}},{"$f":"VLOOKUP(A58,počty!$I$6:$AP$65,8,0)","v":{"$error":"#N/A"}},{"$f":"VLOOKUP(A58,počty!$I$6:$AP$65,9,0)","v":{"$error":"#N/A"}},{"$f":"VLOOKUP(A58,počty!$I$6:$AP$65,10,0)","v":{"$error":"#N/A"}},{"$f":"VLOOKUP(A58,počty!$I$6:$AP$65,11,0)","v":{"$error":"#N/A"}}]
[54,{"$f":"VLOOKUP(A59,počty!$I$6:$AP$65,6,0)","v":{"$error":"#N/A"}},{"$f":"VLOOKUP(A59,počty!$I$6:$AP$65,7,0)","v":{"$error":"#N/A"}},{"$f":"VLOOKUP(A59,počty!$I$6:$AP$65,8,0)","v":{"$error":"#N/A"}},{"$f":"VLOOKUP(A59,počty!$I$6:$AP$65,9,0)","v":{"$error":"#N/A"}},{"$f":"VLOOKUP(A59,počty!$I$6:$AP$65,10,0)","v":{"$error":"#N/A"}},{"$f":"VLOOKUP(A59,počty!$I$6:$AP$65,11,0)","v":{"$error":"#N/A"}}]
[55,{"$f":"VLOOKUP(A60,počty!$I$6:$AP$65,6,0)","v":{"$error":"#N/A"}},{"$f":"VLOOKUP(A60,počty!$I$6:$AP$65,7,0)","v":{"$error":"#N/A"}},{"$f":"VLOOKUP(A60,počty!$I$6:$AP$65,8,0)","v":{"$error":"#N/A"}},{"$f":"VLOOKUP(A60,počty!$I$6:$AP$65,9,0)","v":{"$error":"#N/A"}},{"$f":"VLOOKUP(A60,počty!$I$6:$AP$65,10,0)","v":{"$error":"#N/A"}},{"$f":"VLOOKUP(A60,počty!$I$6:$AP$65,11,0)","v":{"$error":"#N/A"}}]
[56,{"$f":"VLOOKUP(A61,počty!$I$6:$AP$65,6,0)","v":{"$error":"#N/A"}},{"$f":"VLOOKUP(A61,počty!$I$6:$AP$65,7,0)","v":{"$error":"#N/A"}},{"$f":"VLOOKUP(A61,počty!$I$6:$AP$65,8,0)","v":{"$error":"#N/A"}},{"$f":"VLOOKUP(A61,počty!$I$6:$AP$65,9,0)","v":{"$error":"#N/A"}},{"$f":"VLOOKUP(A61,počty!$I$6:$AP$65,10,0)","v":{"$error":"#N/A"}},{"$f":"VLOOKUP(A61,počty!$I$6:$AP$65,11,0)","v":{"$error":"#N/A"}}]
[57,{"$f":"VLOOKUP(A62,počty!$I$6:$AP$65,6,0)","v":{"$error":"#N/A"}},{"$f":"VLOOKUP(A62,počty!$I$6:$AP$65,7,0)","v":{"$error":"#N/A"}},{"$f":"VLOOKUP(A62,počty!$I$6:$AP$65,8,0)","v":{"$error":"#N/A"}},{"$f":"VLOOKUP(A62,počty!$I$6:$AP$65,9,0)","v":{"$error":"#N/A"}},{"$f":"VLOOKUP(A62,počty!$I$6:$AP$65,10,0)","v":{"$error":"#N/A"}},{"$f":"VLOOKUP(A62,počty!$I$6:$AP$65,11,0)","v":{"$error":"#N/A"}}]
[58,{"$f":"VLOOKUP(A63,počty!$I$6:$AP$65,6,0)","v":{"$error":"#N/A"}},{"$f":"VLOOKUP(A63,počty!$I$6:$AP$65,7,0)","v":{"$error":"#N/A"}},{"$f":"VLOOKUP(A63,počty!$I$6:$AP$65,8,0)","v":{"$error":"#N/A"}},{"$f":"VLOOKUP(A63,počty!$I$6:$AP$65,9,0)","v":{"$error":"#N/A"}},{"$f":"VLOOKUP(A63,počty!$I$6:$AP$65,10,0)","v":{"$error":"#N/A"}},{"$f":"VLOOKUP(A63,počty!$I$6:$AP$65,11,0)","v":{"$error":"#N/A"}}]
[59,{"$f":"VLOOKUP(A64,počty!$I$6:$AP$65,6,0)","v":{"$error":"#N/A"}},{"$f":"VLOOKUP(A64,počty!$I$6:$AP$65,7,0)","v":{"$error":"#N/A"}},{"$f":"VLOOKUP(A64,počty!$I$6:$AP$65,8,0)","v":{"$error":"#N/A"}},{"$f":"VLOOKUP(A64,počty!$I$6:$AP$65,9,0)","v":{"$error":"#N/A"}},{"$f":"VLOOKUP(A64,počty!$I$6:$AP$65,10,0)","v":{"$error":"#N/A"}},{"$f":"VLOOKUP(A64,počty!$I$6:$AP$65,11,0)","v":{"$error":"#N/A"}}]
[60,{"$f":"VLOOKUP(A65,počty!$I$6:$AP$65,6,0)","v":{"$error":"#N/A"}},{"$f":"VLOOKUP(A65,počty!$I$6:$AP$65,7,0)","v":{"$error":"#N/A"}},{"$f":"VLOOKUP(A65,počty!$I$6:$AP$65,8,0)","v":{"$error":"#N/A"}},{"$f":"VLOOKUP(A65,počty!$I$6:$AP$65,9,0)","v":{"$error":"#N/A"}},{"$f":"VLOOKUP(A65,počty!$I$6:$AP$65,10,0)","v":{"$error":"#N/A"}},{"$f":"VLOOKUP(A65,počty!$I$6:$AP$65,11,0)","v":{"$error":"#N/A"}}]

{"sheet":"vyslSL","index":5,"n_rows":140,"n_cols":18,"rows_kept":140,"cut":false,"hidden":false,"merged":[[60,1,61,1],[68,0,69,0],[66,0,67,0],[62,1,63,1],[64,1,65,1],[130,17,131,17],[130,16,131,16],[130,15,131,15],[130,1,131,1],[130,0,131,0],[126,17,127,17],[126,16,127,16],[60,0,61,0],[66,16,67,16],[64,0,65,0],[62,0,63,0],[60,17,61,17],[62,17,63,17],[64,17,65,17],[66,17,67,17],[68,17,69,17],[70,0,71,0],[70,1,71,1],[70,15,71,15],[12,1,13,1],[20,1,21,1],[14,0,15,0],[14,1,15,1],[18,1,19,1],[38,0,39,0],[38,1,39,1],[30,1,31,1],[56,0,57,0],[24,0,25,0],[24,1,25,1],[18,0,19,0],[28,0,29,0],[56,1,57,1],[42,0,43,0],[42,1,43,1],[50,1,51,1],[50,0,51,0],[44,0,45,0],[44,1,45,1],[46,0,47,0],[46,1,47,1],[54,0,55,0],[28,1,29,1],[0,9,0,10],[12,15,13,15],[46,17,47,17],[42,15,43,15],[42,16,43,16],[22,1,23,1],[22,0,23,0],[30,16,31,16],[26,16,27,16],[30,15,31,15],[28,16,29,16],[20,0,21,0],[16,1,17,1],[16,0,17,0],[26,1,27,1],[30,0,31,0],[26,0,27,0],[34,0,35,0],[34,1,35,1],[34,15,35,15],[36,0,37,0],[36,1,37,1],[32,0,33,0],[12,0,13,0],[58,0,59,0],[50,15,51,15],[54,15,55,15],[40,0,41,0],[40,1,41,1],[40,15,41,15],[52,0,53,0],[52,15,53,15],[52,1,53,1],[54,1,55,1],[48,0,49,0],[48,1,49,1],[48,15,49,15],[58,1,59,1],[44,15,45,15],[26,17,27,17],[12,17,13,17],[36,17,37,17],[20,17,21,17],[22,17,23,17],[24,17,25,17],[12,16,13,16],[14,15,15,15],[14,16,15,16],[16,15,17,15],[16,16,17,16],[20,16,21,16],[20,15,21,15],[22,15,23,15],[14,17,15,17],[16,17,17,17],[18,15,19,15],[18,17,19,17],[18,16,19,16],[24,15,25,15],[26,15,27,15],[24,16,25,16],[22,16,23,16],[36,15,37,15],[32,15,33,15],[34,17,35,17],[36,16,37,16],[28,17,29,17],[30,17,31,17],[32,1,33,1],[28,15,29,15],[38,15,39,15],[32,16,33,16],[32,17,33,17],[34,16,35,16],[42,17,43,17],[44,16,45,16],[44,17,45,17],[38,16,39,16],[40,16,41,16],[40,17,41,17],[46,16,47,16],[48,17,49,17],[48,16,49,16],[38,17,39,17],[56,16,57,16],[52,16,53,16],[56,17,57,17],[58,17,59,17],[54,17,55,17],[64,15,65,15],[64,16,65,16],[46,15,47,15],[60,15,61,15],[60,16,61,16],[58,16,59,16],[54,16,55,16],[62,15,63,15],[62,16,63,16],[58,15,59,15],[56,15,57,15],[52,17,53,17],[50,17,51,17],[50,16,51,16],[70,16,71,16],[70,17,71,17],[68,15,69,15],[68,16,69,16],[66,15,67,15],[66,1,67,1],[68,1,69,1],[72,17,73,17],[74,0,75,0],[74,1,75,1],[74,15,75,15],[74,16,75,16],[74,17,75,17],[72,0,73,0],[72,1,73,1],[72,15,73,15],[72,16,73,16],[76,17,77,17],[78,0,79,0],[78,1,79,1],[78,15,79,15],[78,16,79,16],[78,17,79,17],[76,0,77,0],[76,1,77,1],[76,15,77,15],[76,16,77,16],[80,17,81,17],[82,0,83,0],[82,1,83,1],[82,15,83,15],[82,16,83,16],[82,17,83,17],[80,0,81,0],[80,1,81,1],[80,15,81,15],[80,16,81,16],[84,17,85,17],[86,0,87,0],[86,1,87,1],[86,15,87,15],[86,16,87,16],[86,17,87,17],[84,0,85,0],[84,1,85,1],[84,15,85,15],[84,16,85,16],[88,17,89,17],[90,0,91,0],[90,1,91,1],[90,15,91,15],[90,16,91,16],[90,17,91,17],[88,0,89,0],[88,1,89,1],[88,15,89,15],[88,16,89,16],[92,17,93,17],[94,0,95,0],[94,1,95,1],[94,15,95,15],[94,16,95,16],[94,17,95,17],[92,0,93,0],[92,1,93,1],[92,15,93,15],[92,16,93,16],[96,17,97,17],[98,0,99,0],[98,1,99,1],[98,15,99,15],[98,16,99,16],[98,17,99,17],[96,0,97,0],[96,1,97,1],[96,15,97,15],[96,16,97,16],[100,17,101,17],[102,0,103,0],[102,1,103,1],[102,15,103,15],[102,16,103,16],[102,17,103,17],[100,0,101,0],[100,1,101,1],[100,15,101,15],[100,16,101,16],[104,17,105,17],[106,0,107,0],[106,1,107,1],[106,15,107,15],[106,16,107,16],[106,17,107,17],[104,0,105,0],[104,1,105,1],[104,15,105,15],[104,16,105,16],[108,17,109,17],[110,0,111,0],[110,1,111,1],[110,15,111,15],[110,16,111,16],[110,17,111,17],[108,0,109,0],[108,1,109,1],[108,15,109,15],[108,16,109,16],[112,17,113,17],[114,0,115,0],[114,1,115,1],[114,15,115,15],[114,16,115,16],[114,17,115,17],[112,0,113,0],[112,1,113,1],[112,15,113,15],[112,16,113,16],[116,17,117,17],[118,0,119,0],[118,1,119,1],[118,15,119,15],[118,16,119,16],[118,17,119,17],[116,0,117,0],[116,1,117,1],[116,15,117,15],[116,16,117,16],[120,17,121,17],[122,0,123,0],[122,1,123,1],[122,15,123,15],[122,16,123,16],[122,17,123,17],[120,0,121,0],[120,1,121,1],[120,15,121,15],[120,16,121,16],[124,17,125,17],[124,0,125,0],[124,1,125,1],[124,15,125,15],[124,16,125,16],[128,15,129,15],[128,16,129,16],[128,17,129,17],[128,1,129,1],[128,0,129,0],[126,15,127,15],[126,1,127,1],[126,0,127,0]]}
[null,"Oficiální výsledková listina",null,null,null,null,null,null,null,{"$f":"CONCATENATE(\"K \",hlavicka!C6)","v":"K 13"},null,null,null,null,null,null,{"$f":"+hlavicka!C11","v":"Žáci U10M 2017-2016"}]
[null,{"$f":"CONCATENATE(hlavicka!C2,\" - \",hlavicka!C3)","v":"Český pohár žactva ve skoku na lyžích - 9/SL"},null,null,null,null,null,null,null,null,null,null,null,null,null,null,{"$f":"CONCATENATE(\"dne: \",hlavicka!C5)","v":"dne: 21.11.2015"}]
[null,{"$f":"CONCATENATE(\"skok.můstek: K \",hlavicka!C6)","v":"skok.můstek: K 13"},null,null,null,null,null,null,null,null,null,null,null,null,null,null,{"$f":"+hlavicka!C4","v":"LSK Lomnice"}]
[null,{"$f":"CONCATENATE(\"certifikát můstku č.\",hlavicka!C8,\" pl. do \",hlavicka!C9)","v":"certifikát můstku č.135/C35/SL pl. do "},null,null,null,null,null,null,null,null,null,null,null,null,null,null,{"$f":"CONCATENATE(\"K = 60 b. +/- \",hlavicka!C7,\" b./m\")","v":"K = 60 b. +/- 6 b./m"}]
[null,"SOUTĚŽNÍ VÝBOR",null,null,null,null,null,"ROZHODČÍ STYLU"]
[null,{"$f":"+hlavicka!B15","v":"ŘZ"},{"$f":"+hlavicka!C15","v":"Ing. Stanislav Jirásek"},null,null,{"$f":"+hlavicka!D15","v":"CZE"},null,"A",{"$f":"+hlavicka!C22","v":"Čestmír Kožíšek st."},null,null,null,null,null,null,{"$f":"+hlavicka!D22","v":"CZE"}]
[null,{"$f":"+hlavicka!B16","v":"TD"},{"$f":"+hlavicka!C37","v":"Pavel Bernat"},null,null,{"$f":"+hlavicka!D16","v":"CZE"},null,"B",{"$f":"+hlavicka!C23","v":"Lukáš Doležal"},null,null,null,null,null,null,{"$f":"+hlavicka!D23","v":"CZE"}]
[null,{"$f":"+hlavicka!B17","v":"ATD"},{"$f":"+hlavicka!C38","v":"Kamil Rybář"},null,null,{"$f":"+hlavicka!D17","v":"CZE"},null,"C",{"$f":"+hlavicka!C24","v":"Michal Šváb"},null,null,null,null,null,null,{"$f":"+hlavicka!D24","v":"CZE"}]
[null,{"$f":"+hlavicka!B18","v":"ZRS"},null,null,null,{"$f":"+hlavicka!D18","v":0},null,"D",{"$f":"+hlavicka!C25","v":0},null,null,null,null,null,null,{"$f":"+hlavicka!D25","v":"CZE"}]
[null,{"$f":"+hlavicka!B19","v":"ZZ"},null,null,null,{"$f":"+hlavicka!D19","v":0},null,"E",{"$f":"+hlavicka!C26","v":0},null,null,null,null,null,null,{"$f":"+hlavicka!D26","v":"CZE"}]
[null,"po","st.","jméno","roč.","skok","stylové hodnocení",null,null,null,null,"body",null,null,"1.k","body","body","pohar"]
[null,"ř.","č.","klub",null,"m","A","B","C","D","E","m","st.","celk.","2.k","celk.","žebř.","body"]
[1,{"$f":"IF(VLOOKUP(A13,počty!$L$6:$AP$163,31,0)>=1000,\"M\",VLOOKUP(A13,počty!$L$6:$BR$163,53,0))","v":1},{"$f":"VLOOKUP(A13,počty!$L$6:$AP$163,3,0)","v":13},{"$f":"VLOOKUP(A13,počty!$L$6:$AP$163,4,0)","v":"Zapadlová Sára"},{"$f":"VLOOKUP(A13,počty!$L$6:$AP$163,7,0)","v":2016},{"$f":"VLOOKUP(A13,počty!$L$6:$AP$163,9,0)","v":11.5},{"$f":"VLOOKUP(A13,počty!$L$6:$AP$163,10,0)","v":15},{"$f":"VLOOKUP(A13,počty!$L$6:$AP$163,11,0)","v":15},{"$f":"VLOOKUP(A13,počty!$L$6:$AP$163,12,0)","v":14.5},{"$f":"VLOOKUP(A13,počty!$L$6:$AP$163,13,0)","v":1},{"$f":"VLOOKUP(A13,počty!$L$6:$AP$163,14,0)","v":20},{"$f":"VLOOKUP(A13,počty!$L$6:$AP$163,15,0)","v":51},{"$f":"VLOOKUP(A13,počty!$L$6:$AP$163,16,0)","v":44.5},{"$f":"VLOOKUP(A13,počty!$L$6:$AP$163,17,0)","v":95.5},{"$f":"VLOOKUP(A13,počty!$L$6:$AP$163,18,0)","v":1},{"$f":"VLOOKUP(A13,počty!$L$6:$AP$163,30,0)","v":191},{"$f":"IF(B13=\"M\",\"M\",240-MAX(počty!$BM$6:$BM$39)+P13)","v":240},{"$f":"IF(B13=\"M\",\"M\",IF(B13>MAX(CUP!$B$3:$B$102),0,VLOOKUP(B13,CUP!$B$3:$C$102,2,0)))","v":50}]
[null,null,null,{"$f":"VLOOKUP(A13,počty!$L$6:$AP$163,5,0)","v":"Lyžařský sportovní klub Lomnice nad Popelkou"},{"$f":"VLOOKUP(A13,počty!$L$6:$AP$163,6,0)","v":"CZE"},{"$f":"VLOOKUP(A13,počty!$L$6:$AP$163,20,0)","v":11.5},{"$f":"VLOOKUP(A13,počty!$L$6:$AP$163,21,0)","v":15},{"$f":"VLOOKUP(A13,počty!$L$6:$AP$163,22,0)","v":15},{"$f":"VLOOKUP(A13,počty!$L$6:$AP$163,23,0)","v":14.5},{"$f":"VLOOKUP(A13,počty!$L$6:$AP$163,24,0)","v":1},{"$f":"VLOOKUP(A13,počty!$L$6:$AP$163,25,0)","v":20},{"$f":"VLOOKUP(A13,počty!$L$6:$AP$163,26,0)","v":51},{"$f":"VLOOKUP(A13,počty!$L$6:$AP$163,27,0)","v":44.5},{"$f":"VLOOKUP(A13,počty!$L$6:$AP$163,28,0)","v":95.5},{"$f":"VLOOKUP(A13,počty!$L$6:$AP$163,29,0)","v":1}]
[2,{"$f":"IF(VLOOKUP(A15,počty!$L$6:$AP$163,31,0)>=1000,\"M\",VLOOKUP(A15,počty!$L$6:$BR$163,53,0))","v":2},{"$f":"VLOOKUP(A15,počty!$L$6:$AP$163,3,0)","v":24},{"$f":"VLOOKUP(A15,počty!$L$6:$AP$163,4,0)","v":"Huráňová Karolína"},{"$f":"VLOOKUP(A15,počty!$L$6:$AP$163,7,0)","v":2015},{"$f":"VLOOKUP(A15,počty!$L$6:$AP$163,9,0)","v":11.5},{"$f":"VLOOKUP(A15,počty!$L$6:$AP$163,10,0)","v":14.5},{"$f":"VLOOKUP(A15,počty!$L$6:$AP$163,11,0)","v":15},{"$f":"VLOOKUP(A15,počty!$L$6:$AP$163,12,0)","v":13.5},{"$f":"VLOOKUP(A15,počty!$L$6:$AP$163,13,0)","v":1},{"$f":"VLOOKUP(A15,počty!$L$6:$AP$163,14,0)","v":20},{"$f":"VLOOKUP(A15,počty!$L$6:$AP$163,15,0)","v":51},{"$f":"VLOOKUP(A15,počty!$L$6:$AP$163,16,0)","v":43},{"$f":"VLOOKUP(A15,počty!$L$6:$AP$163,17,0)","v":94},{"$f":"VLOOKUP(A15,počty!$L$6:$AP$163,18,0)","v":3},{"$f":"VLOOKUP(A15,počty!$L$6:$AP$163,30,0)","v":188},{"$f":"IF(B15=\"M\",\"M\",240-MAX(počty!$BM$6:$BM$39)+P15)","v":237},{"$f":"IF(B15=\"M\",\"M\",IF(B15>MAX(CUP!$B$3:$B$102),0,VLOOKUP(B15,CUP!$B$3:$C$102,2,0)))","v":42}]
[null,null,null,{"$f":"VLOOKUP(A15,počty!$L$6:$AP$163,5,0)","v":"Lyžařský sportovní klub Lomnice nad Popelkou"},{"$f":"VLOOKUP(A15,počty!$L$6:$AP$163,6,0)","v":"CZE"},{"$f":"VLOOKUP(A15,počty!$L$6:$AP$163,20,0)","v":11.5},{"$f":"VLOOKUP(A15,počty!$L$6:$AP$163,21,0)","v":14.5},{"$f":"VLOOKUP(A15,počty!$L$6:$AP$163,22,0)","v":15},{"$f":"VLOOKUP(A15,počty!$L$6:$AP$163,23,0)","v":13.5},{"$f":"VLOOKUP(A15,počty!$L$6:$AP$163,24,0)","v":1},{"$f":"VLOOKUP(A15,počty!$L$6:$AP$163,25,0)","v":20},{"$f":"VLOOKUP(A15,počty!$L$6:$AP$163,26,0)","v":51},{"$f":"VLOOKUP(A15,počty!$L$6:$AP$163,27,0)","v":43},{"$f":"VLOOKUP(A15,počty!$L$6:$AP$163,28,0)","v":94},{"$f":"VLOOKUP(A15,počty!$L$6:$AP$163,29,0)","v":2}]
[3,{"$f":"IF(VLOOKUP(A17,počty!$L$6:$AP$163,31,0)>=1000,\"M\",VLOOKUP(A17,počty!$L$6:$BR$163,53,0))","v":3},{"$f":"VLOOKUP(A17,počty!$L$6:$AP$163,3,0)","v":25},{"$f":"VLOOKUP(A17,počty!$L$6:$AP$163,4,0)","v":"Ježek Jakub"},{"$f":"VLOOKUP(A17,počty!$L$6:$AP$163,7,0)","v":2015},{"$f":"VLOOKUP(A17,počty!$L$6:$AP$163,9,0)","v":11},{"$f":"VLOOKUP(A17,počty!$L$6:$AP$163,10,0)","v":14.5},{"$f":"VLOOKUP(A17,počty!$L$6:$AP$163,11,0)","v":14.5},{"$f":"VLOOKUP(A17,počty!$L$6:$AP$163,12,0)","v":13},{"$f":"VLOOKUP(A17,počty!$L$6:$AP$163,13,0)","v":1},{"$f":"VLOOKUP(A17,počty!$L$6:$AP$163,14,0)","v":20},{"$f":"VLOOKUP(A17,počty!$L$6:$AP$163,15,0)","v":48},{"$f":"VLOOKUP(A17,počty!$L$6:$AP$163,16,0)","v":42},{"$f":"VLOOKUP(A17,počty!$L$6:$AP$163,17,0)","v":90},{"$f":"VLOOKUP(A17,počty!$L$6:$AP$163,18,0)","v":4},{"$f":"VLOOKUP(A17,počty!$L$6:$AP$163,30,0)","v":181},{"$f":"IF(B17=\"M\",\"M\",240-MAX(počty!$BM$6:$BM$39)+P17)","v":230},{"$f":"IF(B17=\"M\",\"M\",IF(B17>MAX(CUP!$B$3:$B$102),0,VLOOKUP(B17,CUP!$B$3:$C$102,2,0)))","v":35}]
[null,null,null,{"$f":"VLOOKUP(A17,počty!$L$6:$AP$163,5,0)","v":"Lyžařský sportovní klub Lomnice nad Popelkou"},{"$f":"VLOOKUP(A17,počty!$L$6:$AP$163,6,0)","v":"CZE"},{"$f":"VLOOKUP(A17,počty!$L$6:$AP$163,20,0)","v":11},{"$f":"VLOOKUP(A17,počty!$L$6:$AP$163,21,0)","v":14.5},{"$f":"VLOOKUP(A17,počty!$L$6:$AP$163,22,0)","v":14},{"$f":"VLOOKUP(A17,počty!$L$6:$AP$163,23,0)","v":14.5},{"$f":"VLOOKUP(A17,počty!$L$6:$AP$163,24,0)","v":1},{"$f":"VLOOKUP(A17,počty!$L$6:$AP$163,25,0)","v":20},{"$f":"VLOOKUP(A17,počty!$L$6:$AP$163,26,0)","v":48},{"$f":"VLOOKUP(A17,počty!$L$6:$AP$163,27,0)","v":43},{"$f":"VLOOKUP(A17,počty!$L$6:$AP$163,28,0)","v":91},{"$f":"VLOOKUP(A17,počty!$L$6:$AP$163,29,0)","v":3}]
[4,{"$f":"IF(VLOOKUP(A19,počty!$L$6:$AP$163,31,0)>=1000,\"M\",VLOOKUP(A19,počty!$L$6:$BR$163,53,0))","v":4},{"$f":"VLOOKUP(A19,počty!$L$6:$AP$163,3,0)","v":23},{"$f":"VLOOKUP(A19,počty!$L$6:$AP$163,4,0)","v":"Břečka Matyáš"},{"$f":"VLOOKUP(A19,počty!$L$6:$AP$163,7,0)","v":2014},{"$f":"VLOOKUP(A19,počty!$L$6:$AP$163,9,0)","v":11},{"$f":"VLOOKUP(A19,počty!$L$6:$AP$163,10,0)","v":14.5},{"$f":"VLOOKUP(A19,počty!$L$6:$AP$163,11,0)","v":14},{"$f":"VLOOKUP(A19,počty!$L$6:$AP$163,12,0)","v":13},{"$f":"VLOOKUP(A19,počty!$L$6:$AP$163,13,0)","v":1},{"$f":"VLOOKUP(A19,počty!$L$6:$AP$163,14,0)","v":20},{"$f":"VLOOKUP(A19,počty!$L$6:$AP$163,15,0)","v":48},{"$f":"VLOOKUP(A19,počty!$L$6:$AP$163,16,0)","v":41.5},{"$f":"VLOOKUP(A19,počty!$L$6:$AP$163,17,0)","v":89.5},{"$f":"VLOOKUP(A19,počty!$L$6:$AP$163,18,0)","v":5},{"$f":"VLOOKUP(A19,počty!$L$6:$AP$163,30,0)","v":179},{"$f":"IF(B19=\"M\",\"M\",240-MAX(počty!$BM$6:$BM$39)+P19)","v":228},{"$f":"IF(B19=\"M\",\"M\",IF(B19>MAX(CUP!$B$3:$B$102),0,VLOOKUP(B19,CUP!$B$3:$C$102,2,0)))","v":30}]
[null,null,null,{"$f":"VLOOKUP(A19,počty!$L$6:$AP$163,5,0)","v":"Lyžařský sportovní klub Lomnice nad Popelkou"},{"$f":"VLOOKUP(A19,počty!$L$6:$AP$163,6,0)","v":"CZE"},{"$f":"VLOOKUP(A19,počty!$L$6:$AP$163,20,0)","v":11.5},{"$f":"VLOOKUP(A19,počty!$L$6:$AP$163,21,0)","v":13},{"$f":"VLOOKUP(A19,počty!$L$6:$AP$163,22,0)","v":13},{"$f":"VLOOKUP(A19,počty!$L$6:$AP$163,23,0)","v":12.5},{"$f":"VLOOKUP(A19,počty!$L$6:$AP$163,24,0)","v":1},{"$f":"VLOOKUP(A19,počty!$L$6:$AP$163,25,0)","v":20},{"$f":"VLOOKUP(A19,počty!$L$6:$AP$163,26,0)","v":51},{"$f":"VLOOKUP(A19,počty!$L$6:$AP$163,27,0)","v":38.5},{"$f":"VLOOKUP(A19,počty!$L$6:$AP$163,28,0)","v":89.5},{"$f":"VLOOKUP(A19,počty!$L$6:$AP$163,29,0)","v":4}]
[5,{"$f":"IF(VLOOKUP(A21,počty!$L$6:$AP$163,31,0)>=1000,\"M\",VLOOKUP(A21,počty!$L$6:$BR$163,53,0))","v":5},{"$f":"VLOOKUP(A21,počty!$L$6:$AP$163,3,0)","v":22},{"$f":"VLOOKUP(A21,počty!$L$6:$AP$163,4,0)","v":"Sankot Antonín"},{"$f":"VLOOKUP(A21,počty!$L$6:$AP$163,7,0)","v":2017},{"$f":"VLOOKUP(A21,počty!$L$6:$AP$163,9,0)","v":12},{"$f":"VLOOKUP(A21,počty!$L$6:$AP$163,10,0)","v":14.5},{"$f":"VLOOKUP(A21,počty!$L$6:$AP$163,11,0)","v":14},{"$f":"VLOOKUP(A21,počty!$L$6:$AP$163,12,0)","v":13},{"$f":"VLOOKUP(A21,počty!$L$6:$AP$163,13,0)","v":1},{"$f":"VLOOKUP(A21,počty!$L$6:$AP$163,14,0)","v":20},{"$f":"VLOOKUP(A21,počty!$L$6:$AP$163,15,0)","v":54},{"$f":"VLOOKUP(A21,počty!$L$6:$AP$163,16,0)","v":41.5},{"$f":"VLOOKUP(A21,počty!$L$6:$AP$163,17,0)","v":95.5},{"$f":"VLOOKUP(A21,počty!$L$6:$AP$163,18,0)","v":1},{"$f":"VLOOKUP(A21,počty!$L$6:$AP$163,30,0)","v":176.5},{"$f":"IF(B21=\"M\",\"M\",240-MAX(počty!$BM$6:$BM$39)+P21)","v":225.5},{"$f":"IF(B21=\"M\",\"M\",IF(B21>MAX(CUP!$B$3:$B$102),0,VLOOKUP(B21,CUP!$B$3:$C$102,2,0)))","v":26}]
[null,null,null,{"$f":"VLOOKUP(A21,počty!$L$6:$AP$163,5,0)","v":"Lyžařský sportovní klub Lomnice nad Popelkou"},{"$f":"VLOOKUP(A21,počty!$L$6:$AP$163,6,0)","v":"CZE"},{"$f":"VLOOKUP(A21,počty!$L$6:$AP$163,20,0)","v":12.5},{"$f":"VLOOKUP(A21,počty!$L$6:$AP$163,21,0)","v":8},{"$f":"VLOOKUP(A21,počty!$L$6:$AP$163,22,0)","v":8},{"$f":"VLOOKUP(A21,počty!$L$6:$AP$163,23,0)","v":8},{"$f":"VLOOKUP(A21,počty!$L$6:$AP$163,24,0)","v":1},{"$f":"VLOOKUP(A21,počty!$L$6:$AP$163,25,0)","v":20},{"$f":"VLOOKUP(A21,počty!$L$6:$AP$163,26,0)","v":57},{"$f":"VLOOKUP(A21,počty!$L$6:$AP$163,27,0)","v":24},{"$f":"VLOOKUP(A21,počty!$L$6:$AP$163,28,0)","v":81},{"$f":"VLOOKUP(A21,počty!$L$6:$AP$163,29,0)","v":5}]
[6,{"$f":"IF(VLOOKUP(A23,počty!$L$6:$AP$163,31,0)>=1000,\"M\",VLOOKUP(A23,počty!$L$6:$BR$163,53,0))","v":{"$error":"#N/A"}},{"$f":"VLOOKUP(A23,počty!$L$6:$AP$163,3,0)","v":{"$error":"#N/A"}},{"$f":"VLOOKUP(A23,počty!$L$6:$AP$163,4,0)","v":{"$error":"#N/A"}},{"$f":"VLOOKUP(A23,počty!$L$6:$AP$163,7,0)","v":{"$error":"#N/A"}},{"$f":"VLOOKUP(A23,počty!$L$6:$AP$163,9,0)","v":{"$error":"#N/A"}},{"$f":"VLOOKUP(A23,počty!$L$6:$AP$163,10,0)","v":{"$error":"#N/A"}},{"$f":"VLOOKUP(A23,počty!$L$6:$AP$163,11,0)","v":{"$error":"#N/A"}},{"$f":"VLOOKUP(A23,počty!$L$6:$AP$163,12,0)","v":{"$error":"#N/A"}},{"$f":"VLOOKUP(A23,počty!$L$6:$AP$163,13,0)","v":{"$error":"#N/A"}},{"$f":"VLOOKUP(A23,počty!$L$6:$AP$163,14,0)","v":{"$error":"#N/A"}},{"$f":"VLOOKUP(A23,počty!$L$6:$AP$163,15,0)","v":{"$error":"#N/A"}},{"$f":"VLOOKUP(A23,počty!$L$6:$AP$163,16,0)","v":{"$error":"#N/A"}},{"$f":"VLOOKUP(A23,počty!$L$6:$AP$163,17,0)","v":{"$error":"#N/A"}},{"$f":"VLOOKUP(A23,počty!$L$6:$AP$163,18,0)","v":{"$error":"#N/A"}},{"$f":"VLOOKUP(A23,počty!$L$6:$AP$163,30,0)","v":{"$error":"#N/A"}},{"$f":"IF(B23=\"M\",\"M\",240-MAX(počty!$BM$6:$BM$39)+P23)","v":{"$error":"#N/A"}},{"$f":"IF(B23=\"M\",\"M\",IF(B23>MAX(CUP!$B$3:$B$102),0,VLOOKUP(B23,CUP!$B$3:$C$102,2,0)))","v":{"$error":"#N/A"}}]
[null,null,null,{"$f":"VLOOKUP(A23,počty!$L$6:$AP$163,5,0)","v":{"$error":"#N/A"}},{"$f":"VLOOKUP(A23,počty!$L$6:$AP$163,6,0)","v":{"$error":"#N/A"}},{"$f":"VLOOKUP(A23,počty!$L$6:$AP$163,20,0)","v":{"$error":"#N/A"}},{"$f":"VLOOKUP(A23,počty!$L$6:$AP$163,21,0)","v":{"$error":"#N/A"}},{"$f":"VLOOKUP(A23,počty!$L$6:$AP$163,22,0)","v":{"$error":"#N/A"}},{"$f":"VLOOKUP(A23,počty!$L$6:$AP$163,23,0)","v":{"$error":"#N/A"}},{"$f":"VLOOKUP(A23,počty!$L$6:$AP$163,24,0)","v":{"$error":"#N/A"}},{"$f":"VLOOKUP(A23,počty!$L$6:$AP$163,25,0)","v":{"$error":"#N/A"}},{"$f":"VLOOKUP(A23,počty!$L$6:$AP$163,26,0)","v":{"$error":"#N/A"}},{"$f":"VLOOKUP(A23,počty!$L$6:$AP$163,27,0)","v":{"$error":"#N/A"}},{"$f":"VLOOKUP(A23,počty!$L$6:$AP$163,28,0)","v":{"$error":"#N/A"}},{"$f":"VLOOKUP(A23,počty!$L$6:$AP$163,29,0)","v":{"$error":"#N/A"}}]
[7,{"$f":"IF(VLOOKUP(A25,počty!$L$6:$AP$163,31,0)>=1000,\"M\",VLOOKUP(A25,počty!$L$6:$BR$163,53,0))","v":{"$error":"#N/A"}},{"$f":"VLOOKUP(A25,počty!$L$6:$AP$163,3,0)","v":{"$error":"#N/A"}},{"$f":"VLOOKUP(A25,počty!$L$6:$AP$163,4,0)","v":{"$error":"#N/A"}},{"$f":"VLOOKUP(A25,počty!$L$6:$AP$163,7,0)","v":{"$error":"#N/A"}},{"$f":"VLOOKUP(A25,počty!$L$6:$AP$163,9,0)","v":{"$error":"#N/A"}},{"$f":"VLOOKUP(A25,počty!$L$6:$AP$163,10,0)","v":{"$error":"#N/A"}},{"$f":"VLOOKUP(A25,počty!$L$6:$AP$163,11,0)","v":{"$error":"#N/A"}},{"$f":"VLOOKUP(A25,počty!$L$6:$AP$163,12,0)","v":{"$error":"#N/A"}},{"$f":"VLOOKUP(A25,počty!$L$6:$AP$163,13,0)","v":{"$error":"#N/A"}},{"$f":"VLOOKUP(A25,počty!$L$6:$AP$163,14,0)","v":{"$error":"#N/A"}},{"$f":"VLOOKUP(A25,počty!$L$6:$AP$163,15,0)","v":{"$error":"#N/A"}},{"$f":"VLOOKUP(A25,počty!$L$6:$AP$163,16,0)","v":{"$error":"#N/A"}},{"$f":"VLOOKUP(A25,počty!$L$6:$AP$163,17,0)","v":{"$error":"#N/A"}},{"$f":"VLOOKUP(A25,počty!$L$6:$AP$163,18,0)","v":{"$error":"#N/A"}},{"$f":"VLOOKUP(A25,počty!$L$6:$AP$163,30,0)","v":{"$error":"#N/A"}},{"$f":"IF(B25=\"M\",\"M\",240-MAX(počty!$BM$6:$BM$39)+P25)","v":{"$error":"#N/A"}},{"$f":"IF(B25=\"M\",\"M\",IF(B25>MAX(CUP!$B$3:$B$102),0,VLOOKUP(B25,CUP!$B$3:$C$102,2,0)))","v":{"$error":"#N/A"}}]
[null,null,null,{"$f":"VLOOKUP(A25,počty!$L$6:$AP$163,5,0)","v":{"$error":"#N/A"}},{"$f":"VLOOKUP(A25,počty!$L$6:$AP$163,6,0)","v":{"$error":"#N/A"}},{"$f":"VLOOKUP(A25,počty!$L$6:$AP$163,20,0)","v":{"$error":"#N/A"}},{"$f":"VLOOKUP(A25,počty!$L$6:$AP$163,21,0)","v":{"$error":"#N/A"}},{"$f":"VLOOKUP(A25,počty!$L$6:$AP$163,22,0)","v":{"$error":"#N/A"}},{"$f":"VLOOKUP(A25,počty!$L$6:$AP$163,23,0)","v":{"$error":"#N/A"}},{"$f":"VLOOKUP(A25,počty!$L$6:$AP$163,24,0)","v":{"$error":"#N/A"}},{"$f":"VLOOKUP(A25,počty!$L$6:$AP$163,25,0)","v":{"$error":"#N/A"}},{"$f":"VLOOKUP(A25,počty!$L$6:$AP$163,26,0)","v":{"$error":"#N/A"}},{"$f":"VLOOKUP(A25,počty!$L$6:$AP$163,27,0)","v":{"$error":"#N/A"}},{"$f":"VLOOKUP(A25,počty!$L$6:$AP$163,28,0)","v":{"$error":"#N/A"}},{"$f":"VLOOKUP(A25,počty!$L$6:$AP$163,29,0)","v":{"$error":"#N/A"}}]
[8,{"$f":"IF(VLOOKUP(A27,počty!$L$6:$AP$163,31,0)>=1000,\"M\",VLOOKUP(A27,počty!$L$6:$BR$163,53,0))","v":{"$error":"#N/A"}},{"$f":"VLOOKUP(A27,počty!$L$6:$AP$163,3,0)","v":{"$error":"#N/A"}},{"$f":"VLOOKUP(A27,počty!$L$6:$AP$163,4,0)","v":{"$error":"#N/A"}},{"$f":"VLOOKUP(A27,počty!$L$6:$AP$163,7,0)","v":{"$error":"#N/A"}},{"$f":"VLOOKUP(A27,počty!$L$6:$AP$163,9,0)","v":{"$error":"#N/A"}},{"$f":"VLOOKUP(A27,počty!$L$6:$AP$163,10,0)","v":{"$error":"#N/A"}},{"$f":"VLOOKUP(A27,počty!$L$6:$AP$163,11,0)","v":{"$error":"#N/A"}},{"$f":"VLOOKUP(A27,počty!$L$6:$AP$163,12,0)","v":{"$error":"#N/A"}},{"$f":"VLOOKUP(A27,počty!$L$6:$AP$163,13,0)","v":{"$error":"#N/A"}},{"$f":"VLOOKUP(A27,počty!$L$6:$AP$163,14,0)","v":{"$error":"#N/A"}},{"$f":"VLOOKUP(A27,počty!$L$6:$AP$163,15,0)","v":{"$error":"#N/A"}},{"$f":"VLOOKUP(A27,počty!$L$6:$AP$163,16,0)","v":{"$error":"#N/A"}},{"$f":"VLOOKUP(A27,počty!$L$6:$AP$163,17,0)","v":{"$error":"#N/A"}},{"$f":"VLOOKUP(A27,počty!$L$6:$AP$163,18,0)","v":{"$error":"#N/A"}},{"$f":"VLOOKUP(A27,počty!$L$6:$AP$163,30,0)","v":{"$error":"#N/A"}},{"$f":"IF(B27=\"M\",\"M\",240-MAX(počty!$BM$6:$BM$39)+P27)","v":{"$error":"#N/A"}},{"$f":"IF(B27=\"M\",\"M\",IF(B27>MAX(CUP!$B$3:$B$102),0,VLOOKUP(B27,CUP!$B$3:$C$102,2,0)))","v":{"$error":"#N/A"}}]
[null,null,null,{"$f":"VLOOKUP(A27,počty!$L$6:$AP$163,5,0)","v":{"$error":"#N/A"}},{"$f":"VLOOKUP(A27,počty!$L$6:$AP$163,6,0)","v":{"$error":"#N/A"}},{"$f":"VLOOKUP(A27,počty!$L$6:$AP$163,20,0)","v":{"$error":"#N/A"}},{"$f":"VLOOKUP(A27,počty!$L$6:$AP$163,21,0)","v":{"$error":"#N/A"}},{"$f":"VLOOKUP(A27,počty!$L$6:$AP$163,22,0)","v":{"$error":"#N/A"}},{"$f":"VLOOKUP(A27,počty!$L$6:$AP$163,23,0)","v":{"$error":"#N/A"}},{"$f":"VLOOKUP(A27,počty!$L$6:$AP$163,24,0)","v":{"$error":"#N/A"}},{"$f":"VLOOKUP(A27,počty!$L$6:$AP$163,25,0)","v":{"$error":"#N/A"}},{"$f":"VLOOKUP(A27,počty!$L$6:$AP$163,26,0)","v":{"$error":"#N/A"}},{"$f":"VLOOKUP(A27,počty!$L$6:$AP$163,27,0)","v":{"$error":"#N/A"}},{"$f":"VLOOKUP(A27,počty!$L$6:$AP$163,28,0)","v":{"$error":"#N/A"}},{"$f":"VLOOKUP(A27,počty!$L$6:$AP$163,29,0)","v":{"$error":"#N/A"}}]
[9,{"$f":"IF(VLOOKUP(A29,počty!$L$6:$AP$163,31,0)>=1000,\"M\",VLOOKUP(A29,počty!$L$6:$BR$163,53,0))","v":{"$error":"#N/A"}},{"$f":"VLOOKUP(A29,počty!$L$6:$AP$163,3,0)","v":{"$error":"#N/A"}},{"$f":"VLOOKUP(A29,počty!$L$6:$AP$163,4,0)","v":{"$error":"#N/A"}},{"$f":"VLOOKUP(A29,počty!$L$6:$AP$163,7,0)","v":{"$error":"#N/A"}},{"$f":"VLOOKUP(A29,počty!$L$6:$AP$163,9,0)","v":{"$error":"#N/A"}},{"$f":"VLOOKUP(A29,počty!$L$6:$AP$163,10,0)","v":{"$error":"#N/A"}},{"$f":"VLOOKUP(A29,počty!$L$6:$AP$163,11,0)","v":{"$error":"#N/A"}},{"$f":"VLOOKUP(A29,počty!$L$6:$AP$163,12,0)","v":{"$error":"#N/A"}},{"$f":"VLOOKUP(A29,počty!$L$6:$AP$163,13,0)","v":{"$error":"#N/A"}},{"$f":"VLOOKUP(A29,počty!$L$6:$AP$163,14,0)","v":{"$error":"#N/A"}},{"$f":"VLOOKUP(A29,počty!$L$6:$AP$163,15,0)","v":{"$error":"#N/A"}},{"$f":"VLOOKUP(A29,počty!$L$6:$AP$163,16,0)","v":{"$error":"#N/A"}},{"$f":"VLOOKUP(A29,počty!$L$6:$AP$163,17,0)","v":{"$error":"#N/A"}},{"$f":"VLOOKUP(A29,počty!$L$6:$AP$163,18,0)","v":{"$error":"#N/A"}},{"$f":"VLOOKUP(A29,počty!$L$6:$AP$163,30,0)","v":{"$error":"#N/A"}},{"$f":"IF(B29=\"M\",\"M\",240-MAX(počty!$BM$6:$BM$39)+P29)","v":{"$error":"#N/A"}},{"$f":"IF(B29=\"M\",\"M\",IF(B29>MAX(CUP!$B$3:$B$102),0,VLOOKUP(B29,CUP!$B$3:$C$102,2,0)))","v":{"$error":"#N/A"}}]
[null,null,null,{"$f":"VLOOKUP(A29,počty!$L$6:$AP$163,5,0)","v":{"$error":"#N/A"}},{"$f":"VLOOKUP(A29,počty!$L$6:$AP$163,6,0)","v":{"$error":"#N/A"}},{"$f":"VLOOKUP(A29,počty!$L$6:$AP$163,20,0)","v":{"$error":"#N/A"}},{"$f":"VLOOKUP(A29,počty!$L$6:$AP$163,21,0)","v":{"$error":"#N/A"}},{"$f":"VLOOKUP(A29,počty!$L$6:$AP$163,22,0)","v":{"$error":"#N/A"}},{"$f":"VLOOKUP(A29,počty!$L$6:$AP$163,23,0)","v":{"$error":"#N/A"}},{"$f":"VLOOKUP(A29,počty!$L$6:$AP$163,24,0)","v":{"$error":"#N/A"}},{"$f":"VLOOKUP(A29,počty!$L$6:$AP$163,25,0)","v":{"$error":"#N/A"}},{"$f":"VLOOKUP(A29,počty!$L$6:$AP$163,26,0)","v":{"$error":"#N/A"}},{"$f":"VLOOKUP(A29,počty!$L$6:$AP$163,27,0)","v":{"$error":"#N/A"}},{"$f":"VLOOKUP(A29,počty!$L$6:$AP$163,28,0)","v":{"$error":"#N/A"}},{"$f":"VLOOKUP(A29,počty!$L$6:$AP$163,29,0)","v":{"$error":"#N/A"}}]
[10,{"$f":"IF(VLOOKUP(A31,počty!$L$6:$AP$163,31,0)>=1000,\"M\",VLOOKUP(A31,počty!$L$6:$BR$163,53,0))","v":{"$error":"#N/A"}},{"$f":"VLOOKUP(A31,počty!$L$6:$AP$163,3,0)","v":{"$error":"#N/A"}},{"$f":"VLOOKUP(A31,počty!$L$6:$AP$163,4,0)","v":{"$error":"#N/A"}},{"$f":"VLOOKUP(A31,počty!$L$6:$AP$163,7,0)","v":{"$error":"#N/A"}},{"$f":"VLOOKUP(A31,počty!$L$6:$AP$163,9,0)","v":{"$error":"#N/A"}},{"$f":"VLOOKUP(A31,počty!$L$6:$AP$163,10,0)","v":{"$error":"#N/A"}},{"$f":"VLOOKUP(A31,počty!$L$6:$AP$163,11,0)","v":{"$error":"#N/A"}},{"$f":"VLOOKUP(A31,počty!$L$6:$AP$163,12,0)","v":{"$error":"#N/A"}},{"$f":"VLOOKUP(A31,počty!$L$6:$AP$163,13,0)","v":{"$error":"#N/A"}},{"$f":"VLOOKUP(A31,počty!$L$6:$AP$163,14,0)","v":{"$error":"#N/A"}},{"$f":"VLOOKUP(A31,počty!$L$6:$AP$163,15,0)","v":{"$error":"#N/A"}},{"$f":"VLOOKUP(A31,počty!$L$6:$AP$163,16,0)","v":{"$error":"#N/A"}},{"$f":"VLOOKUP(A31,počty!$L$6:$AP$163,17,0)","v":{"$error":"#N/A"}},{"$f":"VLOOKUP(A31,počty!$L$6:$AP$163,18,0)","v":{"$error":"#N/A"}},{"$f":"VLOOKUP(A31,počty!$L$6:$AP$163,30,0)","v":{"$error":"#N/A"}},{"$f":"IF(B31=\"M\",\"M\",240-MAX(počty!$BM$6:$BM$39)+P31)","v":{"$error":"#N/A"}},{"$f":"IF(B31=\"M\",\"M\",IF(B31>MAX(CUP!$B$3:$B$102),0,VLOOKUP(B31,CUP!$B$3:$C$102,2,0)))","v":{"$error":"#N/A"}}]
[null,null,null,{"$f":"VLOOKUP(A31,počty!$L$6:$AP$163,5,0)","v":{"$error":"#N/A"}},{"$f":"VLOOKUP(A31,počty!$L$6:$AP$163,6,0)","v":{"$error":"#N/A"}},{"$f":"VLOOKUP(A31,počty!$L$6:$AP$163,20,0)","v":{"$error":"#N/A"}},{"$f":"VLOOKUP(A31,počty!$L$6:$AP$163,21,0)","v":{"$error":"#N/A"}},{"$f":"VLOOKUP(A31,počty!$L$6:$AP$163,22,0)","v":{"$error":"#N/A"}},{"$f":"VLOOKUP(A31,počty!$L$6:$AP$163,23,0)","v":{"$error":"#N/A"}},{"$f":"VLOOKUP(A31,počty!$L$6:$AP$163,24,0)","v":{"$error":"#N/A"}},{"$f":"VLOOKUP(A31,počty!$L$6:$AP$163,25,0)","v":{"$error":"#N/A"}},{"$f":"VLOOKUP(A31,počty!$L$6:$AP$163,26,0)","v":{"$error":"#N/A"}},{"$f":"VLOOKUP(A31,počty!$L$6:$AP$163,27,0)","v":{"$error":"#N/A"}},{"$f":"VLOOKUP(A31,počty!$L$6:$AP$163,28,0)","v":{"$error":"#N/A"}},{"$f":"VLOOKUP(A31,počty!$L$6:$AP$163,29,0)","v":{"$error":"#N/A"}}]
[11,{"$f":"IF(VLOOKUP(A33,počty!$L$6:$AP$163,31,0)>=1000,\"M\",VLOOKUP(A33,počty!$L$6:$BR$163,53,0))","v":{"$error":"#N/A"}},{"$f":"VLOOKUP(A33,počty!$L$6:$AP$163,3,0)","v":{"$error":"#N/A"}},{"$f":"VLOOKUP(A33,počty!$L$6:$AP$163,4,0)","v":{"$error":"#N/A"}},{"$f":"VLOOKUP(A33,počty!$L$6:$AP$163,7,0)","v":{"$error":"#N/A"}},{"$f":"VLOOKUP(A33,počty!$L$6:$AP$163,9,0)","v":{"$error":"#N/A"}},{"$f":"VLOOKUP(A33,počty!$L$6:$AP$163,10,0)","v":{"$error":"#N/A"}},{"$f":"VLOOKUP(A33,počty!$L$6:$AP$163,11,0)","v":{"$error":"#N/A"}},{"$f":"VLOOKUP(A33,počty!$L$6:$AP$163,12,0)","v":{"$error":"#N/A"}},{"$f":"VLOOKUP(A33,počty!$L$6:$AP$163,13,0)","v":{"$error":"#N/A"}},{"$f":"VLOOKUP(A33,počty!$L$6:$AP$163,14,0)","v":{"$error":"#N/A"}},{"$f":"VLOOKUP(A33,počty!$L$6:$AP$163,15,0)","v":{"$error":"#N/A"}},{"$f":"VLOOKUP(A33,počty!$L$6:$AP$163,16,0)","v":{"$error":"#N/A"}},{"$f":"VLOOKUP(A33,počty!$L$6:$AP$163,17,0)","v":{"$error":"#N/A"}},{"$f":"VLOOKUP(A33,počty!$L$6:$AP$163,18,0)","v":{"$error":"#N/A"}},{"$f":"VLOOKUP(A33,počty!$L$6:$AP$163,30,0)","v":{"$error":"#N/A"}},{"$f":"IF(B33=\"M\",\"M\",240-MAX(počty!$BM$6:$BM$39)+P33)","v":{"$error":"#N/A"}},{"$f":"IF(B33=\"M\",\"M\",IF(B33>MAX(CUP!$B$3:$B$102),0,VLOOKUP(B33,CUP!$B$3:$C$102,2,0)))","v":{"$error":"#N/A"}}]
[null,null,null,{"$f":"VLOOKUP(A33,počty!$L$6:$AP$163,5,0)","v":{"$error":"#N/A"}},{"$f":"VLOOKUP(A33,počty!$L$6:$AP$163,6,0)","v":{"$error":"#N/A"}},{"$f":"VLOOKUP(A33,počty!$L$6:$AP$163,20,0)","v":{"$error":"#N/A"}},{"$f":"VLOOKUP(A33,počty!$L$6:$AP$163,21,0)","v":{"$error":"#N/A"}},{"$f":"VLOOKUP(A33,počty!$L$6:$AP$163,22,0)","v":{"$error":"#N/A"}},{"$f":"VLOOKUP(A33,počty!$L$6:$AP$163,23,0)","v":{"$error":"#N/A"}},{"$f":"VLOOKUP(A33,počty!$L$6:$AP$163,24,0)","v":{"$error":"#N/A"}},{"$f":"VLOOKUP(A33,počty!$L$6:$AP$163,25,0)","v":{"$error":"#N/A"}},{"$f":"VLOOKUP(A33,počty!$L$6:$AP$163,26,0)","v":{"$error":"#N/A"}},{"$f":"VLOOKUP(A33,počty!$L$6:$AP$163,27,0)","v":{"$error":"#N/A"}},{"$f":"VLOOKUP(A33,počty!$L$6:$AP$163,28,0)","v":{"$error":"#N/A"}},{"$f":"VLOOKUP(A33,počty!$L$6:$AP$163,29,0)","v":{"$error":"#N/A"}}]
[12,{"$f":"IF(VLOOKUP(A35,počty!$L$6:$AP$163,31,0)>=1000,\"M\",VLOOKUP(A35,počty!$L$6:$BR$163,53,0))","v":{"$error":"#N/A"}},{"$f":"VLOOKUP(A35,počty!$L$6:$AP$163,3,0)","v":{"$error":"#N/A"}},{"$f":"VLOOKUP(A35,počty!$L$6:$AP$163,4,0)","v":{"$error":"#N/A"}},{"$f":"VLOOKUP(A35,počty!$L$6:$AP$163,7,0)","v":{"$error":"#N/A"}},{"$f":"VLOOKUP(A35,počty!$L$6:$AP$163,9,0)","v":{"$error":"#N/A"}},{"$f":"VLOOKUP(A35,počty!$L$6:$AP$163,10,0)","v":{"$error":"#N/A"}},{"$f":"VLOOKUP(A35,počty!$L$6:$AP$163,11,0)","v":{"$error":"#N/A"}},{"$f":"VLOOKUP(A35,počty!$L$6:$AP$163,12,0)","v":{"$error":"#N/A"}},{"$f":"VLOOKUP(A35,počty!$L$6:$AP$163,13,0)","v":{"$error":"#N/A"}},{"$f":"VLOOKUP(A35,počty!$L$6:$AP$163,14,0)","v":{"$error":"#N/A"}},{"$f":"VLOOKUP(A35,počty!$L$6:$AP$163,15,0)","v":{"$error":"#N/A"}},{"$f":"VLOOKUP(A35,počty!$L$6:$AP$163,16,0)","v":{"$error":"#N/A"}},{"$f":"VLOOKUP(A35,počty!$L$6:$AP$163,17,0)","v":{"$error":"#N/A"}},{"$f":"VLOOKUP(A35,počty!$L$6:$AP$163,18,0)","v":{"$error":"#N/A"}},{"$f":"VLOOKUP(A35,počty!$L$6:$AP$163,30,0)","v":{"$error":"#N/A"}},{"$f":"IF(B35=\"M\",\"M\",240-MAX(počty!$BM$6:$BM$39)+P35)","v":{"$error":"#N/A"}},{"$f":"IF(B35=\"M\",\"M\",IF(B35>MAX(CUP!$B$3:$B$102),0,VLOOKUP(B35,CUP!$B$3:$C$102,2,0)))","v":{"$error":"#N/A"}}]
[null,null,null,{"$f":"VLOOKUP(A35,počty!$L$6:$AP$163,5,0)","v":{"$error":"#N/A"}},{"$f":"VLOOKUP(A35,počty!$L$6:$AP$163,6,0)","v":{"$error":"#N/A"}},{"$f":"VLOOKUP(A35,počty!$L$6:$AP$163,20,0)","v":{"$error":"#N/A"}},{"$f":"VLOOKUP(A35,počty!$L$6:$AP$163,21,0)","v":{"$error":"#N/A"}},{"$f":"VLOOKUP(A35,počty!$L$6:$AP$163,22,0)","v":{"$error":"#N/A"}},{"$f":"VLOOKUP(A35,počty!$L$6:$AP$163,23,0)","v":{"$error":"#N/A"}},{"$f":"VLOOKUP(A35,počty!$L$6:$AP$163,24,0)","v":{"$error":"#N/A"}},{"$f":"VLOOKUP(A35,počty!$L$6:$AP$163,25,0)","v":{"$error":"#N/A"}},{"$f":"VLOOKUP(A35,počty!$L$6:$AP$163,26,0)","v":{"$error":"#N/A"}},{"$f":"VLOOKUP(A35,počty!$L$6:$AP$163,27,0)","v":{"$error":"#N/A"}},{"$f":"VLOOKUP(A35,počty!$L$6:$AP$163,28,0)","v":{"$error":"#N/A"}},{"$f":"VLOOKUP(A35,počty!$L$6:$AP$163,29,0)","v":{"$error":"#N/A"}}]
[13,{"$f":"IF(VLOOKUP(A37,počty!$L$6:$AP$163,31,0)>=1000,\"M\",VLOOKUP(A37,počty!$L$6:$BR$163,53,0))","v":{"$error":"#N/A"}},{"$f":"VLOOKUP(A37,počty!$L$6:$AP$163,3,0)","v":{"$error":"#N/A"}},{"$f":"VLOOKUP(A37,počty!$L$6:$AP$163,4,0)","v":{"$error":"#N/A"}},{"$f":"VLOOKUP(A37,počty!$L$6:$AP$163,7,0)","v":{"$error":"#N/A"}},{"$f":"VLOOKUP(A37,počty!$L$6:$AP$163,9,0)","v":{"$error":"#N/A"}},{"$f":"VLOOKUP(A37,počty!$L$6:$AP$163,10,0)","v":{"$error":"#N/A"}},{"$f":"VLOOKUP(A37,počty!$L$6:$AP$163,11,0)","v":{"$error":"#N/A"}},{"$f":"VLOOKUP(A37,počty!$L$6:$AP$163,12,0)","v":{"$error":"#N/A"}},{"$f":"VLOOKUP(A37,počty!$L$6:$AP$163,13,0)","v":{"$error":"#N/A"}},{"$f":"VLOOKUP(A37,počty!$L$6:$AP$163,14,0)","v":{"$error":"#N/A"}},{"$f":"VLOOKUP(A37,počty!$L$6:$AP$163,15,0)","v":{"$error":"#N/A"}},{"$f":"VLOOKUP(A37,počty!$L$6:$AP$163,16,0)","v":{"$error":"#N/A"}},{"$f":"VLOOKUP(A37,počty!$L$6:$AP$163,17,0)","v":{"$error":"#N/A"}},{"$f":"VLOOKUP(A37,počty!$L$6:$AP$163,18,0)","v":{"$error":"#N/A"}},{"$f":"VLOOKUP(A37,počty!$L$6:$AP$163,30,0)","v":{"$error":"#N/A"}},{"$f":"IF(B37=\"M\",\"M\",240-MAX(počty!$BM$6:$BM$39)+P37)","v":{"$error":"#N/A"}},{"$f":"IF(B37=\"M\",\"M\",IF(B37>MAX(CUP!$B$3:$B$102),0,VLOOKUP(B37,CUP!$B$3:$C$102,2,0)))","v":{"$error":"#N/A"}}]
[null,null,null,{"$f":"VLOOKUP(A37,počty!$L$6:$AP$163,5,0)","v":{"$error":"#N/A"}},{"$f":"VLOOKUP(A37,počty!$L$6:$AP$163,6,0)","v":{"$error":"#N/A"}},{"$f":"VLOOKUP(A37,počty!$L$6:$AP$163,20,0)","v":{"$error":"#N/A"}},{"$f":"VLOOKUP(A37,počty!$L$6:$AP$163,21,0)","v":{"$error":"#N/A"}},{"$f":"VLOOKUP(A37,počty!$L$6:$AP$163,22,0)","v":{"$error":"#N/A"}},{"$f":"VLOOKUP(A37,počty!$L$6:$AP$163,23,0)","v":{"$error":"#N/A"}},{"$f":"VLOOKUP(A37,počty!$L$6:$AP$163,24,0)","v":{"$error":"#N/A"}},{"$f":"VLOOKUP(A37,počty!$L$6:$AP$163,25,0)","v":{"$error":"#N/A"}},{"$f":"VLOOKUP(A37,počty!$L$6:$AP$163,26,0)","v":{"$error":"#N/A"}},{"$f":"VLOOKUP(A37,počty!$L$6:$AP$163,27,0)","v":{"$error":"#N/A"}},{"$f":"VLOOKUP(A37,počty!$L$6:$AP$163,28,0)","v":{"$error":"#N/A"}},{"$f":"VLOOKUP(A37,počty!$L$6:$AP$163,29,0)","v":{"$error":"#N/A"}}]
[14,{"$f":"IF(VLOOKUP(A39,počty!$L$6:$AP$163,31,0)>=1000,\"M\",VLOOKUP(A39,počty!$L$6:$BR$163,53,0))","v":{"$error":"#N/A"}},{"$f":"VLOOKUP(A39,počty!$L$6:$AP$163,3,0)","v":{"$error":"#N/A"}},{"$f":"VLOOKUP(A39,počty!$L$6:$AP$163,4,0)","v":{"$error":"#N/A"}},{"$f":"VLOOKUP(A39,počty!$L$6:$AP$163,7,0)","v":{"$error":"#N/A"}},{"$f":"VLOOKUP(A39,počty!$L$6:$AP$163,9,0)","v":{"$error":"#N/A"}},{"$f":"VLOOKUP(A39,počty!$L$6:$AP$163,10,0)","v":{"$error":"#N/A"}},{"$f":"VLOOKUP(A39,počty!$L$6:$AP$163,11,0)","v":{"$error":"#N/A"}},{"$f":"VLOOKUP(A39,počty!$L$6:$AP$163,12,0)","v":{"$error":"#N/A"}},{"$f":"VLOOKUP(A39,počty!$L$6:$AP$163,13,0)","v":{"$error":"#N/A"}},{"$f":"VLOOKUP(A39,počty!$L$6:$AP$163,14,0)","v":{"$error":"#N/A"}},{"$f":"VLOOKUP(A39,počty!$L$6:$AP$163,15,0)","v":{"$error":"#N/A"}},{"$f":"VLOOKUP(A39,počty!$L$6:$AP$163,16,0)","v":{"$error":"#N/A"}},{"$f":"VLOOKUP(A39,počty!$L$6:$AP$163,17,0)","v":{"$error":"#N/A"}},{"$f":"VLOOKUP(A39,počty!$L$6:$AP$163,18,0)","v":{"$error":"#N/A"}},{"$f":"VLOOKUP(A39,počty!$L$6:$AP$163,30,0)","v":{"$error":"#N/A"}},{"$f":"IF(B39=\"M\",\"M\",240-MAX(počty!$BM$6:$BM$39)+P39)","v":{"$error":"#N/A"}},{"$f":"IF(B39=\"M\",\"M\",IF(B39>MAX(CUP!$B$3:$B$102),0,VLOOKUP(B39,CUP!$B$3:$C$102,2,0)))","v":{"$error":"#N/A"}}]
[null,null,null,{"$f":"VLOOKUP(A39,počty!$L$6:$AP$163,5,0)","v":{"$error":"#N/A"}},{"$f":"VLOOKUP(A39,počty!$L$6:$AP$163,6,0)","v":{"$error":"#N/A"}},{"$f":"VLOOKUP(A39,počty!$L$6:$AP$163,20,0)","v":{"$error":"#N/A"}},{"$f":"VLOOKUP(A39,počty!$L$6:$AP$163,21,0)","v":{"$error":"#N/A"}},{"$f":"VLOOKUP(A39,počty!$L$6:$AP$163,22,0)","v":{"$error":"#N/A"}},{"$f":"VLOOKUP(A39,počty!$L$6:$AP$163,23,0)","v":{"$error":"#N/A"}},{"$f":"VLOOKUP(A39,počty!$L$6:$AP$163,24,0)","v":{"$error":"#N/A"}},{"$f":"VLOOKUP(A39,počty!$L$6:$AP$163,25,0)","v":{"$error":"#N/A"}},{"$f":"VLOOKUP(A39,počty!$L$6:$AP$163,26,0)","v":{"$error":"#N/A"}},{"$f":"VLOOKUP(A39,počty!$L$6:$AP$163,27,0)","v":{"$error":"#N/A"}},{"$f":"VLOOKUP(A39,počty!$L$6:$AP$163,28,0)","v":{"$error":"#N/A"}},{"$f":"VLOOKUP(A39,počty!$L$6:$AP$163,29,0)","v":{"$error":"#N/A"}}]
[15,{"$f":"IF(VLOOKUP(A41,počty!$L$6:$AP$163,31,0)>=1000,\"M\",VLOOKUP(A41,počty!$L$6:$BR$163,53,0))","v":{"$error":"#N/A"}},{"$f":"VLOOKUP(A41,počty!$L$6:$AP$163,3,0)","v":{"$error":"#N/A"}},{"$f":"VLOOKUP(A41,počty!$L$6:$AP$163,4,0)","v":{"$error":"#N/A"}},{"$f":"VLOOKUP(A41,počty!$L$6:$AP$163,7,0)","v":{"$error":"#N/A"}},{"$f":"VLOOKUP(A41,počty!$L$6:$AP$163,9,0)","v":{"$error":"#N/A"}},{"$f":"VLOOKUP(A41,počty!$L$6:$AP$163,10,0)","v":{"$error":"#N/A"}},{"$f":"VLOOKUP(A41,počty!$L$6:$AP$163,11,0)","v":{"$error":"#N/A"}},{"$f":"VLOOKUP(A41,počty!$L$6:$AP$163,12,0)","v":{"$error":"#N/A"}},{"$f":"VLOOKUP(A41,počty!$L$6:$AP$163,13,0)","v":{"$error":"#N/A"}},{"$f":"VLOOKUP(A41,počty!$L$6:$AP$163,14,0)","v":{"$error":"#N/A"}},{"$f":"VLOOKUP(A41,počty!$L$6:$AP$163,15,0)","v":{"$error":"#N/A"}},{"$f":"VLOOKUP(A41,počty!$L$6:$AP$163,16,0)","v":{"$error":"#N/A"}},{"$f":"VLOOKUP(A41,počty!$L$6:$AP$163,17,0)","v":{"$error":"#N/A"}},{"$f":"VLOOKUP(A41,počty!$L$6:$AP$163,18,0)","v":{"$error":"#N/A"}},{"$f":"VLOOKUP(A41,počty!$L$6:$AP$163,30,0)","v":{"$error":"#N/A"}},{"$f":"IF(B41=\"M\",\"M\",240-MAX(počty!$BM$6:$BM$39)+P41)","v":{"$error":"#N/A"}},{"$f":"IF(B41=\"M\",\"M\",IF(B41>MAX(CUP!$B$3:$B$102),0,VLOOKUP(B41,CUP!$B$3:$C$102,2,0)))","v":{"$error":"#N/A"}}]
[null,null,null,{"$f":"VLOOKUP(A41,počty!$L$6:$AP$163,5,0)","v":{"$error":"#N/A"}},{"$f":"VLOOKUP(A41,počty!$L$6:$AP$163,6,0)","v":{"$error":"#N/A"}},{"$f":"VLOOKUP(A41,počty!$L$6:$AP$163,20,0)","v":{"$error":"#N/A"}},{"$f":"VLOOKUP(A41,počty!$L$6:$AP$163,21,0)","v":{"$error":"#N/A"}},{"$f":"VLOOKUP(A41,počty!$L$6:$AP$163,22,0)","v":{"$error":"#N/A"}},{"$f":"VLOOKUP(A41,počty!$L$6:$AP$163,23,0)","v":{"$error":"#N/A"}},{"$f":"VLOOKUP(A41,počty!$L$6:$AP$163,24,0)","v":{"$error":"#N/A"}},{"$f":"VLOOKUP(A41,počty!$L$6:$AP$163,25,0)","v":{"$error":"#N/A"}},{"$f":"VLOOKUP(A41,počty!$L$6:$AP$163,26,0)","v":{"$error":"#N/A"}},{"$f":"VLOOKUP(A41,počty!$L$6:$AP$163,27,0)","v":{"$error":"#N/A"}},{"$f":"VLOOKUP(A41,počty!$L$6:$AP$163,28,0)","v":{"$error":"#N/A"}},{"$f":"VLOOKUP(A41,počty!$L$6:$AP$163,29,0)","v":{"$error":"#N/A"}}]
[16,{"$f":"IF(VLOOKUP(A43,počty!$L$6:$AP$163,31,0)>=1000,\"M\",VLOOKUP(A43,počty!$L$6:$BR$163,53,0))","v":{"$error":"#N/A"}},{"$f":"VLOOKUP(A43,počty!$L$6:$AP$163,3,0)","v":{"$error":"#N/A"}},{"$f":"VLOOKUP(A43,počty!$L$6:$AP$163,4,0)","v":{"$error":"#N/A"}},{"$f":"VLOOKUP(A43,počty!$L$6:$AP$163,7,0)","v":{"$error":"#N/A"}},{"$f":"VLOOKUP(A43,počty!$L$6:$AP$163,9,0)","v":{"$error":"#N/A"}},{"$f":"VLOOKUP(A43,počty!$L$6:$AP$163,10,0)","v":{"$error":"#N/A"}},{"$f":"VLOOKUP(A43,počty!$L$6:$AP$163,11,0)","v":{"$error":"#N/A"}},{"$f":"VLOOKUP(A43,počty!$L$6:$AP$163,12,0)","v":{"$error":"#N/A"}},{"$f":"VLOOKUP(A43,počty!$L$6:$AP$163,13,0)","v":{"$error":"#N/A"}},{"$f":"VLOOKUP(A43,počty!$L$6:$AP$163,14,0)","v":{"$error":"#N/A"}},{"$f":"VLOOKUP(A43,počty!$L$6:$AP$163,15,0)","v":{"$error":"#N/A"}},{"$f":"VLOOKUP(A43,počty!$L$6:$AP$163,16,0)","v":{"$error":"#N/A"}},{"$f":"VLOOKUP(A43,počty!$L$6:$AP$163,17,0)","v":{"$error":"#N/A"}},{"$f":"VLOOKUP(A43,počty!$L$6:$AP$163,18,0)","v":{"$error":"#N/A"}},{"$f":"VLOOKUP(A43,počty!$L$6:$AP$163,30,0)","v":{"$error":"#N/A"}},{"$f":"IF(B43=\"M\",\"M\",240-MAX(počty!$BM$6:$BM$39)+P43)","v":{"$error":"#N/A"}},{"$f":"IF(B43=\"M\",\"M\",IF(B43>MAX(CUP!$B$3:$B$102),0,VLOOKUP(B43,CUP!$B$3:$C$102,2,0)))","v":{"$error":"#N/A"}}]
[null,null,null,{"$f":"VLOOKUP(A43,počty!$L$6:$AP$163,5,0)","v":{"$error":"#N/A"}},{"$f":"VLOOKUP(A43,počty!$L$6:$AP$163,6,0)","v":{"$error":"#N/A"}},{"$f":"VLOOKUP(A43,počty!$L$6:$AP$163,20,0)","v":{"$error":"#N/A"}},{"$f":"VLOOKUP(A43,počty!$L$6:$AP$163,21,0)","v":{"$error":"#N/A"}},{"$f":"VLOOKUP(A43,počty!$L$6:$AP$163,22,0)","v":{"$error":"#N/A"}},{"$f":"VLOOKUP(A43,počty!$L$6:$AP$163,23,0)","v":{"$error":"#N/A"}},{"$f":"VLOOKUP(A43,počty!$L$6:$AP$163,24,0)","v":{"$error":"#N/A"}},{"$f":"VLOOKUP(A43,počty!$L$6:$AP$163,25,0)","v":{"$error":"#N/A"}},{"$f":"VLOOKUP(A43,počty!$L$6:$AP$163,26,0)","v":{"$error":"#N/A"}},{"$f":"VLOOKUP(A43,počty!$L$6:$AP$163,27,0)","v":{"$error":"#N/A"}},{"$f":"VLOOKUP(A43,počty!$L$6:$AP$163,28,0)","v":{"$error":"#N/A"}},{"$f":"VLOOKUP(A43,počty!$L$6:$AP$163,29,0)","v":{"$error":"#N/A"}}]
[17,{"$f":"IF(VLOOKUP(A45,počty!$L$6:$AP$163,31,0)>=1000,\"M\",VLOOKUP(A45,počty!$L$6:$BR$163,53,0))","v":{"$error":"#N/A"}},{"$f":"VLOOKUP(A45,počty!$L$6:$AP$163,3,0)","v":{"$error":"#N/A"}},{"$f":"VLOOKUP(A45,počty!$L$6:$AP$163,4,0)","v":{"$error":"#N/A"}},{"$f":"VLOOKUP(A45,počty!$L$6:$AP$163,7,0)","v":{"$error":"#N/A"}},{"$f":"VLOOKUP(A45,počty!$L$6:$AP$163,9,0)","v":{"$error":"#N/A"}},{"$f":"VLOOKUP(A45,počty!$L$6:$AP$163,10,0)","v":{"$error":"#N/A"}},{"$f":"VLOOKUP(A45,počty!$L$6:$AP$163,11,0)","v":{"$error":"#N/A"}},{"$f":"VLOOKUP(A45,počty!$L$6:$AP$163,12,0)","v":{"$error":"#N/A"}},{"$f":"VLOOKUP(A45,počty!$L$6:$AP$163,13,0)","v":{"$error":"#N/A"}},{"$f":"VLOOKUP(A45,počty!$L$6:$AP$163,14,0)","v":{"$error":"#N/A"}},{"$f":"VLOOKUP(A45,počty!$L$6:$AP$163,15,0)","v":{"$error":"#N/A"}},{"$f":"VLOOKUP(A45,počty!$L$6:$AP$163,16,0)","v":{"$error":"#N/A"}},{"$f":"VLOOKUP(A45,počty!$L$6:$AP$163,17,0)","v":{"$error":"#N/A"}},{"$f":"VLOOKUP(A45,počty!$L$6:$AP$163,18,0)","v":{"$error":"#N/A"}},{"$f":"VLOOKUP(A45,počty!$L$6:$AP$163,30,0)","v":{"$error":"#N/A"}},{"$f":"IF(B45=\"M\",\"M\",240-MAX(počty!$BM$6:$BM$39)+P45)","v":{"$error":"#N/A"}},{"$f":"IF(B45=\"M\",\"M\",IF(B45>MAX(CUP!$B$3:$B$102),0,VLOOKUP(B45,CUP!$B$3:$C$102,2,0)))","v":{"$error":"#N/A"}}]
[null,null,null,{"$f":"VLOOKUP(A45,počty!$L$6:$AP$163,5,0)","v":{"$error":"#N/A"}},{"$f":"VLOOKUP(A45,počty!$L$6:$AP$163,6,0)","v":{"$error":"#N/A"}},{"$f":"VLOOKUP(A45,počty!$L$6:$AP$163,20,0)","v":{"$error":"#N/A"}},{"$f":"VLOOKUP(A45,počty!$L$6:$AP$163,21,0)","v":{"$error":"#N/A"}},{"$f":"VLOOKUP(A45,počty!$L$6:$AP$163,22,0)","v":{"$error":"#N/A"}},{"$f":"VLOOKUP(A45,počty!$L$6:$AP$163,23,0)","v":{"$error":"#N/A"}},{"$f":"VLOOKUP(A45,počty!$L$6:$AP$163,24,0)","v":{"$error":"#N/A"}},{"$f":"VLOOKUP(A45,počty!$L$6:$AP$163,25,0)","v":{"$error":"#N/A"}},{"$f":"VLOOKUP(A45,počty!$L$6:$AP$163,26,0)","v":{"$error":"#N/A"}},{"$f":"VLOOKUP(A45,počty!$L$6:$AP$163,27,0)","v":{"$error":"#N/A"}},{"$f":"VLOOKUP(A45,počty!$L$6:$AP$163,28,0)","v":{"$error":"#N/A"}},{"$f":"VLOOKUP(A45,počty!$L$6:$AP$163,29,0)","v":{"$error":"#N/A"}}]
[18,{"$f":"IF(VLOOKUP(A47,počty!$L$6:$AP$163,31,0)>=1000,\"M\",VLOOKUP(A47,počty!$L$6:$BR$163,53,0))","v":{"$error":"#N/A"}},{"$f":"VLOOKUP(A47,počty!$L$6:$AP$163,3,0)","v":{"$error":"#N/A"}},{"$f":"VLOOKUP(A47,počty!$L$6:$AP$163,4,0)","v":{"$error":"#N/A"}},{"$f":"VLOOKUP(A47,počty!$L$6:$AP$163,7,0)","v":{"$error":"#N/A"}},{"$f":"VLOOKUP(A47,počty!$L$6:$AP$163,9,0)","v":{"$error":"#N/A"}},{"$f":"VLOOKUP(A47,počty!$L$6:$AP$163,10,0)","v":{"$error":"#N/A"}},{"$f":"VLOOKUP(A47,počty!$L$6:$AP$163,11,0)","v":{"$error":"#N/A"}},{"$f":"VLOOKUP(A47,počty!$L$6:$AP$163,12,0)","v":{"$error":"#N/A"}},{"$f":"VLOOKUP(A47,počty!$L$6:$AP$163,13,0)","v":{"$error":"#N/A"}},{"$f":"VLOOKUP(A47,počty!$L$6:$AP$163,14,0)","v":{"$error":"#N/A"}},{"$f":"VLOOKUP(A47,počty!$L$6:$AP$163,15,0)","v":{"$error":"#N/A"}},{"$f":"VLOOKUP(A47,počty!$L$6:$AP$163,16,0)","v":{"$error":"#N/A"}},{"$f":"VLOOKUP(A47,počty!$L$6:$AP$163,17,0)","v":{"$error":"#N/A"}},{"$f":"VLOOKUP(A47,počty!$L$6:$AP$163,18,0)","v":{"$error":"#N/A"}},{"$f":"VLOOKUP(A47,počty!$L$6:$AP$163,30,0)","v":{"$error":"#N/A"}},{"$f":"IF(B47=\"M\",\"M\",240-MAX(počty!$BM$6:$BM$39)+P47)","v":{"$error":"#N/A"}},{"$f":"IF(B47=\"M\",\"M\",IF(B47>MAX(CUP!$B$3:$B$102),0,VLOOKUP(B47,CUP!$B$3:$C$102,2,0)))","v":{"$error":"#N/A"}}]
[null,null,null,{"$f":"VLOOKUP(A47,počty!$L$6:$AP$163,5,0)","v":{"$error":"#N/A"}},{"$f":"VLOOKUP(A47,počty!$L$6:$AP$163,6,0)","v":{"$error":"#N/A"}},{"$f":"VLOOKUP(A47,počty!$L$6:$AP$163,20,0)","v":{"$error":"#N/A"}},{"$f":"VLOOKUP(A47,počty!$L$6:$AP$163,21,0)","v":{"$error":"#N/A"}},{"$f":"VLOOKUP(A47,počty!$L$6:$AP$163,22,0)","v":{"$error":"#N/A"}},{"$f":"VLOOKUP(A47,počty!$L$6:$AP$163,23,0)","v":{"$error":"#N/A"}},{"$f":"VLOOKUP(A47,počty!$L$6:$AP$163,24,0)","v":{"$error":"#N/A"}},{"$f":"VLOOKUP(A47,počty!$L$6:$AP$163,25,0)","v":{"$error":"#N/A"}},{"$f":"VLOOKUP(A47,počty!$L$6:$AP$163,26,0)","v":{"$error":"#N/A"}},{"$f":"VLOOKUP(A47,počty!$L$6:$AP$163,27,0)","v":{"$error":"#N/A"}},{"$f":"VLOOKUP(A47,počty!$L$6:$AP$163,28,0)","v":{"$error":"#N/A"}},{"$f":"VLOOKUP(A47,počty!$L$6:$AP$163,29,0)","v":{"$error":"#N/A"}}]
[19,{"$f":"IF(VLOOKUP(A49,počty!$L$6:$AP$163,31,0)>=1000,\"M\",VLOOKUP(A49,počty!$L$6:$BR$163,53,0))","v":{"$error":"#N/A"}},{"$f":"VLOOKUP(A49,počty!$L$6:$AP$163,3,0)","v":{"$error":"#N/A"}},{"$f":"VLOOKUP(A49,počty!$L$6:$AP$163,4,0)","v":{"$error":"#N/A"}},{"$f":"VLOOKUP(A49,počty!$L$6:$AP$163,7,0)","v":{"$error":"#N/A"}},{"$f":"VLOOKUP(A49,počty!$L$6:$AP$163,9,0)","v":{"$error":"#N/A"}},{"$f":"VLOOKUP(A49,počty!$L$6:$AP$163,10,0)","v":{"$error":"#N/A"}},{"$f":"VLOOKUP(A49,počty!$L$6:$AP$163,11,0)","v":{"$error":"#N/A"}},{"$f":"VLOOKUP(A49,počty!$L$6:$AP$163,12,0)","v":{"$error":"#N/A"}},{"$f":"VLOOKUP(A49,počty!$L$6:$AP$163,13,0)","v":{"$error":"#N/A"}},{"$f":"VLOOKUP(A49,počty!$L$6:$AP$163,14,0)","v":{"$error":"#N/A"}},{"$f":"VLOOKUP(A49,počty!$L$6:$AP$163,15,0)","v":{"$error":"#N/A"}},{"$f":"VLOOKUP(A49,počty!$L$6:$AP$163,16,0)","v":{"$error":"#N/A"}},{"$f":"VLOOKUP(A49,počty!$L$6:$AP$163,17,0)","v":{"$error":"#N/A"}},{"$f":"VLOOKUP(A49,počty!$L$6:$AP$163,18,0)","v":{"$error":"#N/A"}},{"$f":"VLOOKUP(A49,počty!$L$6:$AP$163,30,0)","v":{"$error":"#N/A"}},{"$f":"IF(B49=\"M\",\"M\",240-MAX(počty!$BM$6:$BM$39)+P49)","v":{"$error":"#N/A"}},{"$f":"IF(B49=\"M\",\"M\",IF(B49>MAX(CUP!$B$3:$B$102),0,VLOOKUP(B49,CUP!$B$3:$C$102,2,0)))","v":{"$error":"#N/A"}}]
[null,null,null,{"$f":"VLOOKUP(A49,počty!$L$6:$AP$163,5,0)","v":{"$error":"#N/A"}},{"$f":"VLOOKUP(A49,počty!$L$6:$AP$163,6,0)","v":{"$error":"#N/A"}},{"$f":"VLOOKUP(A49,počty!$L$6:$AP$163,20,0)","v":{"$error":"#N/A"}},{"$f":"VLOOKUP(A49,počty!$L$6:$AP$163,21,0)","v":{"$error":"#N/A"}},{"$f":"VLOOKUP(A49,počty!$L$6:$AP$163,22,0)","v":{"$error":"#N/A"}},{"$f":"VLOOKUP(A49,počty!$L$6:$AP$163,23,0)","v":{"$error":"#N/A"}},{"$f":"VLOOKUP(A49,počty!$L$6:$AP$163,24,0)","v":{"$error":"#N/A"}},{"$f":"VLOOKUP(A49,počty!$L$6:$AP$163,25,0)","v":{"$error":"#N/A"}},{"$f":"VLOOKUP(A49,počty!$L$6:$AP$163,26,0)","v":{"$error":"#N/A"}},{"$f":"VLOOKUP(A49,počty!$L$6:$AP$163,27,0)","v":{"$error":"#N/A"}},{"$f":"VLOOKUP(A49,počty!$L$6:$AP$163,28,0)","v":{"$error":"#N/A"}},{"$f":"VLOOKUP(A49,počty!$L$6:$AP$163,29,0)","v":{"$error":"#N/A"}}]
[20,{"$f":"IF(VLOOKUP(A51,počty!$L$6:$AP$163,31,0)>=1000,\"M\",VLOOKUP(A51,počty!$L$6:$BR$163,53,0))","v":{"$error":"#N/A"}},{"$f":"VLOOKUP(A51,počty!$L$6:$AP$163,3,0)","v":{"$error":"#N/A"}},{"$f":"VLOOKUP(A51,počty!$L$6:$AP$163,4,0)","v":{"$error":"#N/A"}},{"$f":"VLOOKUP(A51,počty!$L$6:$AP$163,7,0)","v":{"$error":"#N/A"}},{"$f":"VLOOKUP(A51,počty!$L$6:$AP$163,9,0)","v":{"$error":"#N/A"}},{"$f":"VLOOKUP(A51,počty!$L$6:$AP$163,10,0)","v":{"$error":"#N/A"}},{"$f":"VLOOKUP(A51,počty!$L$6:$AP$163,11,0)","v":{"$error":"#N/A"}},{"$f":"VLOOKUP(A51,počty!$L$6:$AP$163,12,0)","v":{"$error":"#N/A"}},{"$f":"VLOOKUP(A51,počty!$L$6:$AP$163,13,0)","v":{"$error":"#N/A"}},{"$f":"VLOOKUP(A51,počty!$L$6:$AP$163,14,0)","v":{"$error":"#N/A"}},{"$f":"VLOOKUP(A51,počty!$L$6:$AP$163,15,0)","v":{"$error":"#N/A"}},{"$f":"VLOOKUP(A51,počty!$L$6:$AP$163,16,0)","v":{"$error":"#N/A"}},{"$f":"VLOOKUP(A51,počty!$L$6:$AP$163,17,0)","v":{"$error":"#N/A"}},{"$f":"VLOOKUP(A51,počty!$L$6:$AP$163,18,0)","v":{"$error":"#N/A"}},{"$f":"VLOOKUP(A51,počty!$L$6:$AP$163,30,0)","v":{"$error":"#N/A"}},{"$f":"IF(B51=\"M\",\"M\",240-MAX(počty!$BM$6:$BM$39)+P51)","v":{"$error":"#N/A"}},{"$f":"IF(B51=\"M\",\"M\",IF(B51>MAX(CUP!$B$3:$B$102),0,VLOOKUP(B51,CUP!$B$3:$C$102,2,0)))","v":{"$error":"#N/A"}}]
[null,null,null,{"$f":"VLOOKUP(A51,počty!$L$6:$AP$163,5,0)","v":{"$error":"#N/A"}},{"$f":"VLOOKUP(A51,počty!$L$6:$AP$163,6,0)","v":{"$error":"#N/A"}},{"$f":"VLOOKUP(A51,počty!$L$6:$AP$163,20,0)","v":{"$error":"#N/A"}},{"$f":"VLOOKUP(A51,počty!$L$6:$AP$163,21,0)","v":{"$error":"#N/A"}},{"$f":"VLOOKUP(A51,počty!$L$6:$AP$163,22,0)","v":{"$error":"#N/A"}},{"$f":"VLOOKUP(A51,počty!$L$6:$AP$163,23,0)","v":{"$error":"#N/A"}},{"$f":"VLOOKUP(A51,počty!$L$6:$AP$163,24,0)","v":{"$error":"#N/A"}},{"$f":"VLOOKUP(A51,počty!$L$6:$AP$163,25,0)","v":{"$error":"#N/A"}},{"$f":"VLOOKUP(A51,počty!$L$6:$AP$163,26,0)","v":{"$error":"#N/A"}},{"$f":"VLOOKUP(A51,počty!$L$6:$AP$163,27,0)","v":{"$error":"#N/A"}},{"$f":"VLOOKUP(A51,počty!$L$6:$AP$163,28,0)","v":{"$error":"#N/A"}},{"$f":"VLOOKUP(A51,počty!$L$6:$AP$163,29,0)","v":{"$error":"#N/A"}}]
[21,{"$f":"IF(VLOOKUP(A53,počty!$L$6:$AP$163,31,0)>=1000,\"M\",VLOOKUP(A53,počty!$L$6:$BR$163,53,0))","v":{"$error":"#N/A"}},{"$f":"VLOOKUP(A53,počty!$L$6:$AP$163,3,0)","v":{"$error":"#N/A"}},{"$f":"VLOOKUP(A53,počty!$L$6:$AP$163,4,0)","v":{"$error":"#N/A"}},{"$f":"VLOOKUP(A53,počty!$L$6:$AP$163,7,0)","v":{"$error":"#N/A"}},{"$f":"VLOOKUP(A53,počty!$L$6:$AP$163,9,0)","v":{"$error":"#N/A"}},{"$f":"VLOOKUP(A53,počty!$L$6:$AP$163,10,0)","v":{"$error":"#N/A"}},{"$f":"VLOOKUP(A53,počty!$L$6:$AP$163,11,0)","v":{"$error":"#N/A"}},{"$f":"VLOOKUP(A53,počty!$L$6:$AP$163,12,0)","v":{"$error":"#N/A"}},{"$f":"VLOOKUP(A53,počty!$L$6:$AP$163,13,0)","v":{"$error":"#N/A"}},{"$f":"VLOOKUP(A53,počty!$L$6:$AP$163,14,0)","v":{"$error":"#N/A"}},{"$f":"VLOOKUP(A53,počty!$L$6:$AP$163,15,0)","v":{"$error":"#N/A"}},{"$f":"VLOOKUP(A53,počty!$L$6:$AP$163,16,0)","v":{"$error":"#N/A"}},{"$f":"VLOOKUP(A53,počty!$L$6:$AP$163,17,0)","v":{"$error":"#N/A"}},{"$f":"VLOOKUP(A53,počty!$L$6:$AP$163,18,0)","v":{"$error":"#N/A"}},{"$f":"VLOOKUP(A53,počty!$L$6:$AP$163,30,0)","v":{"$error":"#N/A"}},{"$f":"IF(B53=\"M\",\"M\",240-MAX(počty!$BM$6:$BM$39)+P53)","v":{"$error":"#N/A"}},{"$f":"IF(B53=\"M\",\"M\",IF(B53>MAX(CUP!$B$3:$B$102),0,VLOOKUP(B53,CUP!$B$3:$C$102,2,0)))","v":{"$error":"#N/A"}}]
[null,null,null,{"$f":"VLOOKUP(A53,počty!$L$6:$AP$163,5,0)","v":{"$error":"#N/A"}},{"$f":"VLOOKUP(A53,počty!$L$6:$AP$163,6,0)","v":{"$error":"#N/A"}},{"$f":"VLOOKUP(A53,počty!$L$6:$AP$163,20,0)","v":{"$error":"#N/A"}},{"$f":"VLOOKUP(A53,počty!$L$6:$AP$163,21,0)","v":{"$error":"#N/A"}},{"$f":"VLOOKUP(A53,počty!$L$6:$AP$163,22,0)","v":{"$error":"#N/A"}},{"$f":"VLOOKUP(A53,počty!$L$6:$AP$163,23,0)","v":{"$error":"#N/A"}},{"$f":"VLOOKUP(A53,počty!$L$6:$AP$163,24,0)","v":{"$error":"#N/A"}},{"$f":"VLOOKUP(A53,počty!$L$6:$AP$163,25,0)","v":{"$error":"#N/A"}},{"$f":"VLOOKUP(A53,počty!$L$6:$AP$163,26,0)","v":{"$error":"#N/A"}},{"$f":"VLOOKUP(A53,počty!$L$6:$AP$163,27,0)","v":{"$error":"#N/A"}},{"$f":"VLOOKUP(A53,počty!$L$6:$AP$163,28,0)","v":{"$error":"#N/A"}},{"$f":"VLOOKUP(A53,počty!$L$6:$AP$163,29,0)","v":{"$error":"#N/A"}}]
[22,{"$f":"IF(VLOOKUP(A55,počty!$L$6:$AP$163,31,0)>=1000,\"M\",VLOOKUP(A55,počty!$L$6:$BR$163,53,0))","v":{"$error":"#N/A"}},{"$f":"VLOOKUP(A55,počty!$L$6:$AP$163,3,0)","v":{"$error":"#N/A"}},{"$f":"VLOOKUP(A55,počty!$L$6:$AP$163,4,0)","v":{"$error":"#N/A"}},{"$f":"VLOOKUP(A55,počty!$L$6:$AP$163,7,0)","v":{"$error":"#N/A"}},{"$f":"VLOOKUP(A55,počty!$L$6:$AP$163,9,0)","v":{"$error":"#N/A"}},{"$f":"VLOOKUP(A55,počty!$L$6:$AP$163,10,0)","v":{"$error":"#N/A"}},{"$f":"VLOOKUP(A55,počty!$L$6:$AP$163,11,0)","v":{"$error":"#N/A"}},{"$f":"VLOOKUP(A55,počty!$L$6:$AP$163,12,0)","v":{"$error":"#N/A"}},{"$f":"VLOOKUP(A55,počty!$L$6:$AP$163,13,0)","v":{"$error":"#N/A"}},{"$f":"VLOOKUP(A55,počty!$L$6:$AP$163,14,0)","v":{"$error":"#N/A"}},{"$f":"VLOOKUP(A55,počty!$L$6:$AP$163,15,0)","v":{"$error":"#N/A"}},{"$f":"VLOOKUP(A55,počty!$L$6:$AP$163,16,0)","v":{"$error":"#N/A"}},{"$f":"VLOOKUP(A55,počty!$L$6:$AP$163,17,0)","v":{"$error":"#N/A"}},{"$f":"VLOOKUP(A55,počty!$L$6:$AP$163,18,0)","v":{"$error":"#N/A"}},{"$f":"VLOOKUP(A55,počty!$L$6:$AP$163,30,0)","v":{"$error":"#N/A"}},{"$f":"IF(B55=\"M\",\"M\",240-MAX(počty!$BM$6:$BM$39)+P55)","v":{"$error":"#N/A"}},{"$f":"IF(B55=\"M\",\"M\",IF(B55>MAX(CUP!$B$3:$B$102),0,VLOOKUP(B55,CUP!$B$3:$C$102,2,0)))","v":{"$error":"#N/A"}}]
[null,null,null,{"$f":"VLOOKUP(A55,počty!$L$6:$AP$163,5,0)","v":{"$error":"#N/A"}},{"$f":"VLOOKUP(A55,počty!$L$6:$AP$163,6,0)","v":{"$error":"#N/A"}},{"$f":"VLOOKUP(A55,počty!$L$6:$AP$163,20,0)","v":{"$error":"#N/A"}},{"$f":"VLOOKUP(A55,počty!$L$6:$AP$163,21,0)","v":{"$error":"#N/A"}},{"$f":"VLOOKUP(A55,počty!$L$6:$AP$163,22,0)","v":{"$error":"#N/A"}},{"$f":"VLOOKUP(A55,počty!$L$6:$AP$163,23,0)","v":{"$error":"#N/A"}},{"$f":"VLOOKUP(A55,počty!$L$6:$AP$163,24,0)","v":{"$error":"#N/A"}},{"$f":"VLOOKUP(A55,počty!$L$6:$AP$163,25,0)","v":{"$error":"#N/A"}},{"$f":"VLOOKUP(A55,počty!$L$6:$AP$163,26,0)","v":{"$error":"#N/A"}},{"$f":"VLOOKUP(A55,počty!$L$6:$AP$163,27,0)","v":{"$error":"#N/A"}},{"$f":"VLOOKUP(A55,počty!$L$6:$AP$163,28,0)","v":{"$error":"#N/A"}},{"$f":"VLOOKUP(A55,počty!$L$6:$AP$163,29,0)","v":{"$error":"#N/A"}}]
[23,{"$f":"IF(VLOOKUP(A57,počty!$L$6:$AP$163,31,0)>=1000,\"M\",VLOOKUP(A57,počty!$L$6:$BR$163,53,0))","v":{"$error":"#N/A"}},{"$f":"VLOOKUP(A57,počty!$L$6:$AP$163,3,0)","v":{"$error":"#N/A"}},{"$f":"VLOOKUP(A57,počty!$L$6:$AP$163,4,0)","v":{"$error":"#N/A"}},{"$f":"VLOOKUP(A57,počty!$L$6:$AP$163,7,0)","v":{"$error":"#N/A"}},{"$f":"VLOOKUP(A57,počty!$L$6:$AP$163,9,0)","v":{"$error":"#N/A"}},{"$f":"VLOOKUP(A57,počty!$L$6:$AP$163,10,0)","v":{"$error":"#N/A"}},{"$f":"VLOOKUP(A57,počty!$L$6:$AP$163,11,0)","v":{"$error":"#N/A"}},{"$f":"VLOOKUP(A57,počty!$L$6:$AP$163,12,0)","v":{"$error":"#N/A"}},{"$f":"VLOOKUP(A57,počty!$L$6:$AP$163,13,0)","v":{"$error":"#N/A"}},{"$f":"VLOOKUP(A57,počty!$L$6:$AP$163,14,0)","v":{"$error":"#N/A"}},{"$f":"VLOOKUP(A57,počty!$L$6:$AP$163,15,0)","v":{"$error":"#N/A"}},{"$f":"VLOOKUP(A57,počty!$L$6:$AP$163,16,0)","v":{"$error":"#N/A"}},{"$f":"VLOOKUP(A57,počty!$L$6:$AP$163,17,0)","v":{"$error":"#N/A"}},{"$f":"VLOOKUP(A57,počty!$L$6:$AP$163,18,0)","v":{"$error":"#N/A"}},{"$f":"VLOOKUP(A57,počty!$L$6:$AP$163,30,0)","v":{"$error":"#N/A"}},{"$f":"IF(B57=\"M\",\"M\",240-MAX(počty!$BM$6:$BM$39)+P57)","v":{"$error":"#N/A"}},{"$f":"IF(B57=\"M\",\"M\",IF(B57>MAX(CUP!$B$3:$B$102),0,VLOOKUP(B57,CUP!$B$3:$C$102,2,0)))","v":{"$error":"#N/A"}}]
[null,null,null,{"$f":"VLOOKUP(A57,počty!$L$6:$AP$163,5,0)","v":{"$error":"#N/A"}},{"$f":"VLOOKUP(A57,počty!$L$6:$AP$163,6,0)","v":{"$error":"#N/A"}},{"$f":"VLOOKUP(A57,počty!$L$6:$AP$163,20,0)","v":{"$error":"#N/A"}},{"$f":"VLOOKUP(A57,počty!$L$6:$AP$163,21,0)","v":{"$error":"#N/A"}},{"$f":"VLOOKUP(A57,počty!$L$6:$AP$163,22,0)","v":{"$error":"#N/A"}},{"$f":"VLOOKUP(A57,počty!$L$6:$AP$163,23,0)","v":{"$error":"#N/A"}},{"$f":"VLOOKUP(A57,počty!$L$6:$AP$163,24,0)","v":{"$error":"#N/A"}},{"$f":"VLOOKUP(A57,počty!$L$6:$AP$163,25,0)","v":{"$error":"#N/A"}},{"$f":"VLOOKUP(A57,počty!$L$6:$AP$163,26,0)","v":{"$error":"#N/A"}},{"$f":"VLOOKUP(A57,počty!$L$6:$AP$163,27,0)","v":{"$error":"#N/A"}},{"$f":"VLOOKUP(A57,počty!$L$6:$AP$163,28,0)","v":{"$error":"#N/A"}},{"$f":"VLOOKUP(A57,počty!$L$6:$AP$163,29,0)","v":{"$error":"#N/A"}}]
[24,{"$f":"IF(VLOOKUP(A59,počty!$L$6:$AP$163,31,0)>=1000,\"M\",VLOOKUP(A59,počty!$L$6:$BR$163,53,0))","v":{"$error":"#N/A"}},{"$f":"VLOOKUP(A59,počty!$L$6:$AP$163,3,0)","v":{"$error":"#N/A"}},{"$f":"VLOOKUP(A59,počty!$L$6:$AP$163,4,0)","v":{"$error":"#N/A"}},{"$f":"VLOOKUP(A59,počty!$L$6:$AP$163,7,0)","v":{"$error":"#N/A"}},{"$f":"VLOOKUP(A59,počty!$L$6:$AP$163,9,0)","v":{"$error":"#N/A"}},{"$f":"VLOOKUP(A59,počty!$L$6:$AP$163,10,0)","v":{"$error":"#N/A"}},{"$f":"VLOOKUP(A59,počty!$L$6:$AP$163,11,0)","v":{"$error":"#N/A"}},{"$f":"VLOOKUP(A59,počty!$L$6:$AP$163,12,0)","v":{"$error":"#N/A"}},{"$f":"VLOOKUP(A59,počty!$L$6:$AP$163,13,0)","v":{"$error":"#N/A"}},{"$f":"VLOOKUP(A59,počty!$L$6:$AP$163,14,0)","v":{"$error":"#N/A"}},{"$f":"VLOOKUP(A59,počty!$L$6:$AP$163,15,0)","v":{"$error":"#N/A"}},{"$f":"VLOOKUP(A59,počty!$L$6:$AP$163,16,0)","v":{"$error":"#N/A"}},{"$f":"VLOOKUP(A59,počty!$L$6:$AP$163,17,0)","v":{"$error":"#N/A"}},{"$f":"VLOOKUP(A59,počty!$L$6:$AP$163,18,0)","v":{"$error":"#N/A"}},{"$f":"VLOOKUP(A59,počty!$L$6:$AP$163,30,0)","v":{"$error":"#N/A"}},{"$f":"IF(B59=\"M\",\"M\",240-MAX(počty!$BM$6:$BM$39)+P59)","v":{"$error":"#N/A"}},{"$f":"IF(B59=\"M\",\"M\",IF(B59>MAX(CUP!$B$3:$B$102),0,VLOOKUP(B59,CUP!$B$3:$C$102,2,0)))","v":{"$error":"#N/A"}}]
[null,null,null,{"$f":"VLOOKUP(A59,počty!$L$6:$AP$163,5,0)","v":{"$error":"#N/A"}},{"$f":"VLOOKUP(A59,počty!$L$6:$AP$163,6,0)","v":{"$error":"#N/A"}},{"$f":"VLOOKUP(A59,počty!$L$6:$AP$163,20,0)","v":{"$error":"#N/A"}},{"$f":"VLOOKUP(A59,počty!$L$6:$AP$163,21,0)","v":{"$error":"#N/A"}},{"$f":"VLOOKUP(A59,počty!$L$6:$AP$163,22,0)","v":{"$error":"#N/A"}},{"$f":"VLOOKUP(A59,počty!$L$6:$AP$163,23,0)","v":{"$error":"#N/A"}},{"$f":"VLOOKUP(A59,počty!$L$6:$AP$163,24,0)","v":{"$error":"#N/A"}},{"$f":"VLOOKUP(A59,počty!$L$6:$AP$163,25,0)","v":{"$error":"#N/A"}},{"$f":"VLOOKUP(A59,počty!$L$6:$AP$163,26,0)","v":{"$error":"#N/A"}},{"$f":"VLOOKUP(A59,počty!$L$6:$AP$163,27,0)","v":{"$error":"#N/A"}},{"$f":"VLOOKUP(A59,počty!$L$6:$AP$163,28,0)","v":{"$error":"#N/A"}},{"$f":"VLOOKUP(A59,počty!$L$6:$AP$163,29,0)","v":{"$error":"#N/A"}}]
[25,{"$f":"IF(VLOOKUP(A61,počty!$L$6:$AP$163,31,0)>=1000,\"M\",VLOOKUP(A61,počty!$L$6:$BR$163,53,0))","v":{"$error":"#N/A"}},{"$f":"VLOOKUP(A61,počty!$L$6:$AP$163,3,0)","v":{"$error":"#N/A"}},{"$f":"VLOOKUP(A61,počty!$L$6:$AP$163,4,0)","v":{"$error":"#N/A"}},{"$f":"VLOOKUP(A61,počty!$L$6:$AP$163,7,0)","v":{"$error":"#N/A"}},{"$f":"VLOOKUP(A61,počty!$L$6:$AP$163,9,0)","v":{"$error":"#N/A"}},{"$f":"VLOOKUP(A61,počty!$L$6:$AP$163,10,0)","v":{"$error":"#N/A"}},{"$f":"VLOOKUP(A61,počty!$L$6:$AP$163,11,0)","v":{"$error":"#N/A"}},{"$f":"VLOOKUP(A61,počty!$L$6:$AP$163,12,0)","v":{"$error":"#N/A"}},{"$f":"VLOOKUP(A61,počty!$L$6:$AP$163,13,0)","v":{"$error":"#N/A"}},{"$f":"VLOOKUP(A61,počty!$L$6:$AP$163,14,0)","v":{"$error":"#N/A"}},{"$f":"VLOOKUP(A61,počty!$L$6:$AP$163,15,0)","v":{"$error":"#N/A"}},{"$f":"VLOOKUP(A61,počty!$L$6:$AP$163,16,0)","v":{"$error":"#N/A"}},{"$f":"VLOOKUP(A61,počty!$L$6:$AP$163,17,0)","v":{"$error":"#N/A"}},{"$f":"VLOOKUP(A61,počty!$L$6:$AP$163,18,0)","v":{"$error":"#N/A"}},{"$f":"VLOOKUP(A61,počty!$L$6:$AP$163,30,0)","v":{"$error":"#N/A"}},{"$f":"IF(B61=\"M\",\"M\",240-MAX(počty!$BM$6:$BM$39)+P61)","v":{"$error":"#N/A"}},{"$f":"IF(B61=\"M\",\"M\",IF(B61>MAX(CUP!$B$3:$B$102),0,VLOOKUP(B61,CUP!$B$3:$C$102,2,0)))","v":{"$error":"#N/A"}}]
[null,null,null,{"$f":"VLOOKUP(A61,počty!$L$6:$AP$163,5,0)","v":{"$error":"#N/A"}},{"$f":"VLOOKUP(A61,počty!$L$6:$AP$163,6,0)","v":{"$error":"#N/A"}},{"$f":"VLOOKUP(A61,počty!$L$6:$AP$163,20,0)","v":{"$error":"#N/A"}},{"$f":"VLOOKUP(A61,počty!$L$6:$AP$163,21,0)","v":{"$error":"#N/A"}},{"$f":"VLOOKUP(A61,počty!$L$6:$AP$163,22,0)","v":{"$error":"#N/A"}},{"$f":"VLOOKUP(A61,počty!$L$6:$AP$163,23,0)","v":{"$error":"#N/A"}},{"$f":"VLOOKUP(A61,počty!$L$6:$AP$163,24,0)","v":{"$error":"#N/A"}},{"$f":"VLOOKUP(A61,počty!$L$6:$AP$163,25,0)","v":{"$error":"#N/A"}},{"$f":"VLOOKUP(A61,počty!$L$6:$AP$163,26,0)","v":{"$error":"#N/A"}},{"$f":"VLOOKUP(A61,počty!$L$6:$AP$163,27,0)","v":{"$error":"#N/A"}},{"$f":"VLOOKUP(A61,počty!$L$6:$AP$163,28,0)","v":{"$error":"#N/A"}},{"$f":"VLOOKUP(A61,počty!$L$6:$AP$163,29,0)","v":{"$error":"#N/A"}}]
[26,{"$f":"IF(VLOOKUP(A63,počty!$L$6:$AP$163,31,0)>=1000,\"M\",VLOOKUP(A63,počty!$L$6:$BR$163,53,0))","v":{"$error":"#N/A"}},{"$f":"VLOOKUP(A63,počty!$L$6:$AP$163,3,0)","v":{"$error":"#N/A"}},{"$f":"VLOOKUP(A63,počty!$L$6:$AP$163,4,0)","v":{"$error":"#N/A"}},{"$f":"VLOOKUP(A63,počty!$L$6:$AP$163,7,0)","v":{"$error":"#N/A"}},{"$f":"VLOOKUP(A63,počty!$L$6:$AP$163,9,0)","v":{"$error":"#N/A"}},{"$f":"VLOOKUP(A63,počty!$L$6:$AP$163,10,0)","v":{"$error":"#N/A"}},{"$f":"VLOOKUP(A63,počty!$L$6:$AP$163,11,0)","v":{"$error":"#N/A"}},{"$f":"VLOOKUP(A63,počty!$L$6:$AP$163,12,0)","v":{"$error":"#N/A"}},{"$f":"VLOOKUP(A63,počty!$L$6:$AP$163,13,0)","v":{"$error":"#N/A"}},{"$f":"VLOOKUP(A63,počty!$L$6:$AP$163,14,0)","v":{"$error":"#N/A"}},{"$f":"VLOOKUP(A63,počty!$L$6:$AP$163,15,0)","v":{"$error":"#N/A"}},{"$f":"VLOOKUP(A63,počty!$L$6:$AP$163,16,0)","v":{"$error":"#N/A"}},{"$f":"VLOOKUP(A63,počty!$L$6:$AP$163,17,0)","v":{"$error":"#N/A"}},{"$f":"VLOOKUP(A63,počty!$L$6:$AP$163,18,0)","v":{"$error":"#N/A"}},{"$f":"VLOOKUP(A63,počty!$L$6:$AP$163,30,0)","v":{"$error":"#N/A"}},{"$f":"IF(B63=\"M\",\"M\",240-MAX(počty!$BM$6:$BM$39)+P63)","v":{"$error":"#N/A"}},{"$f":"IF(B63=\"M\",\"M\",IF(B63>MAX(CUP!$B$3:$B$102),0,VLOOKUP(B63,CUP!$B$3:$C$102,2,0)))","v":{"$error":"#N/A"}}]
[null,null,null,{"$f":"VLOOKUP(A63,počty!$L$6:$AP$163,5,0)","v":{"$error":"#N/A"}},{"$f":"VLOOKUP(A63,počty!$L$6:$AP$163,6,0)","v":{"$error":"#N/A"}},{"$f":"VLOOKUP(A63,počty!$L$6:$AP$163,20,0)","v":{"$error":"#N/A"}},{"$f":"VLOOKUP(A63,počty!$L$6:$AP$163,21,0)","v":{"$error":"#N/A"}},{"$f":"VLOOKUP(A63,počty!$L$6:$AP$163,22,0)","v":{"$error":"#N/A"}},{"$f":"VLOOKUP(A63,počty!$L$6:$AP$163,23,0)","v":{"$error":"#N/A"}},{"$f":"VLOOKUP(A63,počty!$L$6:$AP$163,24,0)","v":{"$error":"#N/A"}},{"$f":"VLOOKUP(A63,počty!$L$6:$AP$163,25,0)","v":{"$error":"#N/A"}},{"$f":"VLOOKUP(A63,počty!$L$6:$AP$163,26,0)","v":{"$error":"#N/A"}},{"$f":"VLOOKUP(A63,počty!$L$6:$AP$163,27,0)","v":{"$error":"#N/A"}},{"$f":"VLOOKUP(A63,počty!$L$6:$AP$163,28,0)","v":{"$error":"#N/A"}},{"$f":"VLOOKUP(A63,počty!$L$6:$AP$163,29,0)","v":{"$error":"#N/A"}}]
[27,{"$f":"IF(VLOOKUP(A65,počty!$L$6:$AP$163,31,0)>=1000,\"M\",VLOOKUP(A65,počty!$L$6:$BR$163,53,0))","v":{"$error":"#N/A"}},{"$f":"VLOOKUP(A65,počty!$L$6:$AP$163,3,0)","v":{"$error":"#N/A"}},{"$f":"VLOOKUP(A65,počty!$L$6:$AP$163,4,0)","v":{"$error":"#N/A"}},{"$f":"VLOOKUP(A65,počty!$L$6:$AP$163,7,0)","v":{"$error":"#N/A"}},{"$f":"VLOOKUP(A65,počty!$L$6:$AP$163,9,0)","v":{"$error":"#N/A"}},{"$f":"VLOOKUP(A65,počty!$L$6:$AP$163,10,0)","v":{"$error":"#N/A"}},{"$f":"VLOOKUP(A65,počty!$L$6:$AP$163,11,0)","v":{"$error":"#N/A"}},{"$f":"VLOOKUP(A65,počty!$L$6:$AP$163,12,0)","v":{"$error":"#N/A"}},{"$f":"VLOOKUP(A65,počty!$L$6:$AP$163,13,0)","v":{"$error":"#N/A"}},{"$f":"VLOOKUP(A65,počty!$L$6:$AP$163,14,0)","v":{"$error":"#N/A"}},{"$f":"VLOOKUP(A65,počty!$L$6:$AP$163,15,0)","v":{"$error":"#N/A"}},{"$f":"VLOOKUP(A65,počty!$L$6:$AP$163,16,0)","v":{"$error":"#N/A"}},{"$f":"VLOOKUP(A65,počty!$L$6:$AP$163,17,0)","v":{"$error":"#N/A"}},{"$f":"VLOOKUP(A65,počty!$L$6:$AP$163,18,0)","v":{"$error":"#N/A"}},{"$f":"VLOOKUP(A65,počty!$L$6:$AP$163,30,0)","v":{"$error":"#N/A"}},{"$f":"IF(B65=\"M\",\"M\",240-MAX(počty!$BM$6:$BM$39)+P65)","v":{"$error":"#N/A"}},{"$f":"IF(B65=\"M\",\"M\",IF(B65>MAX(CUP!$B$3:$B$102),0,VLOOKUP(B65,CUP!$B$3:$C$102,2,0)))","v":{"$error":"#N/A"}}]
[null,null,null,{"$f":"VLOOKUP(A65,počty!$L$6:$AP$163,5,0)","v":{"$error":"#N/A"}},{"$f":"VLOOKUP(A65,počty!$L$6:$AP$163,6,0)","v":{"$error":"#N/A"}},{"$f":"VLOOKUP(A65,počty!$L$6:$AP$163,20,0)","v":{"$error":"#N/A"}},{"$f":"VLOOKUP(A65,počty!$L$6:$AP$163,21,0)","v":{"$error":"#N/A"}},{"$f":"VLOOKUP(A65,počty!$L$6:$AP$163,22,0)","v":{"$error":"#N/A"}},{"$f":"VLOOKUP(A65,počty!$L$6:$AP$163,23,0)","v":{"$error":"#N/A"}},{"$f":"VLOOKUP(A65,počty!$L$6:$AP$163,24,0)","v":{"$error":"#N/A"}},{"$f":"VLOOKUP(A65,počty!$L$6:$AP$163,25,0)","v":{"$error":"#N/A"}},{"$f":"VLOOKUP(A65,počty!$L$6:$AP$163,26,0)","v":{"$error":"#N/A"}},{"$f":"VLOOKUP(A65,počty!$L$6:$AP$163,27,0)","v":{"$error":"#N/A"}},{"$f":"VLOOKUP(A65,počty!$L$6:$AP$163,28,0)","v":{"$error":"#N/A"}},{"$f":"VLOOKUP(A65,počty!$L$6:$AP$163,29,0)","v":{"$error":"#N/A"}}]
[28,{"$f":"IF(VLOOKUP(A67,počty!$L$6:$AP$163,31,0)>=1000,\"M\",VLOOKUP(A67,počty!$L$6:$BR$163,53,0))","v":{"$error":"#N/A"}},{"$f":"VLOOKUP(A67,počty!$L$6:$AP$163,3,0)","v":{"$error":"#N/A"}},{"$f":"VLOOKUP(A67,počty!$L$6:$AP$163,4,0)","v":{"$error":"#N/A"}},{"$f":"VLOOKUP(A67,počty!$L$6:$AP$163,7,0)","v":{"$error":"#N/A"}},{"$f":"VLOOKUP(A67,počty!$L$6:$AP$163,9,0)","v":{"$error":"#N/A"}},{"$f":"VLOOKUP(A67,počty!$L$6:$AP$163,10,0)","v":{"$error":"#N/A"}},{"$f":"VLOOKUP(A67,počty!$L$6:$AP$163,11,0)","v":{"$error":"#N/A"}},{"$f":"VLOOKUP(A67,počty!$L$6:$AP$163,12,0)","v":{"$error":"#N/A"}},{"$f":"VLOOKUP(A67,počty!$L$6:$AP$163,13,0)","v":{"$error":"#N/A"}},{"$f":"VLOOKUP(A67,počty!$L$6:$AP$163,14,0)","v":{"$error":"#N/A"}},{"$f":"VLOOKUP(A67,počty!$L$6:$AP$163,15,0)","v":{"$error":"#N/A"}},{"$f":"VLOOKUP(A67,počty!$L$6:$AP$163,16,0)","v":{"$error":"#N/A"}},{"$f":"VLOOKUP(A67,počty!$L$6:$AP$163,17,0)","v":{"$error":"#N/A"}},{"$f":"VLOOKUP(A67,počty!$L$6:$AP$163,18,0)","v":{"$error":"#N/A"}},{"$f":"VLOOKUP(A67,počty!$L$6:$AP$163,30,0)","v":{"$error":"#N/A"}},{"$f":"IF(B67=\"M\",\"M\",240-MAX(počty!$BM$6:$BM$39)+P67)","v":{"$error":"#N/A"}},{"$f":"IF(B67=\"M\",\"M\",IF(B67>MAX(CUP!$B$3:$B$102),0,VLOOKUP(B67,CUP!$B$3:$C$102,2,0)))","v":{"$error":"#N/A"}}]
[null,null,null,{"$f":"VLOOKUP(A67,počty!$L$6:$AP$163,5,0)","v":{"$error":"#N/A"}},{"$f":"VLOOKUP(A67,počty!$L$6:$AP$163,6,0)","v":{"$error":"#N/A"}},{"$f":"VLOOKUP(A67,počty!$L$6:$AP$163,20,0)","v":{"$error":"#N/A"}},{"$f":"VLOOKUP(A67,počty!$L$6:$AP$163,21,0)","v":{"$error":"#N/A"}},{"$f":"VLOOKUP(A67,počty!$L$6:$AP$163,22,0)","v":{"$error":"#N/A"}},{"$f":"VLOOKUP(A67,počty!$L$6:$AP$163,23,0)","v":{"$error":"#N/A"}},{"$f":"VLOOKUP(A67,počty!$L$6:$AP$163,24,0)","v":{"$error":"#N/A"}},{"$f":"VLOOKUP(A67,počty!$L$6:$AP$163,25,0)","v":{"$error":"#N/A"}},{"$f":"VLOOKUP(A67,počty!$L$6:$AP$163,26,0)","v":{"$error":"#N/A"}},{"$f":"VLOOKUP(A67,počty!$L$6:$AP$163,27,0)","v":{"$error":"#N/A"}},{"$f":"VLOOKUP(A67,počty!$L$6:$AP$163,28,0)","v":{"$error":"#N/A"}},{"$f":"VLOOKUP(A67,počty!$L$6:$AP$163,29,0)","v":{"$error":"#N/A"}}]
[29,{"$f":"IF(VLOOKUP(A69,počty!$L$6:$AP$163,31,0)>=1000,\"M\",VLOOKUP(A69,počty!$L$6:$BR$163,53,0))","v":{"$error":"#N/A"}},{"$f":"VLOOKUP(A69,počty!$L$6:$AP$163,3,0)","v":{"$error":"#N/A"}},{"$f":"VLOOKUP(A69,počty!$L$6:$AP$163,4,0)","v":{"$error":"#N/A"}},{"$f":"VLOOKUP(A69,počty!$L$6:$AP$163,7,0)","v":{"$error":"#N/A"}},{"$f":"VLOOKUP(A69,počty!$L$6:$AP$163,9,0)","v":{"$error":"#N/A"}},{"$f":"VLOOKUP(A69,počty!$L$6:$AP$163,10,0)","v":{"$error":"#N/A"}},{"$f":"VLOOKUP(A69,počty!$L$6:$AP$163,11,0)","v":{"$error":"#N/A"}},{"$f":"VLOOKUP(A69,počty!$L$6:$AP$163,12,0)","v":{"$error":"#N/A"}},{"$f":"VLOOKUP(A69,počty!$L$6:$AP$163,13,0)","v":{"$error":"#N/A"}},{"$f":"VLOOKUP(A69,počty!$L$6:$AP$163,14,0)","v":{"$error":"#N/A"}},{"$f":"VLOOKUP(A69,počty!$L$6:$AP$163,15,0)","v":{"$error":"#N/A"}},{"$f":"VLOOKUP(A69,počty!$L$6:$AP$163,16,0)","v":{"$error":"#N/A"}},{"$f":"VLOOKUP(A69,počty!$L$6:$AP$163,17,0)","v":{"$error":"#N/A"}},{"$f":"VLOOKUP(A69,počty!$L$6:$AP$163,18,0)","v":{"$error":"#N/A"}},{"$f":"VLOOKUP(A69,počty!$L$6:$AP$163,30,0)","v":{"$error":"#N/A"}},{"$f":"IF(B69=\"M\",\"M\",240-MAX(počty!$BM$6:$BM$39)+P69)","v":{"$error":"#N/A"}},{"$f":"IF(B69=\"M\",\"M\",IF(B69>MAX(CUP!$B$3:$B$102),0,VLOOKUP(B69,CUP!$B$3:$C$102,2,0)))","v":{"$error":"#N/A"}}]
[null,null,null,{"$f":"VLOOKUP(A69,počty!$L$6:$AP$163,5,0)","v":{"$error":"#N/A"}},{"$f":"VLOOKUP(A69,počty!$L$6:$AP$163,6,0)","v":{"$error":"#N/A"}},{"$f":"VLOOKUP(A69,počty!$L$6:$AP$163,20,0)","v":{"$error":"#N/A"}},{"$f":"VLOOKUP(A69,počty!$L$6:$AP$163,21,0)","v":{"$error":"#N/A"}},{"$f":"VLOOKUP(A69,počty!$L$6:$AP$163,22,0)","v":{"$error":"#N/A"}},{"$f":"VLOOKUP(A69,počty!$L$6:$AP$163,23,0)","v":{"$error":"#N/A"}},{"$f":"VLOOKUP(A69,počty!$L$6:$AP$163,24,0)","v":{"$error":"#N/A"}},{"$f":"VLOOKUP(A69,počty!$L$6:$AP$163,25,0)","v":{"$error":"#N/A"}},{"$f":"VLOOKUP(A69,počty!$L$6:$AP$163,26,0)","v":{"$error":"#N/A"}},{"$f":"VLOOKUP(A69,počty!$L$6:$AP$163,27,0)","v":{"$error":"#N/A"}},{"$f":"VLOOKUP(A69,počty!$L$6:$AP$163,28,0)","v":{"$error":"#N/A"}},{"$f":"VLOOKUP(A69,počty!$L$6:$AP$163,29,0)","v":{"$error":"#N/A"}}]
[30,{"$f":"IF(VLOOKUP(A71,počty!$L$6:$AP$163,31,0)>=1000,\"M\",VLOOKUP(A71,počty!$L$6:$BR$163,53,0))","v":{"$error":"#N/A"}},{"$f":"VLOOKUP(A71,počty!$L$6:$AP$163,3,0)","v":{"$error":"#N/A"}},{"$f":"VLOOKUP(A71,počty!$L$6:$AP$163,4,0)","v":{"$error":"#N/A"}},{"$f":"VLOOKUP(A71,počty!$L$6:$AP$163,7,0)","v":{"$error":"#N/A"}},{"$f":"VLOOKUP(A71,počty!$L$6:$AP$163,9,0)","v":{"$error":"#N/A"}},{"$f":"VLOOKUP(A71,počty!$L$6:$AP$163,10,0)","v":{"$error":"#N/A"}},{"$f":"VLOOKUP(A71,počty!$L$6:$AP$163,11,0)","v":{"$error":"#N/A"}},{"$f":"VLOOKUP(A71,počty!$L$6:$AP$163,12,0)","v":{"$error":"#N/A"}},{"$f":"VLOOKUP(A71,počty!$L$6:$AP$163,13,0)","v":{"$error":"#N/A"}},{"$f":"VLOOKUP(A71,počty!$L$6:$AP$163,14,0)","v":{"$error":"#N/A"}},{"$f":"VLOOKUP(A71,počty!$L$6:$AP$163,15,0)","v":{"$error":"#N/A"}},{"$f":"VLOOKUP(A71,počty!$L$6:$AP$163,16,0)","v":{"$error":"#N/A"}},{"$f":"VLOOKUP(A71,počty!$L$6:$AP$163,17,0)","v":{"$error":"#N/A"}},{"$f":"VLOOKUP(A71,počty!$L$6:$AP$163,18,0)","v":{"$error":"#N/A"}},{"$f":"VLOOKUP(A71,počty!$L$6:$AP$163,30,0)","v":{"$error":"#N/A"}},{"$f":"IF(B71=\"M\",\"M\",240-MAX(počty!$BM$6:$BM$39)+P71)","v":{"$error":"#N/A"}},{"$f":"IF(B71=\"M\",\"M\",IF(B71>MAX(CUP!$B$3:$B$102),0,VLOOKUP(B71,CUP!$B$3:$C$102,2,0)))","v":{"$error":"#N/A"}}]
[null,null,null,{"$f":"VLOOKUP(A71,počty!$L$6:$AP$163,5,0)","v":{"$error":"#N/A"}},{"$f":"VLOOKUP(A71,počty!$L$6:$AP$163,6,0)","v":{"$error":"#N/A"}},{"$f":"VLOOKUP(A71,počty!$L$6:$AP$163,20,0)","v":{"$error":"#N/A"}},{"$f":"VLOOKUP(A71,počty!$L$6:$AP$163,21,0)","v":{"$error":"#N/A"}},{"$f":"VLOOKUP(A71,počty!$L$6:$AP$163,22,0)","v":{"$error":"#N/A"}},{"$f":"VLOOKUP(A71,počty!$L$6:$AP$163,23,0)","v":{"$error":"#N/A"}},{"$f":"VLOOKUP(A71,počty!$L$6:$AP$163,24,0)","v":{"$error":"#N/A"}},{"$f":"VLOOKUP(A71,počty!$L$6:$AP$163,25,0)","v":{"$error":"#N/A"}},{"$f":"VLOOKUP(A71,počty!$L$6:$AP$163,26,0)","v":{"$error":"#N/A"}},{"$f":"VLOOKUP(A71,počty!$L$6:$AP$163,27,0)","v":{"$error":"#N/A"}},{"$f":"VLOOKUP(A71,počty!$L$6:$AP$163,28,0)","v":{"$error":"#N/A"}},{"$f":"VLOOKUP(A71,počty!$L$6:$AP$163,29,0)","v":{"$error":"#N/A"}}]
[31,{"$f":"IF(VLOOKUP(A73,počty!$L$6:$AP$163,31,0)>=1000,\"M\",VLOOKUP(A73,počty!$L$6:$BR$163,53,0))","v":{"$error":"#N/A"}},{"$f":"VLOOKUP(A73,počty!$L$6:$AP$163,3,0)","v":{"$error":"#N/A"}},{"$f":"VLOOKUP(A73,počty!$L$6:$AP$163,4,0)","v":{"$error":"#N/A"}},{"$f":"VLOOKUP(A73,počty!$L$6:$AP$163,7,0)","v":{"$error":"#N/A"}},{"$f":"VLOOKUP(A73,počty!$L$6:$AP$163,9,0)","v":{"$error":"#N/A"}},{"$f":"VLOOKUP(A73,počty!$L$6:$AP$163,10,0)","v":{"$error":"#N/A"}},{"$f":"VLOOKUP(A73,počty!$L$6:$AP$163,11,0)","v":{"$error":"#N/A"}},{"$f":"VLOOKUP(A73,počty!$L$6:$AP$163,12,0)","v":{"$error":"#N/A"}},{"$f":"VLOOKUP(A73,počty!$L$6:$AP$163,13,0)","v":{"$error":"#N/A"}},{"$f":"VLOOKUP(A73,počty!$L$6:$AP$163,14,0)","v":{"$error":"#N/A"}},{"$f":"VLOOKUP(A73,počty!$L$6:$AP$163,15,0)","v":{"$error":"#N/A"}},{"$f":"VLOOKUP(A73,počty!$L$6:$AP$163,16,0)","v":{"$error":"#N/A"}},{"$f":"VLOOKUP(A73,počty!$L$6:$AP$163,17,0)","v":{"$error":"#N/A"}},{"$f":"VLOOKUP(A73,počty!$L$6:$AP$163,18,0)","v":{"$error":"#N/A"}},{"$f":"VLOOKUP(A73,počty!$L$6:$AP$163,30,0)","v":{"$error":"#N/A"}},{"$f":"IF(B73=\"M\",\"M\",240-MAX(počty!$BM$6:$BM$39)+P73)","v":{"$error":"#N/A"}},{"$f":"IF(B73=\"M\",\"M\",IF(B73>MAX(CUP!$B$3:$B$102),0,VLOOKUP(B73,CUP!$B$3:$C$102,2,0)))","v":{"$error":"#N/A"}}]
[null,null,null,{"$f":"VLOOKUP(A73,počty!$L$6:$AP$163,5,0)","v":{"$error":"#N/A"}},{"$f":"VLOOKUP(A73,počty!$L$6:$AP$163,6,0)","v":{"$error":"#N/A"}},{"$f":"VLOOKUP(A73,počty!$L$6:$AP$163,20,0)","v":{"$error":"#N/A"}},{"$f":"VLOOKUP(A73,počty!$L$6:$AP$163,21,0)","v":{"$error":"#N/A"}},{"$f":"VLOOKUP(A73,počty!$L$6:$AP$163,22,0)","v":{"$error":"#N/A"}},{"$f":"VLOOKUP(A73,počty!$L$6:$AP$163,23,0)","v":{"$error":"#N/A"}},{"$f":"VLOOKUP(A73,počty!$L$6:$AP$163,24,0)","v":{"$error":"#N/A"}},{"$f":"VLOOKUP(A73,počty!$L$6:$AP$163,25,0)","v":{"$error":"#N/A"}},{"$f":"VLOOKUP(A73,počty!$L$6:$AP$163,26,0)","v":{"$error":"#N/A"}},{"$f":"VLOOKUP(A73,počty!$L$6:$AP$163,27,0)","v":{"$error":"#N/A"}},{"$f":"VLOOKUP(A73,počty!$L$6:$AP$163,28,0)","v":{"$error":"#N/A"}},{"$f":"VLOOKUP(A73,počty!$L$6:$AP$163,29,0)","v":{"$error":"#N/A"}}]
[32,{"$f":"IF(VLOOKUP(A75,počty!$L$6:$AP$163,31,0)>=1000,\"M\",VLOOKUP(A75,počty!$L$6:$BR$163,53,0))","v":{"$error":"#N/A"}},{"$f":"VLOOKUP(A75,počty!$L$6:$AP$163,3,0)","v":{"$error":"#N/A"}},{"$f":"VLOOKUP(A75,počty!$L$6:$AP$163,4,0)","v":{"$error":"#N/A"}},{"$f":"VLOOKUP(A75,počty!$L$6:$AP$163,7,0)","v":{"$error":"#N/A"}},{"$f":"VLOOKUP(A75,počty!$L$6:$AP$163,9,0)","v":{"$error":"#N/A"}},{"$f":"VLOOKUP(A75,počty!$L$6:$AP$163,10,0)","v":{"$error":"#N/A"}},{"$f":"VLOOKUP(A75,počty!$L$6:$AP$163,11,0)","v":{"$error":"#N/A"}},{"$f":"VLOOKUP(A75,počty!$L$6:$AP$163,12,0)","v":{"$error":"#N/A"}},{"$f":"VLOOKUP(A75,počty!$L$6:$AP$163,13,0)","v":{"$error":"#N/A"}},{"$f":"VLOOKUP(A75,počty!$L$6:$AP$163,14,0)","v":{"$error":"#N/A"}},{"$f":"VLOOKUP(A75,počty!$L$6:$AP$163,15,0)","v":{"$error":"#N/A"}},{"$f":"VLOOKUP(A75,počty!$L$6:$AP$163,16,0)","v":{"$error":"#N/A"}},{"$f":"VLOOKUP(A75,počty!$L$6:$AP$163,17,0)","v":{"$error":"#N/A"}},{"$f":"VLOOKUP(A75,počty!$L$6:$AP$163,18,0)","v":{"$error":"#N/A"}},{"$f":"VLOOKUP(A75,počty!$L$6:$AP$163,30,0)","v":{"$error":"#N/A"}},{"$f":"IF(B75=\"M\",\"M\",240-MAX(počty!$BM$6:$BM$39)+P75)","v":{"$error":"#N/A"}},{"$f":"IF(B75=\"M\",\"M\",IF(B75>MAX(CUP!$B$3:$B$102),0,VLOOKUP(B75,CUP!$B$3:$C$102,2,0)))","v":{"$error":"#N/A"}}]
[null,null,null,{"$f":"VLOOKUP(A75,počty!$L$6:$AP$163,5,0)","v":{"$error":"#N/A"}},{"$f":"VLOOKUP(A75,počty!$L$6:$AP$163,6,0)","v":{"$error":"#N/A"}},{"$f":"VLOOKUP(A75,počty!$L$6:$AP$163,20,0)","v":{"$error":"#N/A"}},{"$f":"VLOOKUP(A75,počty!$L$6:$AP$163,21,0)","v":{"$error":"#N/A"}},{"$f":"VLOOKUP(A75,počty!$L$6:$AP$163,22,0)","v":{"$error":"#N/A"}},{"$f":"VLOOKUP(A75,počty!$L$6:$AP$163,23,0)","v":{"$error":"#N/A"}},{"$f":"VLOOKUP(A75,počty!$L$6:$AP$163,24,0)","v":{"$error":"#N/A"}},{"$f":"VLOOKUP(A75,počty!$L$6:$AP$163,25,0)","v":{"$error":"#N/A"}},{"$f":"VLOOKUP(A75,počty!$L$6:$AP$163,26,0)","v":{"$error":"#N/A"}},{"$f":"VLOOKUP(A75,počty!$L$6:$AP$163,27,0)","v":{"$error":"#N/A"}},{"$f":"VLOOKUP(A75,počty!$L$6:$AP$163,28,0)","v":{"$error":"#N/A"}},{"$f":"VLOOKUP(A75,počty!$L$6:$AP$163,29,0)","v":{"$error":"#N/A"}}]
[33,{"$f":"IF(VLOOKUP(A77,počty!$L$6:$AP$163,31,0)>=1000,\"M\",VLOOKUP(A77,počty!$L$6:$BR$163,53,0))","v":{"$error":"#N/A"}},{"$f":"VLOOKUP(A77,počty!$L$6:$AP$163,3,0)","v":{"$error":"#N/A"}},{"$f":"VLOOKUP(A77,počty!$L$6:$AP$163,4,0)","v":{"$error":"#N/A"}},{"$f":"VLOOKUP(A77,počty!$L$6:$AP$163,7,0)","v":{"$error":"#N/A"}},{"$f":"VLOOKUP(A77,počty!$L$6:$AP$163,9,0)","v":{"$error":"#N/A"}},{"$f":"VLOOKUP(A77,počty!$L$6:$AP$163,10,0)","v":{"$error":"#N/A"}},{"$f":"VLOOKUP(A77,počty!$L$6:$AP$163,11,0)","v":{"$error":"#N/A"}},{"$f":"VLOOKUP(A77,počty!$L$6:$AP$163,12,0)","v":{"$error":"#N/A"}},{"$f":"VLOOKUP(A77,počty!$L$6:$AP$163,13,0)","v":{"$error":"#N/A"}},{"$f":"VLOOKUP(A77,počty!$L$6:$AP$163,14,0)","v":{"$error":"#N/A"}},{"$f":"VLOOKUP(A77,počty!$L$6:$AP$163,15,0)","v":{"$error":"#N/A"}},{"$f":"VLOOKUP(A77,počty!$L$6:$AP$163,16,0)","v":{"$error":"#N/A"}},{"$f":"VLOOKUP(A77,počty!$L$6:$AP$163,17,0)","v":{"$error":"#N/A"}},{"$f":"VLOOKUP(A77,počty!$L$6:$AP$163,18,0)","v":{"$error":"#N/A"}},{"$f":"VLOOKUP(A77,počty!$L$6:$AP$163,30,0)","v":{"$error":"#N/A"}},{"$f":"IF(B77=\"M\",\"M\",240-MAX(počty!$BM$6:$BM$39)+P77)","v":{"$error":"#N/A"}},{"$f":"IF(B77=\"M\",\"M\",IF(B77>MAX(CUP!$B$3:$B$102),0,VLOOKUP(B77,CUP!$B$3:$C$102,2,0)))","v":{"$error":"#N/A"}}]
[null,null,null,{"$f":"VLOOKUP(A77,počty!$L$6:$AP$163,5,0)","v":{"$error":"#N/A"}},{"$f":"VLOOKUP(A77,počty!$L$6:$AP$163,6,0)","v":{"$error":"#N/A"}},{"$f":"VLOOKUP(A77,počty!$L$6:$AP$163,20,0)","v":{"$error":"#N/A"}},{"$f":"VLOOKUP(A77,počty!$L$6:$AP$163,21,0)","v":{"$error":"#N/A"}},{"$f":"VLOOKUP(A77,počty!$L$6:$AP$163,22,0)","v":{"$error":"#N/A"}},{"$f":"VLOOKUP(A77,počty!$L$6:$AP$163,23,0)","v":{"$error":"#N/A"}},{"$f":"VLOOKUP(A77,počty!$L$6:$AP$163,24,0)","v":{"$error":"#N/A"}},{"$f":"VLOOKUP(A77,počty!$L$6:$AP$163,25,0)","v":{"$error":"#N/A"}},{"$f":"VLOOKUP(A77,počty!$L$6:$AP$163,26,0)","v":{"$error":"#N/A"}},{"$f":"VLOOKUP(A77,počty!$L$6:$AP$163,27,0)","v":{"$error":"#N/A"}},{"$f":"VLOOKUP(A77,počty!$L$6:$AP$163,28,0)","v":{"$error":"#N/A"}},{"$f":"VLOOKUP(A77,počty!$L$6:$AP$163,29,0)","v":{"$error":"#N/A"}}]
[34,{"$f":"IF(VLOOKUP(A79,počty!$L$6:$AP$163,31,0)>=1000,\"M\",VLOOKUP(A79,počty!$L$6:$BR$163,53,0))","v":{"$error":"#N/A"}},{"$f":"VLOOKUP(A79,počty!$L$6:$AP$163,3,0)","v":{"$error":"#N/A"}},{"$f":"VLOOKUP(A79,počty!$L$6:$AP$163,4,0)","v":{"$error":"#N/A"}},{"$f":"VLOOKUP(A79,počty!$L$6:$AP$163,7,0)","v":{"$error":"#N/A"}},{"$f":"VLOOKUP(A79,počty!$L$6:$AP$163,9,0)","v":{"$error":"#N/A"}},{"$f":"VLOOKUP(A79,počty!$L$6:$AP$163,10,0)","v":{"$error":"#N/A"}},{"$f":"VLOOKUP(A79,počty!$L$6:$AP$163,11,0)","v":{"$error":"#N/A"}},{"$f":"VLOOKUP(A79,počty!$L$6:$AP$163,12,0)","v":{"$error":"#N/A"}},{"$f":"VLOOKUP(A79,počty!$L$6:$AP$163,13,0)","v":{"$error":"#N/A"}},{"$f":"VLOOKUP(A79,počty!$L$6:$AP$163,14,0)","v":{"$error":"#N/A"}},{"$f":"VLOOKUP(A79,počty!$L$6:$AP$163,15,0)","v":{"$error":"#N/A"}},{"$f":"VLOOKUP(A79,počty!$L$6:$AP$163,16,0)","v":{"$error":"#N/A"}},{"$f":"VLOOKUP(A79,počty!$L$6:$AP$163,17,0)","v":{"$error":"#N/A"}},{"$f":"VLOOKUP(A79,počty!$L$6:$AP$163,18,0)","v":{"$error":"#N/A"}},{"$f":"VLOOKUP(A79,počty!$L$6:$AP$163,30,0)","v":{"$error":"#N/A"}},{"$f":"IF(B79=\"M\",\"M\",240-MAX(počty!$BM$6:$BM$39)+P79)","v":{"$error":"#N/A"}},{"$f":"IF(B79=\"M\",\"M\",IF(B79>MAX(CUP!$B$3:$B$102),0,VLOOKUP(B79,CUP!$B$3:$C$102,2,0)))","v":{"$error":"#N/A"}}]
[null,null,null,{"$f":"VLOOKUP(A79,počty!$L$6:$AP$163,5,0)","v":{"$error":"#N/A"}},{"$f":"VLOOKUP(A79,počty!$L$6:$AP$163,6,0)","v":{"$error":"#N/A"}},{"$f":"VLOOKUP(A79,počty!$L$6:$AP$163,20,0)","v":{"$error":"#N/A"}},{"$f":"VLOOKUP(A79,počty!$L$6:$AP$163,21,0)","v":{"$error":"#N/A"}},{"$f":"VLOOKUP(A79,počty!$L$6:$AP$163,22,0)","v":{"$error":"#N/A"}},{"$f":"VLOOKUP(A79,počty!$L$6:$AP$163,23,0)","v":{"$error":"#N/A"}},{"$f":"VLOOKUP(A79,počty!$L$6:$AP$163,24,0)","v":{"$error":"#N/A"}},{"$f":"VLOOKUP(A79,počty!$L$6:$AP$163,25,0)","v":{"$error":"#N/A"}},{"$f":"VLOOKUP(A79,počty!$L$6:$AP$163,26,0)","v":{"$error":"#N/A"}},{"$f":"VLOOKUP(A79,počty!$L$6:$AP$163,27,0)","v":{"$error":"#N/A"}},{"$f":"VLOOKUP(A79,počty!$L$6:$AP$163,28,0)","v":{"$error":"#N/A"}},{"$f":"VLOOKUP(A79,počty!$L$6:$AP$163,29,0)","v":{"$error":"#N/A"}}]
[35,{"$f":"IF(VLOOKUP(A81,počty!$L$6:$AP$163,31,0)>=1000,\"M\",VLOOKUP(A81,počty!$L$6:$BR$163,53,0))","v":{"$error":"#N/A"}},{"$f":"VLOOKUP(A81,počty!$L$6:$AP$163,3,0)","v":{"$error":"#N/A"}},{"$f":"VLOOKUP(A81,počty!$L$6:$AP$163,4,0)","v":{"$error":"#N/A"}},{"$f":"VLOOKUP(A81,počty!$L$6:$AP$163,7,0)","v":{"$error":"#N/A"}},{"$f":"VLOOKUP(A81,počty!$L$6:$AP$163,9,0)","v":{"$error":"#N/A"}},{"$f":"VLOOKUP(A81,počty!$L$6:$AP$163,10,0)","v":{"$error":"#N/A"}},{"$f":"VLOOKUP(A81,počty!$L$6:$AP$163,11,0)","v":{"$error":"#N/A"}},{"$f":"VLOOKUP(A81,počty!$L$6:$AP$163,12,0)","v":{"$error":"#N/A"}},{"$f":"VLOOKUP(A81,počty!$L$6:$AP$163,13,0)","v":{"$error":"#N/A"}},{"$f":"VLOOKUP(A81,počty!$L$6:$AP$163,14,0)","v":{"$error":"#N/A"}},{"$f":"VLOOKUP(A81,počty!$L$6:$AP$163,15,0)","v":{"$error":"#N/A"}},{"$f":"VLOOKUP(A81,počty!$L$6:$AP$163,16,0)","v":{"$error":"#N/A"}},{"$f":"VLOOKUP(A81,počty!$L$6:$AP$163,17,0)","v":{"$error":"#N/A"}},{"$f":"VLOOKUP(A81,počty!$L$6:$AP$163,18,0)","v":{"$error":"#N/A"}},{"$f":"VLOOKUP(A81,počty!$L$6:$AP$163,30,0)","v":{"$error":"#N/A"}},{"$f":"IF(B81=\"M\",\"M\",240-MAX(počty!$BM$6:$BM$39)+P81)","v":{"$error":"#N/A"}},{"$f":"IF(B81=\"M\",\"M\",IF(B81>MAX(CUP!$B$3:$B$102),0,VLOOKUP(B81,CUP!$B$3:$C$102,2,0)))","v":{"$error":"#N/A"}}]
[null,null,null,{"$f":"VLOOKUP(A81,počty!$L$6:$AP$163,5,0)","v":{"$error":"#N/A"}},{"$f":"VLOOKUP(A81,počty!$L$6:$AP$163,6,0)","v":{"$error":"#N/A"}},{"$f":"VLOOKUP(A81,počty!$L$6:$AP$163,20,0)","v":{"$error":"#N/A"}},{"$f":"VLOOKUP(A81,počty!$L$6:$AP$163,21,0)","v":{"$error":"#N/A"}},{"$f":"VLOOKUP(A81,počty!$L$6:$AP$163,22,0)","v":{"$error":"#N/A"}},{"$f":"VLOOKUP(A81,počty!$L$6:$AP$163,23,0)","v":{"$error":"#N/A"}},{"$f":"VLOOKUP(A81,počty!$L$6:$AP$163,24,0)","v":{"$error":"#N/A"}},{"$f":"VLOOKUP(A81,počty!$L$6:$AP$163,25,0)","v":{"$error":"#N/A"}},{"$f":"VLOOKUP(A81,počty!$L$6:$AP$163,26,0)","v":{"$error":"#N/A"}},{"$f":"VLOOKUP(A81,počty!$L$6:$AP$163,27,0)","v":{"$error":"#N/A"}},{"$f":"VLOOKUP(A81,počty!$L$6:$AP$163,28,0)","v":{"$error":"#N/A"}},{"$f":"VLOOKUP(A81,počty!$L$6:$AP$163,29,0)","v":{"$error":"#N/A"}}]
[36,{"$f":"IF(VLOOKUP(A83,počty!$L$6:$AP$163,31,0)>=1000,\"M\",VLOOKUP(A83,počty!$L$6:$BR$163,53,0))","v":{"$error":"#N/A"}},{"$f":"VLOOKUP(A83,počty!$L$6:$AP$163,3,0)","v":{"$error":"#N/A"}},{"$f":"VLOOKUP(A83,počty!$L$6:$AP$163,4,0)","v":{"$error":"#N/A"}},{"$f":"VLOOKUP(A83,počty!$L$6:$AP$163,7,0)","v":{"$error":"#N/A"}},{"$f":"VLOOKUP(A83,počty!$L$6:$AP$163,9,0)","v":{"$error":"#N/A"}},{"$f":"VLOOKUP(A83,počty!$L$6:$AP$163,10,0)","v":{"$error":"#N/A"}},{"$f":"VLOOKUP(A83,počty!$L$6:$AP$163,11,0)","v":{"$error":"#N/A"}},{"$f":"VLOOKUP(A83,počty!$L$6:$AP$163,12,0)","v":{"$error":"#N/A"}},{"$f":"VLOOKUP(A83,počty!$L$6:$AP$163,13,0)","v":{"$error":"#N/A"}},{"$f":"VLOOKUP(A83,počty!$L$6:$AP$163,14,0)","v":{"$error":"#N/A"}},{"$f":"VLOOKUP(A83,počty!$L$6:$AP$163,15,0)","v":{"$error":"#N/A"}},{"$f":"VLOOKUP(A83,počty!$L$6:$AP$163,16,0)","v":{"$error":"#N/A"}},{"$f":"VLOOKUP(A83,počty!$L$6:$AP$163,17,0)","v":{"$error":"#N/A"}},{"$f":"VLOOKUP(A83,počty!$L$6:$AP$163,18,0)","v":{"$error":"#N/A"}},{"$f":"VLOOKUP(A83,počty!$L$6:$AP$163,30,0)","v":{"$error":"#N/A"}},{"$f":"IF(B83=\"M\",\"M\",240-MAX(počty!$BM$6:$BM$39)+P83)","v":{"$error":"#N/A"}},{"$f":"IF(B83=\"M\",\"M\",IF(B83>MAX(CUP!$B$3:$B$102),0,VLOOKUP(B83,CUP!$B$3:$C$102,2,0)))","v":{"$error":"#N/A"}}]
[null,null,null,{"$f":"VLOOKUP(A83,počty!$L$6:$AP$163,5,0)","v":{"$error":"#N/A"}},{"$f":"VLOOKUP(A83,počty!$L$6:$AP$163,6,0)","v":{"$error":"#N/A"}},{"$f":"VLOOKUP(A83,počty!$L$6:$AP$163,20,0)","v":{"$error":"#N/A"}},{"$f":"VLOOKUP(A83,počty!$L$6:$AP$163,21,0)","v":{"$error":"#N/A"}},{"$f":"VLOOKUP(A83,počty!$L$6:$AP$163,22,0)","v":{"$error":"#N/A"}},{"$f":"VLOOKUP(A83,počty!$L$6:$AP$163,23,0)","v":{"$error":"#N/A"}},{"$f":"VLOOKUP(A83,počty!$L$6:$AP$163,24,0)","v":{"$error":"#N/A"}},{"$f":"VLOOKUP(A83,počty!$L$6:$AP$163,25,0)","v":{"$error":"#N/A"}},{"$f":"VLOOKUP(A83,počty!$L$6:$AP$163,26,0)","v":{"$error":"#N/A"}},{"$f":"VLOOKUP(A83,počty!$L$6:$AP$163,27,0)","v":{"$error":"#N/A"}},{"$f":"VLOOKUP(A83,počty!$L$6:$AP$163,28,0)","v":{"$error":"#N/A"}},{"$f":"VLOOKUP(A83,počty!$L$6:$AP$163,29,0)","v":{"$error":"#N/A"}}]
[37,{"$f":"IF(VLOOKUP(A85,počty!$L$6:$AP$163,31,0)>=1000,\"M\",VLOOKUP(A85,počty!$L$6:$BR$163,53,0))","v":{"$error":"#N/A"}},{"$f":"VLOOKUP(A85,počty!$L$6:$AP$163,3,0)","v":{"$error":"#N/A"}},{"$f":"VLOOKUP(A85,počty!$L$6:$AP$163,4,0)","v":{"$error":"#N/A"}},{"$f":"VLOOKUP(A85,počty!$L$6:$AP$163,7,0)","v":{"$error":"#N/A"}},{"$f":"VLOOKUP(A85,počty!$L$6:$AP$163,9,0)","v":{"$error":"#N/A"}},{"$f":"VLOOKUP(A85,počty!$L$6:$AP$163,10,0)","v":{"$error":"#N/A"}},{"$f":"VLOOKUP(A85,počty!$L$6:$AP$163,11,0)","v":{"$error":"#N/A"}},{"$f":"VLOOKUP(A85,počty!$L$6:$AP$163,12,0)","v":{"$error":"#N/A"}},{"$f":"VLOOKUP(A85,počty!$L$6:$AP$163,13,0)","v":{"$error":"#N/A"}},{"$f":"VLOOKUP(A85,počty!$L$6:$AP$163,14,0)","v":{"$error":"#N/A"}},{"$f":"VLOOKUP(A85,počty!$L$6:$AP$163,15,0)","v":{"$error":"#N/A"}},{"$f":"VLOOKUP(A85,počty!$L$6:$AP$163,16,0)","v":{"$error":"#N/A"}},{"$f":"VLOOKUP(A85,počty!$L$6:$AP$163,17,0)","v":{"$error":"#N/A"}},{"$f":"VLOOKUP(A85,počty!$L$6:$AP$163,18,0)","v":{"$error":"#N/A"}},{"$f":"VLOOKUP(A85,počty!$L$6:$AP$163,30,0)","v":{"$error":"#N/A"}},{"$f":"IF(B85=\"M\",\"M\",240-MAX(počty!$BM$6:$BM$39)+P85)","v":{"$error":"#N/A"}},{"$f":"IF(B85=\"M\",\"M\",IF(B85>MAX(CUP!$B$3:$B$102),0,VLOOKUP(B85,CUP!$B$3:$C$102,2,0)))","v":{"$error":"#N/A"}}]
[null,null,null,{"$f":"VLOOKUP(A85,počty!$L$6:$AP$163,5,0)","v":{"$error":"#N/A"}},{"$f":"VLOOKUP(A85,počty!$L$6:$AP$163,6,0)","v":{"$error":"#N/A"}},{"$f":"VLOOKUP(A85,počty!$L$6:$AP$163,20,0)","v":{"$error":"#N/A"}},{"$f":"VLOOKUP(A85,počty!$L$6:$AP$163,21,0)","v":{"$error":"#N/A"}},{"$f":"VLOOKUP(A85,počty!$L$6:$AP$163,22,0)","v":{"$error":"#N/A"}},{"$f":"VLOOKUP(A85,počty!$L$6:$AP$163,23,0)","v":{"$error":"#N/A"}},{"$f":"VLOOKUP(A85,počty!$L$6:$AP$163,24,0)","v":{"$error":"#N/A"}},{"$f":"VLOOKUP(A85,počty!$L$6:$AP$163,25,0)","v":{"$error":"#N/A"}},{"$f":"VLOOKUP(A85,počty!$L$6:$AP$163,26,0)","v":{"$error":"#N/A"}},{"$f":"VLOOKUP(A85,počty!$L$6:$AP$163,27,0)","v":{"$error":"#N/A"}},{"$f":"VLOOKUP(A85,počty!$L$6:$AP$163,28,0)","v":{"$error":"#N/A"}},{"$f":"VLOOKUP(A85,počty!$L$6:$AP$163,29,0)","v":{"$error":"#N/A"}}]
[38,{"$f":"IF(VLOOKUP(A87,počty!$L$6:$AP$163,31,0)>=1000,\"M\",VLOOKUP(A87,počty!$L$6:$BR$163,53,0))","v":{"$error":"#N/A"}},{"$f":"VLOOKUP(A87,počty!$L$6:$AP$163,3,0)","v":{"$error":"#N/A"}},{"$f":"VLOOKUP(A87,počty!$L$6:$AP$163,4,0)","v":{"$error":"#N/A"}},{"$f":"VLOOKUP(A87,počty!$L$6:$AP$163,7,0)","v":{"$error":"#N/A"}},{"$f":"VLOOKUP(A87,počty!$L$6:$AP$163,9,0)","v":{"$error":"#N/A"}},{"$f":"VLOOKUP(A87,počty!$L$6:$AP$163,10,0)","v":{"$error":"#N/A"}},{"$f":"VLOOKUP(A87,počty!$L$6:$AP$163,11,0)","v":{"$error":"#N/A"}},{"$f":"VLOOKUP(A87,počty!$L$6:$AP$163,12,0)","v":{"$error":"#N/A"}},{"$f":"VLOOKUP(A87,počty!$L$6:$AP$163,13,0)","v":{"$error":"#N/A"}},{"$f":"VLOOKUP(A87,počty!$L$6:$AP$163,14,0)","v":{"$error":"#N/A"}},{"$f":"VLOOKUP(A87,počty!$L$6:$AP$163,15,0)","v":{"$error":"#N/A"}},{"$f":"VLOOKUP(A87,počty!$L$6:$AP$163,16,0)","v":{"$error":"#N/A"}},{"$f":"VLOOKUP(A87,počty!$L$6:$AP$163,17,0)","v":{"$error":"#N/A"}},{"$f":"VLOOKUP(A87,počty!$L$6:$AP$163,18,0)","v":{"$error":"#N/A"}},{"$f":"VLOOKUP(A87,počty!$L$6:$AP$163,30,0)","v":{"$error":"#N/A"}},{"$f":"IF(B87=\"M\",\"M\",240-MAX(počty!$BM$6:$BM$39)+P87)","v":{"$error":"#N/A"}},{"$f":"IF(B87=\"M\",\"M\",IF(B87>MAX(CUP!$B$3:$B$102),0,VLOOKUP(B87,CUP!$B$3:$C$102,2,0)))","v":{"$error":"#N/A"}}]
[null,null,null,{"$f":"VLOOKUP(A87,počty!$L$6:$AP$163,5,0)","v":{"$error":"#N/A"}},{"$f":"VLOOKUP(A87,počty!$L$6:$AP$163,6,0)","v":{"$error":"#N/A"}},{"$f":"VLOOKUP(A87,počty!$L$6:$AP$163,20,0)","v":{"$error":"#N/A"}},{"$f":"VLOOKUP(A87,počty!$L$6:$AP$163,21,0)","v":{"$error":"#N/A"}},{"$f":"VLOOKUP(A87,počty!$L$6:$AP$163,22,0)","v":{"$error":"#N/A"}},{"$f":"VLOOKUP(A87,počty!$L$6:$AP$163,23,0)","v":{"$error":"#N/A"}},{"$f":"VLOOKUP(A87,počty!$L$6:$AP$163,24,0)","v":{"$error":"#N/A"}},{"$f":"VLOOKUP(A87,počty!$L$6:$AP$163,25,0)","v":{"$error":"#N/A"}},{"$f":"VLOOKUP(A87,počty!$L$6:$AP$163,26,0)","v":{"$error":"#N/A"}},{"$f":"VLOOKUP(A87,počty!$L$6:$AP$163,27,0)","v":{"$error":"#N/A"}},{"$f":"VLOOKUP(A87,počty!$L$6:$AP$163,28,0)","v":{"$error":"#N/A"}},{"$f":"VLOOKUP(A87,počty!$L$6:$AP$163,29,0)","v":{"$error":"#N/A"}}]
[39,{"$f":"IF(VLOOKUP(A89,počty!$L$6:$AP$163,31,0)>=1000,\"M\",VLOOKUP(A89,počty!$L$6:$BR$163,53,0))","v":{"$error":"#N/A"}},{"$f":"VLOOKUP(A89,počty!$L$6:$AP$163,3,0)","v":{"$error":"#N/A"}},{"$f":"VLOOKUP(A89,počty!$L$6:$AP$163,4,0)","v":{"$error":"#N/A"}},{"$f":"VLOOKUP(A89,počty!$L$6:$AP$163,7,0)","v":{"$error":"#N/A"}},{"$f":"VLOOKUP(A89,počty!$L$6:$AP$163,9,0)","v":{"$error":"#N/A"}},{"$f":"VLOOKUP(A89,počty!$L$6:$AP$163,10,0)","v":{"$error":"#N/A"}},{"$f":"VLOOKUP(A89,počty!$L$6:$AP$163,11,0)","v":{"$error":"#N/A"}},{"$f":"VLOOKUP(A89,počty!$L$6:$AP$163,12,0)","v":{"$error":"#N/A"}},{"$f":"VLOOKUP(A89,počty!$L$6:$AP$163,13,0)","v":{"$error":"#N/A"}},{"$f":"VLOOKUP(A89,počty!$L$6:$AP$163,14,0)","v":{"$error":"#N/A"}},{"$f":"VLOOKUP(A89,počty!$L$6:$AP$163,15,0)","v":{"$error":"#N/A"}},{"$f":"VLOOKUP(A89,počty!$L$6:$AP$163,16,0)","v":{"$error":"#N/A"}},{"$f":"VLOOKUP(A89,počty!$L$6:$AP$163,17,0)","v":{"$error":"#N/A"}},{"$f":"VLOOKUP(A89,počty!$L$6:$AP$163,18,0)","v":{"$error":"#N/A"}},{"$f":"VLOOKUP(A89,počty!$L$6:$AP$163,30,0)","v":{"$error":"#N/A"}},{"$f":"IF(B89=\"M\",\"M\",240-MAX(počty!$BM$6:$BM$39)+P89)","v":{"$error":"#N/A"}},{"$f":"IF(B89=\"M\",\"M\",IF(B89>MAX(CUP!$B$3:$B$102),0,VLOOKUP(B89,CUP!$B$3:$C$102,2,0)))","v":{"$error":"#N/A"}}]
[null,null,null,{"$f":"VLOOKUP(A89,počty!$L$6:$AP$163,5,0)","v":{"$error":"#N/A"}},{"$f":"VLOOKUP(A89,počty!$L$6:$AP$163,6,0)","v":{"$error":"#N/A"}},{"$f":"VLOOKUP(A89,počty!$L$6:$AP$163,20,0)","v":{"$error":"#N/A"}},{"$f":"VLOOKUP(A89,počty!$L$6:$AP$163,21,0)","v":{"$error":"#N/A"}},{"$f":"VLOOKUP(A89,počty!$L$6:$AP$163,22,0)","v":{"$error":"#N/A"}},{"$f":"VLOOKUP(A89,počty!$L$6:$AP$163,23,0)","v":{"$error":"#N/A"}},{"$f":"VLOOKUP(A89,počty!$L$6:$AP$163,24,0)","v":{"$error":"#N/A"}},{"$f":"VLOOKUP(A89,počty!$L$6:$AP$163,25,0)","v":{"$error":"#N/A"}},{"$f":"VLOOKUP(A89,počty!$L$6:$AP$163,26,0)","v":{"$error":"#N/A"}},{"$f":"VLOOKUP(A89,počty!$L$6:$AP$163,27,0)","v":{"$error":"#N/A"}},{"$f":"VLOOKUP(A89,počty!$L$6:$AP$163,28,0)","v":{"$error":"#N/A"}},{"$f":"VLOOKUP(A89,počty!$L$6:$AP$163,29,0)","v":{"$error":"#N/A"}}]
[40,{"$f":"IF(VLOOKUP(A91,počty!$L$6:$AP$163,31,0)>=1000,\"M\",VLOOKUP(A91,počty!$L$6:$BR$163,53,0))","v":{"$error":"#N/A"}},{"$f":"VLOOKUP(A91,počty!$L$6:$AP$163,3,0)","v":{"$error":"#N/A"}},{"$f":"VLOOKUP(A91,počty!$L$6:$AP$163,4,0)","v":{"$error":"#N/A"}},{"$f":"VLOOKUP(A91,počty!$L$6:$AP$163,7,0)","v":{"$error":"#N/A"}},{"$f":"VLOOKUP(A91,počty!$L$6:$AP$163,9,0)","v":{"$error":"#N/A"}},{"$f":"VLOOKUP(A91,počty!$L$6:$AP$163,10,0)","v":{"$error":"#N/A"}},{"$f":"VLOOKUP(A91,počty!$L$6:$AP$163,11,0)","v":{"$error":"#N/A"}},{"$f":"VLOOKUP(A91,počty!$L$6:$AP$163,12,0)","v":{"$error":"#N/A"}},{"$f":"VLOOKUP(A91,počty!$L$6:$AP$163,13,0)","v":{"$error":"#N/A"}},{"$f":"VLOOKUP(A91,počty!$L$6:$AP$163,14,0)","v":{"$error":"#N/A"}},{"$f":"VLOOKUP(A91,počty!$L$6:$AP$163,15,0)","v":{"$error":"#N/A"}},{"$f":"VLOOKUP(A91,počty!$L$6:$AP$163,16,0)","v":{"$error":"#N/A"}},{"$f":"VLOOKUP(A91,počty!$L$6:$AP$163,17,0)","v":{"$error":"#N/A"}},{"$f":"VLOOKUP(A91,počty!$L$6:$AP$163,18,0)","v":{"$error":"#N/A"}},{"$f":"VLOOKUP(A91,počty!$L$6:$AP$163,30,0)","v":{"$error":"#N/A"}},{"$f":"IF(B91=\"M\",\"M\",240-MAX(počty!$BM$6:$BM$39)+P91)","v":{"$error":"#N/A"}},{"$f":"IF(B91=\"M\",\"M\",IF(B91>MAX(CUP!$B$3:$B$102),0,VLOOKUP(B91,CUP!$B$3:$C$102,2,0)))","v":{"$error":"#N/A"}}]
[null,null,null,{"$f":"VLOOKUP(A91,počty!$L$6:$AP$163,5,0)","v":{"$error":"#N/A"}},{"$f":"VLOOKUP(A91,počty!$L$6:$AP$163,6,0)","v":{"$error":"#N/A"}},{"$f":"VLOOKUP(A91,počty!$L$6:$AP$163,20,0)","v":{"$error":"#N/A"}},{"$f":"VLOOKUP(A91,počty!$L$6:$AP$163,21,0)","v":{"$error":"#N/A"}},{"$f":"VLOOKUP(A91,počty!$L$6:$AP$163,22,0)","v":{"$error":"#N/A"}},{"$f":"VLOOKUP(A91,počty!$L$6:$AP$163,23,0)","v":{"$error":"#N/A"}},{"$f":"VLOOKUP(A91,počty!$L$6:$AP$163,24,0)","v":{"$error":"#N/A"}},{"$f":"VLOOKUP(A91,počty!$L$6:$AP$163,25,0)","v":{"$error":"#N/A"}},{"$f":"VLOOKUP(A91,počty!$L$6:$AP$163,26,0)","v":{"$error":"#N/A"}},{"$f":"VLOOKUP(A91,počty!$L$6:$AP$163,27,0)","v":{"$error":"#N/A"}},{"$f":"VLOOKUP(A91,počty!$L$6:$AP$163,28,0)","v":{"$error":"#N/A"}},{"$f":"VLOOKUP(A91,počty!$L$6:$AP$163,29,0)","v":{"$error":"#N/A"}}]
[41,{"$f":"IF(VLOOKUP(A93,počty!$L$6:$AP$163,31,0)>=1000,\"M\",VLOOKUP(A93,počty!$L$6:$BR$163,53,0))","v":{"$error":"#N/A"}},{"$f":"VLOOKUP(A93,počty!$L$6:$AP$163,3,0)","v":{"$error":"#N/A"}},{"$f":"VLOOKUP(A93,počty!$L$6:$AP$163,4,0)","v":{"$error":"#N/A"}},{"$f":"VLOOKUP(A93,počty!$L$6:$AP$163,7,0)","v":{"$error":"#N/A"}},{"$f":"VLOOKUP(A93,počty!$L$6:$AP$163,9,0)","v":{"$error":"#N/A"}},{"$f":"VLOOKUP(A93,počty!$L$6:$AP$163,10,0)","v":{"$error":"#N/A"}},{"$f":"VLOOKUP(A93,počty!$L$6:$AP$163,11,0)","v":{"$error":"#N/A"}},{"$f":"VLOOKUP(A93,počty!$L$6:$AP$163,12,0)","v":{"$error":"#N/A"}},{"$f":"VLOOKUP(A93,počty!$L$6:$AP$163,13,0)","v":{"$error":"#N/A"}},{"$f":"VLOOKUP(A93,počty!$L$6:$AP$163,14,0)","v":{"$error":"#N/A"}},{"$f":"VLOOKUP(A93,počty!$L$6:$AP$163,15,0)","v":{"$error":"#N/A"}},{"$f":"VLOOKUP(A93,počty!$L$6:$AP$163,16,0)","v":{"$error":"#N/A"}},{"$f":"VLOOKUP(A93,počty!$L$6:$AP$163,17,0)","v":{"$error":"#N/A"}},{"$f":"VLOOKUP(A93,počty!$L$6:$AP$163,18,0)","v":{"$error":"#N/A"}},{"$f":"VLOOKUP(A93,počty!$L$6:$AP$163,30,0)","v":{"$error":"#N/A"}},{"$f":"IF(B93=\"M\",\"M\",240-MAX(počty!$BM$6:$BM$39)+P93)","v":{"$error":"#N/A"}},{"$f":"IF(B93=\"M\",\"M\",IF(B93>MAX(CUP!$B$3:$B$102),0,VLOOKUP(B93,CUP!$B$3:$C$102,2,0)))","v":{"$error":"#N/A"}}]
[null,null,null,{"$f":"VLOOKUP(A93,počty!$L$6:$AP$163,5,0)","v":{"$error":"#N/A"}},{"$f":"VLOOKUP(A93,počty!$L$6:$AP$163,6,0)","v":{"$error":"#N/A"}},{"$f":"VLOOKUP(A93,počty!$L$6:$AP$163,20,0)","v":{"$error":"#N/A"}},{"$f":"VLOOKUP(A93,počty!$L$6:$AP$163,21,0)","v":{"$error":"#N/A"}},{"$f":"VLOOKUP(A93,počty!$L$6:$AP$163,22,0)","v":{"$error":"#N/A"}},{"$f":"VLOOKUP(A93,počty!$L$6:$AP$163,23,0)","v":{"$error":"#N/A"}},{"$f":"VLOOKUP(A93,počty!$L$6:$AP$163,24,0)","v":{"$error":"#N/A"}},{"$f":"VLOOKUP(A93,počty!$L$6:$AP$163,25,0)","v":{"$error":"#N/A"}},{"$f":"VLOOKUP(A93,počty!$L$6:$AP$163,26,0)","v":{"$error":"#N/A"}},{"$f":"VLOOKUP(A93,počty!$L$6:$AP$163,27,0)","v":{"$error":"#N/A"}},{"$f":"VLOOKUP(A93,počty!$L$6:$AP$163,28,0)","v":{"$error":"#N/A"}},{"$f":"VLOOKUP(A93,počty!$L$6:$AP$163,29,0)","v":{"$error":"#N/A"}}]
[42,{"$f":"IF(VLOOKUP(A95,počty!$L$6:$AP$163,31,0)>=1000,\"M\",VLOOKUP(A95,počty!$L$6:$BR$163,53,0))","v":{"$error":"#N/A"}},{"$f":"VLOOKUP(A95,počty!$L$6:$AP$163,3,0)","v":{"$error":"#N/A"}},{"$f":"VLOOKUP(A95,počty!$L$6:$AP$163,4,0)","v":{"$error":"#N/A"}},{"$f":"VLOOKUP(A95,počty!$L$6:$AP$163,7,0)","v":{"$error":"#N/A"}},{"$f":"VLOOKUP(A95,počty!$L$6:$AP$163,9,0)","v":{"$error":"#N/A"}},{"$f":"VLOOKUP(A95,počty!$L$6:$AP$163,10,0)","v":{"$error":"#N/A"}},{"$f":"VLOOKUP(A95,počty!$L$6:$AP$163,11,0)","v":{"$error":"#N/A"}},{"$f":"VLOOKUP(A95,počty!$L$6:$AP$163,12,0)","v":{"$error":"#N/A"}},{"$f":"VLOOKUP(A95,počty!$L$6:$AP$163,13,0)","v":{"$error":"#N/A"}},{"$f":"VLOOKUP(A95,počty!$L$6:$AP$163,14,0)","v":{"$error":"#N/A"}},{"$f":"VLOOKUP(A95,počty!$L$6:$AP$163,15,0)","v":{"$error":"#N/A"}},{"$f":"VLOOKUP(A95,počty!$L$6:$AP$163,16,0)","v":{"$error":"#N/A"}},{"$f":"VLOOKUP(A95,počty!$L$6:$AP$163,17,0)","v":{"$error":"#N/A"}},{"$f":"VLOOKUP(A95,počty!$L$6:$AP$163,18,0)","v":{"$error":"#N/A"}},{"$f":"VLOOKUP(A95,počty!$L$6:$AP$163,30,0)","v":{"$error":"#N/A"}},{"$f":"IF(B95=\"M\",\"M\",240-MAX(počty!$BM$6:$BM$39)+P95)","v":{"$error":"#N/A"}},{"$f":"IF(B95=\"M\",\"M\",IF(B95>MAX(CUP!$B$3:$B$102),0,VLOOKUP(B95,CUP!$B$3:$C$102,2,0)))","v":{"$error":"#N/A"}}]
[null,null,null,{"$f":"VLOOKUP(A95,počty!$L$6:$AP$163,5,0)","v":{"$error":"#N/A"}},{"$f":"VLOOKUP(A95,počty!$L$6:$AP$163,6,0)","v":{"$error":"#N/A"}},{"$f":"VLOOKUP(A95,počty!$L$6:$AP$163,20,0)","v":{"$error":"#N/A"}},{"$f":"VLOOKUP(A95,počty!$L$6:$AP$163,21,0)","v":{"$error":"#N/A"}},{"$f":"VLOOKUP(A95,počty!$L$6:$AP$163,22,0)","v":{"$error":"#N/A"}},{"$f":"VLOOKUP(A95,počty!$L$6:$AP$163,23,0)","v":{"$error":"#N/A"}},{"$f":"VLOOKUP(A95,počty!$L$6:$AP$163,24,0)","v":{"$error":"#N/A"}},{"$f":"VLOOKUP(A95,počty!$L$6:$AP$163,25,0)","v":{"$error":"#N/A"}},{"$f":"VLOOKUP(A95,počty!$L$6:$AP$163,26,0)","v":{"$error":"#N/A"}},{"$f":"VLOOKUP(A95,počty!$L$6:$AP$163,27,0)","v":{"$error":"#N/A"}},{"$f":"VLOOKUP(A95,počty!$L$6:$AP$163,28,0)","v":{"$error":"#N/A"}},{"$f":"VLOOKUP(A95,počty!$L$6:$AP$163,29,0)","v":{"$error":"#N/A"}}]
[43,{"$f":"IF(VLOOKUP(A97,počty!$L$6:$AP$163,31,0)>=1000,\"M\",VLOOKUP(A97,počty!$L$6:$BR$163,53,0))","v":{"$error":"#N/A"}},{"$f":"VLOOKUP(A97,počty!$L$6:$AP$163,3,0)","v":{"$error":"#N/A"}},{"$f":"VLOOKUP(A97,počty!$L$6:$AP$163,4,0)","v":{"$error":"#N/A"}},{"$f":"VLOOKUP(A97,počty!$L$6:$AP$163,7,0)","v":{"$error":"#N/A"}},{"$f":"VLOOKUP(A97,počty!$L$6:$AP$163,9,0)","v":{"$error":"#N/A"}},{"$f":"VLOOKUP(A97,počty!$L$6:$AP$163,10,0)","v":{"$error":"#N/A"}},{"$f":"VLOOKUP(A97,počty!$L$6:$AP$163,11,0)","v":{"$error":"#N/A"}},{"$f":"VLOOKUP(A97,počty!$L$6:$AP$163,12,0)","v":{"$error":"#N/A"}},{"$f":"VLOOKUP(A97,počty!$L$6:$AP$163,13,0)","v":{"$error":"#N/A"}},{"$f":"VLOOKUP(A97,počty!$L$6:$AP$163,14,0)","v":{"$error":"#N/A"}},{"$f":"VLOOKUP(A97,počty!$L$6:$AP$163,15,0)","v":{"$error":"#N/A"}},{"$f":"VLOOKUP(A97,počty!$L$6:$AP$163,16,0)","v":{"$error":"#N/A"}},{"$f":"VLOOKUP(A97,počty!$L$6:$AP$163,17,0)","v":{"$error":"#N/A"}},{"$f":"VLOOKUP(A97,počty!$L$6:$AP$163,18,0)","v":{"$error":"#N/A"}},{"$f":"VLOOKUP(A97,počty!$L$6:$AP$163,30,0)","v":{"$error":"#N/A"}},{"$f":"IF(B97=\"M\",\"M\",240-MAX(počty!$BM$6:$BM$39)+P97)","v":{"$error":"#N/A"}},{"$f":"IF(B97=\"M\",\"M\",IF(B97>MAX(CUP!$B$3:$B$102),0,VLOOKUP(B97,CUP!$B$3:$C$102,2,0)))","v":{"$error":"#N/A"}}]
[null,null,null,{"$f":"VLOOKUP(A97,počty!$L$6:$AP$163,5,0)","v":{"$error":"#N/A"}},{"$f":"VLOOKUP(A97,počty!$L$6:$AP$163,6,0)","v":{"$error":"#N/A"}},{"$f":"VLOOKUP(A97,počty!$L$6:$AP$163,20,0)","v":{"$error":"#N/A"}},{"$f":"VLOOKUP(A97,počty!$L$6:$AP$163,21,0)","v":{"$error":"#N/A"}},{"$f":"VLOOKUP(A97,počty!$L$6:$AP$163,22,0)","v":{"$error":"#N/A"}},{"$f":"VLOOKUP(A97,počty!$L$6:$AP$163,23,0)","v":{"$error":"#N/A"}},{"$f":"VLOOKUP(A97,počty!$L$6:$AP$163,24,0)","v":{"$error":"#N/A"}},{"$f":"VLOOKUP(A97,počty!$L$6:$AP$163,25,0)","v":{"$error":"#N/A"}},{"$f":"VLOOKUP(A97,počty!$L$6:$AP$163,26,0)","v":{"$error":"#N/A"}},{"$f":"VLOOKUP(A97,počty!$L$6:$AP$163,27,0)","v":{"$error":"#N/A"}},{"$f":"VLOOKUP(A97,počty!$L$6:$AP$163,28,0)","v":{"$error":"#N/A"}},{"$f":"VLOOKUP(A97,počty!$L$6:$AP$163,29,0)","v":{"$error":"#N/A"}}]
[44,{"$f":"IF(VLOOKUP(A99,počty!$L$6:$AP$163,31,0)>=1000,\"M\",VLOOKUP(A99,počty!$L$6:$BR$163,53,0))","v":{"$error":"#N/A"}},{"$f":"VLOOKUP(A99,počty!$L$6:$AP$163,3,0)","v":{"$error":"#N/A"}},{"$f":"VLOOKUP(A99,počty!$L$6:$AP$163,4,0)","v":{"$error":"#N/A"}},{"$f":"VLOOKUP(A99,počty!$L$6:$AP$163,7,0)","v":{"$error":"#N/A"}},{"$f":"VLOOKUP(A99,počty!$L$6:$AP$163,9,0)","v":{"$error":"#N/A"}},{"$f":"VLOOKUP(A99,počty!$L$6:$AP$163,10,0)","v":{"$error":"#N/A"}},{"$f":"VLOOKUP(A99,počty!$L$6:$AP$163,11,0)","v":{"$error":"#N/A"}},{"$f":"VLOOKUP(A99,počty!$L$6:$AP$163,12,0)","v":{"$error":"#N/A"}},{"$f":"VLOOKUP(A99,počty!$L$6:$AP$163,13,0)","v":{"$error":"#N/A"}},{"$f":"VLOOKUP(A99,počty!$L$6:$AP$163,14,0)","v":{"$error":"#N/A"}},{"$f":"VLOOKUP(A99,počty!$L$6:$AP$163,15,0)","v":{"$error":"#N/A"}},{"$f":"VLOOKUP(A99,počty!$L$6:$AP$163,16,0)","v":{"$error":"#N/A"}},{"$f":"VLOOKUP(A99,počty!$L$6:$AP$163,17,0)","v":{"$error":"#N/A"}},{"$f":"VLOOKUP(A99,počty!$L$6:$AP$163,18,0)","v":{"$error":"#N/A"}},{"$f":"VLOOKUP(A99,počty!$L$6:$AP$163,30,0)","v":{"$error":"#N/A"}},{"$f":"IF(B99=\"M\",\"M\",240-MAX(počty!$BM$6:$BM$39)+P99)","v":{"$error":"#N/A"}},{"$f":"IF(B99=\"M\",\"M\",IF(B99>MAX(CUP!$B$3:$B$102),0,VLOOKUP(B99,CUP!$B$3:$C$102,2,0)))","v":{"$error":"#N/A"}}]
[null,null,null,{"$f":"VLOOKUP(A99,počty!$L$6:$AP$163,5,0)","v":{"$error":"#N/A"}},{"$f":"VLOOKUP(A99,počty!$L$6:$AP$163,6,0)","v":{"$error":"#N/A"}},{"$f":"VLOOKUP(A99,počty!$L$6:$AP$163,20,0)","v":{"$error":"#N/A"}},{"$f":"VLOOKUP(A99,počty!$L$6:$AP$163,21,0)","v":{"$error":"#N/A"}},{"$f":"VLOOKUP(A99,počty!$L$6:$AP$163,22,0)","v":{"$error":"#N/A"}},{"$f":"VLOOKUP(A99,počty!$L$6:$AP$163,23,0)","v":{"$error":"#N/A"}},{"$f":"VLOOKUP(A99,počty!$L$6:$AP$163,24,0)","v":{"$error":"#N/A"}},{"$f":"VLOOKUP(A99,počty!$L$6:$AP$163,25,0)","v":{"$error":"#N/A"}},{"$f":"VLOOKUP(A99,počty!$L$6:$AP$163,26,0)","v":{"$error":"#N/A"}},{"$f":"VLOOKUP(A99,počty!$L$6:$AP$163,27,0)","v":{"$error":"#N/A"}},{"$f":"VLOOKUP(A99,počty!$L$6:$AP$163,28,0)","v":{"$error":"#N/A"}},{"$f":"VLOOKUP(A99,počty!$L$6:$AP$163,29,0)","v":{"$error":"#N/A"}}]
[45,{"$f":"IF(VLOOKUP(A101,počty!$L$6:$AP$163,31,0)>=1000,\"M\",VLOOKUP(A101,počty!$L$6:$BR$163,53,0))","v":{"$error":"#N/A"}},{"$f":"VLOOKUP(A101,počty!$L$6:$AP$163,3,0)","v":{"$error":"#N/A"}},{"$f":"VLOOKUP(A101,počty!$L$6:$AP$163,4,0)","v":{"$error":"#N/A"}},{"$f":"VLOOKUP(A101,počty!$L$6:$AP$163,7,0)","v":{"$error":"#N/A"}},{"$f":"VLOOKUP(A101,počty!$L$6:$AP$163,9,0)","v":{"$error":"#N/A"}},{"$f":"VLOOKUP(A101,počty!$L$6:$AP$163,10,0)","v":{"$error":"#N/A"}},{"$f":"VLOOKUP(A101,počty!$L$6:$AP$163,11,0)","v":{"$error":"#N/A"}},{"$f":"VLOOKUP(A101,počty!$L$6:$AP$163,12,0)","v":{"$error":"#N/A"}},{"$f":"VLOOKUP(A101,počty!$L$6:$AP$163,13,0)","v":{"$error":"#N/A"}},{"$f":"VLOOKUP(A101,počty!$L$6:$AP$163,14,0)","v":{"$error":"#N/A"}},{"$f":"VLOOKUP(A101,počty!$L$6:$AP$163,15,0)","v":{"$error":"#N/A"}},{"$f":"VLOOKUP(A101,počty!$L$6:$AP$163,16,0)","v":{"$error":"#N/A"}},{"$f":"VLOOKUP(A101,počty!$L$6:$AP$163,17,0)","v":{"$error":"#N/A"}},{"$f":"VLOOKUP(A101,počty!$L$6:$AP$163,18,0)","v":{"$error":"#N/A"}},{"$f":"VLOOKUP(A101,počty!$L$6:$AP$163,30,0)","v":{"$error":"#N/A"}},{"$f":"IF(B101=\"M\",\"M\",240-MAX(počty!$BM$6:$BM$39)+P101)","v":{"$error":"#N/A"}},{"$f":"IF(B101=\"M\",\"M\",IF(B101>MAX(CUP!$B$3:$B$102),0,VLOOKUP(B101,CUP!$B$3:$C$102,2,0)))","v":{"$error":"#N/A"}}]
[null,null,null,{"$f":"VLOOKUP(A101,počty!$L$6:$AP$163,5,0)","v":{"$error":"#N/A"}},{"$f":"VLOOKUP(A101,počty!$L$6:$AP$163,6,0)","v":{"$error":"#N/A"}},{"$f":"VLOOKUP(A101,počty!$L$6:$AP$163,20,0)","v":{"$error":"#N/A"}},{"$f":"VLOOKUP(A101,počty!$L$6:$AP$163,21,0)","v":{"$error":"#N/A"}},{"$f":"VLOOKUP(A101,počty!$L$6:$AP$163,22,0)","v":{"$error":"#N/A"}},{"$f":"VLOOKUP(A101,počty!$L$6:$AP$163,23,0)","v":{"$error":"#N/A"}},{"$f":"VLOOKUP(A101,počty!$L$6:$AP$163,24,0)","v":{"$error":"#N/A"}},{"$f":"VLOOKUP(A101,počty!$L$6:$AP$163,25,0)","v":{"$error":"#N/A"}},{"$f":"VLOOKUP(A101,počty!$L$6:$AP$163,26,0)","v":{"$error":"#N/A"}},{"$f":"VLOOKUP(A101,počty!$L$6:$AP$163,27,0)","v":{"$error":"#N/A"}},{"$f":"VLOOKUP(A101,počty!$L$6:$AP$163,28,0)","v":{"$error":"#N/A"}},{"$f":"VLOOKUP(A101,počty!$L$6:$AP$163,29,0)","v":{"$error":"#N/A"}}]
[46,{"$f":"IF(VLOOKUP(A103,počty!$L$6:$AP$163,31,0)>=1000,\"M\",VLOOKUP(A103,počty!$L$6:$BR$163,53,0))","v":{"$error":"#N/A"}},{"$f":"VLOOKUP(A103,počty!$L$6:$AP$163,3,0)","v":{"$error":"#N/A"}},{"$f":"VLOOKUP(A103,počty!$L$6:$AP$163,4,0)","v":{"$error":"#N/A"}},{"$f":"VLOOKUP(A103,počty!$L$6:$AP$163,7,0)","v":{"$error":"#N/A"}},{"$f":"VLOOKUP(A103,počty!$L$6:$AP$163,9,0)","v":{"$error":"#N/A"}},{"$f":"VLOOKUP(A103,počty!$L$6:$AP$163,10,0)","v":{"$error":"#N/A"}},{"$f":"VLOOKUP(A103,počty!$L$6:$AP$163,11,0)","v":{"$error":"#N/A"}},{"$f":"VLOOKUP(A103,počty!$L$6:$AP$163,12,0)","v":{"$error":"#N/A"}},{"$f":"VLOOKUP(A103,počty!$L$6:$AP$163,13,0)","v":{"$error":"#N/A"}},{"$f":"VLOOKUP(A103,počty!$L$6:$AP$163,14,0)","v":{"$error":"#N/A"}},{"$f":"VLOOKUP(A103,počty!$L$6:$AP$163,15,0)","v":{"$error":"#N/A"}},{"$f":"VLOOKUP(A103,počty!$L$6:$AP$163,16,0)","v":{"$error":"#N/A"}},{"$f":"VLOOKUP(A103,počty!$L$6:$AP$163,17,0)","v":{"$error":"#N/A"}},{"$f":"VLOOKUP(A103,počty!$L$6:$AP$163,18,0)","v":{"$error":"#N/A"}},{"$f":"VLOOKUP(A103,počty!$L$6:$AP$163,30,0)","v":{"$error":"#N/A"}},{"$f":"IF(B103=\"M\",\"M\",240-MAX(počty!$BM$6:$BM$39)+P103)","v":{"$error":"#N/A"}},{"$f":"IF(B103=\"M\",\"M\",IF(B103>MAX(CUP!$B$3:$B$102),0,VLOOKUP(B103,CUP!$B$3:$C$102,2,0)))","v":{"$error":"#N/A"}}]
[null,null,null,{"$f":"VLOOKUP(A103,počty!$L$6:$AP$163,5,0)","v":{"$error":"#N/A"}},{"$f":"VLOOKUP(A103,počty!$L$6:$AP$163,6,0)","v":{"$error":"#N/A"}},{"$f":"VLOOKUP(A103,počty!$L$6:$AP$163,20,0)","v":{"$error":"#N/A"}},{"$f":"VLOOKUP(A103,počty!$L$6:$AP$163,21,0)","v":{"$error":"#N/A"}},{"$f":"VLOOKUP(A103,počty!$L$6:$AP$163,22,0)","v":{"$error":"#N/A"}},{"$f":"VLOOKUP(A103,počty!$L$6:$AP$163,23,0)","v":{"$error":"#N/A"}},{"$f":"VLOOKUP(A103,počty!$L$6:$AP$163,24,0)","v":{"$error":"#N/A"}},{"$f":"VLOOKUP(A103,počty!$L$6:$AP$163,25,0)","v":{"$error":"#N/A"}},{"$f":"VLOOKUP(A103,počty!$L$6:$AP$163,26,0)","v":{"$error":"#N/A"}},{"$f":"VLOOKUP(A103,počty!$L$6:$AP$163,27,0)","v":{"$error":"#N/A"}},{"$f":"VLOOKUP(A103,počty!$L$6:$AP$163,28,0)","v":{"$error":"#N/A"}},{"$f":"VLOOKUP(A103,počty!$L$6:$AP$163,29,0)","v":{"$error":"#N/A"}}]
[47,{"$f":"IF(VLOOKUP(A105,počty!$L$6:$AP$163,31,0)>=1000,\"M\",VLOOKUP(A105,počty!$L$6:$BR$163,53,0))","v":{"$error":"#N/A"}},{"$f":"VLOOKUP(A105,počty!$L$6:$AP$163,3,0)","v":{"$error":"#N/A"}},{"$f":"VLOOKUP(A105,počty!$L$6:$AP$163,4,0)","v":{"$error":"#N/A"}},{"$f":"VLOOKUP(A105,počty!$L$6:$AP$163,7,0)","v":{"$error":"#N/A"}},{"$f":"VLOOKUP(A105,počty!$L$6:$AP$163,9,0)","v":{"$error":"#N/A"}},{"$f":"VLOOKUP(A105,počty!$L$6:$AP$163,10,0)","v":{"$error":"#N/A"}},{"$f":"VLOOKUP(A105,počty!$L$6:$AP$163,11,0)","v":{"$error":"#N/A"}},{"$f":"VLOOKUP(A105,počty!$L$6:$AP$163,12,0)","v":{"$error":"#N/A"}},{"$f":"VLOOKUP(A105,počty!$L$6:$AP$163,13,0)","v":{"$error":"#N/A"}},{"$f":"VLOOKUP(A105,počty!$L$6:$AP$163,14,0)","v":{"$error":"#N/A"}},{"$f":"VLOOKUP(A105,počty!$L$6:$AP$163,15,0)","v":{"$error":"#N/A"}},{"$f":"VLOOKUP(A105,počty!$L$6:$AP$163,16,0)","v":{"$error":"#N/A"}},{"$f":"VLOOKUP(A105,počty!$L$6:$AP$163,17,0)","v":{"$error":"#N/A"}},{"$f":"VLOOKUP(A105,počty!$L$6:$AP$163,18,0)","v":{"$error":"#N/A"}},{"$f":"VLOOKUP(A105,počty!$L$6:$AP$163,30,0)","v":{"$error":"#N/A"}},{"$f":"IF(B105=\"M\",\"M\",240-MAX(počty!$BM$6:$BM$39)+P105)","v":{"$error":"#N/A"}},{"$f":"IF(B105=\"M\",\"M\",IF(B105>MAX(CUP!$B$3:$B$102),0,VLOOKUP(B105,CUP!$B$3:$C$102,2,0)))","v":{"$error":"#N/A"}}]
[null,null,null,{"$f":"VLOOKUP(A105,počty!$L$6:$AP$163,5,0)","v":{"$error":"#N/A"}},{"$f":"VLOOKUP(A105,počty!$L$6:$AP$163,6,0)","v":{"$error":"#N/A"}},{"$f":"VLOOKUP(A105,počty!$L$6:$AP$163,20,0)","v":{"$error":"#N/A"}},{"$f":"VLOOKUP(A105,počty!$L$6:$AP$163,21,0)","v":{"$error":"#N/A"}},{"$f":"VLOOKUP(A105,počty!$L$6:$AP$163,22,0)","v":{"$error":"#N/A"}},{"$f":"VLOOKUP(A105,počty!$L$6:$AP$163,23,0)","v":{"$error":"#N/A"}},{"$f":"VLOOKUP(A105,počty!$L$6:$AP$163,24,0)","v":{"$error":"#N/A"}},{"$f":"VLOOKUP(A105,počty!$L$6:$AP$163,25,0)","v":{"$error":"#N/A"}},{"$f":"VLOOKUP(A105,počty!$L$6:$AP$163,26,0)","v":{"$error":"#N/A"}},{"$f":"VLOOKUP(A105,počty!$L$6:$AP$163,27,0)","v":{"$error":"#N/A"}},{"$f":"VLOOKUP(A105,počty!$L$6:$AP$163,28,0)","v":{"$error":"#N/A"}},{"$f":"VLOOKUP(A105,počty!$L$6:$AP$163,29,0)","v":{"$error":"#N/A"}}]
[48,{"$f":"IF(VLOOKUP(A107,počty!$L$6:$AP$163,31,0)>=1000,\"M\",VLOOKUP(A107,počty!$L$6:$BR$163,53,0))","v":{"$error":"#N/A"}},{"$f":"VLOOKUP(A107,počty!$L$6:$AP$163,3,0)","v":{"$error":"#N/A"}},{"$f":"VLOOKUP(A107,počty!$L$6:$AP$163,4,0)","v":{"$error":"#N/A"}},{"$f":"VLOOKUP(A107,počty!$L$6:$AP$163,7,0)","v":{"$error":"#N/A"}},{"$f":"VLOOKUP(A107,počty!$L$6:$AP$163,9,0)","v":{"$error":"#N/A"}},{"$f":"VLOOKUP(A107,počty!$L$6:$AP$163,10,0)","v":{"$error":"#N/A"}},{"$f":"VLOOKUP(A107,počty!$L$6:$AP$163,11,0)","v":{"$error":"#N/A"}},{"$f":"VLOOKUP(A107,počty!$L$6:$AP$163,12,0)","v":{"$error":"#N/A"}},{"$f":"VLOOKUP(A107,počty!$L$6:$AP$163,13,0)","v":{"$error":"#N/A"}},{"$f":"VLOOKUP(A107,počty!$L$6:$AP$163,14,0)","v":{"$error":"#N/A"}},{"$f":"VLOOKUP(A107,počty!$L$6:$AP$163,15,0)","v":{"$error":"#N/A"}},{"$f":"VLOOKUP(A107,počty!$L$6:$AP$163,16,0)","v":{"$error":"#N/A"}},{"$f":"VLOOKUP(A107,počty!$L$6:$AP$163,17,0)","v":{"$error":"#N/A"}},{"$f":"VLOOKUP(A107,počty!$L$6:$AP$163,18,0)","v":{"$error":"#N/A"}},{"$f":"VLOOKUP(A107,počty!$L$6:$AP$163,30,0)","v":{"$error":"#N/A"}},{"$f":"IF(B107=\"M\",\"M\",240-MAX(počty!$BM$6:$BM$39)+P107)","v":{"$error":"#N/A"}},{"$f":"IF(B107=\"M\",\"M\",IF(B107>MAX(CUP!$B$3:$B$102),0,VLOOKUP(B107,CUP!$B$3:$C$102,2,0)))","v":{"$error":"#N/A"}}]
[null,null,null,{"$f":"VLOOKUP(A107,počty!$L$6:$AP$163,5,0)","v":{"$error":"#N/A"}},{"$f":"VLOOKUP(A107,počty!$L$6:$AP$163,6,0)","v":{"$error":"#N/A"}},{"$f":"VLOOKUP(A107,počty!$L$6:$AP$163,20,0)","v":{"$error":"#N/A"}},{"$f":"VLOOKUP(A107,počty!$L$6:$AP$163,21,0)","v":{"$error":"#N/A"}},{"$f":"VLOOKUP(A107,počty!$L$6:$AP$163,22,0)","v":{"$error":"#N/A"}},{"$f":"VLOOKUP(A107,počty!$L$6:$AP$163,23,0)","v":{"$error":"#N/A"}},{"$f":"VLOOKUP(A107,počty!$L$6:$AP$163,24,0)","v":{"$error":"#N/A"}},{"$f":"VLOOKUP(A107,počty!$L$6:$AP$163,25,0)","v":{"$error":"#N/A"}},{"$f":"VLOOKUP(A107,počty!$L$6:$AP$163,26,0)","v":{"$error":"#N/A"}},{"$f":"VLOOKUP(A107,počty!$L$6:$AP$163,27,0)","v":{"$error":"#N/A"}},{"$f":"VLOOKUP(A107,počty!$L$6:$AP$163,28,0)","v":{"$error":"#N/A"}},{"$f":"VLOOKUP(A107,počty!$L$6:$AP$163,29,0)","v":{"$error":"#N/A"}}]
[49,{"$f":"IF(VLOOKUP(A109,počty!$L$6:$AP$163,31,0)>=1000,\"M\",VLOOKUP(A109,počty!$L$6:$BR$163,53,0))","v":{"$error":"#N/A"}},{"$f":"VLOOKUP(A109,počty!$L$6:$AP$163,3,0)","v":{"$error":"#N/A"}},{"$f":"VLOOKUP(A109,počty!$L$6:$AP$163,4,0)","v":{"$error":"#N/A"}},{"$f":"VLOOKUP(A109,počty!$L$6:$AP$163,7,0)","v":{"$error":"#N/A"}},{"$f":"VLOOKUP(A109,počty!$L$6:$AP$163,9,0)","v":{"$error":"#N/A"}},{"$f":"VLOOKUP(A109,počty!$L$6:$AP$163,10,0)","v":{"$error":"#N/A"}},{"$f":"VLOOKUP(A109,počty!$L$6:$AP$163,11,0)","v":{"$error":"#N/A"}},{"$f":"VLOOKUP(A109,počty!$L$6:$AP$163,12,0)","v":{"$error":"#N/A"}},{"$f":"VLOOKUP(A109,počty!$L$6:$AP$163,13,0)","v":{"$error":"#N/A"}},{"$f":"VLOOKUP(A109,počty!$L$6:$AP$163,14,0)","v":{"$error":"#N/A"}},{"$f":"VLOOKUP(A109,počty!$L$6:$AP$163,15,0)","v":{"$error":"#N/A"}},{"$f":"VLOOKUP(A109,počty!$L$6:$AP$163,16,0)","v":{"$error":"#N/A"}},{"$f":"VLOOKUP(A109,počty!$L$6:$AP$163,17,0)","v":{"$error":"#N/A"}},{"$f":"VLOOKUP(A109,počty!$L$6:$AP$163,18,0)","v":{"$error":"#N/A"}},{"$f":"VLOOKUP(A109,počty!$L$6:$AP$163,30,0)","v":{"$error":"#N/A"}},{"$f":"IF(B109=\"M\",\"M\",240-MAX(počty!$BM$6:$BM$39)+P109)","v":{"$error":"#N/A"}},{"$f":"IF(B109=\"M\",\"M\",IF(B109>MAX(CUP!$B$3:$B$102),0,VLOOKUP(B109,CUP!$B$3:$C$102,2,0)))","v":{"$error":"#N/A"}}]
[null,null,null,{"$f":"VLOOKUP(A109,počty!$L$6:$AP$163,5,0)","v":{"$error":"#N/A"}},{"$f":"VLOOKUP(A109,počty!$L$6:$AP$163,6,0)","v":{"$error":"#N/A"}},{"$f":"VLOOKUP(A109,počty!$L$6:$AP$163,20,0)","v":{"$error":"#N/A"}},{"$f":"VLOOKUP(A109,počty!$L$6:$AP$163,21,0)","v":{"$error":"#N/A"}},{"$f":"VLOOKUP(A109,počty!$L$6:$AP$163,22,0)","v":{"$error":"#N/A"}},{"$f":"VLOOKUP(A109,počty!$L$6:$AP$163,23,0)","v":{"$error":"#N/A"}},{"$f":"VLOOKUP(A109,počty!$L$6:$AP$163,24,0)","v":{"$error":"#N/A"}},{"$f":"VLOOKUP(A109,počty!$L$6:$AP$163,25,0)","v":{"$error":"#N/A"}},{"$f":"VLOOKUP(A109,počty!$L$6:$AP$163,26,0)","v":{"$error":"#N/A"}},{"$f":"VLOOKUP(A109,počty!$L$6:$AP$163,27,0)","v":{"$error":"#N/A"}},{"$f":"VLOOKUP(A109,počty!$L$6:$AP$163,28,0)","v":{"$error":"#N/A"}},{"$f":"VLOOKUP(A109,počty!$L$6:$AP$163,29,0)","v":{"$error":"#N/A"}}]
[50,{"$f":"IF(VLOOKUP(A111,počty!$L$6:$AP$163,31,0)>=1000,\"M\",VLOOKUP(A111,počty!$L$6:$BR$163,53,0))","v":{"$error":"#N/A"}},{"$f":"VLOOKUP(A111,počty!$L$6:$AP$163,3,0)","v":{"$error":"#N/A"}},{"$f":"VLOOKUP(A111,počty!$L$6:$AP$163,4,0)","v":{"$error":"#N/A"}},{"$f":"VLOOKUP(A111,počty!$L$6:$AP$163,7,0)","v":{"$error":"#N/A"}},{"$f":"VLOOKUP(A111,počty!$L$6:$AP$163,9,0)","v":{"$error":"#N/A"}},{"$f":"VLOOKUP(A111,počty!$L$6:$AP$163,10,0)","v":{"$error":"#N/A"}},{"$f":"VLOOKUP(A111,počty!$L$6:$AP$163,11,0)","v":{"$error":"#N/A"}},{"$f":"VLOOKUP(A111,počty!$L$6:$AP$163,12,0)","v":{"$error":"#N/A"}},{"$f":"VLOOKUP(A111,počty!$L$6:$AP$163,13,0)","v":{"$error":"#N/A"}},{"$f":"VLOOKUP(A111,počty!$L$6:$AP$163,14,0)","v":{"$error":"#N/A"}},{"$f":"VLOOKUP(A111,počty!$L$6:$AP$163,15,0)","v":{"$error":"#N/A"}},{"$f":"VLOOKUP(A111,počty!$L$6:$AP$163,16,0)","v":{"$error":"#N/A"}},{"$f":"VLOOKUP(A111,počty!$L$6:$AP$163,17,0)","v":{"$error":"#N/A"}},{"$f":"VLOOKUP(A111,počty!$L$6:$AP$163,18,0)","v":{"$error":"#N/A"}},{"$f":"VLOOKUP(A111,počty!$L$6:$AP$163,30,0)","v":{"$error":"#N/A"}},{"$f":"IF(B111=\"M\",\"M\",240-MAX(počty!$BM$6:$BM$39)+P111)","v":{"$error":"#N/A"}},{"$f":"IF(B111=\"M\",\"M\",IF(B111>MAX(CUP!$B$3:$B$102),0,VLOOKUP(B111,CUP!$B$3:$C$102,2,0)))","v":{"$error":"#N/A"}}]
[null,null,null,{"$f":"VLOOKUP(A111,počty!$L$6:$AP$163,5,0)","v":{"$error":"#N/A"}},{"$f":"VLOOKUP(A111,počty!$L$6:$AP$163,6,0)","v":{"$error":"#N/A"}},{"$f":"VLOOKUP(A111,počty!$L$6:$AP$163,20,0)","v":{"$error":"#N/A"}},{"$f":"VLOOKUP(A111,počty!$L$6:$AP$163,21,0)","v":{"$error":"#N/A"}},{"$f":"VLOOKUP(A111,počty!$L$6:$AP$163,22,0)","v":{"$error":"#N/A"}},{"$f":"VLOOKUP(A111,počty!$L$6:$AP$163,23,0)","v":{"$error":"#N/A"}},{"$f":"VLOOKUP(A111,počty!$L$6:$AP$163,24,0)","v":{"$error":"#N/A"}},{"$f":"VLOOKUP(A111,počty!$L$6:$AP$163,25,0)","v":{"$error":"#N/A"}},{"$f":"VLOOKUP(A111,počty!$L$6:$AP$163,26,0)","v":{"$error":"#N/A"}},{"$f":"VLOOKUP(A111,počty!$L$6:$AP$163,27,0)","v":{"$error":"#N/A"}},{"$f":"VLOOKUP(A111,počty!$L$6:$AP$163,28,0)","v":{"$error":"#N/A"}},{"$f":"VLOOKUP(A111,počty!$L$6:$AP$163,29,0)","v":{"$error":"#N/A"}}]
[51,{"$f":"IF(VLOOKUP(A113,počty!$L$6:$AP$163,31,0)>=1000,\"M\",VLOOKUP(A113,počty!$L$6:$BR$163,53,0))","v":{"$error":"#N/A"}},{"$f":"VLOOKUP(A113,počty!$L$6:$AP$163,3,0)","v":{"$error":"#N/A"}},{"$f":"VLOOKUP(A113,počty!$L$6:$AP$163,4,0)","v":{"$error":"#N/A"}},{"$f":"VLOOKUP(A113,počty!$L$6:$AP$163,7,0)","v":{"$error":"#N/A"}},{"$f":"VLOOKUP(A113,počty!$L$6:$AP$163,9,0)","v":{"$error":"#N/A"}},{"$f":"VLOOKUP(A113,počty!$L$6:$AP$163,10,0)","v":{"$error":"#N/A"}},{"$f":"VLOOKUP(A113,počty!$L$6:$AP$163,11,0)","v":{"$error":"#N/A"}},{"$f":"VLOOKUP(A113,počty!$L$6:$AP$163,12,0)","v":{"$error":"#N/A"}},{"$f":"VLOOKUP(A113,počty!$L$6:$AP$163,13,0)","v":{"$error":"#N/A"}},{"$f":"VLOOKUP(A113,počty!$L$6:$AP$163,14,0)","v":{"$error":"#N/A"}},{"$f":"VLOOKUP(A113,počty!$L$6:$AP$163,15,0)","v":{"$error":"#N/A"}},{"$f":"VLOOKUP(A113,počty!$L$6:$AP$163,16,0)","v":{"$error":"#N/A"}},{"$f":"VLOOKUP(A113,počty!$L$6:$AP$163,17,0)","v":{"$error":"#N/A"}},{"$f":"VLOOKUP(A113,počty!$L$6:$AP$163,18,0)","v":{"$error":"#N/A"}},{"$f":"VLOOKUP(A113,počty!$L$6:$AP$163,30,0)","v":{"$error":"#N/A"}},{"$f":"IF(B113=\"M\",\"M\",240-MAX(počty!$BM$6:$BM$39)+P113)","v":{"$error":"#N/A"}},{"$f":"IF(B113=\"M\",\"M\",IF(B113>MAX(CUP!$B$3:$B$102),0,VLOOKUP(B113,CUP!$B$3:$C$102,2,0)))","v":{"$error":"#N/A"}}]
[null,null,null,{"$f":"VLOOKUP(A113,počty!$L$6:$AP$163,5,0)","v":{"$error":"#N/A"}},{"$f":"VLOOKUP(A113,počty!$L$6:$AP$163,6,0)","v":{"$error":"#N/A"}},{"$f":"VLOOKUP(A113,počty!$L$6:$AP$163,20,0)","v":{"$error":"#N/A"}},{"$f":"VLOOKUP(A113,počty!$L$6:$AP$163,21,0)","v":{"$error":"#N/A"}},{"$f":"VLOOKUP(A113,počty!$L$6:$AP$163,22,0)","v":{"$error":"#N/A"}},{"$f":"VLOOKUP(A113,počty!$L$6:$AP$163,23,0)","v":{"$error":"#N/A"}},{"$f":"VLOOKUP(A113,počty!$L$6:$AP$163,24,0)","v":{"$error":"#N/A"}},{"$f":"VLOOKUP(A113,počty!$L$6:$AP$163,25,0)","v":{"$error":"#N/A"}},{"$f":"VLOOKUP(A113,počty!$L$6:$AP$163,26,0)","v":{"$error":"#N/A"}},{"$f":"VLOOKUP(A113,počty!$L$6:$AP$163,27,0)","v":{"$error":"#N/A"}},{"$f":"VLOOKUP(A113,počty!$L$6:$AP$163,28,0)","v":{"$error":"#N/A"}},{"$f":"VLOOKUP(A113,počty!$L$6:$AP$163,29,0)","v":{"$error":"#N/A"}}]
[52,{"$f":"IF(VLOOKUP(A115,počty!$L$6:$AP$163,31,0)>=1000,\"M\",VLOOKUP(A115,počty!$L$6:$BR$163,53,0))","v":{"$error":"#N/A"}},{"$f":"VLOOKUP(A115,počty!$L$6:$AP$163,3,0)","v":{"$error":"#N/A"}},{"$f":"VLOOKUP(A115,počty!$L$6:$AP$163,4,0)","v":{"$error":"#N/A"}},{"$f":"VLOOKUP(A115,počty!$L$6:$AP$163,7,0)","v":{"$error":"#N/A"}},{"$f":"VLOOKUP(A115,počty!$L$6:$AP$163,9,0)","v":{"$error":"#N/A"}},{"$f":"VLOOKUP(A115,počty!$L$6:$AP$163,10,0)","v":{"$error":"#N/A"}},{"$f":"VLOOKUP(A115,počty!$L$6:$AP$163,11,0)","v":{"$error":"#N/A"}},{"$f":"VLOOKUP(A115,počty!$L$6:$AP$163,12,0)","v":{"$error":"#N/A"}},{"$f":"VLOOKUP(A115,počty!$L$6:$AP$163,13,0)","v":{"$error":"#N/A"}},{"$f":"VLOOKUP(A115,počty!$L$6:$AP$163,14,0)","v":{"$error":"#N/A"}},{"$f":"VLOOKUP(A115,počty!$L$6:$AP$163,15,0)","v":{"$error":"#N/A"}},{"$f":"VLOOKUP(A115,počty!$L$6:$AP$163,16,0)","v":{"$error":"#N/A"}},{"$f":"VLOOKUP(A115,počty!$L$6:$AP$163,17,0)","v":{"$error":"#N/A"}},{"$f":"VLOOKUP(A115,počty!$L$6:$AP$163,18,0)","v":{"$error":"#N/A"}},{"$f":"VLOOKUP(A115,počty!$L$6:$AP$163,30,0)","v":{"$error":"#N/A"}},{"$f":"IF(B115=\"M\",\"M\",240-MAX(počty!$BM$6:$BM$39)+P115)","v":{"$error":"#N/A"}},{"$f":"IF(B115=\"M\",\"M\",IF(B115>MAX(CUP!$B$3:$B$102),0,VLOOKUP(B115,CUP!$B$3:$C$102,2,0)))","v":{"$error":"#N/A"}}]
[null,null,null,{"$f":"VLOOKUP(A115,počty!$L$6:$AP$163,5,0)","v":{"$error":"#N/A"}},{"$f":"VLOOKUP(A115,počty!$L$6:$AP$163,6,0)","v":{"$error":"#N/A"}},{"$f":"VLOOKUP(A115,počty!$L$6:$AP$163,20,0)","v":{"$error":"#N/A"}},{"$f":"VLOOKUP(A115,počty!$L$6:$AP$163,21,0)","v":{"$error":"#N/A"}},{"$f":"VLOOKUP(A115,počty!$L$6:$AP$163,22,0)","v":{"$error":"#N/A"}},{"$f":"VLOOKUP(A115,počty!$L$6:$AP$163,23,0)","v":{"$error":"#N/A"}},{"$f":"VLOOKUP(A115,počty!$L$6:$AP$163,24,0)","v":{"$error":"#N/A"}},{"$f":"VLOOKUP(A115,počty!$L$6:$AP$163,25,0)","v":{"$error":"#N/A"}},{"$f":"VLOOKUP(A115,počty!$L$6:$AP$163,26,0)","v":{"$error":"#N/A"}},{"$f":"VLOOKUP(A115,počty!$L$6:$AP$163,27,0)","v":{"$error":"#N/A"}},{"$f":"VLOOKUP(A115,počty!$L$6:$AP$163,28,0)","v":{"$error":"#N/A"}},{"$f":"VLOOKUP(A115,počty!$L$6:$AP$163,29,0)","v":{"$error":"#N/A"}}]
[53,{"$f":"IF(VLOOKUP(A117,počty!$L$6:$AP$163,31,0)>=1000,\"M\",VLOOKUP(A117,počty!$L$6:$BR$163,53,0))","v":{"$error":"#N/A"}},{"$f":"VLOOKUP(A117,počty!$L$6:$AP$163,3,0)","v":{"$error":"#N/A"}},{"$f":"VLOOKUP(A117,počty!$L$6:$AP$163,4,0)","v":{"$error":"#N/A"}},{"$f":"VLOOKUP(A117,počty!$L$6:$AP$163,7,0)","v":{"$error":"#N/A"}},{"$f":"VLOOKUP(A117,počty!$L$6:$AP$163,9,0)","v":{"$error":"#N/A"}},{"$f":"VLOOKUP(A117,počty!$L$6:$AP$163,10,0)","v":{"$error":"#N/A"}},{"$f":"VLOOKUP(A117,počty!$L$6:$AP$163,11,0)","v":{"$error":"#N/A"}},{"$f":"VLOOKUP(A117,počty!$L$6:$AP$163,12,0)","v":{"$error":"#N/A"}},{"$f":"VLOOKUP(A117,počty!$L$6:$AP$163,13,0)","v":{"$error":"#N/A"}},{"$f":"VLOOKUP(A117,počty!$L$6:$AP$163,14,0)","v":{"$error":"#N/A"}},{"$f":"VLOOKUP(A117,počty!$L$6:$AP$163,15,0)","v":{"$error":"#N/A"}},{"$f":"VLOOKUP(A117,počty!$L$6:$AP$163,16,0)","v":{"$error":"#N/A"}},{"$f":"VLOOKUP(A117,počty!$L$6:$AP$163,17,0)","v":{"$error":"#N/A"}},{"$f":"VLOOKUP(A117,počty!$L$6:$AP$163,18,0)","v":{"$error":"#N/A"}},{"$f":"VLOOKUP(A117,počty!$L$6:$AP$163,30,0)","v":{"$error":"#N/A"}},{"$f":"IF(B117=\"M\",\"M\",240-MAX(počty!$BM$6:$BM$39)+P117)","v":{"$error":"#N/A"}},{"$f":"IF(B117=\"M\",\"M\",IF(B117>MAX(CUP!$B$3:$B$102),0,VLOOKUP(B117,CUP!$B$3:$C$102,2,0)))","v":{"$error":"#N/A"}}]
[null,null,null,{"$f":"VLOOKUP(A117,počty!$L$6:$AP$163,5,0)","v":{"$error":"#N/A"}},{"$f":"VLOOKUP(A117,počty!$L$6:$AP$163,6,0)","v":{"$error":"#N/A"}},{"$f":"VLOOKUP(A117,počty!$L$6:$AP$163,20,0)","v":{"$error":"#N/A"}},{"$f":"VLOOKUP(A117,počty!$L$6:$AP$163,21,0)","v":{"$error":"#N/A"}},{"$f":"VLOOKUP(A117,počty!$L$6:$AP$163,22,0)","v":{"$error":"#N/A"}},{"$f":"VLOOKUP(A117,počty!$L$6:$AP$163,23,0)","v":{"$error":"#N/A"}},{"$f":"VLOOKUP(A117,počty!$L$6:$AP$163,24,0)","v":{"$error":"#N/A"}},{"$f":"VLOOKUP(A117,počty!$L$6:$AP$163,25,0)","v":{"$error":"#N/A"}},{"$f":"VLOOKUP(A117,počty!$L$6:$AP$163,26,0)","v":{"$error":"#N/A"}},{"$f":"VLOOKUP(A117,počty!$L$6:$AP$163,27,0)","v":{"$error":"#N/A"}},{"$f":"VLOOKUP(A117,počty!$L$6:$AP$163,28,0)","v":{"$error":"#N/A"}},{"$f":"VLOOKUP(A117,počty!$L$6:$AP$163,29,0)","v":{"$error":"#N/A"}}]
[54,{"$f":"IF(VLOOKUP(A119,počty!$L$6:$AP$163,31,0)>=1000,\"M\",VLOOKUP(A119,počty!$L$6:$BR$163,53,0))","v":{"$error":"#N/A"}},{"$f":"VLOOKUP(A119,počty!$L$6:$AP$163,3,0)","v":{"$error":"#N/A"}},{"$f":"VLOOKUP(A119,počty!$L$6:$AP$163,4,0)","v":{"$error":"#N/A"}},{"$f":"VLOOKUP(A119,počty!$L$6:$AP$163,7,0)","v":{"$error":"#N/A"}},{"$f":"VLOOKUP(A119,počty!$L$6:$AP$163,9,0)","v":{"$error":"#N/A"}},{"$f":"VLOOKUP(A119,počty!$L$6:$AP$163,10,0)","v":{"$error":"#N/A"}},{"$f":"VLOOKUP(A119,počty!$L$6:$AP$163,11,0)","v":{"$error":"#N/A"}},{"$f":"VLOOKUP(A119,počty!$L$6:$AP$163,12,0)","v":{"$error":"#N/A"}},{"$f":"VLOOKUP(A119,počty!$L$6:$AP$163,13,0)","v":{"$error":"#N/A"}},{"$f":"VLOOKUP(A119,počty!$L$6:$AP$163,14,0)","v":{"$error":"#N/A"}},{"$f":"VLOOKUP(A119,počty!$L$6:$AP$163,15,0)","v":{"$error":"#N/A"}},{"$f":"VLOOKUP(A119,počty!$L$6:$AP$163,16,0)","v":{"$error":"#N/A"}},{"$f":"VLOOKUP(A119,počty!$L$6:$AP$163,17,0)","v":{"$error":"#N/A"}},{"$f":"VLOOKUP(A119,počty!$L$6:$AP$163,18,0)","v":{"$error":"#N/A"}},{"$f":"VLOOKUP(A119,počty!$L$6:$AP$163,30,0)","v":{"$error":"#N/A"}},{"$f":"IF(B119=\"M\",\"M\",240-MAX(počty!$BM$6:$BM$39)+P119)","v":{"$error":"#N/A"}},{"$f":"IF(B119=\"M\",\"M\",IF(B119>MAX(CUP!$B$3:$B$102),0,VLOOKUP(B119,CUP!$B$3:$C$102,2,0)))","v":{"$error":"#N/A"}}]
[null,null,null,{"$f":"VLOOKUP(A119,počty!$L$6:$AP$163,5,0)","v":{"$error":"#N/A"}},{"$f":"VLOOKUP(A119,počty!$L$6:$AP$163,6,0)","v":{"$error":"#N/A"}},{"$f":"VLOOKUP(A119,počty!$L$6:$AP$163,20,0)","v":{"$error":"#N/A"}},{"$f":"VLOOKUP(A119,počty!$L$6:$AP$163,21,0)","v":{"$error":"#N/A"}},{"$f":"VLOOKUP(A119,počty!$L$6:$AP$163,22,0)","v":{"$error":"#N/A"}},{"$f":"VLOOKUP(A119,počty!$L$6:$AP$163,23,0)","v":{"$error":"#N/A"}},{"$f":"VLOOKUP(A119,počty!$L$6:$AP$163,24,0)","v":{"$error":"#N/A"}},{"$f":"VLOOKUP(A119,počty!$L$6:$AP$163,25,0)","v":{"$error":"#N/A"}},{"$f":"VLOOKUP(A119,počty!$L$6:$AP$163,26,0)","v":{"$error":"#N/A"}},{"$f":"VLOOKUP(A119,počty!$L$6:$AP$163,27,0)","v":{"$error":"#N/A"}},{"$f":"VLOOKUP(A119,počty!$L$6:$AP$163,28,0)","v":{"$error":"#N/A"}},{"$f":"VLOOKUP(A119,počty!$L$6:$AP$163,29,0)","v":{"$error":"#N/A"}}]
[55,{"$f":"IF(VLOOKUP(A121,počty!$L$6:$AP$163,31,0)>=1000,\"M\",VLOOKUP(A121,počty!$L$6:$BR$163,53,0))","v":{"$error":"#N/A"}},{"$f":"VLOOKUP(A121,počty!$L$6:$AP$163,3,0)","v":{"$error":"#N/A"}},{"$f":"VLOOKUP(A121,počty!$L$6:$AP$163,4,0)","v":{"$error":"#N/A"}},{"$f":"VLOOKUP(A121,počty!$L$6:$AP$163,7,0)","v":{"$error":"#N/A"}},{"$f":"VLOOKUP(A121,počty!$L$6:$AP$163,9,0)","v":{"$error":"#N/A"}},{"$f":"VLOOKUP(A121,počty!$L$6:$AP$163,10,0)","v":{"$error":"#N/A"}},{"$f":"VLOOKUP(A121,počty!$L$6:$AP$163,11,0)","v":{"$error":"#N/A"}},{"$f":"VLOOKUP(A121,počty!$L$6:$AP$163,12,0)","v":{"$error":"#N/A"}},{"$f":"VLOOKUP(A121,počty!$L$6:$AP$163,13,0)","v":{"$error":"#N/A"}},{"$f":"VLOOKUP(A121,počty!$L$6:$AP$163,14,0)","v":{"$error":"#N/A"}},{"$f":"VLOOKUP(A121,počty!$L$6:$AP$163,15,0)","v":{"$error":"#N/A"}},{"$f":"VLOOKUP(A121,počty!$L$6:$AP$163,16,0)","v":{"$error":"#N/A"}},{"$f":"VLOOKUP(A121,počty!$L$6:$AP$163,17,0)","v":{"$error":"#N/A"}},{"$f":"VLOOKUP(A121,počty!$L$6:$AP$163,18,0)","v":{"$error":"#N/A"}},{"$f":"VLOOKUP(A121,počty!$L$6:$AP$163,30,0)","v":{"$error":"#N/A"}},{"$f":"IF(B121=\"M\",\"M\",240-MAX(počty!$BM$6:$BM$39)+P121)","v":{"$error":"#N/A"}},{"$f":"IF(B121=\"M\",\"M\",IF(B121>MAX(CUP!$B$3:$B$102),0,VLOOKUP(B121,CUP!$B$3:$C$102,2,0)))","v":{"$error":"#N/A"}}]
[null,null,null,{"$f":"VLOOKUP(A121,počty!$L$6:$AP$163,5,0)","v":{"$error":"#N/A"}},{"$f":"VLOOKUP(A121,počty!$L$6:$AP$163,6,0)","v":{"$error":"#N/A"}},{"$f":"VLOOKUP(A121,počty!$L$6:$AP$163,20,0)","v":{"$error":"#N/A"}},{"$f":"VLOOKUP(A121,počty!$L$6:$AP$163,21,0)","v":{"$error":"#N/A"}},{"$f":"VLOOKUP(A121,počty!$L$6:$AP$163,22,0)","v":{"$error":"#N/A"}},{"$f":"VLOOKUP(A121,počty!$L$6:$AP$163,23,0)","v":{"$error":"#N/A"}},{"$f":"VLOOKUP(A121,počty!$L$6:$AP$163,24,0)","v":{"$error":"#N/A"}},{"$f":"VLOOKUP(A121,počty!$L$6:$AP$163,25,0)","v":{"$error":"#N/A"}},{"$f":"VLOOKUP(A121,počty!$L$6:$AP$163,26,0)","v":{"$error":"#N/A"}},{"$f":"VLOOKUP(A121,počty!$L$6:$AP$163,27,0)","v":{"$error":"#N/A"}},{"$f":"VLOOKUP(A121,počty!$L$6:$AP$163,28,0)","v":{"$error":"#N/A"}},{"$f":"VLOOKUP(A121,počty!$L$6:$AP$163,29,0)","v":{"$error":"#N/A"}}]
[56,{"$f":"IF(VLOOKUP(A123,počty!$L$6:$AP$163,31,0)>=1000,\"M\",VLOOKUP(A123,počty!$L$6:$BR$163,53,0))","v":{"$error":"#N/A"}},{"$f":"VLOOKUP(A123,počty!$L$6:$AP$163,3,0)","v":{"$error":"#N/A"}},{"$f":"VLOOKUP(A123,počty!$L$6:$AP$163,4,0)","v":{"$error":"#N/A"}},{"$f":"VLOOKUP(A123,počty!$L$6:$AP$163,7,0)","v":{"$error":"#N/A"}},{"$f":"VLOOKUP(A123,počty!$L$6:$AP$163,9,0)","v":{"$error":"#N/A"}},{"$f":"VLOOKUP(A123,počty!$L$6:$AP$163,10,0)","v":{"$error":"#N/A"}},{"$f":"VLOOKUP(A123,počty!$L$6:$AP$163,11,0)","v":{"$error":"#N/A"}},{"$f":"VLOOKUP(A123,počty!$L$6:$AP$163,12,0)","v":{"$error":"#N/A"}},{"$f":"VLOOKUP(A123,počty!$L$6:$AP$163,13,0)","v":{"$error":"#N/A"}},{"$f":"VLOOKUP(A123,počty!$L$6:$AP$163,14,0)","v":{"$error":"#N/A"}},{"$f":"VLOOKUP(A123,počty!$L$6:$AP$163,15,0)","v":{"$error":"#N/A"}},{"$f":"VLOOKUP(A123,počty!$L$6:$AP$163,16,0)","v":{"$error":"#N/A"}},{"$f":"VLOOKUP(A123,počty!$L$6:$AP$163,17,0)","v":{"$error":"#N/A"}},{"$f":"VLOOKUP(A123,počty!$L$6:$AP$163,18,0)","v":{"$error":"#N/A"}},{"$f":"VLOOKUP(A123,počty!$L$6:$AP$163,30,0)","v":{"$error":"#N/A"}},{"$f":"IF(B123=\"M\",\"M\",240-MAX(počty!$BM$6:$BM$39)+P123)","v":{"$error":"#N/A"}},{"$f":"IF(B123=\"M\",\"M\",IF(B123>MAX(CUP!$B$3:$B$102),0,VLOOKUP(B123,CUP!$B$3:$C$102,2,0)))","v":{"$error":"#N/A"}}]
[null,null,null,{"$f":"VLOOKUP(A123,počty!$L$6:$AP$163,5,0)","v":{"$error":"#N/A"}},{"$f":"VLOOKUP(A123,počty!$L$6:$AP$163,6,0)","v":{"$error":"#N/A"}},{"$f":"VLOOKUP(A123,počty!$L$6:$AP$163,20,0)","v":{"$error":"#N/A"}},{"$f":"VLOOKUP(A123,počty!$L$6:$AP$163,21,0)","v":{"$error":"#N/A"}},{"$f":"VLOOKUP(A123,počty!$L$6:$AP$163,22,0)","v":{"$error":"#N/A"}},{"$f":"VLOOKUP(A123,počty!$L$6:$AP$163,23,0)","v":{"$error":"#N/A"}},{"$f":"VLOOKUP(A123,počty!$L$6:$AP$163,24,0)","v":{"$error":"#N/A"}},{"$f":"VLOOKUP(A123,počty!$L$6:$AP$163,25,0)","v":{"$error":"#N/A"}},{"$f":"VLOOKUP(A123,počty!$L$6:$AP$163,26,0)","v":{"$error":"#N/A"}},{"$f":"VLOOKUP(A123,počty!$L$6:$AP$163,27,0)","v":{"$error":"#N/A"}},{"$f":"VLOOKUP(A123,počty!$L$6:$AP$163,28,0)","v":{"$error":"#N/A"}},{"$f":"VLOOKUP(A123,počty!$L$6:$AP$163,29,0)","v":{"$error":"#N/A"}}]
[57,{"$f":"IF(VLOOKUP(A125,počty!$L$6:$AP$163,31,0)>=1000,\"M\",VLOOKUP(A125,počty!$L$6:$BR$163,53,0))","v":{"$error":"#N/A"}},{"$f":"VLOOKUP(A125,počty!$L$6:$AP$163,3,0)","v":{"$error":"#N/A"}},{"$f":"VLOOKUP(A125,počty!$L$6:$AP$163,4,0)","v":{"$error":"#N/A"}},{"$f":"VLOOKUP(A125,počty!$L$6:$AP$163,7,0)","v":{"$error":"#N/A"}},{"$f":"VLOOKUP(A125,počty!$L$6:$AP$163,9,0)","v":{"$error":"#N/A"}},{"$f":"VLOOKUP(A125,počty!$L$6:$AP$163,10,0)","v":{"$error":"#N/A"}},{"$f":"VLOOKUP(A125,počty!$L$6:$AP$163,11,0)","v":{"$error":"#N/A"}},{"$f":"VLOOKUP(A125,počty!$L$6:$AP$163,12,0)","v":{"$error":"#N/A"}},{"$f":"VLOOKUP(A125,počty!$L$6:$AP$163,13,0)","v":{"$error":"#N/A"}},{"$f":"VLOOKUP(A125,počty!$L$6:$AP$163,14,0)","v":{"$error":"#N/A"}},{"$f":"VLOOKUP(A125,počty!$L$6:$AP$163,15,0)","v":{"$error":"#N/A"}},{"$f":"VLOOKUP(A125,počty!$L$6:$AP$163,16,0)","v":{"$error":"#N/A"}},{"$f":"VLOOKUP(A125,počty!$L$6:$AP$163,17,0)","v":{"$error":"#N/A"}},{"$f":"VLOOKUP(A125,počty!$L$6:$AP$163,18,0)","v":{"$error":"#N/A"}},{"$f":"VLOOKUP(A125,počty!$L$6:$AP$163,30,0)","v":{"$error":"#N/A"}},{"$f":"IF(B125=\"M\",\"M\",240-MAX(počty!$BM$6:$BM$39)+P125)","v":{"$error":"#N/A"}},{"$f":"IF(B125=\"M\",\"M\",IF(B125>MAX(CUP!$B$3:$B$102),0,VLOOKUP(B125,CUP!$B$3:$C$102,2,0)))","v":{"$error":"#N/A"}}]
[null,null,null,{"$f":"VLOOKUP(A125,počty!$L$6:$AP$163,5,0)","v":{"$error":"#N/A"}},{"$f":"VLOOKUP(A125,počty!$L$6:$AP$163,6,0)","v":{"$error":"#N/A"}},{"$f":"VLOOKUP(A125,počty!$L$6:$AP$163,20,0)","v":{"$error":"#N/A"}},{"$f":"VLOOKUP(A125,počty!$L$6:$AP$163,21,0)","v":{"$error":"#N/A"}},{"$f":"VLOOKUP(A125,počty!$L$6:$AP$163,22,0)","v":{"$error":"#N/A"}},{"$f":"VLOOKUP(A125,počty!$L$6:$AP$163,23,0)","v":{"$error":"#N/A"}},{"$f":"VLOOKUP(A125,počty!$L$6:$AP$163,24,0)","v":{"$error":"#N/A"}},{"$f":"VLOOKUP(A125,počty!$L$6:$AP$163,25,0)","v":{"$error":"#N/A"}},{"$f":"VLOOKUP(A125,počty!$L$6:$AP$163,26,0)","v":{"$error":"#N/A"}},{"$f":"VLOOKUP(A125,počty!$L$6:$AP$163,27,0)","v":{"$error":"#N/A"}},{"$f":"VLOOKUP(A125,počty!$L$6:$AP$163,28,0)","v":{"$error":"#N/A"}},{"$f":"VLOOKUP(A125,počty!$L$6:$AP$163,29,0)","v":{"$error":"#N/A"}}]
[58,{"$f":"IF(VLOOKUP(A127,počty!$L$6:$AP$163,31,0)>=1000,\"M\",VLOOKUP(A127,počty!$L$6:$BR$163,53,0))","v":{"$error":"#N/A"}},{"$f":"VLOOKUP(A127,počty!$L$6:$AP$163,3,0)","v":{"$error":"#N/A"}},{"$f":"VLOOKUP(A127,počty!$L$6:$AP$163,4,0)","v":{"$error":"#N/A"}},{"$f":"VLOOKUP(A127,počty!$L$6:$AP$163,7,0)","v":{"$error":"#N/A"}},{"$f":"VLOOKUP(A127,počty!$L$6:$AP$163,9,0)","v":{"$error":"#N/A"}},{"$f":"VLOOKUP(A127,počty!$L$6:$AP$163,10,0)","v":{"$error":"#N/A"}},{"$f":"VLOOKUP(A127,počty!$L$6:$AP$163,11,0)","v":{"$error":"#N/A"}},{"$f":"VLOOKUP(A127,počty!$L$6:$AP$163,12,0)","v":{"$error":"#N/A"}},{"$f":"VLOOKUP(A127,počty!$L$6:$AP$163,13,0)","v":{"$error":"#N/A"}},{"$f":"VLOOKUP(A127,počty!$L$6:$AP$163,14,0)","v":{"$error":"#N/A"}},{"$f":"VLOOKUP(A127,počty!$L$6:$AP$163,15,0)","v":{"$error":"#N/A"}},{"$f":"VLOOKUP(A127,počty!$L$6:$AP$163,16,0)","v":{"$error":"#N/A"}},{"$f":"VLOOKUP(A127,počty!$L$6:$AP$163,17,0)","v":{"$error":"#N/A"}},{"$f":"VLOOKUP(A127,počty!$L$6:$AP$163,18,0)","v":{"$error":"#N/A"}},{"$f":"VLOOKUP(A127,počty!$L$6:$AP$163,30,0)","v":{"$error":"#N/A"}},{"$f":"IF(B127=\"M\",\"M\",240-MAX(počty!$BM$6:$BM$39)+P127)","v":{"$error":"#N/A"}},{"$f":"IF(B127=\"M\",\"M\",IF(B127>MAX(CUP!$B$3:$B$102),0,VLOOKUP(B127,CUP!$B$3:$C$102,2,0)))","v":{"$error":"#N/A"}}]
[null,null,null,{"$f":"VLOOKUP(A127,počty!$L$6:$AP$163,5,0)","v":{"$error":"#N/A"}},{"$f":"VLOOKUP(A127,počty!$L$6:$AP$163,6,0)","v":{"$error":"#N/A"}},{"$f":"VLOOKUP(A127,počty!$L$6:$AP$163,20,0)","v":{"$error":"#N/A"}},{"$f":"VLOOKUP(A127,počty!$L$6:$AP$163,21,0)","v":{"$error":"#N/A"}},{"$f":"VLOOKUP(A127,počty!$L$6:$AP$163,22,0)","v":{"$error":"#N/A"}},{"$f":"VLOOKUP(A127,počty!$L$6:$AP$163,23,0)","v":{"$error":"#N/A"}},{"$f":"VLOOKUP(A127,počty!$L$6:$AP$163,24,0)","v":{"$error":"#N/A"}},{"$f":"VLOOKUP(A127,počty!$L$6:$AP$163,25,0)","v":{"$error":"#N/A"}},{"$f":"VLOOKUP(A127,počty!$L$6:$AP$163,26,0)","v":{"$error":"#N/A"}},{"$f":"VLOOKUP(A127,počty!$L$6:$AP$163,27,0)","v":{"$error":"#N/A"}},{"$f":"VLOOKUP(A127,počty!$L$6:$AP$163,28,0)","v":{"$error":"#N/A"}},{"$f":"VLOOKUP(A127,počty!$L$6:$AP$163,29,0)","v":{"$error":"#N/A"}}]
[59,{"$f":"IF(VLOOKUP(A129,počty!$L$6:$AP$163,31,0)>=1000,\"M\",VLOOKUP(A129,počty!$L$6:$BR$163,53,0))","v":{"$error":"#N/A"}},{"$f":"VLOOKUP(A129,počty!$L$6:$AP$163,3,0)","v":{"$error":"#N/A"}},{"$f":"VLOOKUP(A129,počty!$L$6:$AP$163,4,0)","v":{"$error":"#N/A"}},{"$f":"VLOOKUP(A129,počty!$L$6:$AP$163,7,0)","v":{"$error":"#N/A"}},{"$f":"VLOOKUP(A129,počty!$L$6:$AP$163,9,0)","v":{"$error":"#N/A"}},{"$f":"VLOOKUP(A129,počty!$L$6:$AP$163,10,0)","v":{"$error":"#N/A"}},{"$f":"VLOOKUP(A129,počty!$L$6:$AP$163,11,0)","v":{"$error":"#N/A"}},{"$f":"VLOOKUP(A129,počty!$L$6:$AP$163,12,0)","v":{"$error":"#N/A"}},{"$f":"VLOOKUP(A129,počty!$L$6:$AP$163,13,0)","v":{"$error":"#N/A"}},{"$f":"VLOOKUP(A129,počty!$L$6:$AP$163,14,0)","v":{"$error":"#N/A"}},{"$f":"VLOOKUP(A129,počty!$L$6:$AP$163,15,0)","v":{"$error":"#N/A"}},{"$f":"VLOOKUP(A129,počty!$L$6:$AP$163,16,0)","v":{"$error":"#N/A"}},{"$f":"VLOOKUP(A129,počty!$L$6:$AP$163,17,0)","v":{"$error":"#N/A"}},{"$f":"VLOOKUP(A129,počty!$L$6:$AP$163,18,0)","v":{"$error":"#N/A"}},{"$f":"VLOOKUP(A129,počty!$L$6:$AP$163,30,0)","v":{"$error":"#N/A"}},{"$f":"IF(B129=\"M\",\"M\",240-MAX(počty!$BM$6:$BM$39)+P129)","v":{"$error":"#N/A"}},{"$f":"IF(B129=\"M\",\"M\",IF(B129>MAX(CUP!$B$3:$B$102),0,VLOOKUP(B129,CUP!$B$3:$C$102,2,0)))","v":{"$error":"#N/A"}}]
[null,null,null,{"$f":"VLOOKUP(A129,počty!$L$6:$AP$163,5,0)","v":{"$error":"#N/A"}},{"$f":"VLOOKUP(A129,počty!$L$6:$AP$163,6,0)","v":{"$error":"#N/A"}},{"$f":"VLOOKUP(A129,počty!$L$6:$AP$163,20,0)","v":{"$error":"#N/A"}},{"$f":"VLOOKUP(A129,počty!$L$6:$AP$163,21,0)","v":{"$error":"#N/A"}},{"$f":"VLOOKUP(A129,počty!$L$6:$AP$163,22,0)","v":{"$error":"#N/A"}},{"$f":"VLOOKUP(A129,počty!$L$6:$AP$163,23,0)","v":{"$error":"#N/A"}},{"$f":"VLOOKUP(A129,počty!$L$6:$AP$163,24,0)","v":{"$error":"#N/A"}},{"$f":"VLOOKUP(A129,počty!$L$6:$AP$163,25,0)","v":{"$error":"#N/A"}},{"$f":"VLOOKUP(A129,počty!$L$6:$AP$163,26,0)","v":{"$error":"#N/A"}},{"$f":"VLOOKUP(A129,počty!$L$6:$AP$163,27,0)","v":{"$error":"#N/A"}},{"$f":"VLOOKUP(A129,počty!$L$6:$AP$163,28,0)","v":{"$error":"#N/A"}},{"$f":"VLOOKUP(A129,počty!$L$6:$AP$163,29,0)","v":{"$error":"#N/A"}}]
[60,{"$f":"IF(VLOOKUP(A131,počty!$L$6:$AP$163,31,0)>=1000,\"M\",VLOOKUP(A131,počty!$L$6:$BR$163,53,0))","v":{"$error":"#N/A"}},{"$f":"VLOOKUP(A131,počty!$L$6:$AP$163,3,0)","v":{"$error":"#N/A"}},{"$f":"VLOOKUP(A131,počty!$L$6:$AP$163,4,0)","v":{"$error":"#N/A"}},{"$f":"VLOOKUP(A131,počty!$L$6:$AP$163,7,0)","v":{"$error":"#N/A"}},{"$f":"VLOOKUP(A131,počty!$L$6:$AP$163,9,0)","v":{"$error":"#N/A"}},{"$f":"VLOOKUP(A131,počty!$L$6:$AP$163,10,0)","v":{"$error":"#N/A"}},{"$f":"VLOOKUP(A131,počty!$L$6:$AP$163,11,0)","v":{"$error":"#N/A"}},{"$f":"VLOOKUP(A131,počty!$L$6:$AP$163,12,0)","v":{"$error":"#N/A"}},{"$f":"VLOOKUP(A131,počty!$L$6:$AP$163,13,0)","v":{"$error":"#N/A"}},{"$f":"VLOOKUP(A131,počty!$L$6:$AP$163,14,0)","v":{"$error":"#N/A"}},{"$f":"VLOOKUP(A131,počty!$L$6:$AP$163,15,0)","v":{"$error":"#N/A"}},{"$f":"VLOOKUP(A131,počty!$L$6:$AP$163,16,0)","v":{"$error":"#N/A"}},{"$f":"VLOOKUP(A131,počty!$L$6:$AP$163,17,0)","v":{"$error":"#N/A"}},{"$f":"VLOOKUP(A131,počty!$L$6:$AP$163,18,0)","v":{"$error":"#N/A"}},{"$f":"VLOOKUP(A131,počty!$L$6:$AP$163,30,0)","v":{"$error":"#N/A"}},{"$f":"IF(B131=\"M\",\"M\",240-MAX(počty!$BM$6:$BM$39)+P131)","v":{"$error":"#N/A"}},{"$f":"IF(B131=\"M\",\"M\",IF(B131>MAX(CUP!$B$3:$B$102),0,VLOOKUP(B131,CUP!$B$3:$C$102,2,0)))","v":{"$error":"#N/A"}}]
[null,null,null,{"$f":"VLOOKUP(A131,počty!$L$6:$AP$163,5,0)","v":{"$error":"#N/A"}},{"$f":"VLOOKUP(A131,počty!$L$6:$AP$163,6,0)","v":{"$error":"#N/A"}},{"$f":"VLOOKUP(A131,počty!$L$6:$AP$163,20,0)","v":{"$error":"#N/A"}},{"$f":"VLOOKUP(A131,počty!$L$6:$AP$163,21,0)","v":{"$error":"#N/A"}},{"$f":"VLOOKUP(A131,počty!$L$6:$AP$163,22,0)","v":{"$error":"#N/A"}},{"$f":"VLOOKUP(A131,počty!$L$6:$AP$163,23,0)","v":{"$error":"#N/A"}},{"$f":"VLOOKUP(A131,počty!$L$6:$AP$163,24,0)","v":{"$error":"#N/A"}},{"$f":"VLOOKUP(A131,počty!$L$6:$AP$163,25,0)","v":{"$error":"#N/A"}},{"$f":"VLOOKUP(A131,počty!$L$6:$AP$163,26,0)","v":{"$error":"#N/A"}},{"$f":"VLOOKUP(A131,počty!$L$6:$AP$163,27,0)","v":{"$error":"#N/A"}},{"$f":"VLOOKUP(A131,počty!$L$6:$AP$163,28,0)","v":{"$error":"#N/A"}},{"$f":"VLOOKUP(A131,počty!$L$6:$AP$163,29,0)","v":{"$error":"#N/A"}}]
[]
[null,"počet přihlášených:",null,null,{"$f":"COUNTA(počty!O6:O65)","v":60}]
[null,"počet startujících:",null,null,{"$f":"COUNT(počty!AP6:AP72)","v":5}]
[null,"počet klasifikovaných:",null,null,{"$f":"COUNT(počty!BL6:BL72)","v":5}]
[null,"počet mimo soutěž (M):",null,null,{"$f":"DCOUNTA(B12:B133,1,CUP!M3:M4)","v":0}]
[]
[null,null,null,"ředitel závodu",null,null,null,null,null,null,null,"technický delegát"]
[null,null,null,{"$f":"+C6","v":"Ing. Stanislav Jirásek"},null,null,null,null,null,null,null,{"$f":"+C7","v":"Pavel Bernat"}]

{"sheet":"1.ko","index":6,"n_rows":66,"n_cols":16,"rows_kept":66,"cut":false,"hidden":false,"merged":[[0,8,0,9]]}
[null,"výsledková listina 1. kolo",null,null,null,null,null,null,{"$f":"CONCATENATE(\"K \",hlavicka!C6)","v":"K 13"},null,null,null,null,null,null,{"$f":"+hlavicka!C11","v":"Žáci U10M 2017-2016"}]
[null,{"$f":"+vyslSL!B2","v":"Český pohár žactva ve skoku na lyžích - 9/SL"},null,null,null,null,null,null,null,null,null,null,null,null,null,{"$f":"+vyslSL!Q2","v":"dne: 21.11.2015"}]
[null,{"$f":"+vyslSL!B3","v":"skok.můstek: K 13"},null,null,null,null,null,null,null,null,null,null,null,null,null,{"$f":"+vyslSL!Q3","v":"LSK Lomnice"}]
[null,{"$f":"+vyslSL!B4","v":"certifikát můstku č.135/C35/SL pl. do "},null,null,null,null,null,null,null,null,null,null,null,null,null,{"$f":"+vyslSL!Q4","v":"K = 60 b. +/- 6 b./m"}]
[null,"poř.","st.č.","jméno","klub","stát","rok","m","A","B","C","D","E","body"]
[null,null,null,null,null,null,null,null,null,null,null,null,null,"metry","styl","celk."]
[1,{"$f":"VLOOKUP(A7,počty!$J$6:$AP$163,20,0)","v":1},{"$f":"VLOOKUP(A7,počty!$J$6:$AP$163,5,0)","v":22},{"$f":"VLOOKUP(A7,počty!$J$6:$AP$163,6,0)","v":"Sankot Antonín"},{"$f":"VLOOKUP(A7,počty!$J$6:$AP$163,7,0)","v":"Lyžařský sportovní klub Lomnice nad Popelkou"},{"$f":"VLOOKUP(A7,počty!$J$6:$AP$163,8,0)","v":"CZE"},{"$f":"VLOOKUP(A7,počty!$J$6:$AP$163,9,0)","v":2017},{"$f":"VLOOKUP(A7,počty!$J$6:$AP$163,11,0)","v":12},{"$f":"VLOOKUP(A7,počty!$J$6:$AP$163,12,0)","v":14.5},{"$f":"VLOOKUP(A7,počty!$J$6:$AP$163,13,0)","v":14},{"$f":"VLOOKUP(A7,počty!$J$6:$AP$163,14,0)","v":13},{"$f":"VLOOKUP(A7,počty!$J$6:$AP$163,15,0)","v":1},{"$f":"VLOOKUP(A7,počty!$J$6:$AP$163,16,0)","v":20},{"$f":"VLOOKUP(A7,počty!$J$6:$AP$163,17,0)","v":54},{"$f":"VLOOKUP(A7,počty!$J$6:$AP$163,18,0)","v":41.5},{"$f":"VLOOKUP(A7,počty!$J$6:$AP$163,19,0)","v":95.5}]
[2,{"$f":"VLOOKUP(A8,počty!$J$6:$AP$163,20,0)","v":1},{"$f":"VLOOKUP(A8,počty!$J$6:$AP$163,5,0)","v":13},{"$f":"VLOOKUP(A8,počty!$J$6:$AP$163,6,0)","v":"Zapadlová Sára"},{"$f":"VLOOKUP(A8,počty!$J$6:$AP$163,7,0)","v":"Lyžařský sportovní klub Lomnice nad Popelkou"},{"$f":"VLOOKUP(A8,počty!$J$6:$AP$163,8,0)","v":"CZE"},{"$f":"VLOOKUP(A8,počty!$J$6:$AP$163,9,0)","v":2016},{"$f":"VLOOKUP(A8,počty!$J$6:$AP$163,11,0)","v":11.5},{"$f":"VLOOKUP(A8,počty!$J$6:$AP$163,12,0)","v":15},{"$f":"VLOOKUP(A8,počty!$J$6:$AP$163,13,0)","v":15},{"$f":"VLOOKUP(A8,počty!$J$6:$AP$163,14,0)","v":14.5},{"$f":"VLOOKUP(A8,počty!$J$6:$AP$163,15,0)","v":1},{"$f":"VLOOKUP(A8,počty!$J$6:$AP$163,16,0)","v":20},{"$f":"VLOOKUP(A8,počty!$J$6:$AP$163,17,0)","v":51},{"$f":"VLOOKUP(A8,počty!$J$6:$AP$163,18,0)","v":44.5},{"$f":"VLOOKUP(A8,počty!$J$6:$AP$163,19,0)","v":95.5}]
[3,{"$f":"VLOOKUP(A9,počty!$J$6:$AP$163,20,0)","v":3},{"$f":"VLOOKUP(A9,počty!$J$6:$AP$163,5,0)","v":24},{"$f":"VLOOKUP(A9,počty!$J$6:$AP$163,6,0)","v":"Huráňová Karolína"},{"$f":"VLOOKUP(A9,počty!$J$6:$AP$163,7,0)","v":"Lyžařský sportovní klub Lomnice nad Popelkou"},{"$f":"VLOOKUP(A9,počty!$J$6:$AP$163,8,0)","v":"CZE"},{"$f":"VLOOKUP(A9,počty!$J$6:$AP$163,9,0)","v":2015},{"$f":"VLOOKUP(A9,počty!$J$6:$AP$163,11,0)","v":11.5},{"$f":"VLOOKUP(A9,počty!$J$6:$AP$163,12,0)","v":14.5},{"$f":"VLOOKUP(A9,počty!$J$6:$AP$163,13,0)","v":15},{"$f":"VLOOKUP(A9,počty!$J$6:$AP$163,14,0)","v":13.5},{"$f":"VLOOKUP(A9,počty!$J$6:$AP$163,15,0)","v":1},{"$f":"VLOOKUP(A9,počty!$J$6:$AP$163,16,0)","v":20},{"$f":"VLOOKUP(A9,počty!$J$6:$AP$163,17,0)","v":51},{"$f":"VLOOKUP(A9,počty!$J$6:$AP$163,18,0)","v":43},{"$f":"VLOOKUP(A9,počty!$J$6:$AP$163,19,0)","v":94}]
[4,{"$f":"VLOOKUP(A10,počty!$J$6:$AP$163,20,0)","v":4},{"$f":"VLOOKUP(A10,počty!$J$6:$AP$163,5,0)","v":25},{"$f":"VLOOKUP(A10,počty!$J$6:$AP$163,6,0)","v":"Ježek Jakub"},{"$f":"VLOOKUP(A10,počty!$J$6:$AP$163,7,0)","v":"Lyžařský sportovní klub Lomnice nad Popelkou"},{"$f":"VLOOKUP(A10,počty!$J$6:$AP$163,8,0)","v":"CZE"},{"$f":"VLOOKUP(A10,počty!$J$6:$AP$163,9,0)","v":2015},{"$f":"VLOOKUP(A10,počty!$J$6:$AP$163,11,0)","v":11},{"$f":"VLOOKUP(A10,počty!$J$6:$AP$163,12,0)","v":14.5},{"$f":"VLOOKUP(A10,počty!$J$6:$AP$163,13,0)","v":14.5},{"$f":"VLOOKUP(A10,počty!$J$6:$AP$163,14,0)","v":13},{"$f":"VLOOKUP(A10,počty!$J$6:$AP$163,15,0)","v":1},{"$f":"VLOOKUP(A10,počty!$J$6:$AP$163,16,0)","v":20},{"$f":"VLOOKUP(A10,počty!$J$6:$AP$163,17,0)","v":48},{"$f":"VLOOKUP(A10,počty!$J$6:$AP$163,18,0)","v":42},{"$f":"VLOOKUP(A10,počty!$J$6:$AP$163,19,0)","v":90}]
[5,{"$f":"VLOOKUP(A11,počty!$J$6:$AP$163,20,0)","v":5},{"$f":"VLOOKUP(A11,počty!$J$6:$AP$163,5,0)","v":23},{"$f":"VLOOKUP(A11,počty!$J$6:$AP$163,6,0)","v":"Břečka Matyáš"},{"$f":"VLOOKUP(A11,počty!$J$6:$AP$163,7,0)","v":"Lyžařský sportovní klub Lomnice nad Popelkou"},{"$f":"VLOOKUP(A11,počty!$J$6:$AP$163,8,0)","v":"CZE"},{"$f":"VLOOKUP(A11,počty!$J$6:$AP$163,9,0)","v":2014},{"$f":"VLOOKUP(A11,počty!$J$6:$AP$163,11,0)","v":11},{"$f":"VLOOKUP(A11,počty!$J$6:$AP$163,12,0)","v":14.5},{"$f":"VLOOKUP(A11,počty!$J$6:$AP$163,13,0)","v":14},{"$f":"VLOOKUP(A11,počty!$J$6:$AP$163,14,0)","v":13},{"$f":"VLOOKUP(A11,počty!$J$6:$AP$163,15,0)","v":1},{"$f":"VLOOKUP(A11,počty!$J$6:$AP$163,16,0)","v":20},{"$f":"VLOOKUP(A11,počty!$J$6:$AP$163,17,0)","v":48},{"$f":"VLOOKUP(A11,počty!$J$6:$AP$163,18,0)","v":41.5},{"$f":"VLOOKUP(A11,počty!$J$6:$AP$163,19,0)","v":89.5}]
[6,{"$f":"VLOOKUP(A12,počty!$J$6:$AP$163,20,0)","v":{"$error":"#N/A"}},{"$f":"VLOOKUP(A12,počty!$J$6:$AP$163,5,0)","v":{"$error":"#N/A"}},{"$f":"VLOOKUP(A12,počty!$J$6:$AP$163,6,0)","v":{"$error":"#N/A"}},{"$f":"VLOOKUP(A12,počty!$J$6:$AP$163,7,0)","v":{"$error":"#N/A"}},{"$f":"VLOOKUP(A12,počty!$J$6:$AP$163,8,0)","v":{"$error":"#N/A"}},{"$f":"VLOOKUP(A12,počty!$J$6:$AP$163,9,0)","v":{"$error":"#N/A"}},{"$f":"VLOOKUP(A12,počty!$J$6:$AP$163,11,0)","v":{"$error":"#N/A"}},{"$f":"VLOOKUP(A12,počty!$J$6:$AP$163,12,0)","v":{"$error":"#N/A"}},{"$f":"VLOOKUP(A12,počty!$J$6:$AP$163,13,0)","v":{"$error":"#N/A"}},{"$f":"VLOOKUP(A12,počty!$J$6:$AP$163,14,0)","v":{"$error":"#N/A"}},{"$f":"VLOOKUP(A12,počty!$J$6:$AP$163,15,0)","v":{"$error":"#N/A"}},{"$f":"VLOOKUP(A12,počty!$J$6:$AP$163,16,0)","v":{"$error":"#N/A"}},{"$f":"VLOOKUP(A12,počty!$J$6:$AP$163,17,0)","v":{"$error":"#N/A"}},{"$f":"VLOOKUP(A12,počty!$J$6:$AP$163,18,0)","v":{"$error":"#N/A"}},{"$f":"VLOOKUP(A12,počty!$J$6:$AP$163,19,0)","v":{"$error":"#N/A"}}]
[7,{"$f":"VLOOKUP(A13,počty!$J$6:$AP$163,20,0)","v":{"$error":"#N/A"}},{"$f":"VLOOKUP(A13,počty!$J$6:$AP$163,5,0)","v":{"$error":"#N/A"}},{"$f":"VLOOKUP(A13,počty!$J$6:$AP$163,6,0)","v":{"$error":"#N/A"}},{"$f":"VLOOKUP(A13,počty!$J$6:$AP$163,7,0)","v":{"$error":"#N/A"}},{"$f":"VLOOKUP(A13,počty!$J$6:$AP$163,8,0)","v":{"$error":"#N/A"}},{"$f":"VLOOKUP(A13,počty!$J$6:$AP$163,9,0)","v":{"$error":"#N/A"}},{"$f":"VLOOKUP(A13,počty!$J$6:$AP$163,11,0)","v":{"$error":"#N/A"}},{"$f":"VLOOKUP(A13,počty!$J$6:$AP$163,12,0)","v":{"$error":"#N/A"}},{"$f":"VLOOKUP(A13,počty!$J$6:$AP$163,13,0)","v":{"$error":"#N/A"}},{"$f":"VLOOKUP(A13,počty!$J$6:$AP$163,14,0)","v":{"$error":"#N/A"}},{"$f":"VLOOKUP(A13,počty!$J$6:$AP$163,15,0)","v":{"$error":"#N/A"}},{"$f":"VLOOKUP(A13,počty!$J$6:$AP$163,16,0)","v":{"$error":"#N/A"}},{"$f":"VLOOKUP(A13,počty!$J$6:$AP$163,17,0)","v":{"$error":"#N/A"}},{"$f":"VLOOKUP(A13,počty!$J$6:$AP$163,18,0)","v":{"$error":"#N/A"}},{"$f":"VLOOKUP(A13,počty!$J$6:$AP$163,19,0)","v":{"$error":"#N/A"}}]
[8,{"$f":"VLOOKUP(A14,počty!$J$6:$AP$163,20,0)","v":{"$error":"#N/A"}},{"$f":"VLOOKUP(A14,počty!$J$6:$AP$163,5,0)","v":{"$error":"#N/A"}},{"$f":"VLOOKUP(A14,počty!$J$6:$AP$163,6,0)","v":{"$error":"#N/A"}},{"$f":"VLOOKUP(A14,počty!$J$6:$AP$163,7,0)","v":{"$error":"#N/A"}},{"$f":"VLOOKUP(A14,počty!$J$6:$AP$163,8,0)","v":{"$error":"#N/A"}},{"$f":"VLOOKUP(A14,počty!$J$6:$AP$163,9,0)","v":{"$error":"#N/A"}},{"$f":"VLOOKUP(A14,počty!$J$6:$AP$163,11,0)","v":{"$error":"#N/A"}},{"$f":"VLOOKUP(A14,počty!$J$6:$AP$163,12,0)","v":{"$error":"#N/A"}},{"$f":"VLOOKUP(A14,počty!$J$6:$AP$163,13,0)","v":{"$error":"#N/A"}},{"$f":"VLOOKUP(A14,počty!$J$6:$AP$163,14,0)","v":{"$error":"#N/A"}},{"$f":"VLOOKUP(A14,počty!$J$6:$AP$163,15,0)","v":{"$error":"#N/A"}},{"$f":"VLOOKUP(A14,počty!$J$6:$AP$163,16,0)","v":{"$error":"#N/A"}},{"$f":"VLOOKUP(A14,počty!$J$6:$AP$163,17,0)","v":{"$error":"#N/A"}},{"$f":"VLOOKUP(A14,počty!$J$6:$AP$163,18,0)","v":{"$error":"#N/A"}},{"$f":"VLOOKUP(A14,počty!$J$6:$AP$163,19,0)","v":{"$error":"#N/A"}}]
[9,{"$f":"VLOOKUP(A15,počty!$J$6:$AP$163,20,0)","v":{"$error":"#N/A"}},{"$f":"VLOOKUP(A15,počty!$J$6:$AP$163,5,0)","v":{"$error":"#N/A"}},{"$f":"VLOOKUP(A15,počty!$J$6:$AP$163,6,0)","v":{"$error":"#N/A"}},{"$f":"VLOOKUP(A15,počty!$J$6:$AP$163,7,0)","v":{"$error":"#N/A"}},{"$f":"VLOOKUP(A15,počty!$J$6:$AP$163,8,0)","v":{"$error":"#N/A"}},{"$f":"VLOOKUP(A15,počty!$J$6:$AP$163,9,0)","v":{"$error":"#N/A"}},{"$f":"VLOOKUP(A15,počty!$J$6:$AP$163,11,0)","v":{"$error":"#N/A"}},{"$f":"VLOOKUP(A15,počty!$J$6:$AP$163,12,0)","v":{"$error":"#N/A"}},{"$f":"VLOOKUP(A15,počty!$J$6:$AP$163,13,0)","v":{"$error":"#N/A"}},{"$f":"VLOOKUP(A15,počty!$J$6:$AP$163,14,0)","v":{"$error":"#N/A"}},{"$f":"VLOOKUP(A15,počty!$J$6:$AP$163,15,0)","v":{"$error":"#N/A"}},{"$f":"VLOOKUP(A15,počty!$J$6:$AP$163,16,0)","v":{"$error":"#N/A"}},{"$f":"VLOOKUP(A15,počty!$J$6:$AP$163,17,0)","v":{"$error":"#N/A"}},{"$f":"VLOOKUP(A15,počty!$J$6:$AP$163,18,0)","v":{"$error":"#N/A"}},{"$f":"VLOOKUP(A15,počty!$J$6:$AP$163,19,0)","v":{"$error":"#N/A"}}]
[10,{"$f":"VLOOKUP(A16,počty!$J$6:$AP$163,20,0)","v":{"$error":"#N/A"}},{"$f":"VLOOKUP(A16,počty!$J$6:$AP$163,5,0)","v":{"$error":"#N/A"}},{"$f":"VLOOKUP(A16,počty!$J$6:$AP$163,6,0)","v":{"$error":"#N/A"}},{"$f":"VLOOKUP(A16,počty!$J$6:$AP$163,7,0)","v":{"$error":"#N/A"}},{"$f":"VLOOKUP(A16,počty!$J$6:$AP$163,8,0)","v":{"$error":"#N/A"}},{"$f":"VLOOKUP(A16,počty!$J$6:$AP$163,9,0)","v":{"$error":"#N/A"}},{"$f":"VLOOKUP(A16,počty!$J$6:$AP$163,11,0)","v":{"$error":"#N/A"}},{"$f":"VLOOKUP(A16,počty!$J$6:$AP$163,12,0)","v":{"$error":"#N/A"}},{"$f":"VLOOKUP(A16,počty!$J$6:$AP$163,13,0)","v":{"$error":"#N/A"}},{"$f":"VLOOKUP(A16,počty!$J$6:$AP$163,14,0)","v":{"$error":"#N/A"}},{"$f":"VLOOKUP(A16,počty!$J$6:$AP$163,15,0)","v":{"$error":"#N/A"}},{"$f":"VLOOKUP(A16,počty!$J$6:$AP$163,16,0)","v":{"$error":"#N/A"}},{"$f":"VLOOKUP(A16,počty!$J$6:$AP$163,17,0)","v":{"$error":"#N/A"}},{"$f":"VLOOKUP(A16,počty!$J$6:$AP$163,18,0)","v":{"$error":"#N/A"}},{"$f":"VLOOKUP(A16,počty!$J$6:$AP$163,19,0)","v":{"$error":"#N/A"}}]
[11,{"$f":"VLOOKUP(A17,počty!$J$6:$AP$163,20,0)","v":{"$error":"#N/A"}},{"$f":"VLOOKUP(A17,počty!$J$6:$AP$163,5,0)","v":{"$error":"#N/A"}},{"$f":"VLOOKUP(A17,počty!$J$6:$AP$163,6,0)","v":{"$error":"#N/A"}},{"$f":"VLOOKUP(A17,počty!$J$6:$AP$163,7,0)","v":{"$error":"#N/A"}},{"$f":"VLOOKUP(A17,počty!$J$6:$AP$163,8,0)","v":{"$error":"#N/A"}},{"$f":"VLOOKUP(A17,počty!$J$6:$AP$163,9,0)","v":{"$error":"#N/A"}},{"$f":"VLOOKUP(A17,počty!$J$6:$AP$163,11,0)","v":{"$error":"#N/A"}},{"$f":"VLOOKUP(A17,počty!$J$6:$AP$163,12,0)","v":{"$error":"#N/A"}},{"$f":"VLOOKUP(A17,počty!$J$6:$AP$163,13,0)","v":{"$error":"#N/A"}},{"$f":"VLOOKUP(A17,počty!$J$6:$AP$163,14,0)","v":{"$error":"#N/A"}},{"$f":"VLOOKUP(A17,počty!$J$6:$AP$163,15,0)","v":{"$error":"#N/A"}},{"$f":"VLOOKUP(A17,počty!$J$6:$AP$163,16,0)","v":{"$error":"#N/A"}},{"$f":"VLOOKUP(A17,počty!$J$6:$AP$163,17,0)","v":{"$error":"#N/A"}},{"$f":"VLOOKUP(A17,počty!$J$6:$AP$163,18,0)","v":{"$error":"#N/A"}},{"$f":"VLOOKUP(A17,počty!$J$6:$AP$163,19,0)","v":{"$error":"#N/A"}}]
[12,{"$f":"VLOOKUP(A18,počty!$J$6:$AP$163,20,0)","v":{"$error":"#N/A"}},{"$f":"VLOOKUP(A18,počty!$J$6:$AP$163,5,0)","v":{"$error":"#N/A"}},{"$f":"VLOOKUP(A18,počty!$J$6:$AP$163,6,0)","v":{"$error":"#N/A"}},{"$f":"VLOOKUP(A18,počty!$J$6:$AP$163,7,0)","v":{"$error":"#N/A"}},{"$f":"VLOOKUP(A18,počty!$J$6:$AP$163,8,0)","v":{"$error":"#N/A"}},{"$f":"VLOOKUP(A18,počty!$J$6:$AP$163,9,0)","v":{"$error":"#N/A"}},{"$f":"VLOOKUP(A18,počty!$J$6:$AP$163,11,0)","v":{"$error":"#N/A"}},{"$f":"VLOOKUP(A18,počty!$J$6:$AP$163,12,0)","v":{"$error":"#N/A"}},{"$f":"VLOOKUP(A18,počty!$J$6:$AP$163,13,0)","v":{"$error":"#N/A"}},{"$f":"VLOOKUP(A18,počty!$J$6:$AP$163,14,0)","v":{"$error":"#N/A"}},{"$f":"VLOOKUP(A18,počty!$J$6:$AP$163,15,0)","v":{"$error":"#N/A"}},{"$f":"VLOOKUP(A18,počty!$J$6:$AP$163,16,0)","v":{"$error":"#N/A"}},{"$f":"VLOOKUP(A18,počty!$J$6:$AP$163,17,0)","v":{"$error":"#N/A"}},{"$f":"VLOOKUP(A18,počty!$J$6:$AP$163,18,0)","v":{"$error":"#N/A"}},{"$f":"VLOOKUP(A18,počty!$J$6:$AP$163,19,0)","v":{"$error":"#N/A"}}]
[13,{"$f":"VLOOKUP(A19,počty!$J$6:$AP$163,20,0)","v":{"$error":"#N/A"}},{"$f":"VLOOKUP(A19,počty!$J$6:$AP$163,5,0)","v":{"$error":"#N/A"}},{"$f":"VLOOKUP(A19,počty!$J$6:$AP$163,6,0)","v":{"$error":"#N/A"}},{"$f":"VLOOKUP(A19,počty!$J$6:$AP$163,7,0)","v":{"$error":"#N/A"}},{"$f":"VLOOKUP(A19,počty!$J$6:$AP$163,8,0)","v":{"$error":"#N/A"}},{"$f":"VLOOKUP(A19,počty!$J$6:$AP$163,9,0)","v":{"$error":"#N/A"}},{"$f":"VLOOKUP(A19,počty!$J$6:$AP$163,11,0)","v":{"$error":"#N/A"}},{"$f":"VLOOKUP(A19,počty!$J$6:$AP$163,12,0)","v":{"$error":"#N/A"}},{"$f":"VLOOKUP(A19,počty!$J$6:$AP$163,13,0)","v":{"$error":"#N/A"}},{"$f":"VLOOKUP(A19,počty!$J$6:$AP$163,14,0)","v":{"$error":"#N/A"}},{"$f":"VLOOKUP(A19,počty!$J$6:$AP$163,15,0)","v":{"$error":"#N/A"}},{"$f":"VLOOKUP(A19,počty!$J$6:$AP$163,16,0)","v":{"$error":"#N/A"}},{"$f":"VLOOKUP(A19,počty!$J$6:$AP$163,17,0)","v":{"$error":"#N/A"}},{"$f":"VLOOKUP(A19,počty!$J$6:$AP$163,18,0)","v":{"$error":"#N/A"}},{"$f":"VLOOKUP(A19,počty!$J$6:$AP$163,19,0)","v":{"$error":"#N/A"}}]
[14,{"$f":"VLOOKUP(A20,počty!$J$6:$AP$163,20,0)","v":{"$error":"#N/A"}},{"$f":"VLOOKUP(A20,počty!$J$6:$AP$163,5,0)","v":{"$error":"#N/A"}},{"$f":"VLOOKUP(A20,počty!$J$6:$AP$163,6,0)","v":{"$error":"#N/A"}},{"$f":"VLOOKUP(A20,počty!$J$6:$AP$163,7,0)","v":{"$error":"#N/A"}},{"$f":"VLOOKUP(A20,počty!$J$6:$AP$163,8,0)","v":{"$error":"#N/A"}},{"$f":"VLOOKUP(A20,počty!$J$6:$AP$163,9,0)","v":{"$error":"#N/A"}},{"$f":"VLOOKUP(A20,počty!$J$6:$AP$163,11,0)","v":{"$error":"#N/A"}},{"$f":"VLOOKUP(A20,počty!$J$6:$AP$163,12,0)","v":{"$error":"#N/A"}},{"$f":"VLOOKUP(A20,počty!$J$6:$AP$163,13,0)","v":{"$error":"#N/A"}},{"$f":"VLOOKUP(A20,počty!$J$6:$AP$163,14,0)","v":{"$error":"#N/A"}},{"$f":"VLOOKUP(A20,počty!$J$6:$AP$163,15,0)","v":{"$error":"#N/A"}},{"$f":"VLOOKUP(A20,počty!$J$6:$AP$163,16,0)","v":{"$error":"#N/A"}},{"$f":"VLOOKUP(A20,počty!$J$6:$AP$163,17,0)","v":{"$error":"#N/A"}},{"$f":"VLOOKUP(A20,počty!$J$6:$AP$163,18,0)","v":{"$error":"#N/A"}},{"$f":"VLOOKUP(A20,počty!$J$6:$AP$163,19,0)","v":{"$error":"#N/A"}}]
[15,{"$f":"VLOOKUP(A21,počty!$J$6:$AP$163,20,0)","v":{"$error":"#N/A"}},{"$f":"VLOOKUP(A21,počty!$J$6:$AP$163,5,0)","v":{"$error":"#N/A"}},{"$f":"VLOOKUP(A21,počty!$J$6:$AP$163,6,0)","v":{"$error":"#N/A"}},{"$f":"VLOOKUP(A21,počty!$J$6:$AP$163,7,0)","v":{"$error":"#N/A"}},{"$f":"VLOOKUP(A21,počty!$J$6:$AP$163,8,0)","v":{"$error":"#N/A"}},{"$f":"VLOOKUP(A21,počty!$J$6:$AP$163,9,0)","v":{"$error":"#N/A"}},{"$f":"VLOOKUP(A21,počty!$J$6:$AP$163,11,0)","v":{"$error":"#N/A"}},{"$f":"VLOOKUP(A21,počty!$J$6:$AP$163,12,0)","v":{"$error":"#N/A"}},{"$f":"VLOOKUP(A21,počty!$J$6:$AP$163,13,0)","v":{"$error":"#N/A"}},{"$f":"VLOOKUP(A21,počty!$J$6:$AP$163,14,0)","v":{"$error":"#N/A"}},{"$f":"VLOOKUP(A21,počty!$J$6:$AP$163,15,0)","v":{"$error":"#N/A"}},{"$f":"VLOOKUP(A21,počty!$J$6:$AP$163,16,0)","v":{"$error":"#N/A"}},{"$f":"VLOOKUP(A21,počty!$J$6:$AP$163,17,0)","v":{"$error":"#N/A"}},{"$f":"VLOOKUP(A21,počty!$J$6:$AP$163,18,0)","v":{"$error":"#N/A"}},{"$f":"VLOOKUP(A21,počty!$J$6:$AP$163,19,0)","v":{"$error":"#N/A"}}]
[16,{"$f":"VLOOKUP(A22,počty!$J$6:$AP$163,20,0)","v":{"$error":"#N/A"}},{"$f":"VLOOKUP(A22,počty!$J$6:$AP$163,5,0)","v":{"$error":"#N/A"}},{"$f":"VLOOKUP(A22,počty!$J$6:$AP$163,6,0)","v":{"$error":"#N/A"}},{"$f":"VLOOKUP(A22,počty!$J$6:$AP$163,7,0)","v":{"$error":"#N/A"}},{"$f":"VLOOKUP(A22,počty!$J$6:$AP$163,8,0)","v":{"$error":"#N/A"}},{"$f":"VLOOKUP(A22,počty!$J$6:$AP$163,9,0)","v":{"$error":"#N/A"}},{"$f":"VLOOKUP(A22,počty!$J$6:$AP$163,11,0)","v":{"$error":"#N/A"}},{"$f":"VLOOKUP(A22,počty!$J$6:$AP$163,12,0)","v":{"$error":"#N/A"}},{"$f":"VLOOKUP(A22,počty!$J$6:$AP$163,13,0)","v":{"$error":"#N/A"}},{"$f":"VLOOKUP(A22,počty!$J$6:$AP$163,14,0)","v":{"$error":"#N/A"}},{"$f":"VLOOKUP(A22,počty!$J$6:$AP$163,15,0)","v":{"$error":"#N/A"}},{"$f":"VLOOKUP(A22,počty!$J$6:$AP$163,16,0)","v":{"$error":"#N/A"}},{"$f":"VLOOKUP(A22,počty!$J$6:$AP$163,17,0)","v":{"$error":"#N/A"}},{"$f":"VLOOKUP(A22,počty!$J$6:$AP$163,18,0)","v":{"$error":"#N/A"}},{"$f":"VLOOKUP(A22,počty!$J$6:$AP$163,19,0)","v":{"$error":"#N/A"}}]
[17,{"$f":"VLOOKUP(A23,počty!$J$6:$AP$163,20,0)","v":{"$error":"#N/A"}},{"$f":"VLOOKUP(A23,počty!$J$6:$AP$163,5,0)","v":{"$error":"#N/A"}},{"$f":"VLOOKUP(A23,počty!$J$6:$AP$163,6,0)","v":{"$error":"#N/A"}},{"$f":"VLOOKUP(A23,počty!$J$6:$AP$163,7,0)","v":{"$error":"#N/A"}},{"$f":"VLOOKUP(A23,počty!$J$6:$AP$163,8,0)","v":{"$error":"#N/A"}},{"$f":"VLOOKUP(A23,počty!$J$6:$AP$163,9,0)","v":{"$error":"#N/A"}},{"$f":"VLOOKUP(A23,počty!$J$6:$AP$163,11,0)","v":{"$error":"#N/A"}},{"$f":"VLOOKUP(A23,počty!$J$6:$AP$163,12,0)","v":{"$error":"#N/A"}},{"$f":"VLOOKUP(A23,počty!$J$6:$AP$163,13,0)","v":{"$error":"#N/A"}},{"$f":"VLOOKUP(A23,počty!$J$6:$AP$163,14,0)","v":{"$error":"#N/A"}},{"$f":"VLOOKUP(A23,počty!$J$6:$AP$163,15,0)","v":{"$error":"#N/A"}},{"$f":"VLOOKUP(A23,počty!$J$6:$AP$163,16,0)","v":{"$error":"#N/A"}},{"$f":"VLOOKUP(A23,počty!$J$6:$AP$163,17,0)","v":{"$error":"#N/A"}},{"$f":"VLOOKUP(A23,počty!$J$6:$AP$163,18,0)","v":{"$error":"#N/A"}},{"$f":"VLOOKUP(A23,počty!$J$6:$AP$163,19,0)","v":{"$error":"#N/A"}}]
[18,{"$f":"VLOOKUP(A24,počty!$J$6:$AP$163,20,0)","v":{"$error":"#N/A"}},{"$f":"VLOOKUP(A24,počty!$J$6:$AP$163,5,0)","v":{"$error":"#N/A"}},{"$f":"VLOOKUP(A24,počty!$J$6:$AP$163,6,0)","v":{"$error":"#N/A"}},{"$f":"VLOOKUP(A24,počty!$J$6:$AP$163,7,0)","v":{"$error":"#N/A"}},{"$f":"VLOOKUP(A24,počty!$J$6:$AP$163,8,0)","v":{"$error":"#N/A"}},{"$f":"VLOOKUP(A24,počty!$J$6:$AP$163,9,0)","v":{"$error":"#N/A"}},{"$f":"VLOOKUP(A24,počty!$J$6:$AP$163,11,0)","v":{"$error":"#N/A"}},{"$f":"VLOOKUP(A24,počty!$J$6:$AP$163,12,0)","v":{"$error":"#N/A"}},{"$f":"VLOOKUP(A24,počty!$J$6:$AP$163,13,0)","v":{"$error":"#N/A"}},{"$f":"VLOOKUP(A24,počty!$J$6:$AP$163,14,0)","v":{"$error":"#N/A"}},{"$f":"VLOOKUP(A24,počty!$J$6:$AP$163,15,0)","v":{"$error":"#N/A"}},{"$f":"VLOOKUP(A24,počty!$J$6:$AP$163,16,0)","v":{"$error":"#N/A"}},{"$f":"VLOOKUP(A24,počty!$J$6:$AP$163,17,0)","v":{"$error":"#N/A"}},{"$f":"VLOOKUP(A24,počty!$J$6:$AP$163,18,0)","v":{"$error":"#N/A"}},{"$f":"VLOOKUP(A24,počty!$J$6:$AP$163,19,0)","v":{"$error":"#N/A"}}]
[19,{"$f":"VLOOKUP(A25,počty!$J$6:$AP$163,20,0)","v":{"$error":"#N/A"}},{"$f":"VLOOKUP(A25,počty!$J$6:$AP$163,5,0)","v":{"$error":"#N/A"}},{"$f":"VLOOKUP(A25,počty!$J$6:$AP$163,6,0)","v":{"$error":"#N/A"}},{"$f":"VLOOKUP(A25,počty!$J$6:$AP$163,7,0)","v":{"$error":"#N/A"}},{"$f":"VLOOKUP(A25,počty!$J$6:$AP$163,8,0)","v":{"$error":"#N/A"}},{"$f":"VLOOKUP(A25,počty!$J$6:$AP$163,9,0)","v":{"$error":"#N/A"}},{"$f":"VLOOKUP(A25,počty!$J$6:$AP$163,11,0)","v":{"$error":"#N/A"}},{"$f":"VLOOKUP(A25,počty!$J$6:$AP$163,12,0)","v":{"$error":"#N/A"}},{"$f":"VLOOKUP(A25,počty!$J$6:$AP$163,13,0)","v":{"$error":"#N/A"}},{"$f":"VLOOKUP(A25,počty!$J$6:$AP$163,14,0)","v":{"$error":"#N/A"}},{"$f":"VLOOKUP(A25,počty!$J$6:$AP$163,15,0)","v":{"$error":"#N/A"}},{"$f":"VLOOKUP(A25,počty!$J$6:$AP$163,16,0)","v":{"$error":"#N/A"}},{"$f":"VLOOKUP(A25,počty!$J$6:$AP$163,17,0)","v":{"$error":"#N/A"}},{"$f":"VLOOKUP(A25,počty!$J$6:$AP$163,18,0)","v":{"$error":"#N/A"}},{"$f":"VLOOKUP(A25,počty!$J$6:$AP$163,19,0)","v":{"$error":"#N/A"}}]
[20,{"$f":"VLOOKUP(A26,počty!$J$6:$AP$163,20,0)","v":{"$error":"#N/A"}},{"$f":"VLOOKUP(A26,počty!$J$6:$AP$163,5,0)","v":{"$error":"#N/A"}},{"$f":"VLOOKUP(A26,počty!$J$6:$AP$163,6,0)","v":{"$error":"#N/A"}},{"$f":"VLOOKUP(A26,počty!$J$6:$AP$163,7,0)","v":{"$error":"#N/A"}},{"$f":"VLOOKUP(A26,počty!$J$6:$AP$163,8,0)","v":{"$error":"#N/A"}},{"$f":"VLOOKUP(A26,počty!$J$6:$AP$163,9,0)","v":{"$error":"#N/A"}},{"$f":"VLOOKUP(A26,počty!$J$6:$AP$163,11,0)","v":{"$error":"#N/A"}},{"$f":"VLOOKUP(A26,počty!$J$6:$AP$163,12,0)","v":{"$error":"#N/A"}},{"$f":"VLOOKUP(A26,počty!$J$6:$AP$163,13,0)","v":{"$error":"#N/A"}},{"$f":"VLOOKUP(A26,počty!$J$6:$AP$163,14,0)","v":{"$error":"#N/A"}},{"$f":"VLOOKUP(A26,počty!$J$6:$AP$163,15,0)","v":{"$error":"#N/A"}},{"$f":"VLOOKUP(A26,počty!$J$6:$AP$163,16,0)","v":{"$error":"#N/A"}},{"$f":"VLOOKUP(A26,počty!$J$6:$AP$163,17,0)","v":{"$error":"#N/A"}},{"$f":"VLOOKUP(A26,počty!$J$6:$AP$163,18,0)","v":{"$error":"#N/A"}},{"$f":"VLOOKUP(A26,počty!$J$6:$AP$163,19,0)","v":{"$error":"#N/A"}}]
[21,{"$f":"VLOOKUP(A27,počty!$J$6:$AP$163,20,0)","v":{"$error":"#N/A"}},{"$f":"VLOOKUP(A27,počty!$J$6:$AP$163,5,0)","v":{"$error":"#N/A"}},{"$f":"VLOOKUP(A27,počty!$J$6:$AP$163,6,0)","v":{"$error":"#N/A"}},{"$f":"VLOOKUP(A27,počty!$J$6:$AP$163,7,0)","v":{"$error":"#N/A"}},{"$f":"VLOOKUP(A27,počty!$J$6:$AP$163,8,0)","v":{"$error":"#N/A"}},{"$f":"VLOOKUP(A27,počty!$J$6:$AP$163,9,0)","v":{"$error":"#N/A"}},{"$f":"VLOOKUP(A27,počty!$J$6:$AP$163,11,0)","v":{"$error":"#N/A"}},{"$f":"VLOOKUP(A27,počty!$J$6:$AP$163,12,0)","v":{"$error":"#N/A"}},{"$f":"VLOOKUP(A27,počty!$J$6:$AP$163,13,0)","v":{"$error":"#N/A"}},{"$f":"VLOOKUP(A27,počty!$J$6:$AP$163,14,0)","v":{"$error":"#N/A"}},{"$f":"VLOOKUP(A27,počty!$J$6:$AP$163,15,0)","v":{"$error":"#N/A"}},{"$f":"VLOOKUP(A27,počty!$J$6:$AP$163,16,0)","v":{"$error":"#N/A"}},{"$f":"VLOOKUP(A27,počty!$J$6:$AP$163,17,0)","v":{"$error":"#N/A"}},{"$f":"VLOOKUP(A27,počty!$J$6:$AP$163,18,0)","v":{"$error":"#N/A"}},{"$f":"VLOOKUP(A27,počty!$J$6:$AP$163,19,0)","v":{"$error":"#N/A"}}]
[22,{"$f":"VLOOKUP(A28,počty!$J$6:$AP$163,20,0)","v":{"$error":"#N/A"}},{"$f":"VLOOKUP(A28,počty!$J$6:$AP$163,5,0)","v":{"$error":"#N/A"}},{"$f":"VLOOKUP(A28,počty!$J$6:$AP$163,6,0)","v":{"$error":"#N/A"}},{"$f":"VLOOKUP(A28,počty!$J$6:$AP$163,7,0)","v":{"$error":"#N/A"}},{"$f":"VLOOKUP(A28,počty!$J$6:$AP$163,8,0)","v":{"$error":"#N/A"}},{"$f":"VLOOKUP(A28,počty!$J$6:$AP$163,9,0)","v":{"$error":"#N/A"}},{"$f":"VLOOKUP(A28,počty!$J$6:$AP$163,11,0)","v":{"$error":"#N/A"}},{"$f":"VLOOKUP(A28,počty!$J$6:$AP$163,12,0)","v":{"$error":"#N/A"}},{"$f":"VLOOKUP(A28,počty!$J$6:$AP$163,13,0)","v":{"$error":"#N/A"}},{"$f":"VLOOKUP(A28,počty!$J$6:$AP$163,14,0)","v":{"$error":"#N/A"}},{"$f":"VLOOKUP(A28,počty!$J$6:$AP$163,15,0)","v":{"$error":"#N/A"}},{"$f":"VLOOKUP(A28,počty!$J$6:$AP$163,16,0)","v":{"$error":"#N/A"}},{"$f":"VLOOKUP(A28,počty!$J$6:$AP$163,17,0)","v":{"$error":"#N/A"}},{"$f":"VLOOKUP(A28,počty!$J$6:$AP$163,18,0)","v":{"$error":"#N/A"}},{"$f":"VLOOKUP(A28,počty!$J$6:$AP$163,19,0)","v":{"$error":"#N/A"}}]
[23,{"$f":"VLOOKUP(A29,počty!$J$6:$AP$163,20,0)","v":{"$error":"#N/A"}},{"$f":"VLOOKUP(A29,počty!$J$6:$AP$163,5,0)","v":{"$error":"#N/A"}},{"$f":"VLOOKUP(A29,počty!$J$6:$AP$163,6,0)","v":{"$error":"#N/A"}},{"$f":"VLOOKUP(A29,počty!$J$6:$AP$163,7,0)","v":{"$error":"#N/A"}},{"$f":"VLOOKUP(A29,počty!$J$6:$AP$163,8,0)","v":{"$error":"#N/A"}},{"$f":"VLOOKUP(A29,počty!$J$6:$AP$163,9,0)","v":{"$error":"#N/A"}},{"$f":"VLOOKUP(A29,počty!$J$6:$AP$163,11,0)","v":{"$error":"#N/A"}},{"$f":"VLOOKUP(A29,počty!$J$6:$AP$163,12,0)","v":{"$error":"#N/A"}},{"$f":"VLOOKUP(A29,počty!$J$6:$AP$163,13,0)","v":{"$error":"#N/A"}},{"$f":"VLOOKUP(A29,počty!$J$6:$AP$163,14,0)","v":{"$error":"#N/A"}},{"$f":"VLOOKUP(A29,počty!$J$6:$AP$163,15,0)","v":{"$error":"#N/A"}},{"$f":"VLOOKUP(A29,počty!$J$6:$AP$163,16,0)","v":{"$error":"#N/A"}},{"$f":"VLOOKUP(A29,počty!$J$6:$AP$163,17,0)","v":{"$error":"#N/A"}},{"$f":"VLOOKUP(A29,počty!$J$6:$AP$163,18,0)","v":{"$error":"#N/A"}},{"$f":"VLOOKUP(A29,počty!$J$6:$AP$163,19,0)","v":{"$error":"#N/A"}}]
[24,{"$f":"VLOOKUP(A30,počty!$J$6:$AP$163,20,0)","v":{"$error":"#N/A"}},{"$f":"VLOOKUP(A30,počty!$J$6:$AP$163,5,0)","v":{"$error":"#N/A"}},{"$f":"VLOOKUP(A30,počty!$J$6:$AP$163,6,0)","v":{"$error":"#N/A"}},{"$f":"VLOOKUP(A30,počty!$J$6:$AP$163,7,0)","v":{"$error":"#N/A"}},{"$f":"VLOOKUP(A30,počty!$J$6:$AP$163,8,0)","v":{"$error":"#N/A"}},{"$f":"VLOOKUP(A30,počty!$J$6:$AP$163,9,0)","v":{"$error":"#N/A"}},{"$f":"VLOOKUP(A30,počty!$J$6:$AP$163,11,0)","v":{"$error":"#N/A"}},{"$f":"VLOOKUP(A30,počty!$J$6:$AP$163,12,0)","v":{"$error":"#N/A"}},{"$f":"VLOOKUP(A30,počty!$J$6:$AP$163,13,0)","v":{"$error":"#N/A"}},{"$f":"VLOOKUP(A30,počty!$J$6:$AP$163,14,0)","v":{"$error":"#N/A"}},{"$f":"VLOOKUP(A30,počty!$J$6:$AP$163,15,0)","v":{"$error":"#N/A"}},{"$f":"VLOOKUP(A30,počty!$J$6:$AP$163,16,0)","v":{"$error":"#N/A"}},{"$f":"VLOOKUP(A30,počty!$J$6:$AP$163,17,0)","v":{"$error":"#N/A"}},{"$f":"VLOOKUP(A30,počty!$J$6:$AP$163,18,0)","v":{"$error":"#N/A"}},{"$f":"VLOOKUP(A30,počty!$J$6:$AP$163,19,0)","v":{"$error":"#N/A"}}]
[25,{"$f":"VLOOKUP(A31,počty!$J$6:$AP$163,20,0)","v":{"$error":"#N/A"}},{"$f":"VLOOKUP(A31,počty!$J$6:$AP$163,5,0)","v":{"$error":"#N/A"}},{"$f":"VLOOKUP(A31,počty!$J$6:$AP$163,6,0)","v":{"$error":"#N/A"}},{"$f":"VLOOKUP(A31,počty!$J$6:$AP$163,7,0)","v":{"$error":"#N/A"}},{"$f":"VLOOKUP(A31,počty!$J$6:$AP$163,8,0)","v":{"$error":"#N/A"}},{"$f":"VLOOKUP(A31,počty!$J$6:$AP$163,9,0)","v":{"$error":"#N/A"}},{"$f":"VLOOKUP(A31,počty!$J$6:$AP$163,11,0)","v":{"$error":"#N/A"}},{"$f":"VLOOKUP(A31,počty!$J$6:$AP$163,12,0)","v":{"$error":"#N/A"}},{"$f":"VLOOKUP(A31,počty!$J$6:$AP$163,13,0)","v":{"$error":"#N/A"}},{"$f":"VLOOKUP(A31,počty!$J$6:$AP$163,14,0)","v":{"$error":"#N/A"}},{"$f":"VLOOKUP(A31,počty!$J$6:$AP$163,15,0)","v":{"$error":"#N/A"}},{"$f":"VLOOKUP(A31,počty!$J$6:$AP$163,16,0)","v":{"$error":"#N/A"}},{"$f":"VLOOKUP(A31,počty!$J$6:$AP$163,17,0)","v":{"$error":"#N/A"}},{"$f":"VLOOKUP(A31,počty!$J$6:$AP$163,18,0)","v":{"$error":"#N/A"}},{"$f":"VLOOKUP(A31,počty!$J$6:$AP$163,19,0)","v":{"$error":"#N/A"}}]
[26,{"$f":"VLOOKUP(A32,počty!$J$6:$AP$163,20,0)","v":{"$error":"#N/A"}},{"$f":"VLOOKUP(A32,počty!$J$6:$AP$163,5,0)","v":{"$error":"#N/A"}},{"$f":"VLOOKUP(A32,počty!$J$6:$AP$163,6,0)","v":{"$error":"#N/A"}},{"$f":"VLOOKUP(A32,počty!$J$6:$AP$163,7,0)","v":{"$error":"#N/A"}},{"$f":"VLOOKUP(A32,počty!$J$6:$AP$163,8,0)","v":{"$error":"#N/A"}},{"$f":"VLOOKUP(A32,počty!$J$6:$AP$163,9,0)","v":{"$error":"#N/A"}},{"$f":"VLOOKUP(A32,počty!$J$6:$AP$163,11,0)","v":{"$error":"#N/A"}},{"$f":"VLOOKUP(A32,počty!$J$6:$AP$163,12,0)","v":{"$error":"#N/A"}},{"$f":"VLOOKUP(A32,počty!$J$6:$AP$163,13,0)","v":{"$error":"#N/A"}},{"$f":"VLOOKUP(A32,počty!$J$6:$AP$163,14,0)","v":{"$error":"#N/A"}},{"$f":"VLOOKUP(A32,počty!$J$6:$AP$163,15,0)","v":{"$error":"#N/A"}},{"$f":"VLOOKUP(A32,počty!$J$6:$AP$163,16,0)","v":{"$error":"#N/A"}},{"$f":"VLOOKUP(A32,počty!$J$6:$AP$163,17,0)","v":{"$error":"#N/A"}},{"$f":"VLOOKUP(A32,počty!$J$6:$AP$163,18,0)","v":{"$error":"#N/A"}},{"$f":"VLOOKUP(A32,počty!$J$6:$AP$163,19,0)","v":{"$error":"#N/A"}}]
[27,{"$f":"VLOOKUP(A33,počty!$J$6:$AP$163,20,0)","v":{"$error":"#N/A"}},{"$f":"VLOOKUP(A33,počty!$J$6:$AP$163,5,0)","v":{"$error":"#N/A"}},{"$f":"VLOOKUP(A33,počty!$J$6:$AP$163,6,0)","v":{"$error":"#N/A"}},{"$f":"VLOOKUP(A33,počty!$J$6:$AP$163,7,0)","v":{"$error":"#N/A"}},{"$f":"VLOOKUP(A33,počty!$J$6:$AP$163,8,0)","v":{"$error":"#N/A"}},{"$f":"VLOOKUP(A33,počty!$J$6:$AP$163,9,0)","v":{"$error":"#N/A"}},{"$f":"VLOOKUP(A33,počty!$J$6:$AP$163,11,0)","v":{"$error":"#N/A"}},{"$f":"VLOOKUP(A33,počty!$J$6:$AP$163,12,0)","v":{"$error":"#N/A"}},{"$f":"VLOOKUP(A33,počty!$J$6:$AP$163,13,0)","v":{"$error":"#N/A"}},{"$f":"VLOOKUP(A33,počty!$J$6:$AP$163,14,0)","v":{"$error":"#N/A"}},{"$f":"VLOOKUP(A33,počty!$J$6:$AP$163,15,0)","v":{"$error":"#N/A"}},{"$f":"VLOOKUP(A33,počty!$J$6:$AP$163,16,0)","v":{"$error":"#N/A"}},{"$f":"VLOOKUP(A33,počty!$J$6:$AP$163,17,0)","v":{"$error":"#N/A"}},{"$f":"VLOOKUP(A33,počty!$J$6:$AP$163,18,0)","v":{"$error":"#N/A"}},{"$f":"VLOOKUP(A33,počty!$J$6:$AP$163,19,0)","v":{"$error":"#N/A"}}]
[28,{"$f":"VLOOKUP(A34,počty!$J$6:$AP$163,20,0)","v":{"$error":"#N/A"}},{"$f":"VLOOKUP(A34,počty!$J$6:$AP$163,5,0)","v":{"$error":"#N/A"}},{"$f":"VLOOKUP(A34,počty!$J$6:$AP$163,6,0)","v":{"$error":"#N/A"}},{"$f":"VLOOKUP(A34,počty!$J$6:$AP$163,7,0)","v":{"$error":"#N/A"}},{"$f":"VLOOKUP(A34,počty!$J$6:$AP$163,8,0)","v":{"$error":"#N/A"}},{"$f":"VLOOKUP(A34,počty!$J$6:$AP$163,9,0)","v":{"$error":"#N/A"}},{"$f":"VLOOKUP(A34,počty!$J$6:$AP$163,11,0)","v":{"$error":"#N/A"}},{"$f":"VLOOKUP(A34,počty!$J$6:$AP$163,12,0)","v":{"$error":"#N/A"}},{"$f":"VLOOKUP(A34,počty!$J$6:$AP$163,13,0)","v":{"$error":"#N/A"}},{"$f":"VLOOKUP(A34,počty!$J$6:$AP$163,14,0)","v":{"$error":"#N/A"}},{"$f":"VLOOKUP(A34,počty!$J$6:$AP$163,15,0)","v":{"$error":"#N/A"}},{"$f":"VLOOKUP(A34,počty!$J$6:$AP$163,16,0)","v":{"$error":"#N/A"}},{"$f":"VLOOKUP(A34,počty!$J$6:$AP$163,17,0)","v":{"$error":"#N/A"}},{"$f":"VLOOKUP(A34,počty!$J$6:$AP$163,18,0)","v":{"$error":"#N/A"}},{"$f":"VLOOKUP(A34,počty!$J$6:$AP$163,19,0)","v":{"$error":"#N/A"}}]
[29,{"$f":"VLOOKUP(A35,počty!$J$6:$AP$163,20,0)","v":{"$error":"#N/A"}},{"$f":"VLOOKUP(A35,počty!$J$6:$AP$163,5,0)","v":{"$error":"#N/A"}},{"$f":"VLOOKUP(A35,počty!$J$6:$AP$163,6,0)","v":{"$error":"#N/A"}},{"$f":"VLOOKUP(A35,počty!$J$6:$AP$163,7,0)","v":{"$error":"#N/A"}},{"$f":"VLOOKUP(A35,počty!$J$6:$AP$163,8,0)","v":{"$error":"#N/A"}},{"$f":"VLOOKUP(A35,počty!$J$6:$AP$163,9,0)","v":{"$error":"#N/A"}},{"$f":"VLOOKUP(A35,počty!$J$6:$AP$163,11,0)","v":{"$error":"#N/A"}},{"$f":"VLOOKUP(A35,počty!$J$6:$AP$163,12,0)","v":{"$error":"#N/A"}},{"$f":"VLOOKUP(A35,počty!$J$6:$AP$163,13,0)","v":{"$error":"#N/A"}},{"$f":"VLOOKUP(A35,počty!$J$6:$AP$163,14,0)","v":{"$error":"#N/A"}},{"$f":"VLOOKUP(A35,počty!$J$6:$AP$163,15,0)","v":{"$error":"#N/A"}},{"$f":"VLOOKUP(A35,počty!$J$6:$AP$163,16,0)","v":{"$error":"#N/A"}},{"$f":"VLOOKUP(A35,počty!$J$6:$AP$163,17,0)","v":{"$error":"#N/A"}},{"$f":"VLOOKUP(A35,počty!$J$6:$AP$163,18,0)","v":{"$error":"#N/A"}},{"$f":"VLOOKUP(A35,počty!$J$6:$AP$163,19,0)","v":{"$error":"#N/A"}}]
[30,{"$f":"VLOOKUP(A36,počty!$J$6:$AP$163,20,0)","v":{"$error":"#N/A"}},{"$f":"VLOOKUP(A36,počty!$J$6:$AP$163,5,0)","v":{"$error":"#N/A"}},{"$f":"VLOOKUP(A36,počty!$J$6:$AP$163,6,0)","v":{"$error":"#N/A"}},{"$f":"VLOOKUP(A36,počty!$J$6:$AP$163,7,0)","v":{"$error":"#N/A"}},{"$f":"VLOOKUP(A36,počty!$J$6:$AP$163,8,0)","v":{"$error":"#N/A"}},{"$f":"VLOOKUP(A36,počty!$J$6:$AP$163,9,0)","v":{"$error":"#N/A"}},{"$f":"VLOOKUP(A36,počty!$J$6:$AP$163,11,0)","v":{"$error":"#N/A"}},{"$f":"VLOOKUP(A36,počty!$J$6:$AP$163,12,0)","v":{"$error":"#N/A"}},{"$f":"VLOOKUP(A36,počty!$J$6:$AP$163,13,0)","v":{"$error":"#N/A"}},{"$f":"VLOOKUP(A36,počty!$J$6:$AP$163,14,0)","v":{"$error":"#N/A"}},{"$f":"VLOOKUP(A36,počty!$J$6:$AP$163,15,0)","v":{"$error":"#N/A"}},{"$f":"VLOOKUP(A36,počty!$J$6:$AP$163,16,0)","v":{"$error":"#N/A"}},{"$f":"VLOOKUP(A36,počty!$J$6:$AP$163,17,0)","v":{"$error":"#N/A"}},{"$f":"VLOOKUP(A36,počty!$J$6:$AP$163,18,0)","v":{"$error":"#N/A"}},{"$f":"VLOOKUP(A36,počty!$J$6:$AP$163,19,0)","v":{"$error":"#N/A"}}]
[31,{"$f":"VLOOKUP(A37,počty!$J$6:$AP$163,20,0)","v":{"$error":"#N/A"}},{"$f":"VLOOKUP(A37,počty!$J$6:$AP$163,5,0)","v":{"$error":"#N/A"}},{"$f":"VLOOKUP(A37,počty!$J$6:$AP$163,6,0)","v":{"$error":"#N/A"}},{"$f":"VLOOKUP(A37,počty!$J$6:$AP$163,7,0)","v":{"$error":"#N/A"}},{"$f":"VLOOKUP(A37,počty!$J$6:$AP$163,8,0)","v":{"$error":"#N/A"}},{"$f":"VLOOKUP(A37,počty!$J$6:$AP$163,9,0)","v":{"$error":"#N/A"}},{"$f":"VLOOKUP(A37,počty!$J$6:$AP$163,11,0)","v":{"$error":"#N/A"}},{"$f":"VLOOKUP(A37,počty!$J$6:$AP$163,12,0)","v":{"$error":"#N/A"}},{"$f":"VLOOKUP(A37,počty!$J$6:$AP$163,13,0)","v":{"$error":"#N/A"}},{"$f":"VLOOKUP(A37,počty!$J$6:$AP$163,14,0)","v":{"$error":"#N/A"}},{"$f":"VLOOKUP(A37,počty!$J$6:$AP$163,15,0)","v":{"$error":"#N/A"}},{"$f":"VLOOKUP(A37,počty!$J$6:$AP$163,16,0)","v":{"$error":"#N/A"}},{"$f":"VLOOKUP(A37,počty!$J$6:$AP$163,17,0)","v":{"$error":"#N/A"}},{"$f":"VLOOKUP(A37,počty!$J$6:$AP$163,18,0)","v":{"$error":"#N/A"}},{"$f":"VLOOKUP(A37,počty!$J$6:$AP$163,19,0)","v":{"$error":"#N/A"}}]
[32,{"$f":"VLOOKUP(A38,počty!$J$6:$AP$163,20,0)","v":{"$error":"#N/A"}},{"$f":"VLOOKUP(A38,počty!$J$6:$AP$163,5,0)","v":{"$error":"#N/A"}},{"$f":"VLOOKUP(A38,počty!$J$6:$AP$163,6,0)","v":{"$error":"#N/A"}},{"$f":"VLOOKUP(A38,počty!$J$6:$AP$163,7,0)","v":{"$error":"#N/A"}},{"$f":"VLOOKUP(A38,počty!$J$6:$AP$163,8,0)","v":{"$error":"#N/A"}},{"$f":"VLOOKUP(A38,počty!$J$6:$AP$163,9,0)","v":{"$error":"#N/A"}},{"$f":"VLOOKUP(A38,počty!$J$6:$AP$163,11,0)","v":{"$error":"#N/A"}},{"$f":"VLOOKUP(A38,počty!$J$6:$AP$163,12,0)","v":{"$error":"#N/A"}},{"$f":"VLOOKUP(A38,počty!$J$6:$AP$163,13,0)","v":{"$error":"#N/A"}},{"$f":"VLOOKUP(A38,počty!$J$6:$AP$163,14,0)","v":{"$error":"#N/A"}},{"$f":"VLOOKUP(A38,počty!$J$6:$AP$163,15,0)","v":{"$error":"#N/A"}},{"$f":"VLOOKUP(A38,počty!$J$6:$AP$163,16,0)","v":{"$error":"#N/A"}},{"$f":"VLOOKUP(A38,počty!$J$6:$AP$163,17,0)","v":{"$error":"#N/A"}},{"$f":"VLOOKUP(A38,počty!$J$6:$AP$163,18,0)","v":{"$error":"#N/A"}},{"$f":"VLOOKUP(A38,počty!$J$6:$AP$163,19,0)","v":{"$error":"#N/A"}}]
[33,{"$f":"VLOOKUP(A39,počty!$J$6:$AP$163,20,0)","v":{"$error":"#N/A"}},{"$f":"VLOOKUP(A39,počty!$J$6:$AP$163,5,0)","v":{"$error":"#N/A"}},{"$f":"VLOOKUP(A39,počty!$J$6:$AP$163,6,0)","v":{"$error":"#N/A"}},{"$f":"VLOOKUP(A39,počty!$J$6:$AP$163,7,0)","v":{"$error":"#N/A"}},{"$f":"VLOOKUP(A39,počty!$J$6:$AP$163,8,0)","v":{"$error":"#N/A"}},{"$f":"VLOOKUP(A39,počty!$J$6:$AP$163,9,0)","v":{"$error":"#N/A"}},{"$f":"VLOOKUP(A39,počty!$J$6:$AP$163,11,0)","v":{"$error":"#N/A"}},{"$f":"VLOOKUP(A39,počty!$J$6:$AP$163,12,0)","v":{"$error":"#N/A"}},{"$f":"VLOOKUP(A39,počty!$J$6:$AP$163,13,0)","v":{"$error":"#N/A"}},{"$f":"VLOOKUP(A39,počty!$J$6:$AP$163,14,0)","v":{"$error":"#N/A"}},{"$f":"VLOOKUP(A39,počty!$J$6:$AP$163,15,0)","v":{"$error":"#N/A"}},{"$f":"VLOOKUP(A39,počty!$J$6:$AP$163,16,0)","v":{"$error":"#N/A"}},{"$f":"VLOOKUP(A39,počty!$J$6:$AP$163,17,0)","v":{"$error":"#N/A"}},{"$f":"VLOOKUP(A39,počty!$J$6:$AP$163,18,0)","v":{"$error":"#N/A"}},{"$f":"VLOOKUP(A39,počty!$J$6:$AP$163,19,0)","v":{"$error":"#N/A"}}]
[34,{"$f":"VLOOKUP(A40,počty!$J$6:$AP$163,20,0)","v":{"$error":"#N/A"}},{"$f":"VLOOKUP(A40,počty!$J$6:$AP$163,5,0)","v":{"$error":"#N/A"}},{"$f":"VLOOKUP(A40,počty!$J$6:$AP$163,6,0)","v":{"$error":"#N/A"}},{"$f":"VLOOKUP(A40,počty!$J$6:$AP$163,7,0)","v":{"$error":"#N/A"}},{"$f":"VLOOKUP(A40,počty!$J$6:$AP$163,8,0)","v":{"$error":"#N/A"}},{"$f":"VLOOKUP(A40,počty!$J$6:$AP$163,9,0)","v":{"$error":"#N/A"}},{"$f":"VLOOKUP(A40,počty!$J$6:$AP$163,11,0)","v":{"$error":"#N/A"}},{"$f":"VLOOKUP(A40,počty!$J$6:$AP$163,12,0)","v":{"$error":"#N/A"}},{"$f":"VLOOKUP(A40,počty!$J$6:$AP$163,13,0)","v":{"$error":"#N/A"}},{"$f":"VLOOKUP(A40,počty!$J$6:$AP$163,14,0)","v":{"$error":"#N/A"}},{"$f":"VLOOKUP(A40,počty!$J$6:$AP$163,15,0)","v":{"$error":"#N/A"}},{"$f":"VLOOKUP(A40,počty!$J$6:$AP$163,16,0)","v":{"$error":"#N/A"}},{"$f":"VLOOKUP(A40,počty!$J$6:$AP$163,17,0)","v":{"$error":"#N/A"}},{"$f":"VLOOKUP(A40,počty!$J$6:$AP$163,18,0)","v":{"$error":"#N/A"}},{"$f":"VLOOKUP(A40,počty!$J$6:$AP$163,19,0)","v":{"$error":"#N/A"}}]
[35,{"$f":"VLOOKUP(A41,počty!$J$6:$AP$163,20,0)","v":{"$error":"#N/A"}},{"$f":"VLOOKUP(A41,počty!$J$6:$AP$163,5,0)","v":{"$error":"#N/A"}},{"$f":"VLOOKUP(A41,počty!$J$6:$AP$163,6,0)","v":{"$error":"#N/A"}},{"$f":"VLOOKUP(A41,počty!$J$6:$AP$163,7,0)","v":{"$error":"#N/A"}},{"$f":"VLOOKUP(A41,počty!$J$6:$AP$163,8,0)","v":{"$error":"#N/A"}},{"$f":"VLOOKUP(A41,počty!$J$6:$AP$163,9,0)","v":{"$error":"#N/A"}},{"$f":"VLOOKUP(A41,počty!$J$6:$AP$163,11,0)","v":{"$error":"#N/A"}},{"$f":"VLOOKUP(A41,počty!$J$6:$AP$163,12,0)","v":{"$error":"#N/A"}},{"$f":"VLOOKUP(A41,počty!$J$6:$AP$163,13,0)","v":{"$error":"#N/A"}},{"$f":"VLOOKUP(A41,počty!$J$6:$AP$163,14,0)","v":{"$error":"#N/A"}},{"$f":"VLOOKUP(A41,počty!$J$6:$AP$163,15,0)","v":{"$error":"#N/A"}},{"$f":"VLOOKUP(A41,počty!$J$6:$AP$163,16,0)","v":{"$error":"#N/A"}},{"$f":"VLOOKUP(A41,počty!$J$6:$AP$163,17,0)","v":{"$error":"#N/A"}},{"$f":"VLOOKUP(A41,počty!$J$6:$AP$163,18,0)","v":{"$error":"#N/A"}},{"$f":"VLOOKUP(A41,počty!$J$6:$AP$163,19,0)","v":{"$error":"#N/A"}}]
[36,{"$f":"VLOOKUP(A42,počty!$J$6:$AP$163,20,0)","v":{"$error":"#N/A"}},{"$f":"VLOOKUP(A42,počty!$J$6:$AP$163,5,0)","v":{"$error":"#N/A"}},{"$f":"VLOOKUP(A42,počty!$J$6:$AP$163,6,0)","v":{"$error":"#N/A"}},{"$f":"VLOOKUP(A42,počty!$J$6:$AP$163,7,0)","v":{"$error":"#N/A"}},{"$f":"VLOOKUP(A42,počty!$J$6:$AP$163,8,0)","v":{"$error":"#N/A"}},{"$f":"VLOOKUP(A42,počty!$J$6:$AP$163,9,0)","v":{"$error":"#N/A"}},{"$f":"VLOOKUP(A42,počty!$J$6:$AP$163,11,0)","v":{"$error":"#N/A"}},{"$f":"VLOOKUP(A42,počty!$J$6:$AP$163,12,0)","v":{"$error":"#N/A"}},{"$f":"VLOOKUP(A42,počty!$J$6:$AP$163,13,0)","v":{"$error":"#N/A"}},{"$f":"VLOOKUP(A42,počty!$J$6:$AP$163,14,0)","v":{"$error":"#N/A"}},{"$f":"VLOOKUP(A42,počty!$J$6:$AP$163,15,0)","v":{"$error":"#N/A"}},{"$f":"VLOOKUP(A42,počty!$J$6:$AP$163,16,0)","v":{"$error":"#N/A"}},{"$f":"VLOOKUP(A42,počty!$J$6:$AP$163,17,0)","v":{"$error":"#N/A"}},{"$f":"VLOOKUP(A42,počty!$J$6:$AP$163,18,0)","v":{"$error":"#N/A"}},{"$f":"VLOOKUP(A42,počty!$J$6:$AP$163,19,0)","v":{"$error":"#N/A"}}]
[37,{"$f":"VLOOKUP(A43,počty!$J$6:$AP$163,20,0)","v":{"$error":"#N/A"}},{"$f":"VLOOKUP(A43,počty!$J$6:$AP$163,5,0)","v":{"$error":"#N/A"}},{"$f":"VLOOKUP(A43,počty!$J$6:$AP$163,6,0)","v":{"$error":"#N/A"}},{"$f":"VLOOKUP(A43,počty!$J$6:$AP$163,7,0)","v":{"$error":"#N/A"}},{"$f":"VLOOKUP(A43,počty!$J$6:$AP$163,8,0)","v":{"$error":"#N/A"}},{"$f":"VLOOKUP(A43,počty!$J$6:$AP$163,9,0)","v":{"$error":"#N/A"}},{"$f":"VLOOKUP(A43,počty!$J$6:$AP$163,11,0)","v":{"$error":"#N/A"}},{"$f":"VLOOKUP(A43,počty!$J$6:$AP$163,12,0)","v":{"$error":"#N/A"}},{"$f":"VLOOKUP(A43,počty!$J$6:$AP$163,13,0)","v":{"$error":"#N/A"}},{"$f":"VLOOKUP(A43,počty!$J$6:$AP$163,14,0)","v":{"$error":"#N/A"}},{"$f":"VLOOKUP(A43,počty!$J$6:$AP$163,15,0)","v":{"$error":"#N/A"}},{"$f":"VLOOKUP(A43,počty!$J$6:$AP$163,16,0)","v":{"$error":"#N/A"}},{"$f":"VLOOKUP(A43,počty!$J$6:$AP$163,17,0)","v":{"$error":"#N/A"}},{"$f":"VLOOKUP(A43,počty!$J$6:$AP$163,18,0)","v":{"$error":"#N/A"}},{"$f":"VLOOKUP(A43,počty!$J$6:$AP$163,19,0)","v":{"$error":"#N/A"}}]
[38,{"$f":"VLOOKUP(A44,počty!$J$6:$AP$163,20,0)","v":{"$error":"#N/A"}},{"$f":"VLOOKUP(A44,počty!$J$6:$AP$163,5,0)","v":{"$error":"#N/A"}},{"$f":"VLOOKUP(A44,počty!$J$6:$AP$163,6,0)","v":{"$error":"#N/A"}},{"$f":"VLOOKUP(A44,počty!$J$6:$AP$163,7,0)","v":{"$error":"#N/A"}},{"$f":"VLOOKUP(A44,počty!$J$6:$AP$163,8,0)","v":{"$error":"#N/A"}},{"$f":"VLOOKUP(A44,počty!$J$6:$AP$163,9,0)","v":{"$error":"#N/A"}},{"$f":"VLOOKUP(A44,počty!$J$6:$AP$163,11,0)","v":{"$error":"#N/A"}},{"$f":"VLOOKUP(A44,počty!$J$6:$AP$163,12,0)","v":{"$error":"#N/A"}},{"$f":"VLOOKUP(A44,počty!$J$6:$AP$163,13,0)","v":{"$error":"#N/A"}},{"$f":"VLOOKUP(A44,počty!$J$6:$AP$163,14,0)","v":{"$error":"#N/A"}},{"$f":"VLOOKUP(A44,počty!$J$6:$AP$163,15,0)","v":{"$error":"#N/A"}},{"$f":"VLOOKUP(A44,počty!$J$6:$AP$163,16,0)","v":{"$error":"#N/A"}},{"$f":"VLOOKUP(A44,počty!$J$6:$AP$163,17,0)","v":{"$error":"#N/A"}},{"$f":"VLOOKUP(A44,počty!$J$6:$AP$163,18,0)","v":{"$error":"#N/A"}},{"$f":"VLOOKUP(A44,počty!$J$6:$AP$163,19,0)","v":{"$error":"#N/A"}}]
[39,{"$f":"VLOOKUP(A45,počty!$J$6:$AP$163,20,0)","v":{"$error":"#N/A"}},{"$f":"VLOOKUP(A45,počty!$J$6:$AP$163,5,0)","v":{"$error":"#N/A"}},{"$f":"VLOOKUP(A45,počty!$J$6:$AP$163,6,0)","v":{"$error":"#N/A"}},{"$f":"VLOOKUP(A45,počty!$J$6:$AP$163,7,0)","v":{"$error":"#N/A"}},{"$f":"VLOOKUP(A45,počty!$J$6:$AP$163,8,0)","v":{"$error":"#N/A"}},{"$f":"VLOOKUP(A45,počty!$J$6:$AP$163,9,0)","v":{"$error":"#N/A"}},{"$f":"VLOOKUP(A45,počty!$J$6:$AP$163,11,0)","v":{"$error":"#N/A"}},{"$f":"VLOOKUP(A45,počty!$J$6:$AP$163,12,0)","v":{"$error":"#N/A"}},{"$f":"VLOOKUP(A45,počty!$J$6:$AP$163,13,0)","v":{"$error":"#N/A"}},{"$f":"VLOOKUP(A45,počty!$J$6:$AP$163,14,0)","v":{"$error":"#N/A"}},{"$f":"VLOOKUP(A45,počty!$J$6:$AP$163,15,0)","v":{"$error":"#N/A"}},{"$f":"VLOOKUP(A45,počty!$J$6:$AP$163,16,0)","v":{"$error":"#N/A"}},{"$f":"VLOOKUP(A45,počty!$J$6:$AP$163,17,0)","v":{"$error":"#N/A"}},{"$f":"VLOOKUP(A45,počty!$J$6:$AP$163,18,0)","v":{"$error":"#N/A"}},{"$f":"VLOOKUP(A45,počty!$J$6:$AP$163,19,0)","v":{"$error":"#N/A"}}]
[40,{"$f":"VLOOKUP(A46,počty!$J$6:$AP$163,20,0)","v":{"$error":"#N/A"}},{"$f":"VLOOKUP(A46,počty!$J$6:$AP$163,5,0)","v":{"$error":"#N/A"}},{"$f":"VLOOKUP(A46,počty!$J$6:$AP$163,6,0)","v":{"$error":"#N/A"}},{"$f":"VLOOKUP(A46,počty!$J$6:$AP$163,7,0)","v":{"$error":"#N/A"}},{"$f":"VLOOKUP(A46,počty!$J$6:$AP$163,8,0)","v":{"$error":"#N/A"}},{"$f":"VLOOKUP(A46,počty!$J$6:$AP$163,9,0)","v":{"$error":"#N/A"}},{"$f":"VLOOKUP(A46,počty!$J$6:$AP$163,11,0)","v":{"$error":"#N/A"}},{"$f":"VLOOKUP(A46,počty!$J$6:$AP$163,12,0)","v":{"$error":"#N/A"}},{"$f":"VLOOKUP(A46,počty!$J$6:$AP$163,13,0)","v":{"$error":"#N/A"}},{"$f":"VLOOKUP(A46,počty!$J$6:$AP$163,14,0)","v":{"$error":"#N/A"}},{"$f":"VLOOKUP(A46,počty!$J$6:$AP$163,15,0)","v":{"$error":"#N/A"}},{"$f":"VLOOKUP(A46,počty!$J$6:$AP$163,16,0)","v":{"$error":"#N/A"}},{"$f":"VLOOKUP(A46,počty!$J$6:$AP$163,17,0)","v":{"$error":"#N/A"}},{"$f":"VLOOKUP(A46,počty!$J$6:$AP$163,18,0)","v":{"$error":"#N/A"}},{"$f":"VLOOKUP(A46,počty!$J$6:$AP$163,19,0)","v":{"$error":"#N/A"}}]
[41,{"$f":"VLOOKUP(A47,počty!$J$6:$AP$163,20,0)","v":{"$error":"#N/A"}},{"$f":"VLOOKUP(A47,počty!$J$6:$AP$163,5,0)","v":{"$error":"#N/A"}},{"$f":"VLOOKUP(A47,počty!$J$6:$AP$163,6,0)","v":{"$error":"#N/A"}},{"$f":"VLOOKUP(A47,počty!$J$6:$AP$163,7,0)","v":{"$error":"#N/A"}},{"$f":"VLOOKUP(A47,počty!$J$6:$AP$163,8,0)","v":{"$error":"#N/A"}},{"$f":"VLOOKUP(A47,počty!$J$6:$AP$163,9,0)","v":{"$error":"#N/A"}},{"$f":"VLOOKUP(A47,počty!$J$6:$AP$163,11,0)","v":{"$error":"#N/A"}},{"$f":"VLOOKUP(A47,počty!$J$6:$AP$163,12,0)","v":{"$error":"#N/A"}},{"$f":"VLOOKUP(A47,počty!$J$6:$AP$163,13,0)","v":{"$error":"#N/A"}},{"$f":"VLOOKUP(A47,počty!$J$6:$AP$163,14,0)","v":{"$error":"#N/A"}},{"$f":"VLOOKUP(A47,počty!$J$6:$AP$163,15,0)","v":{"$error":"#N/A"}},{"$f":"VLOOKUP(A47,počty!$J$6:$AP$163,16,0)","v":{"$error":"#N/A"}},{"$f":"VLOOKUP(A47,počty!$J$6:$AP$163,17,0)","v":{"$error":"#N/A"}},{"$f":"VLOOKUP(A47,počty!$J$6:$AP$163,18,0)","v":{"$error":"#N/A"}},{"$f":"VLOOKUP(A47,počty!$J$6:$AP$163,19,0)","v":{"$error":"#N/A"}}]
[42,{"$f":"VLOOKUP(A48,počty!$J$6:$AP$163,20,0)","v":{"$error":"#N/A"}},{"$f":"VLOOKUP(A48,počty!$J$6:$AP$163,5,0)","v":{"$error":"#N/A"}},{"$f":"VLOOKUP(A48,počty!$J$6:$AP$163,6,0)","v":{"$error":"#N/A"}},{"$f":"VLOOKUP(A48,počty!$J$6:$AP$163,7,0)","v":{"$error":"#N/A"}},{"$f":"VLOOKUP(A48,počty!$J$6:$AP$163,8,0)","v":{"$error":"#N/A"}},{"$f":"VLOOKUP(A48,počty!$J$6:$AP$163,9,0)","v":{"$error":"#N/A"}},{"$f":"VLOOKUP(A48,počty!$J$6:$AP$163,11,0)","v":{"$error":"#N/A"}},{"$f":"VLOOKUP(A48,počty!$J$6:$AP$163,12,0)","v":{"$error":"#N/A"}},{"$f":"VLOOKUP(A48,počty!$J$6:$AP$163,13,0)","v":{"$error":"#N/A"}},{"$f":"VLOOKUP(A48,počty!$J$6:$AP$163,14,0)","v":{"$error":"#N/A"}},{"$f":"VLOOKUP(A48,počty!$J$6:$AP$163,15,0)","v":{"$error":"#N/A"}},{"$f":"VLOOKUP(A48,počty!$J$6:$AP$163,16,0)","v":{"$error":"#N/A"}},{"$f":"VLOOKUP(A48,počty!$J$6:$AP$163,17,0)","v":{"$error":"#N/A"}},{"$f":"VLOOKUP(A48,počty!$J$6:$AP$163,18,0)","v":{"$error":"#N/A"}},{"$f":"VLOOKUP(A48,počty!$J$6:$AP$163,19,0)","v":{"$error":"#N/A"}}]
[43,{"$f":"VLOOKUP(A49,počty!$J$6:$AP$163,20,0)","v":{"$error":"#N/A"}},{"$f":"VLOOKUP(A49,počty!$J$6:$AP$163,5,0)","v":{"$error":"#N/A"}},{"$f":"VLOOKUP(A49,počty!$J$6:$AP$163,6,0)","v":{"$error":"#N/A"}},{"$f":"VLOOKUP(A49,počty!$J$6:$AP$163,7,0)","v":{"$error":"#N/A"}},{"$f":"VLOOKUP(A49,počty!$J$6:$AP$163,8,0)","v":{"$error":"#N/A"}},{"$f":"VLOOKUP(A49,počty!$J$6:$AP$163,9,0)","v":{"$error":"#N/A"}},{"$f":"VLOOKUP(A49,počty!$J$6:$AP$163,11,0)","v":{"$error":"#N/A"}},{"$f":"VLOOKUP(A49,počty!$J$6:$AP$163,12,0)","v":{"$error":"#N/A"}},{"$f":"VLOOKUP(A49,počty!$J$6:$AP$163,13,0)","v":{"$error":"#N/A"}},{"$f":"VLOOKUP(A49,počty!$J$6:$AP$163,14,0)","v":{"$error":"#N/A"}},{"$f":"VLOOKUP(A49,počty!$J$6:$AP$163,15,0)","v":{"$error":"#N/A"}},{"$f":"VLOOKUP(A49,počty!$J$6:$AP$163,16,0)","v":{"$error":"#N/A"}},{"$f":"VLOOKUP(A49,počty!$J$6:$AP$163,17,0)","v":{"$error":"#N/A"}},{"$f":"VLOOKUP(A49,počty!$J$6:$AP$163,18,0)","v":{"$error":"#N/A"}},{"$f":"VLOOKUP(A49,počty!$J$6:$AP$163,19,0)","v":{"$error":"#N/A"}}]
[44,{"$f":"VLOOKUP(A50,počty!$J$6:$AP$163,20,0)","v":{"$error":"#N/A"}},{"$f":"VLOOKUP(A50,počty!$J$6:$AP$163,5,0)","v":{"$error":"#N/A"}},{"$f":"VLOOKUP(A50,počty!$J$6:$AP$163,6,0)","v":{"$error":"#N/A"}},{"$f":"VLOOKUP(A50,počty!$J$6:$AP$163,7,0)","v":{"$error":"#N/A"}},{"$f":"VLOOKUP(A50,počty!$J$6:$AP$163,8,0)","v":{"$error":"#N/A"}},{"$f":"VLOOKUP(A50,počty!$J$6:$AP$163,9,0)","v":{"$error":"#N/A"}},{"$f":"VLOOKUP(A50,počty!$J$6:$AP$163,11,0)","v":{"$error":"#N/A"}},{"$f":"VLOOKUP(A50,počty!$J$6:$AP$163,12,0)","v":{"$error":"#N/A"}},{"$f":"VLOOKUP(A50,počty!$J$6:$AP$163,13,0)","v":{"$error":"#N/A"}},{"$f":"VLOOKUP(A50,počty!$J$6:$AP$163,14,0)","v":{"$error":"#N/A"}},{"$f":"VLOOKUP(A50,počty!$J$6:$AP$163,15,0)","v":{"$error":"#N/A"}},{"$f":"VLOOKUP(A50,počty!$J$6:$AP$163,16,0)","v":{"$error":"#N/A"}},{"$f":"VLOOKUP(A50,počty!$J$6:$AP$163,17,0)","v":{"$error":"#N/A"}},{"$f":"VLOOKUP(A50,počty!$J$6:$AP$163,18,0)","v":{"$error":"#N/A"}},{"$f":"VLOOKUP(A50,počty!$J$6:$AP$163,19,0)","v":{"$error":"#N/A"}}]
[45,{"$f":"VLOOKUP(A51,počty!$J$6:$AP$163,20,0)","v":{"$error":"#N/A"}},{"$f":"VLOOKUP(A51,počty!$J$6:$AP$163,5,0)","v":{"$error":"#N/A"}},{"$f":"VLOOKUP(A51,počty!$J$6:$AP$163,6,0)","v":{"$error":"#N/A"}},{"$f":"VLOOKUP(A51,počty!$J$6:$AP$163,7,0)","v":{"$error":"#N/A"}},{"$f":"VLOOKUP(A51,počty!$J$6:$AP$163,8,0)","v":{"$error":"#N/A"}},{"$f":"VLOOKUP(A51,počty!$J$6:$AP$163,9,0)","v":{"$error":"#N/A"}},{"$f":"VLOOKUP(A51,počty!$J$6:$AP$163,11,0)","v":{"$error":"#N/A"}},{"$f":"VLOOKUP(A51,počty!$J$6:$AP$163,12,0)","v":{"$error":"#N/A"}},{"$f":"VLOOKUP(A51,počty!$J$6:$AP$163,13,0)","v":{"$error":"#N/A"}},{"$f":"VLOOKUP(A51,počty!$J$6:$AP$163,14,0)","v":{"$error":"#N/A"}},{"$f":"VLOOKUP(A51,počty!$J$6:$AP$163,15,0)","v":{"$error":"#N/A"}},{"$f":"VLOOKUP(A51,počty!$J$6:$AP$163,16,0)","v":{"$error":"#N/A"}},{"$f":"VLOOKUP(A51,počty!$J$6:$AP$163,17,0)","v":{"$error":"#N/A"}},{"$f":"VLOOKUP(A51,počty!$J$6:$AP$163,18,0)","v":{"$error":"#N/A"}},{"$f":"VLOOKUP(A51,počty!$J$6:$AP$163,19,0)","v":{"$error":"#N/A"}}]
[46,{"$f":"VLOOKUP(A52,počty!$J$6:$AP$163,20,0)","v":{"$error":"#N/A"}},{"$f":"VLOOKUP(A52,počty!$J$6:$AP$163,5,0)","v":{"$error":"#N/A"}},{"$f":"VLOOKUP(A52,počty!$J$6:$AP$163,6,0)","v":{"$error":"#N/A"}},{"$f":"VLOOKUP(A52,počty!$J$6:$AP$163,7,0)","v":{"$error":"#N/A"}},{"$f":"VLOOKUP(A52,počty!$J$6:$AP$163,8,0)","v":{"$error":"#N/A"}},{"$f":"VLOOKUP(A52,počty!$J$6:$AP$163,9,0)","v":{"$error":"#N/A"}},{"$f":"VLOOKUP(A52,počty!$J$6:$AP$163,11,0)","v":{"$error":"#N/A"}},{"$f":"VLOOKUP(A52,počty!$J$6:$AP$163,12,0)","v":{"$error":"#N/A"}},{"$f":"VLOOKUP(A52,počty!$J$6:$AP$163,13,0)","v":{"$error":"#N/A"}},{"$f":"VLOOKUP(A52,počty!$J$6:$AP$163,14,0)","v":{"$error":"#N/A"}},{"$f":"VLOOKUP(A52,počty!$J$6:$AP$163,15,0)","v":{"$error":"#N/A"}},{"$f":"VLOOKUP(A52,počty!$J$6:$AP$163,16,0)","v":{"$error":"#N/A"}},{"$f":"VLOOKUP(A52,počty!$J$6:$AP$163,17,0)","v":{"$error":"#N/A"}},{"$f":"VLOOKUP(A52,počty!$J$6:$AP$163,18,0)","v":{"$error":"#N/A"}},{"$f":"VLOOKUP(A52,počty!$J$6:$AP$163,19,0)","v":{"$error":"#N/A"}}]
[47,{"$f":"VLOOKUP(A53,počty!$J$6:$AP$163,20,0)","v":{"$error":"#N/A"}},{"$f":"VLOOKUP(A53,počty!$J$6:$AP$163,5,0)","v":{"$error":"#N/A"}},{"$f":"VLOOKUP(A53,počty!$J$6:$AP$163,6,0)","v":{"$error":"#N/A"}},{"$f":"VLOOKUP(A53,počty!$J$6:$AP$163,7,0)","v":{"$error":"#N/A"}},{"$f":"VLOOKUP(A53,počty!$J$6:$AP$163,8,0)","v":{"$error":"#N/A"}},{"$f":"VLOOKUP(A53,počty!$J$6:$AP$163,9,0)","v":{"$error":"#N/A"}},{"$f":"VLOOKUP(A53,počty!$J$6:$AP$163,11,0)","v":{"$error":"#N/A"}},{"$f":"VLOOKUP(A53,počty!$J$6:$AP$163,12,0)","v":{"$error":"#N/A"}},{"$f":"VLOOKUP(A53,počty!$J$6:$AP$163,13,0)","v":{"$error":"#N/A"}},{"$f":"VLOOKUP(A53,počty!$J$6:$AP$163,14,0)","v":{"$error":"#N/A"}},{"$f":"VLOOKUP(A53,počty!$J$6:$AP$163,15,0)","v":{"$error":"#N/A"}},{"$f":"VLOOKUP(A53,počty!$J$6:$AP$163,16,0)","v":{"$error":"#N/A"}},{"$f":"VLOOKUP(A53,počty!$J$6:$AP$163,17,0)","v":{"$error":"#N/A"}},{"$f":"VLOOKUP(A53,počty!$J$6:$AP$163,18,0)","v":{"$error":"#N/A"}},{"$f":"VLOOKUP(A53,počty!$J$6:$AP$163,19,0)","v":{"$error":"#N/A"}}]
[48,{"$f":"VLOOKUP(A54,počty!$J$6:$AP$163,20,0)","v":{"$error":"#N/A"}},{"$f":"VLOOKUP(A54,počty!$J$6:$AP$163,5,0)","v":{"$error":"#N/A"}},{"$f":"VLOOKUP(A54,počty!$J$6:$AP$163,6,0)","v":{"$error":"#N/A"}},{"$f":"VLOOKUP(A54,počty!$J$6:$AP$163,7,0)","v":{"$error":"#N/A"}},{"$f":"VLOOKUP(A54,počty!$J$6:$AP$163,8,0)","v":{"$error":"#N/A"}},{"$f":"VLOOKUP(A54,počty!$J$6:$AP$163,9,0)","v":{"$error":"#N/A"}},{"$f":"VLOOKUP(A54,počty!$J$6:$AP$163,11,0)","v":{"$error":"#N/A"}},{"$f":"VLOOKUP(A54,počty!$J$6:$AP$163,12,0)","v":{"$error":"#N/A"}},{"$f":"VLOOKUP(A54,počty!$J$6:$AP$163,13,0)","v":{"$error":"#N/A"}},{"$f":"VLOOKUP(A54,počty!$J$6:$AP$163,14,0)","v":{"$error":"#N/A"}},{"$f":"VLOOKUP(A54,počty!$J$6:$AP$163,15,0)","v":{"$error":"#N/A"}},{"$f":"VLOOKUP(A54,počty!$J$6:$AP$163,16,0)","v":{"$error":"#N/A"}},{"$f":"VLOOKUP(A54,počty!$J$6:$AP$163,17,0)","v":{"$error":"#N/A"}},{"$f":"VLOOKUP(A54,počty!$J$6:$AP$163,18,0)","v":{"$error":"#N/A"}},{"$f":"VLOOKUP(A54,počty!$J$6:$AP$163,19,0)","v":{"$error":"#N/A"}}]
[49,{"$f":"VLOOKUP(A55,počty!$J$6:$AP$163,20,0)","v":{"$error":"#N/A"}},{"$f":"VLOOKUP(A55,počty!$J$6:$AP$163,5,0)","v":{"$error":"#N/A"}},{"$f":"VLOOKUP(A55,počty!$J$6:$AP$163,6,0)","v":{"$error":"#N/A"}},{"$f":"VLOOKUP(A55,počty!$J$6:$AP$163,7,0)","v":{"$error":"#N/A"}},{"$f":"VLOOKUP(A55,počty!$J$6:$AP$163,8,0)","v":{"$error":"#N/A"}},{"$f":"VLOOKUP(A55,počty!$J$6:$AP$163,9,0)","v":{"$error":"#N/A"}},{"$f":"VLOOKUP(A55,počty!$J$6:$AP$163,11,0)","v":{"$error":"#N/A"}},{"$f":"VLOOKUP(A55,počty!$J$6:$AP$163,12,0)","v":{"$error":"#N/A"}},{"$f":"VLOOKUP(A55,počty!$J$6:$AP$163,13,0)","v":{"$error":"#N/A"}},{"$f":"VLOOKUP(A55,počty!$J$6:$AP$163,14,0)","v":{"$error":"#N/A"}},{"$f":"VLOOKUP(A55,počty!$J$6:$AP$163,15,0)","v":{"$error":"#N/A"}},{"$f":"VLOOKUP(A55,počty!$J$6:$AP$163,16,0)","v":{"$error":"#N/A"}},{"$f":"VLOOKUP(A55,počty!$J$6:$AP$163,17,0)","v":{"$error":"#N/A"}},{"$f":"VLOOKUP(A55,počty!$J$6:$AP$163,18,0)","v":{"$error":"#N/A"}},{"$f":"VLOOKUP(A55,počty!$J$6:$AP$163,19,0)","v":{"$error":"#N/A"}}]
[50,{"$f":"VLOOKUP(A56,počty!$J$6:$AP$163,20,0)","v":{"$error":"#N/A"}},{"$f":"VLOOKUP(A56,počty!$J$6:$AP$163,5,0)","v":{"$error":"#N/A"}},{"$f":"VLOOKUP(A56,počty!$J$6:$AP$163,6,0)","v":{"$error":"#N/A"}},{"$f":"VLOOKUP(A56,počty!$J$6:$AP$163,7,0)","v":{"$error":"#N/A"}},{"$f":"VLOOKUP(A56,počty!$J$6:$AP$163,8,0)","v":{"$error":"#N/A"}},{"$f":"VLOOKUP(A56,počty!$J$6:$AP$163,9,0)","v":{"$error":"#N/A"}},{"$f":"VLOOKUP(A56,počty!$J$6:$AP$163,11,0)","v":{"$error":"#N/A"}},{"$f":"VLOOKUP(A56,počty!$J$6:$AP$163,12,0)","v":{"$error":"#N/A"}},{"$f":"VLOOKUP(A56,počty!$J$6:$AP$163,13,0)","v":{"$error":"#N/A"}},{"$f":"VLOOKUP(A56,počty!$J$6:$AP$163,14,0)","v":{"$error":"#N/A"}},{"$f":"VLOOKUP(A56,počty!$J$6:$AP$163,15,0)","v":{"$error":"#N/A"}},{"$f":"VLOOKUP(A56,počty!$J$6:$AP$163,16,0)","v":{"$error":"#N/A"}},{"$f":"VLOOKUP(A56,počty!$J$6:$AP$163,17,0)","v":{"$error":"#N/A"}},{"$f":"VLOOKUP(A56,počty!$J$6:$AP$163,18,0)","v":{"$error":"#N/A"}},{"$f":"VLOOKUP(A56,počty!$J$6:$AP$163,19,0)","v":{"$error":"#N/A"}}]
[51,{"$f":"VLOOKUP(A57,počty!$J$6:$AP$163,20,0)","v":{"$error":"#N/A"}},{"$f":"VLOOKUP(A57,počty!$J$6:$AP$163,5,0)","v":{"$error":"#N/A"}},{"$f":"VLOOKUP(A57,počty!$J$6:$AP$163,6,0)","v":{"$error":"#N/A"}},{"$f":"VLOOKUP(A57,počty!$J$6:$AP$163,7,0)","v":{"$error":"#N/A"}},{"$f":"VLOOKUP(A57,počty!$J$6:$AP$163,8,0)","v":{"$error":"#N/A"}},{"$f":"VLOOKUP(A57,počty!$J$6:$AP$163,9,0)","v":{"$error":"#N/A"}},{"$f":"VLOOKUP(A57,počty!$J$6:$AP$163,11,0)","v":{"$error":"#N/A"}},{"$f":"VLOOKUP(A57,počty!$J$6:$AP$163,12,0)","v":{"$error":"#N/A"}},{"$f":"VLOOKUP(A57,počty!$J$6:$AP$163,13,0)","v":{"$error":"#N/A"}},{"$f":"VLOOKUP(A57,počty!$J$6:$AP$163,14,0)","v":{"$error":"#N/A"}},{"$f":"VLOOKUP(A57,počty!$J$6:$AP$163,15,0)","v":{"$error":"#N/A"}},{"$f":"VLOOKUP(A57,počty!$J$6:$AP$163,16,0)","v":{"$error":"#N/A"}},{"$f":"VLOOKUP(A57,počty!$J$6:$AP$163,17,0)","v":{"$error":"#N/A"}},{"$f":"VLOOKUP(A57,počty!$J$6:$AP$163,18,0)","v":{"$error":"#N/A"}},{"$f":"VLOOKUP(A57,počty!$J$6:$AP$163,19,0)","v":{"$error":"#N/A"}}]
[52,{"$f":"VLOOKUP(A58,počty!$J$6:$AP$163,20,0)","v":{"$error":"#N/A"}},{"$f":"VLOOKUP(A58,počty!$J$6:$AP$163,5,0)","v":{"$error":"#N/A"}},{"$f":"VLOOKUP(A58,počty!$J$6:$AP$163,6,0)","v":{"$error":"#N/A"}},{"$f":"VLOOKUP(A58,počty!$J$6:$AP$163,7,0)","v":{"$error":"#N/A"}},{"$f":"VLOOKUP(A58,počty!$J$6:$AP$163,8,0)","v":{"$error":"#N/A"}},{"$f":"VLOOKUP(A58,počty!$J$6:$AP$163,9,0)","v":{"$error":"#N/A"}},{"$f":"VLOOKUP(A58,počty!$J$6:$AP$163,11,0)","v":{"$error":"#N/A"}},{"$f":"VLOOKUP(A58,počty!$J$6:$AP$163,12,0)","v":{"$error":"#N/A"}},{"$f":"VLOOKUP(A58,počty!$J$6:$AP$163,13,0)","v":{"$error":"#N/A"}},{"$f":"VLOOKUP(A58,počty!$J$6:$AP$163,14,0)","v":{"$error":"#N/A"}},{"$f":"VLOOKUP(A58,počty!$J$6:$AP$163,15,0)","v":{"$error":"#N/A"}},{"$f":"VLOOKUP(A58,počty!$J$6:$AP$163,16,0)","v":{"$error":"#N/A"}},{"$f":"VLOOKUP(A58,počty!$J$6:$AP$163,17,0)","v":{"$error":"#N/A"}},{"$f":"VLOOKUP(A58,počty!$J$6:$AP$163,18,0)","v":{"$error":"#N/A"}},{"$f":"VLOOKUP(A58,počty!$J$6:$AP$163,19,0)","v":{"$error":"#N/A"}}]
[53,{"$f":"VLOOKUP(A59,počty!$J$6:$AP$163,20,0)","v":{"$error":"#N/A"}},{"$f":"VLOOKUP(A59,počty!$J$6:$AP$163,5,0)","v":{"$error":"#N/A"}},{"$f":"VLOOKUP(A59,počty!$J$6:$AP$163,6,0)","v":{"$error":"#N/A"}},{"$f":"VLOOKUP(A59,počty!$J$6:$AP$163,7,0)","v":{"$error":"#N/A"}},{"$f":"VLOOKUP(A59,počty!$J$6:$AP$163,8,0)","v":{"$error":"#N/A"}},{"$f":"VLOOKUP(A59,počty!$J$6:$AP$163,9,0)","v":{"$error":"#N/A"}},{"$f":"VLOOKUP(A59,počty!$J$6:$AP$163,11,0)","v":{"$error":"#N/A"}},{"$f":"VLOOKUP(A59,počty!$J$6:$AP$163,12,0)","v":{"$error":"#N/A"}},{"$f":"VLOOKUP(A59,počty!$J$6:$AP$163,13,0)","v":{"$error":"#N/A"}},{"$f":"VLOOKUP(A59,počty!$J$6:$AP$163,14,0)","v":{"$error":"#N/A"}},{"$f":"VLOOKUP(A59,počty!$J$6:$AP$163,15,0)","v":{"$error":"#N/A"}},{"$f":"VLOOKUP(A59,počty!$J$6:$AP$163,16,0)","v":{"$error":"#N/A"}},{"$f":"VLOOKUP(A59,počty!$J$6:$AP$163,17,0)","v":{"$error":"#N/A"}},{"$f":"VLOOKUP(A59,počty!$J$6:$AP$163,18,0)","v":{"$error":"#N/A"}},{"$f":"VLOOKUP(A59,počty!$J$6:$AP$163,19,0)","v":{"$error":"#N/A"}}]
[54,{"$f":"VLOOKUP(A60,počty!$J$6:$AP$163,20,0)","v":{"$error":"#N/A"}},{"$f":"VLOOKUP(A60,počty!$J$6:$AP$163,5,0)","v":{"$error":"#N/A"}},{"$f":"VLOOKUP(A60,počty!$J$6:$AP$163,6,0)","v":{"$error":"#N/A"}},{"$f":"VLOOKUP(A60,počty!$J$6:$AP$163,7,0)","v":{"$error":"#N/A"}},{"$f":"VLOOKUP(A60,počty!$J$6:$AP$163,8,0)","v":{"$error":"#N/A"}},{"$f":"VLOOKUP(A60,počty!$J$6:$AP$163,9,0)","v":{"$error":"#N/A"}},{"$f":"VLOOKUP(A60,počty!$J$6:$AP$163,11,0)","v":{"$error":"#N/A"}},{"$f":"VLOOKUP(A60,počty!$J$6:$AP$163,12,0)","v":{"$error":"#N/A"}},{"$f":"VLOOKUP(A60,počty!$J$6:$AP$163,13,0)","v":{"$error":"#N/A"}},{"$f":"VLOOKUP(A60,počty!$J$6:$AP$163,14,0)","v":{"$error":"#N/A"}},{"$f":"VLOOKUP(A60,počty!$J$6:$AP$163,15,0)","v":{"$error":"#N/A"}},{"$f":"VLOOKUP(A60,počty!$J$6:$AP$163,16,0)","v":{"$error":"#N/A"}},{"$f":"VLOOKUP(A60,počty!$J$6:$AP$163,17,0)","v":{"$error":"#N/A"}},{"$f":"VLOOKUP(A60,počty!$J$6:$AP$163,18,0)","v":{"$error":"#N/A"}},{"$f":"VLOOKUP(A60,počty!$J$6:$AP$163,19,0)","v":{"$error":"#N/A"}}]
[55,{"$f":"VLOOKUP(A61,počty!$J$6:$AP$163,20,0)","v":{"$error":"#N/A"}},{"$f":"VLOOKUP(A61,počty!$J$6:$AP$163,5,0)","v":{"$error":"#N/A"}},{"$f":"VLOOKUP(A61,počty!$J$6:$AP$163,6,0)","v":{"$error":"#N/A"}},{"$f":"VLOOKUP(A61,počty!$J$6:$AP$163,7,0)","v":{"$error":"#N/A"}},{"$f":"VLOOKUP(A61,počty!$J$6:$AP$163,8,0)","v":{"$error":"#N/A"}},{"$f":"VLOOKUP(A61,počty!$J$6:$AP$163,9,0)","v":{"$error":"#N/A"}},{"$f":"VLOOKUP(A61,počty!$J$6:$AP$163,11,0)","v":{"$error":"#N/A"}},{"$f":"VLOOKUP(A61,počty!$J$6:$AP$163,12,0)","v":{"$error":"#N/A"}},{"$f":"VLOOKUP(A61,počty!$J$6:$AP$163,13,0)","v":{"$error":"#N/A"}},{"$f":"VLOOKUP(A61,počty!$J$6:$AP$163,14,0)","v":{"$error":"#N/A"}},{"$f":"VLOOKUP(A61,počty!$J$6:$AP$163,15,0)","v":{"$error":"#N/A"}},{"$f":"VLOOKUP(A61,počty!$J$6:$AP$163,16,0)","v":{"$error":"#N/A"}},{"$f":"VLOOKUP(A61,počty!$J$6:$AP$163,17,0)","v":{"$error":"#N/A"}},{"$f":"VLOOKUP(A61,počty!$J$6:$AP$163,18,0)","v":{"$error":"#N/A"}},{"$f":"VLOOKUP(A61,počty!$J$6:$AP$163,19,0)","v":{"$error":"#N/A"}}]
[56,{"$f":"VLOOKUP(A62,počty!$J$6:$AP$163,20,0)","v":{"$error":"#N/A"}},{"$f":"VLOOKUP(A62,počty!$J$6:$AP$163,5,0)","v":{"$error":"#N/A"}},{"$f":"VLOOKUP(A62,počty!$J$6:$AP$163,6,0)","v":{"$error":"#N/A"}},{"$f":"VLOOKUP(A62,počty!$J$6:$AP$163,7,0)","v":{"$error":"#N/A"}},{"$f":"VLOOKUP(A62,počty!$J$6:$AP$163,8,0)","v":{"$error":"#N/A"}},{"$f":"VLOOKUP(A62,počty!$J$6:$AP$163,9,0)","v":{"$error":"#N/A"}},{"$f":"VLOOKUP(A62,počty!$J$6:$AP$163,11,0)","v":{"$error":"#N/A"}},{"$f":"VLOOKUP(A62,počty!$J$6:$AP$163,12,0)","v":{"$error":"#N/A"}},{"$f":"VLOOKUP(A62,počty!$J$6:$AP$163,13,0)","v":{"$error":"#N/A"}},{"$f":"VLOOKUP(A62,počty!$J$6:$AP$163,14,0)","v":{"$error":"#N/A"}},{"$f":"VLOOKUP(A62,počty!$J$6:$AP$163,15,0)","v":{"$error":"#N/A"}},{"$f":"VLOOKUP(A62,počty!$J$6:$AP$163,16,0)","v":{"$error":"#N/A"}},{"$f":"VLOOKUP(A62,počty!$J$6:$AP$163,17,0)","v":{"$error":"#N/A"}},{"$f":"VLOOKUP(A62,počty!$J$6:$AP$163,18,0)","v":{"$error":"#N/A"}},{"$f":"VLOOKUP(A62,počty!$J$6:$AP$163,19,0)","v":{"$error":"#N/A"}}]
[57,{"$f":"VLOOKUP(A63,počty!$J$6:$AP$163,20,0)","v":{"$error":"#N/A"}},{"$f":"VLOOKUP(A63,počty!$J$6:$AP$163,5,0)","v":{"$error":"#N/A"}},{"$f":"VLOOKUP(A63,počty!$J$6:$AP$163,6,0)","v":{"$error":"#N/A"}},{"$f":"VLOOKUP(A63,počty!$J$6:$AP$163,7,0)","v":{"$error":"#N/A"}},{"$f":"VLOOKUP(A63,počty!$J$6:$AP$163,8,0)","v":{"$error":"#N/A"}},{"$f":"VLOOKUP(A63,počty!$J$6:$AP$163,9,0)","v":{"$error":"#N/A"}},{"$f":"VLOOKUP(A63,počty!$J$6:$AP$163,11,0)","v":{"$error":"#N/A"}},{"$f":"VLOOKUP(A63,počty!$J$6:$AP$163,12,0)","v":{"$error":"#N/A"}},{"$f":"VLOOKUP(A63,počty!$J$6:$AP$163,13,0)","v":{"$error":"#N/A"}},{"$f":"VLOOKUP(A63,počty!$J$6:$AP$163,14,0)","v":{"$error":"#N/A"}},{"$f":"VLOOKUP(A63,počty!$J$6:$AP$163,15,0)","v":{"$error":"#N/A"}},{"$f":"VLOOKUP(A63,počty!$J$6:$AP$163,16,0)","v":{"$error":"#N/A"}},{"$f":"VLOOKUP(A63,počty!$J$6:$AP$163,17,0)","v":{"$error":"#N/A"}},{"$f":"VLOOKUP(A63,počty!$J$6:$AP$163,18,0)","v":{"$error":"#N/A"}},{"$f":"VLOOKUP(A63,počty!$J$6:$AP$163,19,0)","v":{"$error":"#N/A"}}]
[58,{"$f":"VLOOKUP(A64,počty!$J$6:$AP$163,20,0)","v":{"$error":"#N/A"}},{"$f":"VLOOKUP(A64,počty!$J$6:$AP$163,5,0)","v":{"$error":"#N/A"}},{"$f":"VLOOKUP(A64,počty!$J$6:$AP$163,6,0)","v":{"$error":"#N/A"}},{"$f":"VLOOKUP(A64,počty!$J$6:$AP$163,7,0)","v":{"$error":"#N/A"}},{"$f":"VLOOKUP(A64,počty!$J$6:$AP$163,8,0)","v":{"$error":"#N/A"}},{"$f":"VLOOKUP(A64,počty!$J$6:$AP$163,9,0)","v":{"$error":"#N/A"}},{"$f":"VLOOKUP(A64,počty!$J$6:$AP$163,11,0)","v":{"$error":"#N/A"}},{"$f":"VLOOKUP(A64,počty!$J$6:$AP$163,12,0)","v":{"$error":"#N/A"}},{"$f":"VLOOKUP(A64,počty!$J$6:$AP$163,13,0)","v":{"$error":"#N/A"}},{"$f":"VLOOKUP(A64,počty!$J$6:$AP$163,14,0)","v":{"$error":"#N/A"}},{"$f":"VLOOKUP(A64,počty!$J$6:$AP$163,15,0)","v":{"$error":"#N/A"}},{"$f":"VLOOKUP(A64,počty!$J$6:$AP$163,16,0)","v":{"$error":"#N/A"}},{"$f":"VLOOKUP(A64,počty!$J$6:$AP$163,17,0)","v":{"$error":"#N/A"}},{"$f":"VLOOKUP(A64,počty!$J$6:$AP$163,18,0)","v":{"$error":"#N/A"}},{"$f":"VLOOKUP(A64,počty!$J$6:$AP$163,19,0)","v":{"$error":"#N/A"}}]
[59,{"$f":"VLOOKUP(A65,počty!$J$6:$AP$163,20,0)","v":{"$error":"#N/A"}},{"$f":"VLOOKUP(A65,počty!$J$6:$AP$163,5,0)","v":{"$error":"#N/A"}},{"$f":"VLOOKUP(A65,počty!$J$6:$AP$163,6,0)","v":{"$error":"#N/A"}},{"$f":"VLOOKUP(A65,počty!$J$6:$AP$163,7,0)","v":{"$error":"#N/A"}},{"$f":"VLOOKUP(A65,počty!$J$6:$AP$163,8,0)","v":{"$error":"#N/A"}},{"$f":"VLOOKUP(A65,počty!$J$6:$AP$163,9,0)","v":{"$error":"#N/A"}},{"$f":"VLOOKUP(A65,počty!$J$6:$AP$163,11,0)","v":{"$error":"#N/A"}},{"$f":"VLOOKUP(A65,počty!$J$6:$AP$163,12,0)","v":{"$error":"#N/A"}},{"$f":"VLOOKUP(A65,počty!$J$6:$AP$163,13,0)","v":{"$error":"#N/A"}},{"$f":"VLOOKUP(A65,počty!$J$6:$AP$163,14,0)","v":{"$error":"#N/A"}},{"$f":"VLOOKUP(A65,počty!$J$6:$AP$163,15,0)","v":{"$error":"#N/A"}},{"$f":"VLOOKUP(A65,počty!$J$6:$AP$163,16,0)","v":{"$error":"#N/A"}},{"$f":"VLOOKUP(A65,počty!$J$6:$AP$163,17,0)","v":{"$error":"#N/A"}},{"$f":"VLOOKUP(A65,počty!$J$6:$AP$163,18,0)","v":{"$error":"#N/A"}},{"$f":"VLOOKUP(A65,počty!$J$6:$AP$163,19,0)","v":{"$error":"#N/A"}}]
[60,{"$f":"VLOOKUP(A66,počty!$J$6:$AP$163,20,0)","v":{"$error":"#N/A"}},{"$f":"VLOOKUP(A66,počty!$J$6:$AP$163,5,0)","v":{"$error":"#N/A"}},{"$f":"VLOOKUP(A66,počty!$J$6:$AP$163,6,0)","v":{"$error":"#N/A"}},{"$f":"VLOOKUP(A66,počty!$J$6:$AP$163,7,0)","v":{"$error":"#N/A"}},{"$f":"VLOOKUP(A66,počty!$J$6:$AP$163,8,0)","v":{"$error":"#N/A"}},{"$f":"VLOOKUP(A66,počty!$J$6:$AP$163,9,0)","v":{"$error":"#N/A"}},{"$f":"VLOOKUP(A66,počty!$J$6:$AP$163,11,0)","v":{"$error":"#N/A"}},{"$f":"VLOOKUP(A66,počty!$J$6:$AP$163,12,0)","v":{"$error":"#N/A"}},{"$f":"VLOOKUP(A66,počty!$J$6:$AP$163,13,0)","v":{"$error":"#N/A"}},{"$f":"VLOOKUP(A66,počty!$J$6:$AP$163,14,0)","v":{"$error":"#N/A"}},{"$f":"VLOOKUP(A66,počty!$J$6:$AP$163,15,0)","v":{"$error":"#N/A"}},{"$f":"VLOOKUP(A66,počty!$J$6:$AP$163,16,0)","v":{"$error":"#N/A"}},{"$f":"VLOOKUP(A66,počty!$J$6:$AP$163,17,0)","v":{"$error":"#N/A"}},{"$f":"VLOOKUP(A66,počty!$J$6:$AP$163,18,0)","v":{"$error":"#N/A"}},{"$f":"VLOOKUP(A66,počty!$J$6:$AP$163,19,0)","v":{"$error":"#N/A"}}]

{"sheet":"obrac","index":7,"n_rows":66,"n_cols":13,"rows_kept":66,"cut":false,"hidden":false,"merged":[[0,6,0,7]]}
[null,null,"Startovní listina pro 2. kolo",null,null,null,{"$f":"CONCATENATE(\"K \",hlavicka!C6)","v":"K 13"},null,null,null,null,null,{"$f":"+hlavicka!C11","v":"Žáci U10M 2017-2016"}]
[null,null,{"$f":"+vyslSL!B2","v":"Český pohár žactva ve skoku na lyžích - 9/SL"},null,null,null,null,null,null,null,null,null,{"$f":"+vyslSL!Q2","v":"dne: 21.11.2015"}]
[null,null,{"$f":"+vyslSL!B3","v":"skok.můstek: K 13"},null,null,null,null,null,null,null,null,null,{"$f":"+vyslSL!Q3","v":"LSK Lomnice"}]
[null,null,{"$f":"+vyslSL!B4","v":"certifikát můstku č.135/C35/SL pl. do "},null,null,null,null,null,null,null,null,null,{"$f":"+vyslSL!Q4","v":"K = 60 b. +/- 6 b./m"}]
[null,"st.","st.č.","jméno","klub","stát","rok","m","body",null,null,"poř.","2.skok"]
[null,"poř.",null,null,null,null,null,null,"metry","styl","celk."]
[{"$f":"MAX(počty!AS6:AS65)","v":5},{"$f":"1+$A$7-A7","v":1},{"$f":"VLOOKUP(A7,počty!$J$6:$AP$163,5,0)","v":23},{"$f":"VLOOKUP(A7,počty!$J$6:$AP$163,6,0)","v":"Břečka Matyáš"},{"$f":"VLOOKUP(A7,počty!$J$6:$AP$163,7,0)","v":"Lyžařský sportovní klub Lomnice nad Popelkou"},{"$f":"VLOOKUP(A7,počty!$J$6:$AP$163,8,0)","v":"CZE"},{"$f":"VLOOKUP(A7,počty!$J$6:$AP$163,9,0)","v":2014},{"$f":"VLOOKUP(A7,počty!$J$6:$AP$163,11,0)","v":11},{"$f":"VLOOKUP(A7,počty!$J$6:$AP$163,17,0)","v":48},{"$f":"VLOOKUP(A7,počty!$J$6:$AP$163,18,0)","v":41.5},{"$f":"VLOOKUP(A7,počty!$J$6:$AP$163,19,0)","v":89.5},{"$f":"VLOOKUP(A7,počty!$J$6:$AP$163,20,0)","v":5}]
[{"$f":"+A7-1","v":4},{"$f":"1+$A$7-A8","v":2},{"$f":"VLOOKUP(A8,počty!$J$6:$AP$163,5,0)","v":25},{"$f":"VLOOKUP(A8,počty!$J$6:$AP$163,6,0)","v":"Ježek Jakub"},{"$f":"VLOOKUP(A8,počty!$J$6:$AP$163,7,0)","v":"Lyžařský sportovní klub Lomnice nad Popelkou"},{"$f":"VLOOKUP(A8,počty!$J$6:$AP$163,8,0)","v":"CZE"},{"$f":"VLOOKUP(A8,počty!$J$6:$AP$163,9,0)","v":2015},{"$f":"VLOOKUP(A8,počty!$J$6:$AP$163,11,0)","v":11},{"$f":"VLOOKUP(A8,počty!$J$6:$AP$163,17,0)","v":48},{"$f":"VLOOKUP(A8,počty!$J$6:$AP$163,18,0)","v":42},{"$f":"VLOOKUP(A8,počty!$J$6:$AP$163,19,0)","v":90},{"$f":"VLOOKUP(A8,počty!$J$6:$AP$163,20,0)","v":4}]
[{"$f":"+A8-1","v":3},3,{"$f":"VLOOKUP(A9,počty!$J$6:$AP$163,5,0)","v":24},{"$f":"VLOOKUP(A9,počty!$J$6:$AP$163,6,0)","v":"Huráňová Karolína"},{"$f":"VLOOKUP(A9,počty!$J$6:$AP$163,7,0)","v":"Lyžařský sportovní klub Lomnice nad Popelkou"},{"$f":"VLOOKUP(A9,počty!$J$6:$AP$163,8,0)","v":"CZE"},{"$f":"VLOOKUP(A9,počty!$J$6:$AP$163,9,0)","v":2015},{"$f":"VLOOKUP(A9,počty!$J$6:$AP$163,11,0)","v":11.5},{"$f":"VLOOKUP(A9,počty!$J$6:$AP$163,17,0)","v":51},{"$f":"VLOOKUP(A9,počty!$J$6:$AP$163,18,0)","v":43},{"$f":"VLOOKUP(A9,počty!$J$6:$AP$163,19,0)","v":94},{"$f":"VLOOKUP(A9,počty!$J$6:$AP$163,20,0)","v":3}]
[2,4,{"$f":"VLOOKUP(A10,počty!$J$6:$AP$163,5,0)","v":13},{"$f":"VLOOKUP(A10,počty!$J$6:$AP$163,6,0)","v":"Zapadlová Sára"},{"$f":"VLOOKUP(A10,počty!$J$6:$AP$163,7,0)","v":"Lyžařský sportovní klub Lomnice nad Popelkou"},{"$f":"VLOOKUP(A10,počty!$J$6:$AP$163,8,0)","v":"CZE"},{"$f":"VLOOKUP(A10,počty!$J$6:$AP$163,9,0)","v":2016},{"$f":"VLOOKUP(A10,počty!$J$6:$AP$163,11,0)","v":11.5},{"$f":"VLOOKUP(A10,počty!$J$6:$AP$163,17,0)","v":51},{"$f":"VLOOKUP(A10,počty!$J$6:$AP$163,18,0)","v":44.5},{"$f":"VLOOKUP(A10,počty!$J$6:$AP$163,19,0)","v":95.5},{"$f":"VLOOKUP(A10,počty!$J$6:$AP$163,20,0)","v":1}]
[1,5,{"$f":"VLOOKUP(A11,počty!$J$6:$AP$163,5,0)","v":22},{"$f":"VLOOKUP(A11,počty!$J$6:$AP$163,6,0)","v":"Sankot Antonín"},{"$f":"VLOOKUP(A11,počty!$J$6:$AP$163,7,0)","v":"Lyžařský sportovní klub Lomnice nad Popelkou"},{"$f":"VLOOKUP(A11,počty!$J$6:$AP$163,8,0)","v":"CZE"},{"$f":"VLOOKUP(A11,počty!$J$6:$AP$163,9,0)","v":2017},{"$f":"VLOOKUP(A11,počty!$J$6:$AP$163,11,0)","v":12},{"$f":"VLOOKUP(A11,počty!$J$6:$AP$163,17,0)","v":54},{"$f":"VLOOKUP(A11,počty!$J$6:$AP$163,18,0)","v":41.5},{"$f":"VLOOKUP(A11,počty!$J$6:$AP$163,19,0)","v":95.5},{"$f":"VLOOKUP(A11,počty!$J$6:$AP$163,20,0)","v":1}]
[0,6,{"$f":"VLOOKUP(A12,počty!$J$6:$AP$163,5,0)","v":{"$error":"#N/A"}},{"$f":"VLOOKUP(A12,počty!$J$6:$AP$163,6,0)","v":{"$error":"#N/A"}},{"$f":"VLOOKUP(A12,počty!$J$6:$AP$163,7,0)","v":{"$error":"#N/A"}},{"$f":"VLOOKUP(A12,počty!$J$6:$AP$163,8,0)","v":{"$error":"#N/A"}},{"$f":"VLOOKUP(A12,počty!$J$6:$AP$163,9,0)","v":{"$error":"#N/A"}},{"$f":"VLOOKUP(A12,počty!$J$6:$AP$163,11,0)","v":{"$error":"#N/A"}},{"$f":"VLOOKUP(A12,počty!$J$6:$AP$163,17,0)","v":{"$error":"#N/A"}},{"$f":"VLOOKUP(A12,počty!$J$6:$AP$163,18,0)","v":{"$error":"#N/A"}},{"$f":"VLOOKUP(A12,počty!$J$6:$AP$163,19,0)","v":{"$error":"#N/A"}},{"$f":"VLOOKUP(A12,počty!$J$6:$AP$163,20,0)","v":{"$error":"#N/A"}}]
[-1,7,{"$f":"VLOOKUP(A13,počty!$J$6:$AP$163,5,0)","v":{"$error":"#N/A"}},{"$f":"VLOOKUP(A13,počty!$J$6:$AP$163,6,0)","v":{"$error":"#N/A"}},{"$f":"VLOOKUP(A13,počty!$J$6:$AP$163,7,0)","v":{"$error":"#N/A"}},{"$f":"VLOOKUP(A13,počty!$J$6:$AP$163,8,0)","v":{"$error":"#N/A"}},{"$f":"VLOOKUP(A13,počty!$J$6:$AP$163,9,0)","v":{"$error":"#N/A"}},{"$f":"VLOOKUP(A13,počty!$J$6:$AP$163,11,0)","v":{"$error":"#N/A"}},{"$f":"VLOOKUP(A13,počty!$J$6:$AP$163,17,0)","v":{"$error":"#N/A"}},{"$f":"VLOOKUP(A13,počty!$J$6:$AP$163,18,0)","v":{"$error":"#N/A"}},{"$f":"VLOOKUP(A13,počty!$J$6:$AP$163,19,0)","v":{"$error":"#N/A"}},{"$f":"VLOOKUP(A13,počty!$J$6:$AP$163,20,0)","v":{"$error":"#N/A"}}]
[-2,8,{"$f":"VLOOKUP(A14,počty!$J$6:$AP$163,5,0)","v":{"$error":"#N/A"}},{"$f":"VLOOKUP(A14,počty!$J$6:$AP$163,6,0)","v":{"$error":"#N/A"}},{"$f":"VLOOKUP(A14,počty!$J$6:$AP$163,7,0)","v":{"$error":"#N/A"}},{"$f":"VLOOKUP(A14,počty!$J$6:$AP$163,8,0)","v":{"$error":"#N/A"}},{"$f":"VLOOKUP(A14,počty!$J$6:$AP$163,9,0)","v":{"$error":"#N/A"}},{"$f":"VLOOKUP(A14,počty!$J$6:$AP$163,11,0)","v":{"$error":"#N/A"}},{"$f":"VLOOKUP(A14,počty!$J$6:$AP$163,17,0)","v":{"$error":"#N/A"}},{"$f":"VLOOKUP(A14,počty!$J$6:$AP$163,18,0)","v":{"$error":"#N/A"}},{"$f":"VLOOKUP(A14,počty!$J$6:$AP$163,19,0)","v":{"$error":"#N/A"}},{"$f":"VLOOKUP(A14,počty!$J$6:$AP$163,20,0)","v":{"$error":"#N/A"}}]
[-3,9,{"$f":"VLOOKUP(A15,počty!$J$6:$AP$163,5,0)","v":{"$error":"#N/A"}},{"$f":"VLOOKUP(A15,počty!$J$6:$AP$163,6,0)","v":{"$error":"#N/A"}},{"$f":"VLOOKUP(A15,počty!$J$6:$AP$163,7,0)","v":{"$error":"#N/A"}},{"$f":"VLOOKUP(A15,počty!$J$6:$AP$163,8,0)","v":{"$error":"#N/A"}},{"$f":"VLOOKUP(A15,počty!$J$6:$AP$163,9,0)","v":{"$error":"#N/A"}},{"$f":"VLOOKUP(A15,počty!$J$6:$AP$163,11,0)","v":{"$error":"#N/A"}},{"$f":"VLOOKUP(A15,počty!$J$6:$AP$163,17,0)","v":{"$error":"#N/A"}},{"$f":"VLOOKUP(A15,počty!$J$6:$AP$163,18,0)","v":{"$error":"#N/A"}},{"$f":"VLOOKUP(A15,počty!$J$6:$AP$163,19,0)","v":{"$error":"#N/A"}},{"$f":"VLOOKUP(A15,počty!$J$6:$AP$163,20,0)","v":{"$error":"#N/A"}}]
[-4,10,{"$f":"VLOOKUP(A16,počty!$J$6:$AP$163,5,0)","v":{"$error":"#N/A"}},{"$f":"VLOOKUP(A16,počty!$J$6:$AP$163,6,0)","v":{"$error":"#N/A"}},{"$f":"VLOOKUP(A16,počty!$J$6:$AP$163,7,0)","v":{"$error":"#N/A"}},{"$f":"VLOOKUP(A16,počty!$J$6:$AP$163,8,0)","v":{"$error":"#N/A"}},{"$f":"VLOOKUP(A16,počty!$J$6:$AP$163,9,0)","v":{"$error":"#N/A"}},{"$f":"VLOOKUP(A16,počty!$J$6:$AP$163,11,0)","v":{"$error":"#N/A"}},{"$f":"VLOOKUP(A16,počty!$J$6:$AP$163,17,0)","v":{"$error":"#N/A"}},{"$f":"VLOOKUP(A16,počty!$J$6:$AP$163,18,0)","v":{"$error":"#N/A"}},{"$f":"VLOOKUP(A16,počty!$J$6:$AP$163,19,0)","v":{"$error":"#N/A"}},{"$f":"VLOOKUP(A16,počty!$J$6:$AP$163,20,0)","v":{"$error":"#N/A"}}]
[-5,11,{"$f":"VLOOKUP(A17,počty!$J$6:$AP$163,5,0)","v":{"$error":"#N/A"}},{"$f":"VLOOKUP(A17,počty!$J$6:$AP$163,6,0)","v":{"$error":"#N/A"}},{"$f":"VLOOKUP(A17,počty!$J$6:$AP$163,7,0)","v":{"$error":"#N/A"}},{"$f":"VLOOKUP(A17,počty!$J$6:$AP$163,8,0)","v":{"$error":"#N/A"}},{"$f":"VLOOKUP(A17,počty!$J$6:$AP$163,9,0)","v":{"$error":"#N/A"}},{"$f":"VLOOKUP(A17,počty!$J$6:$AP$163,11,0)","v":{"$error":"#N/A"}},{"$f":"VLOOKUP(A17,počty!$J$6:$AP$163,17,0)","v":{"$error":"#N/A"}},{"$f":"VLOOKUP(A17,počty!$J$6:$AP$163,18,0)","v":{"$error":"#N/A"}},{"$f":"VLOOKUP(A17,počty!$J$6:$AP$163,19,0)","v":{"$error":"#N/A"}},{"$f":"VLOOKUP(A17,počty!$J$6:$AP$163,20,0)","v":{"$error":"#N/A"}}]
[-6,12,{"$f":"VLOOKUP(A18,počty!$J$6:$AP$163,5,0)","v":{"$error":"#N/A"}},{"$f":"VLOOKUP(A18,počty!$J$6:$AP$163,6,0)","v":{"$error":"#N/A"}},{"$f":"VLOOKUP(A18,počty!$J$6:$AP$163,7,0)","v":{"$error":"#N/A"}},{"$f":"VLOOKUP(A18,počty!$J$6:$AP$163,8,0)","v":{"$error":"#N/A"}},{"$f":"VLOOKUP(A18,počty!$J$6:$AP$163,9,0)","v":{"$error":"#N/A"}},{"$f":"VLOOKUP(A18,počty!$J$6:$AP$163,11,0)","v":{"$error":"#N/A"}},{"$f":"VLOOKUP(A18,počty!$J$6:$AP$163,17,0)","v":{"$error":"#N/A"}},{"$f":"VLOOKUP(A18,počty!$J$6:$AP$163,18,0)","v":{"$error":"#N/A"}},{"$f":"VLOOKUP(A18,počty!$J$6:$AP$163,19,0)","v":{"$error":"#N/A"}},{"$f":"VLOOKUP(A18,počty!$J$6:$AP$163,20,0)","v":{"$error":"#N/A"}}]
[-7,13,{"$f":"VLOOKUP(A19,počty!$J$6:$AP$163,5,0)","v":{"$error":"#N/A"}},{"$f":"VLOOKUP(A19,počty!$J$6:$AP$163,6,0)","v":{"$error":"#N/A"}},{"$f":"VLOOKUP(A19,počty!$J$6:$AP$163,7,0)","v":{"$error":"#N/A"}},{"$f":"VLOOKUP(A19,počty!$J$6:$AP$163,8,0)","v":{"$error":"#N/A"}},{"$f":"VLOOKUP(A19,počty!$J$6:$AP$163,9,0)","v":{"$error":"#N/A"}},{"$f":"VLOOKUP(A19,počty!$J$6:$AP$163,11,0)","v":{"$error":"#N/A"}},{"$f":"VLOOKUP(A19,počty!$J$6:$AP$163,17,0)","v":{"$error":"#N/A"}},{"$f":"VLOOKUP(A19,počty!$J$6:$AP$163,18,0)","v":{"$error":"#N/A"}},{"$f":"VLOOKUP(A19,počty!$J$6:$AP$163,19,0)","v":{"$error":"#N/A"}},{"$f":"VLOOKUP(A19,počty!$J$6:$AP$163,20,0)","v":{"$error":"#N/A"}}]
[-8,14,{"$f":"VLOOKUP(A20,počty!$J$6:$AP$163,5,0)","v":{"$error":"#N/A"}},{"$f":"VLOOKUP(A20,počty!$J$6:$AP$163,6,0)","v":{"$error":"#N/A"}},{"$f":"VLOOKUP(A20,počty!$J$6:$AP$163,7,0)","v":{"$error":"#N/A"}},{"$f":"VLOOKUP(A20,počty!$J$6:$AP$163,8,0)","v":{"$error":"#N/A"}},{"$f":"VLOOKUP(A20,počty!$J$6:$AP$163,9,0)","v":{"$error":"#N/A"}},{"$f":"VLOOKUP(A20,počty!$J$6:$AP$163,11,0)","v":{"$error":"#N/A"}},{"$f":"VLOOKUP(A20,počty!$J$6:$AP$163,17,0)","v":{"$error":"#N/A"}},{"$f":"VLOOKUP(A20,počty!$J$6:$AP$163,18,0)","v":{"$error":"#N/A"}},{"$f":"VLOOKUP(A20,počty!$J$6:$AP$163,19,0)","v":{"$error":"#N/A"}},{"$f":"VLOOKUP(A20,počty!$J$6:$AP$163,20,0)","v":{"$error":"#N/A"}}]
[-9,15,{"$f":"VLOOKUP(A21,počty!$J$6:$AP$163,5,0)","v":{"$error":"#N/A"}},{"$f":"VLOOKUP(A21,počty!$J$6:$AP$163,6,0)","v":{"$error":"#N/A"}},{"$f":"VLOOKUP(A21,počty!$J$6:$AP$163,7,0)","v":{"$error":"#N/A"}},{"$f":"VLOOKUP(A21,počty!$J$6:$AP$163,8,0)","v":{"$error":"#N/A"}},{"$f":"VLOOKUP(A21,počty!$J$6:$AP$163,9,0)","v":{"$error":"#N/A"}},{"$f":"VLOOKUP(A21,počty!$J$6:$AP$163,11,0)","v":{"$error":"#N/A"}},{"$f":"VLOOKUP(A21,počty!$J$6:$AP$163,17,0)","v":{"$error":"#N/A"}},{"$f":"VLOOKUP(A21,počty!$J$6:$AP$163,18,0)","v":{"$error":"#N/A"}},{"$f":"VLOOKUP(A21,počty!$J$6:$AP$163,19,0)","v":{"$error":"#N/A"}},{"$f":"VLOOKUP(A21,počty!$J$6:$AP$163,20,0)","v":{"$error":"#N/A"}}]
[-10,16,{"$f":"VLOOKUP(A22,počty!$J$6:$AP$163,5,0)","v":{"$error":"#N/A"}},{"$f":"VLOOKUP(A22,počty!$J$6:$AP$163,6,0)","v":{"$error":"#N/A"}},{"$f":"VLOOKUP(A22,počty!$J$6:$AP$163,7,0)","v":{"$error":"#N/A"}},{"$f":"VLOOKUP(A22,počty!$J$6:$AP$163,8,0)","v":{"$error":"#N/A"}},{"$f":"VLOOKUP(A22,počty!$J$6:$AP$163,9,0)","v":{"$error":"#N/A"}},{"$f":"VLOOKUP(A22,počty!$J$6:$AP$163,11,0)","v":{"$error":"#N/A"}},{"$f":"VLOOKUP(A22,počty!$J$6:$AP$163,17,0)","v":{"$error":"#N/A"}},{"$f":"VLOOKUP(A22,počty!$J$6:$AP$163,18,0)","v":{"$error":"#N/A"}},{"$f":"VLOOKUP(A22,počty!$J$6:$AP$163,19,0)","v":{"$error":"#N/A"}},{"$f":"VLOOKUP(A22,počty!$J$6:$AP$163,20,0)","v":{"$error":"#N/A"}}]
[-11,17,{"$f":"VLOOKUP(A23,počty!$J$6:$AP$163,5,0)","v":{"$error":"#N/A"}},{"$f":"VLOOKUP(A23,počty!$J$6:$AP$163,6,0)","v":{"$error":"#N/A"}},{"$f":"VLOOKUP(A23,počty!$J$6:$AP$163,7,0)","v":{"$error":"#N/A"}},{"$f":"VLOOKUP(A23,počty!$J$6:$AP$163,8,0)","v":{"$error":"#N/A"}},{"$f":"VLOOKUP(A23,počty!$J$6:$AP$163,9,0)","v":{"$error":"#N/A"}},{"$f":"VLOOKUP(A23,počty!$J$6:$AP$163,11,0)","v":{"$error":"#N/A"}},{"$f":"VLOOKUP(A23,počty!$J$6:$AP$163,17,0)","v":{"$error":"#N/A"}},{"$f":"VLOOKUP(A23,počty!$J$6:$AP$163,18,0)","v":{"$error":"#N/A"}},{"$f":"VLOOKUP(A23,počty!$J$6:$AP$163,19,0)","v":{"$error":"#N/A"}},{"$f":"VLOOKUP(A23,počty!$J$6:$AP$163,20,0)","v":{"$error":"#N/A"}}]
[-12,18,{"$f":"VLOOKUP(A24,počty!$J$6:$AP$163,5,0)","v":{"$error":"#N/A"}},{"$f":"VLOOKUP(A24,počty!$J$6:$AP$163,6,0)","v":{"$error":"#N/A"}},{"$f":"VLOOKUP(A24,počty!$J$6:$AP$163,7,0)","v":{"$error":"#N/A"}},{"$f":"VLOOKUP(A24,počty!$J$6:$AP$163,8,0)","v":{"$error":"#N/A"}},{"$f":"VLOOKUP(A24,počty!$J$6:$AP$163,9,0)","v":{"$error":"#N/A"}},{"$f":"VLOOKUP(A24,počty!$J$6:$AP$163,11,0)","v":{"$error":"#N/A"}},{"$f":"VLOOKUP(A24,počty!$J$6:$AP$163,17,0)","v":{"$error":"#N/A"}},{"$f":"VLOOKUP(A24,počty!$J$6:$AP$163,18,0)","v":{"$error":"#N/A"}},{"$f":"VLOOKUP(A24,počty!$J$6:$AP$163,19,0)","v":{"$error":"#N/A"}},{"$f":"VLOOKUP(A24,počty!$J$6:$AP$163,20,0)","v":{"$error":"#N/A"}}]
[-13,19,{"$f":"VLOOKUP(A25,počty!$J$6:$AP$163,5,0)","v":{"$error":"#N/A"}},{"$f":"VLOOKUP(A25,počty!$J$6:$AP$163,6,0)","v":{"$error":"#N/A"}},{"$f":"VLOOKUP(A25,počty!$J$6:$AP$163,7,0)","v":{"$error":"#N/A"}},{"$f":"VLOOKUP(A25,počty!$J$6:$AP$163,8,0)","v":{"$error":"#N/A"}},{"$f":"VLOOKUP(A25,počty!$J$6:$AP$163,9,0)","v":{"$error":"#N/A"}},{"$f":"VLOOKUP(A25,počty!$J$6:$AP$163,11,0)","v":{"$error":"#N/A"}},{"$f":"VLOOKUP(A25,počty!$J$6:$AP$163,17,0)","v":{"$error":"#N/A"}},{"$f":"VLOOKUP(A25,počty!$J$6:$AP$163,18,0)","v":{"$error":"#N/A"}},{"$f":"VLOOKUP(A25,počty!$J$6:$AP$163,19,0)","v":{"$error":"#N/A"}},{"$f":"VLOOKUP(A25,počty!$J$6:$AP$163,20,0)","v":{"$error":"#N/A"}}]
[-14,20,{"$f":"VLOOKUP(A26,počty!$J$6:$AP$163,5,0)","v":{"$error":"#N/A"}},{"$f":"VLOOKUP(A26,počty!$J$6:$AP$163,6,0)","v":{"$error":"#N/A"}},{"$f":"VLOOKUP(A26,počty!$J$6:$AP$163,7,0)","v":{"$error":"#N/A"}},{"$f":"VLOOKUP(A26,počty!$J$6:$AP$163,8,0)","v":{"$error":"#N/A"}},{"$f":"VLOOKUP(A26,počty!$J$6:$AP$163,9,0)","v":{"$error":"#N/A"}},{"$f":"VLOOKUP(A26,počty!$J$6:$AP$163,11,0)","v":{"$error":"#N/A"}},{"$f":"VLOOKUP(A26,počty!$J$6:$AP$163,17,0)","v":{"$error":"#N/A"}},{"$f":"VLOOKUP(A26,počty!$J$6:$AP$163,18,0)","v":{"$error":"#N/A"}},{"$f":"VLOOKUP(A26,počty!$J$6:$AP$163,19,0)","v":{"$error":"#N/A"}},{"$f":"VLOOKUP(A26,počty!$J$6:$AP$163,20,0)","v":{"$error":"#N/A"}}]
[-15,21,{"$f":"VLOOKUP(A27,počty!$J$6:$AP$163,5,0)","v":{"$error":"#N/A"}},{"$f":"VLOOKUP(A27,počty!$J$6:$AP$163,6,0)","v":{"$error":"#N/A"}},{"$f":"VLOOKUP(A27,počty!$J$6:$AP$163,7,0)","v":{"$error":"#N/A"}},{"$f":"VLOOKUP(A27,počty!$J$6:$AP$163,8,0)","v":{"$error":"#N/A"}},{"$f":"VLOOKUP(A27,počty!$J$6:$AP$163,9,0)","v":{"$error":"#N/A"}},{"$f":"VLOOKUP(A27,počty!$J$6:$AP$163,11,0)","v":{"$error":"#N/A"}},{"$f":"VLOOKUP(A27,počty!$J$6:$AP$163,17,0)","v":{"$error":"#N/A"}},{"$f":"VLOOKUP(A27,počty!$J$6:$AP$163,18,0)","v":{"$error":"#N/A"}},{"$f":"VLOOKUP(A27,počty!$J$6:$AP$163,19,0)","v":{"$error":"#N/A"}},{"$f":"VLOOKUP(A27,počty!$J$6:$AP$163,20,0)","v":{"$error":"#N/A"}}]
[-16,22,{"$f":"VLOOKUP(A28,počty!$J$6:$AP$163,5,0)","v":{"$error":"#N/A"}},{"$f":"VLOOKUP(A28,počty!$J$6:$AP$163,6,0)","v":{"$error":"#N/A"}},{"$f":"VLOOKUP(A28,počty!$J$6:$AP$163,7,0)","v":{"$error":"#N/A"}},{"$f":"VLOOKUP(A28,počty!$J$6:$AP$163,8,0)","v":{"$error":"#N/A"}},{"$f":"VLOOKUP(A28,počty!$J$6:$AP$163,9,0)","v":{"$error":"#N/A"}},{"$f":"VLOOKUP(A28,počty!$J$6:$AP$163,11,0)","v":{"$error":"#N/A"}},{"$f":"VLOOKUP(A28,počty!$J$6:$AP$163,17,0)","v":{"$error":"#N/A"}},{"$f":"VLOOKUP(A28,počty!$J$6:$AP$163,18,0)","v":{"$error":"#N/A"}},{"$f":"VLOOKUP(A28,počty!$J$6:$AP$163,19,0)","v":{"$error":"#N/A"}},{"$f":"VLOOKUP(A28,počty!$J$6:$AP$163,20,0)","v":{"$error":"#N/A"}}]
[-17,23,{"$f":"VLOOKUP(A29,počty!$J$6:$AP$163,5,0)","v":{"$error":"#N/A"}},{"$f":"VLOOKUP(A29,počty!$J$6:$AP$163,6,0)","v":{"$error":"#N/A"}},{"$f":"VLOOKUP(A29,počty!$J$6:$AP$163,7,0)","v":{"$error":"#N/A"}},{"$f":"VLOOKUP(A29,počty!$J$6:$AP$163,8,0)","v":{"$error":"#N/A"}},{"$f":"VLOOKUP(A29,počty!$J$6:$AP$163,9,0)","v":{"$error":"#N/A"}},{"$f":"VLOOKUP(A29,počty!$J$6:$AP$163,11,0)","v":{"$error":"#N/A"}},{"$f":"VLOOKUP(A29,počty!$J$6:$AP$163,17,0)","v":{"$error":"#N/A"}},{"$f":"VLOOKUP(A29,počty!$J$6:$AP$163,18,0)","v":{"$error":"#N/A"}},{"$f":"VLOOKUP(A29,počty!$J$6:$AP$163,19,0)","v":{"$error":"#N/A"}},{"$f":"VLOOKUP(A29,počty!$J$6:$AP$163,20,0)","v":{"$error":"#N/A"}}]
[{"$f":"+A29-1","v":-18},24,{"$f":"VLOOKUP(A30,počty!$J$6:$AP$163,5,0)","v":{"$error":"#N/A"}},{"$f":"VLOOKUP(A30,počty!$J$6:$AP$163,6,0)","v":{"$error":"#N/A"}},{"$f":"VLOOKUP(A30,počty!$J$6:$AP$163,7,0)","v":{"$error":"#N/A"}},{"$f":"VLOOKUP(A30,počty!$J$6:$AP$163,8,0)","v":{"$error":"#N/A"}},{"$f":"VLOOKUP(A30,počty!$J$6:$AP$163,9,0)","v":{"$error":"#N/A"}},{"$f":"VLOOKUP(A30,počty!$J$6:$AP$163,11,0)","v":{"$error":"#N/A"}},{"$f":"VLOOKUP(A30,počty!$J$6:$AP$163,17,0)","v":{"$error":"#N/A"}},{"$f":"VLOOKUP(A30,počty!$J$6:$AP$163,18,0)","v":{"$error":"#N/A"}},{"$f":"VLOOKUP(A30,počty!$J$6:$AP$163,19,0)","v":{"$error":"#N/A"}},{"$f":"VLOOKUP(A30,počty!$J$6:$AP$163,20,0)","v":{"$error":"#N/A"}}]
[-19,25,{"$f":"VLOOKUP(A31,počty!$J$6:$AP$163,5,0)","v":{"$error":"#N/A"}},{"$f":"VLOOKUP(A31,počty!$J$6:$AP$163,6,0)","v":{"$error":"#N/A"}},{"$f":"VLOOKUP(A31,počty!$J$6:$AP$163,7,0)","v":{"$error":"#N/A"}},{"$f":"VLOOKUP(A31,počty!$J$6:$AP$163,8,0)","v":{"$error":"#N/A"}},{"$f":"VLOOKUP(A31,počty!$J$6:$AP$163,9,0)","v":{"$error":"#N/A"}},{"$f":"VLOOKUP(A31,počty!$J$6:$AP$163,11,0)","v":{"$error":"#N/A"}},{"$f":"VLOOKUP(A31,počty!$J$6:$AP$163,17,0)","v":{"$error":"#N/A"}},{"$f":"VLOOKUP(A31,počty!$J$6:$AP$163,18,0)","v":{"$error":"#N/A"}},{"$f":"VLOOKUP(A31,počty!$J$6:$AP$163,19,0)","v":{"$error":"#N/A"}},{"$f":"VLOOKUP(A31,počty!$J$6:$AP$163,20,0)","v":{"$error":"#N/A"}}]
[-20,26,{"$f":"VLOOKUP(A32,počty!$J$6:$AP$163,5,0)","v":{"$error":"#N/A"}},{"$f":"VLOOKUP(A32,počty!$J$6:$AP$163,6,0)","v":{"$error":"#N/A"}},{"$f":"VLOOKUP(A32,počty!$J$6:$AP$163,7,0)","v":{"$error":"#N/A"}},{"$f":"VLOOKUP(A32,počty!$J$6:$AP$163,8,0)","v":{"$error":"#N/A"}},{"$f":"VLOOKUP(A32,počty!$J$6:$AP$163,9,0)","v":{"$error":"#N/A"}},{"$f":"VLOOKUP(A32,počty!$J$6:$AP$163,11,0)","v":{"$error":"#N/A"}},{"$f":"VLOOKUP(A32,počty!$J$6:$AP$163,17,0)","v":{"$error":"#N/A"}},{"$f":"VLOOKUP(A32,počty!$J$6:$AP$163,18,0)","v":{"$error":"#N/A"}},{"$f":"VLOOKUP(A32,počty!$J$6:$AP$163,19,0)","v":{"$error":"#N/A"}},{"$f":"VLOOKUP(A32,počty!$J$6:$AP$163,20,0)","v":{"$error":"#N/A"}}]
[-21,27,{"$f":"VLOOKUP(A33,počty!$J$6:$AP$163,5,0)","v":{"$error":"#N/A"}},{"$f":"VLOOKUP(A33,počty!$J$6:$AP$163,6,0)","v":{"$error":"#N/A"}},{"$f":"VLOOKUP(A33,počty!$J$6:$AP$163,7,0)","v":{"$error":"#N/A"}},{"$f":"VLOOKUP(A33,počty!$J$6:$AP$163,8,0)","v":{"$error":"#N/A"}},{"$f":"VLOOKUP(A33,počty!$J$6:$AP$163,9,0)","v":{"$error":"#N/A"}},{"$f":"VLOOKUP(A33,počty!$J$6:$AP$163,11,0)","v":{"$error":"#N/A"}},{"$f":"VLOOKUP(A33,počty!$J$6:$AP$163,17,0)","v":{"$error":"#N/A"}},{"$f":"VLOOKUP(A33,počty!$J$6:$AP$163,18,0)","v":{"$error":"#N/A"}},{"$f":"VLOOKUP(A33,počty!$J$6:$AP$163,19,0)","v":{"$error":"#N/A"}},{"$f":"VLOOKUP(A33,počty!$J$6:$AP$163,20,0)","v":{"$error":"#N/A"}}]
[-22,28,{"$f":"VLOOKUP(A34,počty!$J$6:$AP$163,5,0)","v":{"$error":"#N/A"}},{"$f":"VLOOKUP(A34,počty!$J$6:$AP$163,6,0)","v":{"$error":"#N/A"}},{"$f":"VLOOKUP(A34,počty!$J$6:$AP$163,7,0)","v":{"$error":"#N/A"}},{"$f":"VLOOKUP(A34,počty!$J$6:$AP$163,8,0)","v":{"$error":"#N/A"}},{"$f":"VLOOKUP(A34,počty!$J$6:$AP$163,9,0)","v":{"$error":"#N/A"}},{"$f":"VLOOKUP(A34,počty!$J$6:$AP$163,11,0)","v":{"$error":"#N/A"}},{"$f":"VLOOKUP(A34,počty!$J$6:$AP$163,17,0)","v":{"$error":"#N/A"}},{"$f":"VLOOKUP(A34,počty!$J$6:$AP$163,18,0)","v":{"$error":"#N/A"}},{"$f":"VLOOKUP(A34,počty!$J$6:$AP$163,19,0)","v":{"$error":"#N/A"}},{"$f":"VLOOKUP(A34,počty!$J$6:$AP$163,20,0)","v":{"$error":"#N/A"}}]
[-23,29,{"$f":"VLOOKUP(A35,počty!$J$6:$AP$163,5,0)","v":{"$error":"#N/A"}},{"$f":"VLOOKUP(A35,počty!$J$6:$AP$163,6,0)","v":{"$error":"#N/A"}},{"$f":"VLOOKUP(A35,počty!$J$6:$AP$163,7,0)","v":{"$error":"#N/A"}},{"$f":"VLOOKUP(A35,počty!$J$6:$AP$163,8,0)","v":{"$error":"#N/A"}},{"$f":"VLOOKUP(A35,počty!$J$6:$AP$163,9,0)","v":{"$error":"#N/A"}},{"$f":"VLOOKUP(A35,počty!$J$6:$AP$163,11,0)","v":{"$error":"#N/A"}},{"$f":"VLOOKUP(A35,počty!$J$6:$AP$163,17,0)","v":{"$error":"#N/A"}},{"$f":"VLOOKUP(A35,počty!$J$6:$AP$163,18,0)","v":{"$error":"#N/A"}},{"$f":"VLOOKUP(A35,počty!$J$6:$AP$163,19,0)","v":{"$error":"#N/A"}},{"$f":"VLOOKUP(A35,počty!$J$6:$AP$163,20,0)","v":{"$error":"#N/A"}}]
[-24,30,{"$f":"VLOOKUP(A36,počty!$J$6:$AP$163,5,0)","v":{"$error":"#N/A"}},{"$f":"VLOOKUP(A36,počty!$J$6:$AP$163,6,0)","v":{"$error":"#N/A"}},{"$f":"VLOOKUP(A36,počty!$J$6:$AP$163,7,0)","v":{"$error":"#N/A"}},{"$f":"VLOOKUP(A36,počty!$J$6:$AP$163,8,0)","v":{"$error":"#N/A"}},{"$f":"VLOOKUP(A36,počty!$J$6:$AP$163,9,0)","v":{"$error":"#N/A"}},{"$f":"VLOOKUP(A36,počty!$J$6:$AP$163,11,0)","v":{"$error":"#N/A"}},{"$f":"VLOOKUP(A36,počty!$J$6:$AP$163,17,0)","v":{"$error":"#N/A"}},{"$f":"VLOOKUP(A36,počty!$J$6:$AP$163,18,0)","v":{"$error":"#N/A"}},{"$f":"VLOOKUP(A36,počty!$J$6:$AP$163,19,0)","v":{"$error":"#N/A"}},{"$f":"VLOOKUP(A36,počty!$J$6:$AP$163,20,0)","v":{"$error":"#N/A"}}]
[-25,31,{"$f":"VLOOKUP(A37,počty!$J$6:$AP$163,5,0)","v":{"$error":"#N/A"}},{"$f":"VLOOKUP(A37,počty!$J$6:$AP$163,6,0)","v":{"$error":"#N/A"}},{"$f":"VLOOKUP(A37,počty!$J$6:$AP$163,7,0)","v":{"$error":"#N/A"}},{"$f":"VLOOKUP(A37,počty!$J$6:$AP$163,8,0)","v":{"$error":"#N/A"}},{"$f":"VLOOKUP(A37,počty!$J$6:$AP$163,9,0)","v":{"$error":"#N/A"}},{"$f":"VLOOKUP(A37,počty!$J$6:$AP$163,11,0)","v":{"$error":"#N/A"}},{"$f":"VLOOKUP(A37,počty!$J$6:$AP$163,17,0)","v":{"$error":"#N/A"}},{"$f":"VLOOKUP(A37,počty!$J$6:$AP$163,18,0)","v":{"$error":"#N/A"}},{"$f":"VLOOKUP(A37,počty!$J$6:$AP$163,19,0)","v":{"$error":"#N/A"}},{"$f":"VLOOKUP(A37,počty!$J$6:$AP$163,20,0)","v":{"$error":"#N/A"}}]
[-26,32,{"$f":"VLOOKUP(A38,počty!$J$6:$AP$163,5,0)","v":{"$error":"#N/A"}},{"$f":"VLOOKUP(A38,počty!$J$6:$AP$163,6,0)","v":{"$error":"#N/A"}},{"$f":"VLOOKUP(A38,počty!$J$6:$AP$163,7,0)","v":{"$error":"#N/A"}},{"$f":"VLOOKUP(A38,počty!$J$6:$AP$163,8,0)","v":{"$error":"#N/A"}},{"$f":"VLOOKUP(A38,počty!$J$6:$AP$163,9,0)","v":{"$error":"#N/A"}},{"$f":"VLOOKUP(A38,počty!$J$6:$AP$163,11,0)","v":{"$error":"#N/A"}},{"$f":"VLOOKUP(A38,počty!$J$6:$AP$163,17,0)","v":{"$error":"#N/A"}},{"$f":"VLOOKUP(A38,počty!$J$6:$AP$163,18,0)","v":{"$error":"#N/A"}},{"$f":"VLOOKUP(A38,počty!$J$6:$AP$163,19,0)","v":{"$error":"#N/A"}},{"$f":"VLOOKUP(A38,počty!$J$6:$AP$163,20,0)","v":{"$error":"#N/A"}}]
[-27,33,{"$f":"VLOOKUP(A39,počty!$J$6:$AP$163,5,0)","v":{"$error":"#N/A"}},{"$f":"VLOOKUP(A39,počty!$J$6:$AP$163,6,0)","v":{"$error":"#N/A"}},{"$f":"VLOOKUP(A39,počty!$J$6:$AP$163,7,0)","v":{"$error":"#N/A"}},{"$f":"VLOOKUP(A39,počty!$J$6:$AP$163,8,0)","v":{"$error":"#N/A"}},{"$f":"VLOOKUP(A39,počty!$J$6:$AP$163,9,0)","v":{"$error":"#N/A"}},{"$f":"VLOOKUP(A39,počty!$J$6:$AP$163,11,0)","v":{"$error":"#N/A"}},{"$f":"VLOOKUP(A39,počty!$J$6:$AP$163,17,0)","v":{"$error":"#N/A"}},{"$f":"VLOOKUP(A39,počty!$J$6:$AP$163,18,0)","v":{"$error":"#N/A"}},{"$f":"VLOOKUP(A39,počty!$J$6:$AP$163,19,0)","v":{"$error":"#N/A"}},{"$f":"VLOOKUP(A39,počty!$J$6:$AP$163,20,0)","v":{"$error":"#N/A"}}]
[-28,34,{"$f":"VLOOKUP(A40,počty!$J$6:$AP$163,5,0)","v":{"$error":"#N/A"}},{"$f":"VLOOKUP(A40,počty!$J$6:$AP$163,6,0)","v":{"$error":"#N/A"}},{"$f":"VLOOKUP(A40,počty!$J$6:$AP$163,7,0)","v":{"$error":"#N/A"}},{"$f":"VLOOKUP(A40,počty!$J$6:$AP$163,8,0)","v":{"$error":"#N/A"}},{"$f":"VLOOKUP(A40,počty!$J$6:$AP$163,9,0)","v":{"$error":"#N/A"}},{"$f":"VLOOKUP(A40,počty!$J$6:$AP$163,11,0)","v":{"$error":"#N/A"}},{"$f":"VLOOKUP(A40,počty!$J$6:$AP$163,17,0)","v":{"$error":"#N/A"}},{"$f":"VLOOKUP(A40,počty!$J$6:$AP$163,18,0)","v":{"$error":"#N/A"}},{"$f":"VLOOKUP(A40,počty!$J$6:$AP$163,19,0)","v":{"$error":"#N/A"}},{"$f":"VLOOKUP(A40,počty!$J$6:$AP$163,20,0)","v":{"$error":"#N/A"}}]
[-29,35,{"$f":"VLOOKUP(A41,počty!$J$6:$AP$163,5,0)","v":{"$error":"#N/A"}},{"$f":"VLOOKUP(A41,počty!$J$6:$AP$163,6,0)","v":{"$error":"#N/A"}},{"$f":"VLOOKUP(A41,počty!$J$6:$AP$163,7,0)","v":{"$error":"#N/A"}},{"$f":"VLOOKUP(A41,počty!$J$6:$AP$163,8,0)","v":{"$error":"#N/A"}},{"$f":"VLOOKUP(A41,počty!$J$6:$AP$163,9,0)","v":{"$error":"#N/A"}},{"$f":"VLOOKUP(A41,počty!$J$6:$AP$163,11,0)","v":{"$error":"#N/A"}},{"$f":"VLOOKUP(A41,počty!$J$6:$AP$163,17,0)","v":{"$error":"#N/A"}},{"$f":"VLOOKUP(A41,počty!$J$6:$AP$163,18,0)","v":{"$error":"#N/A"}},{"$f":"VLOOKUP(A41,počty!$J$6:$AP$163,19,0)","v":{"$error":"#N/A"}},{"$f":"VLOOKUP(A41,počty!$J$6:$AP$163,20,0)","v":{"$error":"#N/A"}}]
[-30,36,{"$f":"VLOOKUP(A42,počty!$J$6:$AP$163,5,0)","v":{"$error":"#N/A"}},{"$f":"VLOOKUP(A42,počty!$J$6:$AP$163,6,0)","v":{"$error":"#N/A"}},{"$f":"VLOOKUP(A42,počty!$J$6:$AP$163,7,0)","v":{"$error":"#N/A"}},{"$f":"VLOOKUP(A42,počty!$J$6:$AP$163,8,0)","v":{"$error":"#N/A"}},{"$f":"VLOOKUP(A42,počty!$J$6:$AP$163,9,0)","v":{"$error":"#N/A"}},{"$f":"VLOOKUP(A42,počty!$J$6:$AP$163,11,0)","v":{"$error":"#N/A"}},{"$f":"VLOOKUP(A42,počty!$J$6:$AP$163,17,0)","v":{"$error":"#N/A"}},{"$f":"VLOOKUP(A42,počty!$J$6:$AP$163,18,0)","v":{"$error":"#N/A"}},{"$f":"VLOOKUP(A42,počty!$J$6:$AP$163,19,0)","v":{"$error":"#N/A"}},{"$f":"VLOOKUP(A42,počty!$J$6:$AP$163,20,0)","v":{"$error":"#N/A"}}]
[-31,37,{"$f":"VLOOKUP(A43,počty!$J$6:$AP$163,5,0)","v":{"$error":"#N/A"}},{"$f":"VLOOKUP(A43,počty!$J$6:$AP$163,6,0)","v":{"$error":"#N/A"}},{"$f":"VLOOKUP(A43,počty!$J$6:$AP$163,7,0)","v":{"$error":"#N/A"}},{"$f":"VLOOKUP(A43,počty!$J$6:$AP$163,8,0)","v":{"$error":"#N/A"}},{"$f":"VLOOKUP(A43,počty!$J$6:$AP$163,9,0)","v":{"$error":"#N/A"}},{"$f":"VLOOKUP(A43,počty!$J$6:$AP$163,11,0)","v":{"$error":"#N/A"}},{"$f":"VLOOKUP(A43,počty!$J$6:$AP$163,17,0)","v":{"$error":"#N/A"}},{"$f":"VLOOKUP(A43,počty!$J$6:$AP$163,18,0)","v":{"$error":"#N/A"}},{"$f":"VLOOKUP(A43,počty!$J$6:$AP$163,19,0)","v":{"$error":"#N/A"}},{"$f":"VLOOKUP(A43,počty!$J$6:$AP$163,20,0)","v":{"$error":"#N/A"}}]
[-32,38,{"$f":"VLOOKUP(A44,počty!$J$6:$AP$163,5,0)","v":{"$error":"#N/A"}},{"$f":"VLOOKUP(A44,počty!$J$6:$AP$163,6,0)","v":{"$error":"#N/A"}},{"$f":"VLOOKUP(A44,počty!$J$6:$AP$163,7,0)","v":{"$error":"#N/A"}},{"$f":"VLOOKUP(A44,počty!$J$6:$AP$163,8,0)","v":{"$error":"#N/A"}},{"$f":"VLOOKUP(A44,počty!$J$6:$AP$163,9,0)","v":{"$error":"#N/A"}},{"$f":"VLOOKUP(A44,počty!$J$6:$AP$163,11,0)","v":{"$error":"#N/A"}},{"$f":"VLOOKUP(A44,počty!$J$6:$AP$163,17,0)","v":{"$error":"#N/A"}},{"$f":"VLOOKUP(A44,počty!$J$6:$AP$163,18,0)","v":{"$error":"#N/A"}},{"$f":"VLOOKUP(A44,počty!$J$6:$AP$163,19,0)","v":{"$error":"#N/A"}},{"$f":"VLOOKUP(A44,počty!$J$6:$AP$163,20,0)","v":{"$error":"#N/A"}}]
[-33,39,{"$f":"VLOOKUP(A45,počty!$J$6:$AP$163,5,0)","v":{"$error":"#N/A"}},{"$f":"VLOOKUP(A45,počty!$J$6:$AP$163,6,0)","v":{"$error":"#N/A"}},{"$f":"VLOOKUP(A45,počty!$J$6:$AP$163,7,0)","v":{"$error":"#N/A"}},{"$f":"VLOOKUP(A45,počty!$J$6:$AP$163,8,0)","v":{"$error":"#N/A"}},{"$f":"VLOOKUP(A45,počty!$J$6:$AP$163,9,0)","v":{"$error":"#N/A"}},{"$f":"VLOOKUP(A45,počty!$J$6:$AP$163,11,0)","v":{"$error":"#N/A"}},{"$f":"VLOOKUP(A45,počty!$J$6:$AP$163,17,0)","v":{"$error":"#N/A"}},{"$f":"VLOOKUP(A45,počty!$J$6:$AP$163,18,0)","v":{"$error":"#N/A"}},{"$f":"VLOOKUP(A45,počty!$J$6:$AP$163,19,0)","v":{"$error":"#N/A"}},{"$f":"VLOOKUP(A45,počty!$J$6:$AP$163,20,0)","v":{"$error":"#N/A"}}]
[-34,40,{"$f":"VLOOKUP(A46,počty!$J$6:$AP$163,5,0)","v":{"$error":"#N/A"}},{"$f":"VLOOKUP(A46,počty!$J$6:$AP$163,6,0)","v":{"$error":"#N/A"}},{"$f":"VLOOKUP(A46,počty!$J$6:$AP$163,7,0)","v":{"$error":"#N/A"}},{"$f":"VLOOKUP(A46,počty!$J$6:$AP$163,8,0)","v":{"$error":"#N/A"}},{"$f":"VLOOKUP(A46,počty!$J$6:$AP$163,9,0)","v":{"$error":"#N/A"}},{"$f":"VLOOKUP(A46,počty!$J$6:$AP$163,11,0)","v":{"$error":"#N/A"}},{"$f":"VLOOKUP(A46,počty!$J$6:$AP$163,17,0)","v":{"$error":"#N/A"}},{"$f":"VLOOKUP(A46,počty!$J$6:$AP$163,18,0)","v":{"$error":"#N/A"}},{"$f":"VLOOKUP(A46,počty!$J$6:$AP$163,19,0)","v":{"$error":"#N/A"}},{"$f":"VLOOKUP(A46,počty!$J$6:$AP$163,20,0)","v":{"$error":"#N/A"}}]
[{"$f":"+A46-1","v":-35},41,{"$f":"VLOOKUP(A47,počty!$J$6:$AP$163,5,0)","v":{"$error":"#N/A"}},{"$f":"VLOOKUP(A47,počty!$J$6:$AP$163,6,0)","v":{"$error":"#N/A"}},{"$f":"VLOOKUP(A47,počty!$J$6:$AP$163,7,0)","v":{"$error":"#N/A"}},{"$f":"VLOOKUP(A47,počty!$J$6:$AP$163,8,0)","v":{"$error":"#N/A"}},{"$f":"VLOOKUP(A47,počty!$J$6:$AP$163,9,0)","v":{"$error":"#N/A"}},{"$f":"VLOOKUP(A47,počty!$J$6:$AP$163,11,0)","v":{"$error":"#N/A"}},{"$f":"VLOOKUP(A47,počty!$J$6:$AP$163,17,0)","v":{"$error":"#N/A"}},{"$f":"VLOOKUP(A47,počty!$J$6:$AP$163,18,0)","v":{"$error":"#N/A"}},{"$f":"VLOOKUP(A47,počty!$J$6:$AP$163,19,0)","v":{"$error":"#N/A"}},{"$f":"VLOOKUP(A47,počty!$J$6:$AP$163,20,0)","v":{"$error":"#N/A"}}]
[-36,42,{"$f":"VLOOKUP(A48,počty!$J$6:$AP$163,5,0)","v":{"$error":"#N/A"}},{"$f":"VLOOKUP(A48,počty!$J$6:$AP$163,6,0)","v":{"$error":"#N/A"}},{"$f":"VLOOKUP(A48,počty!$J$6:$AP$163,7,0)","v":{"$error":"#N/A"}},{"$f":"VLOOKUP(A48,počty!$J$6:$AP$163,8,0)","v":{"$error":"#N/A"}},{"$f":"VLOOKUP(A48,počty!$J$6:$AP$163,9,0)","v":{"$error":"#N/A"}},{"$f":"VLOOKUP(A48,počty!$J$6:$AP$163,11,0)","v":{"$error":"#N/A"}},{"$f":"VLOOKUP(A48,počty!$J$6:$AP$163,17,0)","v":{"$error":"#N/A"}},{"$f":"VLOOKUP(A48,počty!$J$6:$AP$163,18,0)","v":{"$error":"#N/A"}},{"$f":"VLOOKUP(A48,počty!$J$6:$AP$163,19,0)","v":{"$error":"#N/A"}},{"$f":"VLOOKUP(A48,počty!$J$6:$AP$163,20,0)","v":{"$error":"#N/A"}}]
[-37,43,{"$f":"VLOOKUP(A49,počty!$J$6:$AP$163,5,0)","v":{"$error":"#N/A"}},{"$f":"VLOOKUP(A49,počty!$J$6:$AP$163,6,0)","v":{"$error":"#N/A"}},{"$f":"VLOOKUP(A49,počty!$J$6:$AP$163,7,0)","v":{"$error":"#N/A"}},{"$f":"VLOOKUP(A49,počty!$J$6:$AP$163,8,0)","v":{"$error":"#N/A"}},{"$f":"VLOOKUP(A49,počty!$J$6:$AP$163,9,0)","v":{"$error":"#N/A"}},{"$f":"VLOOKUP(A49,počty!$J$6:$AP$163,11,0)","v":{"$error":"#N/A"}},{"$f":"VLOOKUP(A49,počty!$J$6:$AP$163,17,0)","v":{"$error":"#N/A"}},{"$f":"VLOOKUP(A49,počty!$J$6:$AP$163,18,0)","v":{"$error":"#N/A"}},{"$f":"VLOOKUP(A49,počty!$J$6:$AP$163,19,0)","v":{"$error":"#N/A"}},{"$f":"VLOOKUP(A49,počty!$J$6:$AP$163,20,0)","v":{"$error":"#N/A"}}]
[-38,44,{"$f":"VLOOKUP(A50,počty!$J$6:$AP$163,5,0)","v":{"$error":"#N/A"}},{"$f":"VLOOKUP(A50,počty!$J$6:$AP$163,6,0)","v":{"$error":"#N/A"}},{"$f":"VLOOKUP(A50,počty!$J$6:$AP$163,7,0)","v":{"$error":"#N/A"}},{"$f":"VLOOKUP(A50,počty!$J$6:$AP$163,8,0)","v":{"$error":"#N/A"}},{"$f":"VLOOKUP(A50,počty!$J$6:$AP$163,9,0)","v":{"$error":"#N/A"}},{"$f":"VLOOKUP(A50,počty!$J$6:$AP$163,11,0)","v":{"$error":"#N/A"}},{"$f":"VLOOKUP(A50,počty!$J$6:$AP$163,17,0)","v":{"$error":"#N/A"}},{"$f":"VLOOKUP(A50,počty!$J$6:$AP$163,18,0)","v":{"$error":"#N/A"}},{"$f":"VLOOKUP(A50,počty!$J$6:$AP$163,19,0)","v":{"$error":"#N/A"}},{"$f":"VLOOKUP(A50,počty!$J$6:$AP$163,20,0)","v":{"$error":"#N/A"}}]
[-39,45,{"$f":"VLOOKUP(A51,počty!$J$6:$AP$163,5,0)","v":{"$error":"#N/A"}},{"$f":"VLOOKUP(A51,počty!$J$6:$AP$163,6,0)","v":{"$error":"#N/A"}},{"$f":"VLOOKUP(A51,počty!$J$6:$AP$163,7,0)","v":{"$error":"#N/A"}},{"$f":"VLOOKUP(A51,počty!$J$6:$AP$163,8,0)","v":{"$error":"#N/A"}},{"$f":"VLOOKUP(A51,počty!$J$6:$AP$163,9,0)","v":{"$error":"#N/A"}},{"$f":"VLOOKUP(A51,počty!$J$6:$AP$163,11,0)","v":{"$error":"#N/A"}},{"$f":"VLOOKUP(A51,počty!$J$6:$AP$163,17,0)","v":{"$error":"#N/A"}},{"$f":"VLOOKUP(A51,počty!$J$6:$AP$163,18,0)","v":{"$error":"#N/A"}},{"$f":"VLOOKUP(A51,počty!$J$6:$AP$163,19,0)","v":{"$error":"#N/A"}},{"$f":"VLOOKUP(A51,počty!$J$6:$AP$163,20,0)","v":{"$error":"#N/A"}}]
[-40,46,{"$f":"VLOOKUP(A52,počty!$J$6:$AP$163,5,0)","v":{"$error":"#N/A"}},{"$f":"VLOOKUP(A52,počty!$J$6:$AP$163,6,0)","v":{"$error":"#N/A"}},{"$f":"VLOOKUP(A52,počty!$J$6:$AP$163,7,0)","v":{"$error":"#N/A"}},{"$f":"VLOOKUP(A52,počty!$J$6:$AP$163,8,0)","v":{"$error":"#N/A"}},{"$f":"VLOOKUP(A52,počty!$J$6:$AP$163,9,0)","v":{"$error":"#N/A"}},{"$f":"VLOOKUP(A52,počty!$J$6:$AP$163,11,0)","v":{"$error":"#N/A"}},{"$f":"VLOOKUP(A52,počty!$J$6:$AP$163,17,0)","v":{"$error":"#N/A"}},{"$f":"VLOOKUP(A52,počty!$J$6:$AP$163,18,0)","v":{"$error":"#N/A"}},{"$f":"VLOOKUP(A52,počty!$J$6:$AP$163,19,0)","v":{"$error":"#N/A"}},{"$f":"VLOOKUP(A52,počty!$J$6:$AP$163,20,0)","v":{"$error":"#N/A"}}]
[-41,47,{"$f":"VLOOKUP(A53,počty!$J$6:$AP$163,5,0)","v":{"$error":"#N/A"}},{"$f":"VLOOKUP(A53,počty!$J$6:$AP$163,6,0)","v":{"$error":"#N/A"}},{"$f":"VLOOKUP(A53,počty!$J$6:$AP$163,7,0)","v":{"$error":"#N/A"}},{"$f":"VLOOKUP(A53,počty!$J$6:$AP$163,8,0)","v":{"$error":"#N/A"}},{"$f":"VLOOKUP(A53,počty!$J$6:$AP$163,9,0)","v":{"$error":"#N/A"}},{"$f":"VLOOKUP(A53,počty!$J$6:$AP$163,11,0)","v":{"$error":"#N/A"}},{"$f":"VLOOKUP(A53,počty!$J$6:$AP$163,17,0)","v":{"$error":"#N/A"}},{"$f":"VLOOKUP(A53,počty!$J$6:$AP$163,18,0)","v":{"$error":"#N/A"}},{"$f":"VLOOKUP(A53,počty!$J$6:$AP$163,19,0)","v":{"$error":"#N/A"}},{"$f":"VLOOKUP(A53,počty!$J$6:$AP$163,20,0)","v":{"$error":"#N/A"}}]
[-42,48,{"$f":"VLOOKUP(A54,počty!$J$6:$AP$163,5,0)","v":{"$error":"#N/A"}},{"$f":"VLOOKUP(A54,počty!$J$6:$AP$163,6,0)","v":{"$error":"#N/A"}},{"$f":"VLOOKUP(A54,počty!$J$6:$AP$163,7,0)","v":{"$error":"#N/A"}},{"$f":"VLOOKUP(A54,počty!$J$6:$AP$163,8,0)","v":{"$error":"#N/A"}},{"$f":"VLOOKUP(A54,počty!$J$6:$AP$163,9,0)","v":{"$error":"#N/A"}},{"$f":"VLOOKUP(A54,počty!$J$6:$AP$163,11,0)","v":{"$error":"#N/A"}},{"$f":"VLOOKUP(A54,počty!$J$6:$AP$163,17,0)","v":{"$error":"#N/A"}},{"$f":"VLOOKUP(A54,počty!$J$6:$AP$163,18,0)","v":{"$error":"#N/A"}},{"$f":"VLOOKUP(A54,počty!$J$6:$AP$163,19,0)","v":{"$error":"#N/A"}},{"$f":"VLOOKUP(A54,počty!$J$6:$AP$163,20,0)","v":{"$error":"#N/A"}}]
[-43,49,{"$f":"VLOOKUP(A55,počty!$J$6:$AP$163,5,0)","v":{"$error":"#N/A"}},{"$f":"VLOOKUP(A55,počty!$J$6:$AP$163,6,0)","v":{"$error":"#N/A"}},{"$f":"VLOOKUP(A55,počty!$J$6:$AP$163,7,0)","v":{"$error":"#N/A"}},{"$f":"VLOOKUP(A55,počty!$J$6:$AP$163,8,0)","v":{"$error":"#N/A"}},{"$f":"VLOOKUP(A55,počty!$J$6:$AP$163,9,0)","v":{"$error":"#N/A"}},{"$f":"VLOOKUP(A55,počty!$J$6:$AP$163,11,0)","v":{"$error":"#N/A"}},{"$f":"VLOOKUP(A55,počty!$J$6:$AP$163,17,0)","v":{"$error":"#N/A"}},{"$f":"VLOOKUP(A55,počty!$J$6:$AP$163,18,0)","v":{"$error":"#N/A"}},{"$f":"VLOOKUP(A55,počty!$J$6:$AP$163,19,0)","v":{"$error":"#N/A"}},{"$f":"VLOOKUP(A55,počty!$J$6:$AP$163,20,0)","v":{"$error":"#N/A"}}]
[-44,50,{"$f":"VLOOKUP(A56,počty!$J$6:$AP$163,5,0)","v":{"$error":"#N/A"}},{"$f":"VLOOKUP(A56,počty!$J$6:$AP$163,6,0)","v":{"$error":"#N/A"}},{"$f":"VLOOKUP(A56,počty!$J$6:$AP$163,7,0)","v":{"$error":"#N/A"}},{"$f":"VLOOKUP(A56,počty!$J$6:$AP$163,8,0)","v":{"$error":"#N/A"}},{"$f":"VLOOKUP(A56,počty!$J$6:$AP$163,9,0)","v":{"$error":"#N/A"}},{"$f":"VLOOKUP(A56,počty!$J$6:$AP$163,11,0)","v":{"$error":"#N/A"}},{"$f":"VLOOKUP(A56,počty!$J$6:$AP$163,17,0)","v":{"$error":"#N/A"}},{"$f":"VLOOKUP(A56,počty!$J$6:$AP$163,18,0)","v":{"$error":"#N/A"}},{"$f":"VLOOKUP(A56,počty!$J$6:$AP$163,19,0)","v":{"$error":"#N/A"}},{"$f":"VLOOKUP(A56,počty!$J$6:$AP$163,20,0)","v":{"$error":"#N/A"}}]
[-45,51,{"$f":"VLOOKUP(A57,počty!$J$6:$AP$163,5,0)","v":{"$error":"#N/A"}},{"$f":"VLOOKUP(A57,počty!$J$6:$AP$163,6,0)","v":{"$error":"#N/A"}},{"$f":"VLOOKUP(A57,počty!$J$6:$AP$163,7,0)","v":{"$error":"#N/A"}},{"$f":"VLOOKUP(A57,počty!$J$6:$AP$163,8,0)","v":{"$error":"#N/A"}},{"$f":"VLOOKUP(A57,počty!$J$6:$AP$163,9,0)","v":{"$error":"#N/A"}},{"$f":"VLOOKUP(A57,počty!$J$6:$AP$163,11,0)","v":{"$error":"#N/A"}},{"$f":"VLOOKUP(A57,počty!$J$6:$AP$163,17,0)","v":{"$error":"#N/A"}},{"$f":"VLOOKUP(A57,počty!$J$6:$AP$163,18,0)","v":{"$error":"#N/A"}},{"$f":"VLOOKUP(A57,počty!$J$6:$AP$163,19,0)","v":{"$error":"#N/A"}},{"$f":"VLOOKUP(A57,počty!$J$6:$AP$163,20,0)","v":{"$error":"#N/A"}}]
[-46,52,{"$f":"VLOOKUP(A58,počty!$J$6:$AP$163,5,0)","v":{"$error":"#N/A"}},{"$f":"VLOOKUP(A58,počty!$J$6:$AP$163,6,0)","v":{"$error":"#N/A"}},{"$f":"VLOOKUP(A58,počty!$J$6:$AP$163,7,0)","v":{"$error":"#N/A"}},{"$f":"VLOOKUP(A58,počty!$J$6:$AP$163,8,0)","v":{"$error":"#N/A"}},{"$f":"VLOOKUP(A58,počty!$J$6:$AP$163,9,0)","v":{"$error":"#N/A"}},{"$f":"VLOOKUP(A58,počty!$J$6:$AP$163,11,0)","v":{"$error":"#N/A"}},{"$f":"VLOOKUP(A58,počty!$J$6:$AP$163,17,0)","v":{"$error":"#N/A"}},{"$f":"VLOOKUP(A58,počty!$J$6:$AP$163,18,0)","v":{"$error":"#N/A"}},{"$f":"VLOOKUP(A58,počty!$J$6:$AP$163,19,0)","v":{"$error":"#N/A"}},{"$f":"VLOOKUP(A58,počty!$J$6:$AP$163,20,0)","v":{"$error":"#N/A"}}]
[-47,53,{"$f":"VLOOKUP(A59,počty!$J$6:$AP$163,5,0)","v":{"$error":"#N/A"}},{"$f":"VLOOKUP(A59,počty!$J$6:$AP$163,6,0)","v":{"$error":"#N/A"}},{"$f":"VLOOKUP(A59,počty!$J$6:$AP$163,7,0)","v":{"$error":"#N/A"}},{"$f":"VLOOKUP(A59,počty!$J$6:$AP$163,8,0)","v":{"$error":"#N/A"}},{"$f":"VLOOKUP(A59,počty!$J$6:$AP$163,9,0)","v":{"$error":"#N/A"}},{"$f":"VLOOKUP(A59,počty!$J$6:$AP$163,11,0)","v":{"$error":"#N/A"}},{"$f":"VLOOKUP(A59,počty!$J$6:$AP$163,17,0)","v":{"$error":"#N/A"}},{"$f":"VLOOKUP(A59,počty!$J$6:$AP$163,18,0)","v":{"$error":"#N/A"}},{"$f":"VLOOKUP(A59,počty!$J$6:$AP$163,19,0)","v":{"$error":"#N/A"}},{"$f":"VLOOKUP(A59,počty!$J$6:$AP$163,20,0)","v":{"$error":"#N/A"}}]
[{"$f":"+A59-1","v":-48},54,{"$f":"VLOOKUP(A60,počty!$J$6:$AP$163,5,0)","v":{"$error":"#N/A"}},{"$f":"VLOOKUP(A60,počty!$J$6:$AP$163,6,0)","v":{"$error":"#N/A"}},{"$f":"VLOOKUP(A60,počty!$J$6:$AP$163,7,0)","v":{"$error":"#N/A"}},{"$f":"VLOOKUP(A60,počty!$J$6:$AP$163,8,0)","v":{"$error":"#N/A"}},{"$f":"VLOOKUP(A60,počty!$J$6:$AP$163,9,0)","v":{"$error":"#N/A"}},{"$f":"VLOOKUP(A60,počty!$J$6:$AP$163,11,0)","v":{"$error":"#N/A"}},{"$f":"VLOOKUP(A60,počty!$J$6:$AP$163,17,0)","v":{"$error":"#N/A"}},{"$f":"VLOOKUP(A60,počty!$J$6:$AP$163,18,0)","v":{"$error":"#N/A"}},{"$f":"VLOOKUP(A60,počty!$J$6:$AP$163,19,0)","v":{"$error":"#N/A"}},{"$f":"VLOOKUP(A60,počty!$J$6:$AP$163,20,0)","v":{"$error":"#N/A"}}]
[-49,55,{"$f":"VLOOKUP(A61,počty!$J$6:$AP$163,5,0)","v":{"$error":"#N/A"}},{"$f":"VLOOKUP(A61,počty!$J$6:$AP$163,6,0)","v":{"$error":"#N/A"}},{"$f":"VLOOKUP(A61,počty!$J$6:$AP$163,7,0)","v":{"$error":"#N/A"}},{"$f":"VLOOKUP(A61,počty!$J$6:$AP$163,8,0)","v":{"$error":"#N/A"}},{"$f":"VLOOKUP(A61,počty!$J$6:$AP$163,9,0)","v":{"$error":"#N/A"}},{"$f":"VLOOKUP(A61,počty!$J$6:$AP$163,11,0)","v":{"$error":"#N/A"}},{"$f":"VLOOKUP(A61,počty!$J$6:$AP$163,17,0)","v":{"$error":"#N/A"}},{"$f":"VLOOKUP(A61,počty!$J$6:$AP$163,18,0)","v":{"$error":"#N/A"}},{"$f":"VLOOKUP(A61,počty!$J$6:$AP$163,19,0)","v":{"$error":"#N/A"}},{"$f":"VLOOKUP(A61,počty!$J$6:$AP$163,20,0)","v":{"$error":"#N/A"}}]
[-50,56,{"$f":"VLOOKUP(A62,počty!$J$6:$AP$163,5,0)","v":{"$error":"#N/A"}},{"$f":"VLOOKUP(A62,počty!$J$6:$AP$163,6,0)","v":{"$error":"#N/A"}},{"$f":"VLOOKUP(A62,počty!$J$6:$AP$163,7,0)","v":{"$error":"#N/A"}},{"$f":"VLOOKUP(A62,počty!$J$6:$AP$163,8,0)","v":{"$error":"#N/A"}},{"$f":"VLOOKUP(A62,počty!$J$6:$AP$163,9,0)","v":{"$error":"#N/A"}},{"$f":"VLOOKUP(A62,počty!$J$6:$AP$163,11,0)","v":{"$error":"#N/A"}},{"$f":"VLOOKUP(A62,počty!$J$6:$AP$163,17,0)","v":{"$error":"#N/A"}},{"$f":"VLOOKUP(A62,počty!$J$6:$AP$163,18,0)","v":{"$error":"#N/A"}},{"$f":"VLOOKUP(A62,počty!$J$6:$AP$163,19,0)","v":{"$error":"#N/A"}},{"$f":"VLOOKUP(A62,počty!$J$6:$AP$163,20,0)","v":{"$error":"#N/A"}}]
[-51,57,{"$f":"VLOOKUP(A63,počty!$J$6:$AP$163,5,0)","v":{"$error":"#N/A"}},{"$f":"VLOOKUP(A63,počty!$J$6:$AP$163,6,0)","v":{"$error":"#N/A"}},{"$f":"VLOOKUP(A63,počty!$J$6:$AP$163,7,0)","v":{"$error":"#N/A"}},{"$f":"VLOOKUP(A63,počty!$J$6:$AP$163,8,0)","v":{"$error":"#N/A"}},{"$f":"VLOOKUP(A63,počty!$J$6:$AP$163,9,0)","v":{"$error":"#N/A"}},{"$f":"VLOOKUP(A63,počty!$J$6:$AP$163,11,0)","v":{"$error":"#N/A"}},{"$f":"VLOOKUP(A63,počty!$J$6:$AP$163,17,0)","v":{"$error":"#N/A"}},{"$f":"VLOOKUP(A63,počty!$J$6:$AP$163,18,0)","v":{"$error":"#N/A"}},{"$f":"VLOOKUP(A63,počty!$J$6:$AP$163,19,0)","v":{"$error":"#N/A"}},{"$f":"VLOOKUP(A63,počty!$J$6:$AP$163,20,0)","v":{"$error":"#N/A"}}]
[-52,58,{"$f":"VLOOKUP(A64,počty!$J$6:$AP$163,5,0)","v":{"$error":"#N/A"}},{"$f":"VLOOKUP(A64,počty!$J$6:$AP$163,6,0)","v":{"$error":"#N/A"}},{"$f":"VLOOKUP(A64,počty!$J$6:$AP$163,7,0)","v":{"$error":"#N/A"}},{"$f":"VLOOKUP(A64,počty!$J$6:$AP$163,8,0)","v":{"$error":"#N/A"}},{"$f":"VLOOKUP(A64,počty!$J$6:$AP$163,9,0)","v":{"$error":"#N/A"}},{"$f":"VLOOKUP(A64,počty!$J$6:$AP$163,11,0)","v":{"$error":"#N/A"}},{"$f":"VLOOKUP(A64,počty!$J$6:$AP$163,17,0)","v":{"$error":"#N/A"}},{"$f":"VLOOKUP(A64,počty!$J$6:$AP$163,18,0)","v":{"$error":"#N/A"}},{"$f":"VLOOKUP(A64,počty!$J$6:$AP$163,19,0)","v":{"$error":"#N/A"}},{"$f":"VLOOKUP(A64,počty!$J$6:$AP$163,20,0)","v":{"$error":"#N/A"}}]
[-53,59,{"$f":"VLOOKUP(A65,počty!$J$6:$AP$163,5,0)","v":{"$error":"#N/A"}},{"$f":"VLOOKUP(A65,počty!$J$6:$AP$163,6,0)","v":{"$error":"#N/A"}},{"$f":"VLOOKUP(A65,počty!$J$6:$AP$163,7,0)","v":{"$error":"#N/A"}},{"$f":"VLOOKUP(A65,počty!$J$6:$AP$163,8,0)","v":{"$error":"#N/A"}},{"$f":"VLOOKUP(A65,počty!$J$6:$AP$163,9,0)","v":{"$error":"#N/A"}},{"$f":"VLOOKUP(A65,počty!$J$6:$AP$163,11,0)","v":{"$error":"#N/A"}},{"$f":"VLOOKUP(A65,počty!$J$6:$AP$163,17,0)","v":{"$error":"#N/A"}},{"$f":"VLOOKUP(A65,počty!$J$6:$AP$163,18,0)","v":{"$error":"#N/A"}},{"$f":"VLOOKUP(A65,počty!$J$6:$AP$163,19,0)","v":{"$error":"#N/A"}},{"$f":"VLOOKUP(A65,počty!$J$6:$AP$163,20,0)","v":{"$error":"#N/A"}}]
[-54,60,{"$f":"VLOOKUP(A66,počty!$J$6:$AP$163,5,0)","v":{"$error":"#N/A"}},{"$f":"VLOOKUP(A66,počty!$J$6:$AP$163,6,0)","v":{"$error":"#N/A"}},{"$f":"VLOOKUP(A66,počty!$J$6:$AP$163,7,0)","v":{"$error":"#N/A"}},{"$f":"VLOOKUP(A66,počty!$J$6:$AP$163,8,0)","v":{"$error":"#N/A"}},{"$f":"VLOOKUP(A66,počty!$J$6:$AP$163,9,0)","v":{"$error":"#N/A"}},{"$f":"VLOOKUP(A66,počty!$J$6:$AP$163,11,0)","v":{"$error":"#N/A"}},{"$f":"VLOOKUP(A66,počty!$J$6:$AP$163,17,0)","v":{"$error":"#N/A"}},{"$f":"VLOOKUP(A66,počty!$J$6:$AP$163,18,0)","v":{"$error":"#N/A"}},{"$f":"VLOOKUP(A66,počty!$J$6:$AP$163,19,0)","v":{"$error":"#N/A"}},{"$f":"VLOOKUP(A66,počty!$J$6:$AP$163,20,0)","v":{"$error":"#N/A"}}]

{"sheet":"STY","index":8,"n_rows":63,"n_cols":41,"rows_kept":63,"cut":false,"hidden":false,"merged":[[0,28,0,29],[0,35,0,36],[0,0,0,1],[0,7,0,8],[0,14,0,15],[0,21,0,22]]}
[{"$f":"+hlavicka!C11","v":"Žáci U10M 2017-2016"},null,{"$f":"CONCATENATE(\"K \",hlavicka!C6)","v":"K 13"},"A","KOLO",1,null,{"$f":"+A1","v":"Žáci U10M 2017-2016"},null,{"$f":"+C1","v":"K 13"},"B","KOLO",{"$f":"++F1","v":1},null,{"$f":"+A1","v":"Žáci U10M 2017-2016"},null,{"$f":"+C1","v":"K 13"},"C","KOLO",{"$f":"+F1","v":1},null,{"$f":"+A1","v":"Žáci U10M 2017-2016"},null,{"$f":"+C1","v":"K 13"},"D","KOLO",{"$f":"+F1","v":1},null,{"$f":"+A1","v":"Žáci U10M 2017-2016"},null,{"$f":"+C1","v":"K 13"},"E","KOLO",{"$f":"+F1","v":1},null,{"$f":"+A1","v":"Žáci U10M 2017-2016"},null,{"$f":"+C1","v":"K 13"},"X","KOLO",{"$f":"+F1","v":1}]
["Start.","SRÁŽKY",null,null,null,"Body",null,"Start.","SRÁŽKY",null,null,null,"Body",null,"Start.","SRÁŽKY",null,null,null,"Body",null,"Start.","SRÁŽKY",null,null,null,"Body",null,"Start.","SRÁŽKY",null,null,null,"Body",null,"Start.","SRÁŽKY",null,null,null,"Body"]
["číslo","Let","Doskok","Odjezd","Celkem","celkem",null,"číslo","Let","Doskok","Odjezd","Celkem","celkem",null,"číslo","Let","Doskok","Odjezd","Celkem","celkem",null,"číslo","Let","Doskok","Odjezd","Celkem","celkem",null,"číslo","Let","Doskok","Odjezd","Celkem","celkem",null,"číslo","Let","Doskok","Odjezd","Celkem","celkem"]
[{"$f":"+start!B6","v":13},null,null,null,null,null,null,{"$f":"+A4","v":13},null,null,null,null,null,null,{"$f":"+H4","v":13},null,null,null,null,null,null,{"$f":"+O4","v":13},null,null,null,null,null,null,{"$f":"+V4","v":13},null,null,null,null,null,null,{"$f":"+AC4","v":13}]
[{"$f":"+start!B7","v":22},null,null,null,null,null,null,{"$f":"+A5","v":22},null,null,null,null,null,null,{"$f":"+H5","v":22},null,null,null,null,null,null,{"$f":"+O5","v":22},null,null,null,null,null,null,{"$f":"+V5","v":22},null,null,null,null,null,null,{"$f":"+AC5","v":22}]
[{"$f":"+start!B8","v":23},null,null,null,null,null,null,{"$f":"+A6","v":23},null,null,null,null,null,null,{"$f":"+H6","v":23},null,null,null,null,null,null,{"$f":"+O6","v":23},null,null,null,null,null,null,{"$f":"+V6","v":23},null,null,null,null,null,null,{"$f":"+AC6","v":23}]
[{"$f":"+start!B9","v":24},null,null,null,null,null,null,{"$f":"+A7","v":24},null,null,null,null,null,null,{"$f":"+H7","v":24},null,null,null,null,null,null,{"$f":"+O7","v":24},null,null,null,null,null,null,{"$f":"+V7","v":24},null,null,null,null,null,null,{"$f":"+AC7","v":24}]
[{"$f":"+start!B10","v":25},null,null,null,null,null,null,{"$f":"+A8","v":25},null,null,null,null,null,null,{"$f":"+H8","v":25},null,null,null,null,null,null,{"$f":"+O8","v":25},null,null,null,null,null,null,{"$f":"+V8","v":25},null,null,null,null,null,null,{"$f":"+AC8","v":25}]
[{"$f":"+start!B11","v":{"$error":"#N/A"}},null,null,null,null,null,null,{"$error":"#N/A"},null,null,null,null,null,null,{"$error":"#N/A"},null,null,null,null,null,null,{"$error":"#N/A"},null,null,null,null,null,null,{"$error":"#N/A"},null,null,null,null,null,null,{"$error":"#N/A"}]
[{"$f":"+start!B12","v":{"$error":"#N/A"}},null,null,null,null,null,null,{"$error":"#N/A"},null,null,null,null,null,null,{"$error":"#N/A"},null,null,null,null,null,null,{"$error":"#N/A"},null,null,null,null,null,null,{"$error":"#N/A"},null,null,null,null,null,null,{"$error":"#N/A"}]
[{"$f":"+start!B13","v":{"$error":"#N/A"}},null,null,null,null,null,null,{"$error":"#N/A"},null,null,null,null,null,null,{"$error":"#N/A"},null,null,null,null,null,null,{"$error":"#N/A"},null,null,null,null,null,null,{"$error":"#N/A"},null,null,null,null,null,null,{"$error":"#N/A"}]
[{"$f":"+start!B14","v":{"$error":"#N/A"}},null,null,null,null,null,null,{"$error":"#N/A"},null,null,null,null,null,null,{"$error":"#N/A"},null,null,null,null,null,null,{"$error":"#N/A"},null,null,null,null,null,null,{"$error":"#N/A"},null,null,null,null,null,null,{"$error":"#N/A"}]
[{"$f":"+start!B15","v":{"$error":"#N/A"}},null,null,null,null,null,null,{"$error":"#N/A"},null,null,null,null,null,null,{"$error":"#N/A"},null,null,null,null,null,null,{"$error":"#N/A"},null,null,null,null,null,null,{"$error":"#N/A"},null,null,null,null,null,null,{"$error":"#N/A"}]
[{"$f":"+start!B16","v":{"$error":"#N/A"}},null,null,null,null,null,null,{"$error":"#N/A"},null,null,null,null,null,null,{"$error":"#N/A"},null,null,null,null,null,null,{"$error":"#N/A"},null,null,null,null,null,null,{"$error":"#N/A"},null,null,null,null,null,null,{"$error":"#N/A"}]
[{"$f":"+start!B17","v":{"$error":"#N/A"}},null,null,null,null,null,null,{"$error":"#N/A"},null,null,null,null,null,null,{"$error":"#N/A"},null,null,null,null,null,null,{"$error":"#N/A"},null,null,null,null,null,null,{"$error":"#N/A"},null,null,null,null,null,null,{"$error":"#N/A"}]
[{"$f":"+start!B18","v":{"$error":"#N/A"}},null,null,null,null,null,null,{"$error":"#N/A"},null,null,null,null,null,null,{"$error":"#N/A"},null,null,null,null,null,null,{"$error":"#N/A"},null,null,null,null,null,null,{"$error":"#N/A"},null,null,null,null,null,null,{"$error":"#N/A"}]
[{"$f":"+start!B19","v":{"$error":"#N/A"}},null,null,null,null,null,null,{"$error":"#N/A"},null,null,null,null,null,null,{"$error":"#N/A"},null,null,null,null,null,null,{"$error":"#N/A"},null,null,null,null,null,null,{"$error":"#N/A"},null,null,null,null,null,null,{"$error":"#N/A"}]
[{"$f":"+start!B20","v":{"$error":"#N/A"}},null,null,null,null,null,null,{"$error":"#N/A"},null,null,null,null,null,null,{"$error":"#N/A"},null,null,null,null,null,null,{"$error":"#N/A"},null,null,null,null,null,null,{"$error":"#N/A"},null,null,null,null,null,null,{"$error":"#N/A"}]
[{"$f":"+start!B21","v":{"$error":"#N/A"}},null,null,null,null,null,null,{"$error":"#N/A"},null,null,null,null,null,null,{"$error":"#N/A"},null,null,null,null,null,null,{"$error":"#N/A"},null,null,null,null,null,null,{"$error":"#N/A"},null,null,null,null,null,null,{"$error":"#N/A"}]
[{"$f":"+start!B22","v":{"$error":"#N/A"}},null,null,null,null,null,null,{"$error":"#N/A"},null,null,null,null,null,null,{"$error":"#N/A"},null,null,null,null,null,null,{"$error":"#N/A"},null,null,null,null,null,null,{"$error":"#N/A"},null,null,null,null,null,null,{"$error":"#N/A"}]
[{"$f":"+start!B23","v":{"$error":"#N/A"}},null,null,null,null,null,null,{"$error":"#N/A"},null,null,null,null,null,null,{"$error":"#N/A"},null,null,null,null,null,null,{"$error":"#N/A"},null,null,null,null,null,null,{"$error":"#N/A"},null,null,null,null,null,null,{"$error":"#N/A"}]
[{"$f":"+start!B24","v":{"$error":"#N/A"}},null,null,null,null,null,null,{"$error":"#N/A"},null,null,null,null,null,null,{"$error":"#N/A"},null,null,null,null,null,null,{"$error":"#N/A"},null,null,null,null,null,null,{"$error":"#N/A"},null,null,null,null,null,null,{"$error":"#N/A"}]
[{"$f":"+start!B25","v":{"$error":"#N/A"}},null,null,null,null,null,null,{"$error":"#N/A"},null,null,null,null,null,null,{"$error":"#N/A"},null,null,null,null,null,null,{"$error":"#N/A"},null,null,null,null,null,null,{"$error":"#N/A"},null,null,null,null,null,null,{"$error":"#N/A"}]
[{"$f":"+start!B26","v":{"$error":"#N/A"}},null,null,null,null,null,null,{"$error":"#N/A"},null,null,null,null,null,null,{"$error":"#N/A"},null,null,null,null,null,null,{"$error":"#N/A"},null,null,null,null,null,null,{"$error":"#N/A"},null,null,null,null,null,null,{"$error":"#N/A"}]
[{"$f":"+start!B27","v":{"$error":"#N/A"}},null,null,null,null,null,null,{"$error":"#N/A"},null,null,null,null,null,null,{"$error":"#N/A"},null,null,null,null,null,null,{"$error":"#N/A"},null,null,null,null,null,null,{"$error":"#N/A"},null,null,null,null,null,null,{"$error":"#N/A"}]
[{"$f":"+start!B28","v":{"$error":"#N/A"}},null,null,null,null,null,null,{"$error":"#N/A"},null,null,null,null,null,null,{"$error":"#N/A"},null,null,null,null,null,null,{"$error":"#N/A"},null,null,null,null,null,null,{"$error":"#N/A"},null,null,null,null,null,null,{"$error":"#N/A"}]
[{"$f":"+start!B29","v":{"$error":"#N/A"}},null,null,null,null,null,null,{"$error":"#N/A"},null,null,null,null,null,null,{"$error":"#N/A"},null,null,null,null,null,null,{"$error":"#N/A"},null,null,null,null,null,null,{"$error":"#N/A"},null,null,null,null,null,null,{"$error":"#N/A"}]
[{"$f":"+start!B30","v":{"$error":"#N/A"}},null,null,null,null,null,null,{"$error":"#N/A"},null,null,null,null,null,null,{"$error":"#N/A"},null,null,null,null,null,null,{"$error":"#N/A"},null,null,null,null,null,null,{"$error":"#N/A"},null,null,null,null,null,null,{"$error":"#N/A"}]
[{"$f":"+start!B31","v":{"$error":"#N/A"}},null,null,null,null,null,null,{"$error":"#N/A"},null,null,null,null,null,null,{"$error":"#N/A"},null,null,null,null,null,null,{"$error":"#N/A"},null,null,null,null,null,null,{"$error":"#N/A"},null,null,null,null,null,null,{"$error":"#N/A"}]
[{"$f":"+start!B32","v":{"$error":"#N/A"}},null,null,null,null,null,null,{"$error":"#N/A"},null,null,null,null,null,null,{"$error":"#N/A"},null,null,null,null,null,null,{"$error":"#N/A"},null,null,null,null,null,null,{"$error":"#N/A"},null,null,null,null,null,null,{"$error":"#N/A"}]
[{"$f":"+start!B33","v":{"$error":"#N/A"}},null,null,null,null,null,null,{"$error":"#N/A"},null,null,null,null,null,null,{"$error":"#N/A"},null,null,null,null,null,null,{"$error":"#N/A"},null,null,null,null,null,null,{"$error":"#N/A"},null,null,null,null,null,null,{"$error":"#N/A"}]
[{"$f":"+start!B34","v":{"$error":"#N/A"}},null,null,null,null,null,null,{"$error":"#N/A"},null,null,null,null,null,null,{"$error":"#N/A"},null,null,null,null,null,null,{"$error":"#N/A"},null,null,null,null,null,null,{"$error":"#N/A"},null,null,null,null,null,null,{"$error":"#N/A"}]
[{"$f":"+start!B35","v":{"$error":"#N/A"}},null,null,null,null,null,null,{"$error":"#N/A"},null,null,null,null,null,null,{"$error":"#N/A"},null,null,null,null,null,null,{"$error":"#N/A"},null,null,null,null,null,null,{"$error":"#N/A"},null,null,null,null,null,null,{"$error":"#N/A"}]
[{"$f":"+start!B36","v":{"$error":"#N/A"}},null,null,null,null,null,null,{"$error":"#N/A"},null,null,null,null,null,null,{"$error":"#N/A"},null,null,null,null,null,null,{"$error":"#N/A"},null,null,null,null,null,null,{"$error":"#N/A"},null,null,null,null,null,null,{"$error":"#N/A"}]
[{"$f":"+start!B37","v":{"$error":"#N/A"}},null,null,null,null,null,null,{"$error":"#N/A"},null,null,null,null,null,null,{"$error":"#N/A"},null,null,null,null,null,null,{"$error":"#N/A"},null,null,null,null,null,null,{"$error":"#N/A"},null,null,null,null,null,null,{"$error":"#N/A"}]
[{"$f":"+start!B38","v":{"$error":"#N/A"}},null,null,null,null,null,null,{"$error":"#N/A"},null,null,null,null,null,null,{"$error":"#N/A"},null,null,null,null,null,null,{"$error":"#N/A"},null,null,null,null,null,null,{"$error":"#N/A"},null,null,null,null,null,null,{"$error":"#N/A"}]
[{"$f":"+start!B39","v":{"$error":"#N/A"}},null,null,null,null,null,null,{"$error":"#N/A"},null,null,null,null,null,null,{"$error":"#N/A"},null,null,null,null,null,null,{"$error":"#N/A"},null,null,null,null,null,null,{"$error":"#N/A"},null,null,null,null,null,null,{"$error":"#N/A"}]
[{"$f":"+start!B40","v":{"$error":"#N/A"}},null,null,null,null,null,null,{"$error":"#N/A"},null,null,null,null,null,null,{"$error":"#N/A"},null,null,null,null,null,null,{"$error":"#N/A"},null,null,null,null,null,null,{"$error":"#N/A"},null,null,null,null,null,null,{"$error":"#N/A"}]
[{"$f":"+start!B41","v":{"$error":"#N/A"}},null,null,null,null,null,null,{"$error":"#N/A"},null,null,null,null,null,null,{"$error":"#N/A"},null,null,null,null,null,null,{"$error":"#N/A"},null,null,null,null,null,null,{"$error":"#N/A"},null,null,null,null,null,null,{"$error":"#N/A"}]
[{"$f":"+start!B42","v":{"$error":"#N/A"}},null,null,null,null,null,null,{"$error":"#N/A"},null,null,null,null,null,null,{"$error":"#N/A"},null,null,null,null,null,null,{"$error":"#N/A"},null,null,null,null,null,null,{"$error":"#N/A"},null,null,null,null,null,null,{"$error":"#N/A"}]
[{"$f":"+start!B43","v":{"$error":"#N/A"}},null,null,null,null,null,null,{"$error":"#N/A"},null,null,null,null,null,null,{"$error":"#N/A"},null,null,null,null,null,null,{"$error":"#N/A"},null,null,null,null,null,null,{"$error":"#N/A"},null,null,null,null,null,null,{"$error":"#N/A"}]
[{"$f":"+start!B44","v":{"$error":"#N/A"}},null,null,null,null,null,null,{"$error":"#N/A"},null,null,null,null,null,null,{"$error":"#N/A"},null,null,null,null,null,null,{"$error":"#N/A"},null,null,null,null,null,null,{"$error":"#N/A"},null,null,null,null,null,null,{"$error":"#N/A"}]
[{"$f":"+start!B45","v":{"$error":"#N/A"}},null,null,null,null,null,null,{"$error":"#N/A"},null,null,null,null,null,null,{"$error":"#N/A"},null,null,null,null,null,null,{"$error":"#N/A"},null,null,null,null,null,null,{"$error":"#N/A"},null,null,null,null,null,null,{"$error":"#N/A"}]
[{"$f":"+start!B46","v":{"$error":"#N/A"}},null,null,null,null,null,null,{"$error":"#N/A"},null,null,null,null,null,null,{"$error":"#N/A"},null,null,null,null,null,null,{"$error":"#N/A"},null,null,null,null,null,null,{"$error":"#N/A"},null,null,null,null,null,null,{"$error":"#N/A"}]
[{"$f":"+start!B47","v":{"$error":"#N/A"}},null,null,null,null,null,null,{"$error":"#N/A"},null,null,null,null,null,null,{"$error":"#N/A"},null,null,null,null,null,null,{"$error":"#N/A"},null,null,null,null,null,null,{"$error":"#N/A"},null,null,null,null,null,null,{"$error":"#N/A"}]
[{"$f":"+start!B48","v":{"$error":"#N/A"}},null,null,null,null,null,null,{"$error":"#N/A"},null,null,null,null,null,null,{"$error":"#N/A"},null,null,null,null,null,null,{"$error":"#N/A"},null,null,null,null,null,null,{"$error":"#N/A"},null,null,null,null,null,null,{"$error":"#N/A"}]
[{"$f":"+start!B49","v":{"$error":"#N/A"}},null,null,null,null,null,null,{"$error":"#N/A"},null,null,null,null,null,null,{"$error":"#N/A"},null,null,null,null,null,null,{"$error":"#N/A"},null,null,null,null,null,null,{"$error":"#N/A"},null,null,null,null,null,null,{"$error":"#N/A"}]
[{"$f":"+start!B50","v":{"$error":"#N/A"}},null,null,null,null,null,null,{"$error":"#N/A"},null,null,null,null,null,null,{"$error":"#N/A"},null,null,null,null,null,null,{"$error":"#N/A"},null,null,null,null,null,null,{"$error":"#N/A"},null,null,null,null,null,null,{"$error":"#N/A"}]
[{"$f":"+start!B51","v":{"$error":"#N/A"}},null,null,null,null,null,null,{"$error":"#N/A"},null,null,null,null,null,null,{"$error":"#N/A"},null,null,null,null,null,null,{"$error":"#N/A"},null,null,null,null,null,null,{"$error":"#N/A"},null,null,null,null,null,null,{"$error":"#N/A"}]
[{"$f":"+start!B52","v":{"$error":"#N/A"}},null,null,null,null,null,null,{"$error":"#N/A"},null,null,null,null,null,null,{"$error":"#N/A"},null,null,null,null,null,null,{"$error":"#N/A"},null,null,null,null,null,null,{"$error":"#N/A"},null,null,null,null,null,null,{"$error":"#N/A"}]
[{"$f":"+start!B53","v":{"$error":"#N/A"}},null,null,null,null,null,null,{"$error":"#N/A"},null,null,null,null,null,null,{"$error":"#N/A"},null,null,null,null,null,null,{"$error":"#N/A"},null,null,null,null,null,null,{"$error":"#N/A"},null,null,null,null,null,null,{"$error":"#N/A"}]
[{"$f":"+start!B54","v":{"$error":"#N/A"}},null,null,null,null,null,null,{"$error":"#N/A"},null,null,null,null,null,null,{"$error":"#N/A"},null,null,null,null,null,null,{"$error":"#N/A"},null,null,null,null,null,null,{"$error":"#N/A"},null,null,null,null,null,null,{"$error":"#N/A"}]
[{"$f":"+start!B55","v":{"$error":"#N/A"}},null,null,null,null,null,null,{"$error":"#N/A"},null,null,null,null,null,null,{"$error":"#N/A"},null,null,null,null,null,null,{"$error":"#N/A"},null,null,null,null,null,null,{"$error":"#N/A"},null,null,null,null,null,null,{"$error":"#N/A"}]
[{"$f":"+start!B56","v":{"$error":"#N/A"}},null,null,null,null,null,null,{"$error":"#N/A"},null,null,null,null,null,null,{"$error":"#N/A"},null,null,null,null,null,null,{"$error":"#N/A"},null,null,null,null,null,null,{"$error":"#N/A"},null,null,null,null,null,null,{"$error":"#N/A"}]
[{"$f":"+start!B57","v":{"$error":"#N/A"}},null,null,null,null,null,null,{"$error":"#N/A"},null,null,null,null,null,null,{"$error":"#N/A"},null,null,null,null,null,null,{"$error":"#N/A"},null,null,null,null,null,null,{"$error":"#N/A"},null,null,null,null,null,null,{"$error":"#N/A"}]
[{"$f":"+start!B58","v":{"$error":"#N/A"}},null,null,null,null,null,null,{"$error":"#N/A"},null,null,null,null,null,null,{"$error":"#N/A"},null,null,null,null,null,null,{"$error":"#N/A"},null,null,null,null,null,null,{"$error":"#N/A"},null,null,null,null,null,null,{"$error":"#N/A"}]
[{"$f":"+start!B59","v":{"$error":"#N/A"}},null,null,null,null,null,null,{"$error":"#N/A"},null,null,null,null,null,null,{"$error":"#N/A"},null,null,null,null,null,null,{"$error":"#N/A"},null,null,null,null,null,null,{"$error":"#N/A"},null,null,null,null,null,null,{"$error":"#N/A"}]
[{"$f":"+start!B60","v":{"$error":"#N/A"}},null,null,null,null,null,null,{"$error":"#N/A"},null,null,null,null,null,null,{"$error":"#N/A"},null,null,null,null,null,null,{"$error":"#N/A"},null,null,null,null,null,null,{"$error":"#N/A"},null,null,null,null,null,null,{"$error":"#N/A"}]
[{"$f":"+start!B61","v":{"$error":"#N/A"}},null,null,null,null,null,null,{"$error":"#N/A"},null,null,null,null,null,null,{"$error":"#N/A"},null,null,null,null,null,null,{"$error":"#N/A"},null,null,null,null,null,null,{"$error":"#N/A"},null,null,null,null,null,null,{"$error":"#N/A"}]
[{"$f":"+start!B62","v":{"$error":"#N/A"}},null,null,null,null,null,null,{"$error":"#N/A"},null,null,null,null,null,null,{"$error":"#N/A"},null,null,null,null,null,null,{"$error":"#N/A"},null,null,null,null,null,null,{"$error":"#N/A"},null,null,null,null,null,null,{"$error":"#N/A"}]
[{"$f":"+start!B63","v":{"$error":"#N/A"}},null,null,null,null,null,null,{"$error":"#N/A"},null,null,null,null,null,null,{"$error":"#N/A"},null,null,null,null,null,null,{"$error":"#N/A"},null,null,null,null,null,null,{"$error":"#N/A"},null,null,null,null,null,null,{"$error":"#N/A"}]
[{"$f":"+start!B64","v":{"$error":"#N/A"}},null,null,null,null,null,null,{"$error":"#N/A"},null,null,null,null,null,null,{"$error":"#N/A"},null,null,null,null,null,null,{"$error":"#N/A"},null,null,null,null,null,null,{"$error":"#N/A"},null,null,null,null,null,null,{"$error":"#N/A"}]
[{"$f":"+start!B65","v":{"$error":"#N/A"}},null,null,null,null,null,null,{"$error":"#N/A"},null,null,null,null,null,null,{"$error":"#N/A"},null,null,null,null,null,null,{"$error":"#N/A"},null,null,null,null,null,null,{"$error":"#N/A"},null,null,null,null,null,null,{"$error":"#N/A"}]

{"sheet":"STYobr","index":9,"n_rows":63,"n_cols":41,"rows_kept":63,"cut":false,"hidden":false,"merged":[[0,28,0,29],[0,35,0,36],[0,0,0,1],[0,7,0,8],[0,14,0,15],[0,21,0,22]]}
[{"$f":"+hlavicka!C11","v":"Žáci U10M 2017-2016"},null,{"$f":"CONCATENATE(\"K \",hlavicka!C6)","v":"K 13"},"A","KOLO",2,null,{"$f":"+A1","v":"Žáci U10M 2017-2016"},null,{"$f":"+C1","v":"K 13"},"B","KOLO",{"$f":"+F1","v":2},null,{"$f":"+A1","v":"Žáci U10M 2017-2016"},null,{"$f":"+C1","v":"K 13"},"C","KOLO",{"$f":"+F1","v":2},null,{"$f":"+A1","v":"Žáci U10M 2017-2016"},null,{"$f":"+C1","v":"K 13"},"D","KOLO",{"$f":"+F1","v":2},null,{"$f":"+A1","v":"Žáci U10M 2017-2016"},null,{"$f":"+C1","v":"K 13"},"E","KOLO",{"$f":"+F1","v":2},null,{"$f":"+A1","v":"Žáci U10M 2017-2016"},null,{"$f":"+C1","v":"K 13"},"X","KOLO",{"$f":"+F1","v":2}]
["Start.","SRÁŽKY",null,null,null,"Body",null,"Start.","SRÁŽKY",null,null,null,"Body",null,"Start.","SRÁŽKY",null,null,null,"Body",null,"Start.","SRÁŽKY",null,null,null,"Body",null,"Start.","SRÁŽKY",null,null,null,"Body",null,"Start.","SRÁŽKY",null,null,null,"Body"]
["číslo","Let","Doskok","Odjezd","Celkem","celkem",null,"číslo","Let","Doskok","Odjezd","Celkem","celkem",null,"číslo","Let","Doskok","Odjezd","Celkem","celkem",null,"číslo","Let","Doskok","Odjezd","Celkem","celkem",null,"číslo","Let","Doskok","Odjezd","Celkem","celkem",null,"číslo","Let","Doskok","Odjezd","Celkem","celkem"]
[{"$f":"+obrac!C7","v":23},null,null,null,null,null,null,{"$f":"+A4","v":23},null,null,null,null,null,null,{"$f":"+H4","v":23},null,null,null,null,null,null,{"$f":"+O4","v":23},null,null,null,null,null,null,{"$f":"+V4","v":23},null,null,null,null,null,null,{"$f":"+AC4","v":23}]
[{"$f":"+obrac!C8","v":25},null,null,null,null,null,null,25,null,null,null,null,null,null,25,null,null,null,null,null,null,25,null,null,null,null,null,null,25,null,null,null,null,null,null,25]
[{"$f":"+obrac!C9","v":24},null,null,null,null,null,null,24,null,null,null,null,null,null,24,null,null,null,null,null,null,24,null,null,null,null,null,null,24,null,null,null,null,null,null,24]
[{"$f":"+obrac!C10","v":13},null,null,null,null,null,null,13,null,null,null,null,null,null,13,null,null,null,null,null,null,13,null,null,null,null,null,null,13,null,null,null,null,null,null,13]
[{"$f":"+obrac!C11","v":22},null,null,null,null,null,null,22,null,null,null,null,null,null,22,null,null,null,null,null,null,22,null,null,null,null,null,null,22,null,null,null,null,null,null,22]
[{"$f":"+obrac!C12","v":{"$error":"#N/A"}},null,null,null,null,null,null,{"$error":"#N/A"},null,null,null,null,null,null,{"$error":"#N/A"},null,null,null,null,null,null,{"$error":"#N/A"},null,null,null,null,null,null,{"$error":"#N/A"},null,null,null,null,null,null,{"$error":"#N/A"}]
[{"$f":"+obrac!C13","v":{"$error":"#N/A"}},null,null,null,null,null,null,{"$error":"#N/A"},null,null,null,null,null,null,{"$error":"#N/A"},null,null,null,null,null,null,{"$error":"#N/A"},null,null,null,null,null,null,{"$error":"#N/A"},null,null,null,null,null,null,{"$error":"#N/A"}]
[{"$f":"+obrac!C14","v":{"$error":"#N/A"}},null,null,null,null,null,null,{"$error":"#N/A"},null,null,null,null,null,null,{"$error":"#N/A"},null,null,null,null,null,null,{"$error":"#N/A"},null,null,null,null,null,null,{"$error":"#N/A"},null,null,null,null,null,null,{"$error":"#N/A"}]
[{"$f":"+obrac!C15","v":{"$error":"#N/A"}},null,null,null,null,null,null,{"$error":"#N/A"},null,null,null,null,null,null,{"$error":"#N/A"},null,null,null,null,null,null,{"$error":"#N/A"},null,null,null,null,null,null,{"$error":"#N/A"},null,null,null,null,null,null,{"$error":"#N/A"}]
[{"$f":"+obrac!C16","v":{"$error":"#N/A"}},null,null,null,null,null,null,{"$error":"#N/A"},null,null,null,null,null,null,{"$error":"#N/A"},null,null,null,null,null,null,{"$error":"#N/A"},null,null,null,null,null,null,{"$error":"#N/A"},null,null,null,null,null,null,{"$error":"#N/A"}]
[{"$f":"+obrac!C17","v":{"$error":"#N/A"}},null,null,null,null,null,null,{"$error":"#N/A"},null,null,null,null,null,null,{"$error":"#N/A"},null,null,null,null,null,null,{"$error":"#N/A"},null,null,null,null,null,null,{"$error":"#N/A"},null,null,null,null,null,null,{"$error":"#N/A"}]
[{"$f":"+obrac!C18","v":{"$error":"#N/A"}},null,null,null,null,null,null,{"$error":"#N/A"},null,null,null,null,null,null,{"$error":"#N/A"},null,null,null,null,null,null,{"$error":"#N/A"},null,null,null,null,null,null,{"$error":"#N/A"},null,null,null,null,null,null,{"$error":"#N/A"}]
[{"$f":"+obrac!C19","v":{"$error":"#N/A"}},null,null,null,null,null,null,{"$error":"#N/A"},null,null,null,null,null,null,{"$error":"#N/A"},null,null,null,null,null,null,{"$error":"#N/A"},null,null,null,null,null,null,{"$error":"#N/A"},null,null,null,null,null,null,{"$error":"#N/A"}]
[{"$f":"+obrac!C20","v":{"$error":"#N/A"}},null,null,null,null,null,null,{"$error":"#N/A"},null,null,null,null,null,null,{"$error":"#N/A"},null,null,null,null,null,null,{"$error":"#N/A"},null,null,null,null,null,null,{"$error":"#N/A"},null,null,null,null,null,null,{"$error":"#N/A"}]
[{"$f":"+obrac!C21","v":{"$error":"#N/A"}},null,null,null,null,null,null,{"$error":"#N/A"},null,null,null,null,null,null,{"$error":"#N/A"},null,null,null,null,null,null,{"$error":"#N/A"},null,null,null,null,null,null,{"$error":"#N/A"},null,null,null,null,null,null,{"$error":"#N/A"}]
[{"$f":"+obrac!C22","v":{"$error":"#N/A"}},null,null,null,null,null,null,{"$error":"#N/A"},null,null,null,null,null,null,{"$error":"#N/A"},null,null,null,null,null,null,{"$error":"#N/A"},null,null,null,null,null,null,{"$error":"#N/A"},null,null,null,null,null,null,{"$error":"#N/A"}]
[{"$f":"+obrac!C23","v":{"$error":"#N/A"}},null,null,null,null,null,null,{"$error":"#N/A"},null,null,null,null,null,null,{"$error":"#N/A"},null,null,null,null,null,null,{"$error":"#N/A"},null,null,null,null,null,null,{"$error":"#N/A"},null,null,null,null,null,null,{"$error":"#N/A"}]
[{"$f":"+obrac!C24","v":{"$error":"#N/A"}},null,null,null,null,null,null,{"$error":"#N/A"},null,null,null,null,null,null,{"$error":"#N/A"},null,null,null,null,null,null,{"$error":"#N/A"},null,null,null,null,null,null,{"$error":"#N/A"},null,null,null,null,null,null,{"$error":"#N/A"}]
[{"$f":"+obrac!C25","v":{"$error":"#N/A"}},null,null,null,null,null,null,{"$error":"#N/A"},null,null,null,null,null,null,{"$error":"#N/A"},null,null,null,null,null,null,{"$error":"#N/A"},null,null,null,null,null,null,{"$error":"#N/A"},null,null,null,null,null,null,{"$error":"#N/A"}]
[{"$f":"+obrac!C26","v":{"$error":"#N/A"}},null,null,null,null,null,null,{"$error":"#N/A"},null,null,null,null,null,null,{"$error":"#N/A"},null,null,null,null,null,null,{"$error":"#N/A"},null,null,null,null,null,null,{"$error":"#N/A"},null,null,null,null,null,null,{"$error":"#N/A"}]
[{"$f":"+obrac!C27","v":{"$error":"#N/A"}},null,null,null,null,null,null,{"$error":"#N/A"},null,null,null,null,null,null,{"$error":"#N/A"},null,null,null,null,null,null,{"$error":"#N/A"},null,null,null,null,null,null,{"$error":"#N/A"},null,null,null,null,null,null,{"$error":"#N/A"}]
[{"$f":"+obrac!C28","v":{"$error":"#N/A"}},null,null,null,null,null,null,{"$f":"+A25","v":{"$error":"#N/A"}},null,null,null,null,null,null,{"$f":"+H25","v":{"$error":"#N/A"}},null,null,null,null,null,null,{"$f":"+O25","v":{"$error":"#N/A"}},null,null,null,null,null,null,{"$f":"+V25","v":{"$error":"#N/A"}},null,null,null,null,null,null,{"$f":"+AC25","v":{"$error":"#N/A"}}]
[{"$f":"+obrac!C29","v":{"$error":"#N/A"}},null,null,null,null,null,null,{"$error":"#N/A"},null,null,null,null,null,null,{"$error":"#N/A"},null,null,null,null,null,null,{"$error":"#N/A"},null,null,null,null,null,null,{"$error":"#N/A"},null,null,null,null,null,null,{"$error":"#N/A"}]
[{"$f":"+obrac!C30","v":{"$error":"#N/A"}},null,null,null,null,null,null,{"$error":"#N/A"},null,null,null,null,null,null,{"$error":"#N/A"},null,null,null,null,null,null,{"$error":"#N/A"},null,null,null,null,null,null,{"$error":"#N/A"},null,null,null,null,null,null,{"$error":"#N/A"}]
[{"$f":"+obrac!C31","v":{"$error":"#N/A"}},null,null,null,null,null,null,{"$error":"#N/A"},null,null,null,null,null,null,{"$error":"#N/A"},null,null,null,null,null,null,{"$error":"#N/A"},null,null,null,null,null,null,{"$error":"#N/A"},null,null,null,null,null,null,{"$error":"#N/A"}]
[{"$f":"+obrac!C32","v":{"$error":"#N/A"}},null,null,null,null,null,null,{"$error":"#N/A"},null,null,null,null,null,null,{"$error":"#N/A"},null,null,null,null,null,null,{"$error":"#N/A"},null,null,null,null,null,null,{"$error":"#N/A"},null,null,null,null,null,null,{"$error":"#N/A"}]
[{"$f":"+obrac!C33","v":{"$error":"#N/A"}},null,null,null,null,null,null,{"$error":"#N/A"},null,null,null,null,null,null,{"$error":"#N/A"},null,null,null,null,null,null,{"$error":"#N/A"},null,null,null,null,null,null,{"$error":"#N/A"},null,null,null,null,null,null,{"$error":"#N/A"}]
[{"$f":"+obrac!C34","v":{"$error":"#N/A"}},null,null,null,null,null,null,{"$error":"#N/A"},null,null,null,null,null,null,{"$error":"#N/A"},null,null,null,null,null,null,{"$error":"#N/A"},null,null,null,null,null,null,{"$error":"#N/A"},null,null,null,null,null,null,{"$error":"#N/A"}]
[{"$f":"+obrac!C35","v":{"$error":"#N/A"}},null,null,null,null,null,null,{"$error":"#N/A"},null,null,null,null,null,null,{"$error":"#N/A"},null,null,null,null,null,null,{"$error":"#N/A"},null,null,null,null,null,null,{"$error":"#N/A"},null,null,null,null,null,null,{"$error":"#N/A"}]
[{"$f":"+obrac!C36","v":{"$error":"#N/A"}},null,null,null,null,null,null,{"$error":"#N/A"},null,null,null,null,null,null,{"$error":"#N/A"},null,null,null,null,null,null,{"$error":"#N/A"},null,null,null,null,null,null,{"$error":"#N/A"},null,null,null,null,null,null,{"$error":"#N/A"}]
[{"$f":"+obrac!C37","v":{"$error":"#N/A"}},null,null,null,null,null,null,{"$error":"#N/A"},null,null,null,null,null,null,{"$error":"#N/A"},null,null,null,null,null,null,{"$error":"#N/A"},null,null,null,null,null,null,{"$error":"#N/A"},null,null,null,null,null,null,{"$error":"#N/A"}]
[{"$f":"+obrac!C38","v":{"$error":"#N/A"}},null,null,null,null,null,null,{"$error":"#N/A"},null,null,null,null,null,null,{"$error":"#N/A"},null,null,null,null,null,null,{"$error":"#N/A"},null,null,null,null,null,null,{"$error":"#N/A"},null,null,null,null,null,null,{"$error":"#N/A"}]
[{"$f":"+obrac!C39","v":{"$error":"#N/A"}},null,null,null,null,null,null,{"$error":"#N/A"},null,null,null,null,null,null,{"$error":"#N/A"},null,null,null,null,null,null,{"$error":"#N/A"},null,null,null,null,null,null,{"$error":"#N/A"},null,null,null,null,null,null,{"$error":"#N/A"}]
[{"$f":"+obrac!C40","v":{"$error":"#N/A"}},null,null,null,null,null,null,{"$error":"#N/A"},null,null,null,null,null,null,{"$error":"#N/A"},null,null,null,null,null,null,{"$error":"#N/A"},null,null,null,null,null,null,{"$error":"#N/A"},null,null,null,null,null,null,{"$error":"#N/A"}]
[{"$f":"+obrac!C41","v":{"$error":"#N/A"}},null,null,null,null,null,null,{"$error":"#N/A"},null,null,null,null,null,null,{"$error":"#N/A"},null,null,null,null,null,null,{"$error":"#N/A"},null,null,null,null,null,null,{"$error":"#N/A"},null,null,null,null,null,null,{"$error":"#N/A"}]
[{"$f":"+obrac!C42","v":{"$error":"#N/A"}},null,null,null,null,null,null,{"$error":"#N/A"},null,null,null,null,null,null,{"$error":"#N/A"},null,null,null,null,null,null,{"$error":"#N/A"},null,null,null,null,null,null,{"$error":"#N/A"},null,null,null,null,null,null,{"$error":"#N/A"}]
[{"$f":"+obrac!C43","v":{"$error":"#N/A"}},null,null,null,null,null,null,{"$error":"#N/A"},null,null,null,null,null,null,{"$error":"#N/A"},null,null,null,null,null,null,{"$error":"#N/A"},null,null,null,null,null,null,{"$error":"#N/A"},null,null,null,null,null,null,{"$error":"#N/A"}]
[{"$f":"+obrac!C44","v":{"$error":"#N/A"}},null,null,null,null,null,null,{"$error":"#N/A"},null,null,null,null,null,null,{"$error":"#N/A"},null,null,null,null,null,null,{"$error":"#N/A"},null,null,null,null,null,null,{"$error":"#N/A"},null,null,null,null,null,null,{"$error":"#N/A"}]
[{"$f":"+obrac!C45","v":{"$error":"#N/A"}},null,null,null,null,null,null,{"$error":"#N/A"},null,null,null,null,null,null,{"$error":"#N/A"},null,null,null,null,null,null,{"$error":"#N/A"},null,null,null,null,null,null,{"$error":"#N/A"},null,null,null,null,null,null,{"$error":"#N/A"}]
[{"$f":"+obrac!C46","v":{"$error":"#N/A"}},null,null,null,null,null,null,{"$error":"#N/A"},null,null,null,null,null,null,{"$error":"#N/A"},null,null,null,null,null,null,{"$error":"#N/A"},null,null,null,null,null,null,{"$error":"#N/A"},null,null,null,null,null,null,{"$error":"#N/A"}]
[{"$f":"+obrac!C47","v":{"$error":"#N/A"}},null,null,null,null,null,null,{"$error":"#N/A"},null,null,null,null,null,null,{"$error":"#N/A"},null,null,null,null,null,null,{"$error":"#N/A"},null,null,null,null,null,null,{"$error":"#N/A"},null,null,null,null,null,null,{"$error":"#N/A"}]
[{"$f":"+obrac!C48","v":{"$error":"#N/A"}},null,null,null,null,null,null,{"$error":"#N/A"},null,null,null,null,null,null,{"$error":"#N/A"},null,null,null,null,null,null,{"$error":"#N/A"},null,null,null,null,null,null,{"$error":"#N/A"},null,null,null,null,null,null,{"$error":"#N/A"}]
[{"$f":"+obrac!C49","v":{"$error":"#N/A"}},null,null,null,null,null,null,{"$error":"#N/A"},null,null,null,null,null,null,{"$error":"#N/A"},null,null,null,null,null,null,{"$error":"#N/A"},null,null,null,null,null,null,{"$error":"#N/A"},null,null,null,null,null,null,{"$error":"#N/A"}]
[{"$f":"+obrac!C50","v":{"$error":"#N/A"}},null,null,null,null,null,null,{"$error":"#N/A"},null,null,null,null,null,null,{"$error":"#N/A"},null,null,null,null,null,null,{"$error":"#N/A"},null,null,null,null,null,null,{"$error":"#N/A"},null,null,null,null,null,null,{"$error":"#N/A"}]
[{"$f":"+obrac!C51","v":{"$error":"#N/A"}},null,null,null,null,null,null,{"$error":"#N/A"},null,null,null,null,null,null,{"$error":"#N/A"},null,null,null,null,null,null,{"$error":"#N/A"},null,null,null,null,null,null,{"$error":"#N/A"},null,null,null,null,null,null,{"$error":"#N/A"}]
[{"$f":"+obrac!C52","v":{"$error":"#N/A"}},null,null,null,null,null,null,{"$error":"#N/A"},null,null,null,null,null,null,{"$error":"#N/A"},null,null,null,null,null,null,{"$error":"#N/A"},null,null,null,null,null,null,{"$error":"#N/A"},null,null,null,null,null,null,{"$error":"#N/A"}]
[{"$f":"+obrac!C53","v":{"$error":"#N/A"}},null,null,null,null,null,null,{"$error":"#N/A"},null,null,null,null,null,null,{"$error":"#N/A"},null,null,null,null,null,null,{"$error":"#N/A"},null,null,null,null,null,null,{"$error":"#N/A"},null,null,null,null,null,null,{"$error":"#N/A"}]
[{"$f":"+obrac!C54","v":{"$error":"#N/A"}},null,null,null,null,null,null,{"$error":"#N/A"},null,null,null,null,null,null,{"$error":"#N/A"},null,null,null,null,null,null,{"$error":"#N/A"},null,null,null,null,null,null,{"$error":"#N/A"},null,null,null,null,null,null,{"$error":"#N/A"}]
[{"$f":"+obrac!C55","v":{"$error":"#N/A"}},null,null,null,null,null,null,{"$error":"#N/A"},null,null,null,null,null,null,{"$error":"#N/A"},null,null,null,null,null,null,{"$error":"#N/A"},null,null,null,null,null,null,{"$error":"#N/A"},null,null,null,null,null,null,{"$error":"#N/A"}]
[{"$f":"+obrac!C56","v":{"$error":"#N/A"}},null,null,null,null,null,null,{"$error":"#N/A"},null,null,null,null,null,null,{"$error":"#N/A"},null,null,null,null,null,null,{"$error":"#N/A"},null,null,null,null,null,null,{"$error":"#N/A"},null,null,null,null,null,null,{"$error":"#N/A"}]
[{"$f":"+obrac!C57","v":{"$error":"#N/A"}},null,null,null,null,null,null,{"$error":"#N/A"},null,null,null,null,null,null,{"$error":"#N/A"},null,null,null,null,null,null,{"$error":"#N/A"},null,null,null,null,null,null,{"$error":"#N/A"},null,null,null,null,null,null,{"$error":"#N/A"}]
[{"$f":"+obrac!C58","v":{"$error":"#N/A"}},null,null,null,null,null,null,{"$error":"#N/A"},null,null,null,null,null,null,{"$error":"#N/A"},null,null,null,null,null,null,{"$error":"#N/A"},null,null,null,null,null,null,{"$error":"#N/A"},null,null,null,null,null,null,{"$error":"#N/A"}]
[{"$f":"+obrac!C59","v":{"$error":"#N/A"}},null,null,null,null,null,null,{"$error":"#N/A"},null,null,null,null,null,null,{"$error":"#N/A"},null,null,null,null,null,null,{"$error":"#N/A"},null,null,null,null,null,null,{"$error":"#N/A"},null,null,null,null,null,null,{"$error":"#N/A"}]
[{"$f":"+obrac!C60","v":{"$error":"#N/A"}},null,null,null,null,null,null,{"$error":"#N/A"},null,null,null,null,null,null,{"$error":"#N/A"},null,null,null,null,null,null,{"$error":"#N/A"},null,null,null,null,null,null,{"$error":"#N/A"},null,null,null,null,null,null,{"$error":"#N/A"}]
[{"$f":"+obrac!C61","v":{"$error":"#N/A"}},null,null,null,null,null,null,{"$error":"#N/A"},null,null,null,null,null,null,{"$error":"#N/A"},null,null,null,null,null,null,{"$error":"#N/A"},null,null,null,null,null,null,{"$error":"#N/A"},null,null,null,null,null,null,{"$error":"#N/A"}]
[{"$f":"+obrac!C62","v":{"$error":"#N/A"}},null,null,null,null,null,null,{"$error":"#N/A"},null,null,null,null,null,null,{"$error":"#N/A"},null,null,null,null,null,null,{"$error":"#N/A"},null,null,null,null,null,null,{"$error":"#N/A"},null,null,null,null,null,null,{"$error":"#N/A"}]
[{"$f":"+obrac!C63","v":{"$error":"#N/A"}},null,null,null,null,null,null,{"$error":"#N/A"},null,null,null,null,null,null,{"$error":"#N/A"},null,null,null,null,null,null,{"$error":"#N/A"},null,null,null,null,null,null,{"$error":"#N/A"},null,null,null,null,null,null,{"$error":"#N/A"}]
[{"$f":"+obrac!C64","v":{"$error":"#N/A"}},null,null,null,null,null,null,{"$error":"#N/A"},null,null,null,null,null,null,{"$error":"#N/A"},null,null,null,null,null,null,{"$error":"#N/A"},null,null,null,null,null,null,{"$error":"#N/A"},null,null,null,null,null,null,{"$error":"#N/A"}]
[{"$f":"+obrac!C65","v":{"$error":"#N/A"}},null,null,null,null,null,null,{"$error":"#N/A"},null,null,null,null,null,null,{"$error":"#N/A"},null,null,null,null,null,null,{"$error":"#N/A"},null,null,null,null,null,null,{"$error":"#N/A"},null,null,null,null,null,null,{"$error":"#N/A"}]
[{"$f":"+obrac!C66","v":{"$error":"#N/A"}},null,null,null,null,null,null,{"$error":"#N/A"},null,null,null,null,null,null,{"$error":"#N/A"},null,null,null,null,null,null,{"$error":"#N/A"},null,null,null,null,null,null,{"$error":"#N/A"},null,null,null,null,null,null,{"$error":"#N/A"}]

{"sheet":"sk SK","index":10,"n_rows":35,"n_cols":15,"rows_kept":35,"cut":false,"hidden":false,"merged":[]}
[null,"výsledky skok. části severské kombinace",null,null,null,null,null,null,null,null,null,null,null,null,{"$f":"+hlavicka!C11","v":"Žáci U10M 2017-2016"}]
[null,{"$f":"+SK!B2","v":"Český pohár žactva v severské kombinaci - 2/SK"},null,null,null,null,null,null,null,null,null,null,null,null,{"$f":"+vyslSL!Q2","v":"dne: 21.11.2015"}]
[null,{"$f":"+vyslSL!B3","v":"skok.můstek: K 13"},null,null,null,null,null,null,null,null,null,null,null,null,{"$f":"+vyslSL!Q3","v":"LSK Lomnice"}]
[null,{"$f":"+vyslSL!B4","v":"certifikát můstku č.135/C35/SL pl. do "},null,null,null,null,null,{"$f":"+vyslSL!Q4","v":"K = 60 b. +/- 6 b./m"},null,null,null,null,null,null,{"$f":"CONCATENATE(\"trať \",hlavicka!C29,\"km - \",hlavicka!C30,\"bodů/min\")","v":"trať 1km - 50bodů/min"}]
[null,"SOUTĚŽNÍ VÝBOR",null,null,null,null,null,"ROZHODČÍ STYLU"]
[null,{"$f":"+hlavicka!B36","v":"ŘZ"},{"$f":"+hlavicka!C36","v":"Ing. Stanislav Jirásek"},null,null,{"$f":"+hlavicka!D36","v":"CZE"},null,"A",{"$f":"+hlavicka!C22","v":"Čestmír Kožíšek st."},null,null,null,null,{"$f":"+hlavicka!D22","v":"CZE"}]
[null,{"$f":"+hlavicka!B37","v":"TD"},{"$f":"+hlavicka!#REF!","v":{"$error":"#REF!"}},null,null,{"$f":"+hlavicka!D37","v":"CZE"},null,"B",{"$f":"+hlavicka!C23","v":"Lukáš Doležal"},null,null,null,null,{"$f":"+hlavicka!D23","v":"CZE"}]
[null,{"$f":"+hlavicka!B38","v":"ATD"},{"$f":"+hlavicka!#REF!","v":{"$error":"#REF!"}},null,null,{"$f":"+hlavicka!D38","v":"CZE"},null,"C",{"$f":"+hlavicka!C24","v":"Michal Šváb"},null,null,null,null,{"$f":"+hlavicka!D24","v":"CZE"}]
[null,{"$f":"+hlavicka!B39","v":"ZRS"},{"$f":"+hlavicka!C39","v":0},null,null,{"$f":"+hlavicka!D39","v":0},null,"D",{"$f":"+hlavicka!C25","v":0},null,null,null,null,{"$f":"+hlavicka!D25","v":"CZE"}]
[null,{"$f":"+hlavicka!B40","v":"ZZ"},{"$f":"+hlavicka!C40","v":0},null,null,{"$f":"+hlavicka!D40","v":0},null,"E",{"$f":"+hlavicka!C26","v":0},null,null,null,null,{"$f":"+hlavicka!D26","v":"CZE"}]
[null,"po","st.","jméno","roč.","skok","stylové hodnocení",null,null,null,null,"body",null,null,"časová"]
[null,"ř.","č.","klub","stát","m","A","B","C","D","E","m","st.","celk.","ztráta"]
[1,{"$f":"VLOOKUP(A13,počty!$G$6:$BM$65,41,0)","v":1},{"$f":"VLOOKUP(A13,počty!$G$6:$BM$65,8,0)","v":22},{"$f":"VLOOKUP(A13,počty!$G$6:$BM$65,9,0)","v":"Sankot Antonín"},{"$f":"VLOOKUP(A13,počty!$G$6:$BM$65,11,0)","v":"CZE"},{"$f":"VLOOKUP(A13,počty!$G$6:$BM$65,14,0)","v":12},{"$f":"VLOOKUP(A13,počty!$G$6:$BM$65,15,0)","v":14.5},{"$f":"VLOOKUP(A13,počty!$G$6:$BM$65,16,0)","v":14},{"$f":"VLOOKUP(A13,počty!$G$6:$BM$65,17,0)","v":13},{"$f":"VLOOKUP(A13,počty!$G$6:$BM$65,18,0)","v":1},{"$f":"VLOOKUP(A13,počty!$G$6:$BM$65,19,0)","v":20},{"$f":"VLOOKUP(A13,počty!$G$6:$BM$65,20,0)","v":54},{"$f":"VLOOKUP(A13,počty!$G$6:$BM$65,21,0)","v":41.5},{"$f":"VLOOKUP(A13,počty!$G$6:$BM$65,22,0)","v":95.5},{"$f":"VLOOKUP(A13,počty!$G$6:$BM$65,42,0)","v":"00:00:00"}]
[2,{"$f":"VLOOKUP(A14,počty!$G$6:$BM$65,41,0)","v":1},{"$f":"VLOOKUP(A14,počty!$G$6:$BM$65,8,0)","v":13},{"$f":"VLOOKUP(A14,počty!$G$6:$BM$65,9,0)","v":"Zapadlová Sára"},{"$f":"VLOOKUP(A14,počty!$G$6:$BM$65,11,0)","v":"CZE"},{"$f":"VLOOKUP(A14,počty!$G$6:$BM$65,14,0)","v":11.5},{"$f":"VLOOKUP(A14,počty!$G$6:$BM$65,15,0)","v":15},{"$f":"VLOOKUP(A14,počty!$G$6:$BM$65,16,0)","v":15},{"$f":"VLOOKUP(A14,počty!$G$6:$BM$65,17,0)","v":14.5},{"$f":"VLOOKUP(A14,počty!$G$6:$BM$65,18,0)","v":1},{"$f":"VLOOKUP(A14,počty!$G$6:$BM$65,19,0)","v":20},{"$f":"VLOOKUP(A14,počty!$G$6:$BM$65,20,0)","v":51},{"$f":"VLOOKUP(A14,počty!$G$6:$BM$65,21,0)","v":44.5},{"$f":"VLOOKUP(A14,počty!$G$6:$BM$65,22,0)","v":95.5},{"$f":"VLOOKUP(A14,počty!$G$6:$BM$65,42,0)","v":"00:00:00"}]
[3,{"$f":"VLOOKUP(A15,počty!$G$6:$BM$65,41,0)","v":3},{"$f":"VLOOKUP(A15,počty!$G$6:$BM$65,8,0)","v":24},{"$f":"VLOOKUP(A15,počty!$G$6:$BM$65,9,0)","v":"Huráňová Karolína"},{"$f":"VLOOKUP(A15,počty!$G$6:$BM$65,11,0)","v":"CZE"},{"$f":"VLOOKUP(A15,počty!$G$6:$BM$65,14,0)","v":11.5},{"$f":"VLOOKUP(A15,počty!$G$6:$BM$65,15,0)","v":14.5},{"$f":"VLOOKUP(A15,počty!$G$6:$BM$65,16,0)","v":15},{"$f":"VLOOKUP(A15,počty!$G$6:$BM$65,17,0)","v":13.5},{"$f":"VLOOKUP(A15,počty!$G$6:$BM$65,18,0)","v":1},{"$f":"VLOOKUP(A15,počty!$G$6:$BM$65,19,0)","v":20},{"$f":"VLOOKUP(A15,počty!$G$6:$BM$65,20,0)","v":51},{"$f":"VLOOKUP(A15,počty!$G$6:$BM$65,21,0)","v":43},{"$f":"VLOOKUP(A15,počty!$G$6:$BM$65,22,0)","v":94},{"$f":"VLOOKUP(A15,počty!$G$6:$BM$65,42,0)","v":"00:00:01.800"}]
[4,{"$f":"VLOOKUP(A16,počty!$G$6:$BM$65,41,0)","v":4},{"$f":"VLOOKUP(A16,počty!$G$6:$BM$65,8,0)","v":25},{"$f":"VLOOKUP(A16,počty!$G$6:$BM$65,9,0)","v":"Ježek Jakub"},{"$f":"VLOOKUP(A16,počty!$G$6:$BM$65,11,0)","v":"CZE"},{"$f":"VLOOKUP(A16,počty!$G$6:$BM$65,14,0)","v":11},{"$f":"VLOOKUP(A16,počty!$G$6:$BM$65,15,0)","v":14.5},{"$f":"VLOOKUP(A16,počty!$G$6:$BM$65,16,0)","v":14.5},{"$f":"VLOOKUP(A16,počty!$G$6:$BM$65,17,0)","v":13},{"$f":"VLOOKUP(A16,počty!$G$6:$BM$65,18,0)","v":1},{"$f":"VLOOKUP(A16,počty!$G$6:$BM$65,19,0)","v":20},{"$f":"VLOOKUP(A16,počty!$G$6:$BM$65,20,0)","v":48},{"$f":"VLOOKUP(A16,počty!$G$6:$BM$65,21,0)","v":42},{"$f":"VLOOKUP(A16,počty!$G$6:$BM$65,22,0)","v":90},{"$f":"VLOOKUP(A16,počty!$G$6:$BM$65,42,0)","v":"00:00:06.600"}]
[5,{"$f":"VLOOKUP(A17,počty!$G$6:$BM$65,41,0)","v":5},{"$f":"VLOOKUP(A17,počty!$G$6:$BM$65,8,0)","v":23},{"$f":"VLOOKUP(A17,počty!$G$6:$BM$65,9,0)","v":"Břečka Matyáš"},{"$f":"VLOOKUP(A17,počty!$G$6:$BM$65,11,0)","v":"CZE"},{"$f":"VLOOKUP(A17,počty!$G$6:$BM$65,14,0)","v":11},{"$f":"VLOOKUP(A17,počty!$G$6:$BM$65,15,0)","v":14.5},{"$f":"VLOOKUP(A17,počty!$G$6:$BM$65,16,0)","v":14},{"$f":"VLOOKUP(A17,počty!$G$6:$BM$65,17,0)","v":13},{"$f":"VLOOKUP(A17,počty!$G$6:$BM$65,18,0)","v":1},{"$f":"VLOOKUP(A17,počty!$G$6:$BM$65,19,0)","v":20},{"$f":"VLOOKUP(A17,počty!$G$6:$BM$65,20,0)","v":48},{"$f":"VLOOKUP(A17,počty!$G$6:$BM$65,21,0)","v":41.5},{"$f":"VLOOKUP(A17,počty!$G$6:$BM$65,22,0)","v":89.5},{"$f":"VLOOKUP(A17,počty!$G$6:$BM$65,42,0)","v":"00:00:07.200"}]
[6,{"$f":"VLOOKUP(A18,počty!$G$6:$BM$65,41,0)","v":{"$error":"#N/A"}},{"$f":"VLOOKUP(A18,počty!$G$6:$BM$65,8,0)","v":{"$error":"#N/A"}},{"$f":"VLOOKUP(A18,počty!$G$6:$BM$65,9,0)","v":{"$error":"#N/A"}},{"$f":"VLOOKUP(A18,počty!$G$6:$BM$65,11,0)","v":{"$error":"#N/A"}},{"$f":"VLOOKUP(A18,počty!$G$6:$BM$65,14,0)","v":{"$error":"#N/A"}},{"$f":"VLOOKUP(A18,počty!$G$6:$BM$65,15,0)","v":{"$error":"#N/A"}},{"$f":"VLOOKUP(A18,počty!$G$6:$BM$65,16,0)","v":{"$error":"#N/A"}},{"$f":"VLOOKUP(A18,počty!$G$6:$BM$65,17,0)","v":{"$error":"#N/A"}},{"$f":"VLOOKUP(A18,počty!$G$6:$BM$65,18,0)","v":{"$error":"#N/A"}},{"$f":"VLOOKUP(A18,počty!$G$6:$BM$65,19,0)","v":{"$error":"#N/A"}},{"$f":"VLOOKUP(A18,počty!$G$6:$BM$65,20,0)","v":{"$error":"#N/A"}},{"$f":"VLOOKUP(A18,počty!$G$6:$BM$65,21,0)","v":{"$error":"#N/A"}},{"$f":"VLOOKUP(A18,počty!$G$6:$BM$65,22,0)","v":{"$error":"#N/A"}},{"$f":"VLOOKUP(A18,počty!$G$6:$BM$65,42,0)","v":{"$error":"#N/A"}}]
[7,{"$f":"VLOOKUP(A19,počty!$G$6:$BM$65,41,0)","v":{"$error":"#N/A"}},{"$f":"VLOOKUP(A19,počty!$G$6:$BM$65,8,0)","v":{"$error":"#N/A"}},{"$f":"VLOOKUP(A19,počty!$G$6:$BM$65,9,0)","v":{"$error":"#N/A"}},{"$f":"VLOOKUP(A19,počty!$G$6:$BM$65,11,0)","v":{"$error":"#N/A"}},{"$f":"VLOOKUP(A19,počty!$G$6:$BM$65,14,0)","v":{"$error":"#N/A"}},{"$f":"VLOOKUP(A19,počty!$G$6:$BM$65,15,0)","v":{"$error":"#N/A"}},{"$f":"VLOOKUP(A19,počty!$G$6:$BM$65,16,0)","v":{"$error":"#N/A"}},{"$f":"VLOOKUP(A19,počty!$G$6:$BM$65,17,0)","v":{"$error":"#N/A"}},{"$f":"VLOOKUP(A19,počty!$G$6:$BM$65,18,0)","v":{"$error":"#N/A"}},{"$f":"VLOOKUP(A19,počty!$G$6:$BM$65,19,0)","v":{"$error":"#N/A"}},{"$f":"VLOOKUP(A19,počty!$G$6:$BM$65,20,0)","v":{"$error":"#N/A"}},{"$f":"VLOOKUP(A19,počty!$G$6:$BM$65,21,0)","v":{"$error":"#N/A"}},{"$f":"VLOOKUP(A19,počty!$G$6:$BM$65,22,0)","v":{"$error":"#N/A"}},{"$f":"VLOOKUP(A19,počty!$G$6:$BM$65,42,0)","v":{"$error":"#N/A"}}]
[8,{"$f":"VLOOKUP(A20,počty!$G$6:$BM$65,41,0)","v":{"$error":"#N/A"}},{"$f":"VLOOKUP(A20,počty!$G$6:$BM$65,8,0)","v":{"$error":"#N/A"}},{"$f":"VLOOKUP(A20,počty!$G$6:$BM$65,9,0)","v":{"$error":"#N/A"}},{"$f":"VLOOKUP(A20,počty!$G$6:$BM$65,11,0)","v":{"$error":"#N/A"}},{"$f":"VLOOKUP(A20,počty!$G$6:$BM$65,14,0)","v":{"$error":"#N/A"}},{"$f":"VLOOKUP(A20,počty!$G$6:$BM$65,15,0)","v":{"$error":"#N/A"}},{"$f":"VLOOKUP(A20,počty!$G$6:$BM$65,16,0)","v":{"$error":"#N/A"}},{"$f":"VLOOKUP(A20,počty!$G$6:$BM$65,17,0)","v":{"$error":"#N/A"}},{"$f":"VLOOKUP(A20,počty!$G$6:$BM$65,18,0)","v":{"$error":"#N/A"}},{"$f":"VLOOKUP(A20,počty!$G$6:$BM$65,19,0)","v":{"$error":"#N/A"}},{"$f":"VLOOKUP(A20,počty!$G$6:$BM$65,20,0)","v":{"$error":"#N/A"}},{"$f":"VLOOKUP(A20,počty!$G$6:$BM$65,21,0)","v":{"$error":"#N/A"}},{"$f":"VLOOKUP(A20,počty!$G$6:$BM$65,22,0)","v":{"$error":"#N/A"}},{"$f":"VLOOKUP(A20,počty!$G$6:$BM$65,42,0)","v":{"$error":"#N/A"}}]
[9,{"$f":"VLOOKUP(A21,počty!$G$6:$BM$65,41,0)","v":{"$error":"#N/A"}},{"$f":"VLOOKUP(A21,počty!$G$6:$BM$65,8,0)","v":{"$error":"#N/A"}},{"$f":"VLOOKUP(A21,počty!$G$6:$BM$65,9,0)","v":{"$error":"#N/A"}},{"$f":"VLOOKUP(A21,počty!$G$6:$BM$65,11,0)","v":{"$error":"#N/A"}},{"$f":"VLOOKUP(A21,počty!$G$6:$BM$65,14,0)","v":{"$error":"#N/A"}},{"$f":"VLOOKUP(A21,počty!$G$6:$BM$65,15,0)","v":{"$error":"#N/A"}},{"$f":"VLOOKUP(A21,počty!$G$6:$BM$65,16,0)","v":{"$error":"#N/A"}},{"$f":"VLOOKUP(A21,počty!$G$6:$BM$65,17,0)","v":{"$error":"#N/A"}},{"$f":"VLOOKUP(A21,počty!$G$6:$BM$65,18,0)","v":{"$error":"#N/A"}},{"$f":"VLOOKUP(A21,počty!$G$6:$BM$65,19,0)","v":{"$error":"#N/A"}},{"$f":"VLOOKUP(A21,počty!$G$6:$BM$65,20,0)","v":{"$error":"#N/A"}},{"$f":"VLOOKUP(A21,počty!$G$6:$BM$65,21,0)","v":{"$error":"#N/A"}},{"$f":"VLOOKUP(A21,počty!$G$6:$BM$65,22,0)","v":{"$error":"#N/A"}},{"$f":"VLOOKUP(A21,počty!$G$6:$BM$65,42,0)","v":{"$error":"#N/A"}}]
[10,{"$f":"VLOOKUP(A22,počty!$G$6:$BM$65,41,0)","v":{"$error":"#N/A"}},{"$f":"VLOOKUP(A22,počty!$G$6:$BM$65,8,0)","v":{"$error":"#N/A"}},{"$f":"VLOOKUP(A22,počty!$G$6:$BM$65,9,0)","v":{"$error":"#N/A"}},{"$f":"VLOOKUP(A22,počty!$G$6:$BM$65,11,0)","v":{"$error":"#N/A"}},{"$f":"VLOOKUP(A22,počty!$G$6:$BM$65,14,0)","v":{"$error":"#N/A"}},{"$f":"VLOOKUP(A22,počty!$G$6:$BM$65,15,0)","v":{"$error":"#N/A"}},{"$f":"VLOOKUP(A22,počty!$G$6:$BM$65,16,0)","v":{"$error":"#N/A"}},{"$f":"VLOOKUP(A22,počty!$G$6:$BM$65,17,0)","v":{"$error":"#N/A"}},{"$f":"VLOOKUP(A22,počty!$G$6:$BM$65,18,0)","v":{"$error":"#N/A"}},{"$f":"VLOOKUP(A22,počty!$G$6:$BM$65,19,0)","v":{"$error":"#N/A"}},{"$f":"VLOOKUP(A22,počty!$G$6:$BM$65,20,0)","v":{"$error":"#N/A"}},{"$f":"VLOOKUP(A22,počty!$G$6:$BM$65,21,0)","v":{"$error":"#N/A"}},{"$f":"VLOOKUP(A22,počty!$G$6:$BM$65,22,0)","v":{"$error":"#N/A"}},{"$f":"VLOOKUP(A22,počty!$G$6:$BM$65,42,0)","v":{"$error":"#N/A"}}]
[11,{"$f":"VLOOKUP(A23,počty!$G$6:$BM$65,41,0)","v":{"$error":"#N/A"}},{"$f":"VLOOKUP(A23,počty!$G$6:$BM$65,8,0)","v":{"$error":"#N/A"}},{"$f":"VLOOKUP(A23,počty!$G$6:$BM$65,9,0)","v":{"$error":"#N/A"}},{"$f":"VLOOKUP(A23,počty!$G$6:$BM$65,11,0)","v":{"$error":"#N/A"}},{"$f":"VLOOKUP(A23,počty!$G$6:$BM$65,14,0)","v":{"$error":"#N/A"}},{"$f":"VLOOKUP(A23,počty!$G$6:$BM$65,15,0)","v":{"$error":"#N/A"}},{"$f":"VLOOKUP(A23,počty!$G$6:$BM$65,16,0)","v":{"$error":"#N/A"}},{"$f":"VLOOKUP(A23,počty!$G$6:$BM$65,17,0)","v":{"$error":"#N/A"}},{"$f":"VLOOKUP(A23,počty!$G$6:$BM$65,18,0)","v":{"$error":"#N/A"}},{"$f":"VLOOKUP(A23,počty!$G$6:$BM$65,19,0)","v":{"$error":"#N/A"}},{"$f":"VLOOKUP(A23,počty!$G$6:$BM$65,20,0)","v":{"$error":"#N/A"}},{"$f":"VLOOKUP(A23,počty!$G$6:$BM$65,21,0)","v":{"$error":"#N/A"}},{"$f":"VLOOKUP(A23,počty!$G$6:$BM$65,22,0)","v":{"$error":"#N/A"}},{"$f":"VLOOKUP(A23,počty!$G$6:$BM$65,42,0)","v":{"$error":"#N/A"}}]
[12,{"$f":"VLOOKUP(A24,počty!$G$6:$BM$65,41,0)","v":{"$error":"#N/A"}},{"$f":"VLOOKUP(A24,počty!$G$6:$BM$65,8,0)","v":{"$error":"#N/A"}},{"$f":"VLOOKUP(A24,počty!$G$6:$BM$65,9,0)","v":{"$error":"#N/A"}},{"$f":"VLOOKUP(A24,počty!$G$6:$BM$65,11,0)","v":{"$error":"#N/A"}},{"$f":"VLOOKUP(A24,počty!$G$6:$BM$65,14,0)","v":{"$error":"#N/A"}},{"$f":"VLOOKUP(A24,počty!$G$6:$BM$65,15,0)","v":{"$error":"#N/A"}},{"$f":"VLOOKUP(A24,počty!$G$6:$BM$65,16,0)","v":{"$error":"#N/A"}},{"$f":"VLOOKUP(A24,počty!$G$6:$BM$65,17,0)","v":{"$error":"#N/A"}},{"$f":"VLOOKUP(A24,počty!$G$6:$BM$65,18,0)","v":{"$error":"#N/A"}},{"$f":"VLOOKUP(A24,počty!$G$6:$BM$65,19,0)","v":{"$error":"#N/A"}},{"$f":"VLOOKUP(A24,počty!$G$6:$BM$65,20,0)","v":{"$error":"#N/A"}},{"$f":"VLOOKUP(A24,počty!$G$6:$BM$65,21,0)","v":{"$error":"#N/A"}},{"$f":"VLOOKUP(A24,počty!$G$6:$BM$65,22,0)","v":{"$error":"#N/A"}},{"$f":"VLOOKUP(A24,počty!$G$6:$BM$65,42,0)","v":{"$error":"#N/A"}}]
[13,{"$f":"VLOOKUP(A25,počty!$G$6:$BM$65,41,0)","v":{"$error":"#N/A"}},{"$f":"VLOOKUP(A25,počty!$G$6:$BM$65,8,0)","v":{"$error":"#N/A"}},{"$f":"VLOOKUP(A25,počty!$G$6:$BM$65,9,0)","v":{"$error":"#N/A"}},{"$f":"VLOOKUP(A25,počty!$G$6:$BM$65,11,0)","v":{"$error":"#N/A"}},{"$f":"VLOOKUP(A25,počty!$G$6:$BM$65,14,0)","v":{"$error":"#N/A"}},{"$f":"VLOOKUP(A25,počty!$G$6:$BM$65,15,0)","v":{"$error":"#N/A"}},{"$f":"VLOOKUP(A25,počty!$G$6:$BM$65,16,0)","v":{"$error":"#N/A"}},{"$f":"VLOOKUP(A25,počty!$G$6:$BM$65,17,0)","v":{"$error":"#N/A"}},{"$f":"VLOOKUP(A25,počty!$G$6:$BM$65,18,0)","v":{"$error":"#N/A"}},{"$f":"VLOOKUP(A25,počty!$G$6:$BM$65,19,0)","v":{"$error":"#N/A"}},{"$f":"VLOOKUP(A25,počty!$G$6:$BM$65,20,0)","v":{"$error":"#N/A"}},{"$f":"VLOOKUP(A25,počty!$G$6:$BM$65,21,0)","v":{"$error":"#N/A"}},{"$f":"VLOOKUP(A25,počty!$G$6:$BM$65,22,0)","v":{"$error":"#N/A"}},{"$f":"VLOOKUP(A25,počty!$G$6:$BM$65,42,0)","v":{"$error":"#N/A"}}]
[14,{"$f":"VLOOKUP(A26,počty!$G$6:$BM$65,41,0)","v":{"$error":"#N/A"}},{"$f":"VLOOKUP(A26,počty!$G$6:$BM$65,8,0)","v":{"$error":"#N/A"}},{"$f":"VLOOKUP(A26,počty!$G$6:$BM$65,9,0)","v":{"$error":"#N/A"}},{"$f":"VLOOKUP(A26,počty!$G$6:$BM$65,11,0)","v":{"$error":"#N/A"}},{"$f":"VLOOKUP(A26,počty!$G$6:$BM$65,14,0)","v":{"$error":"#N/A"}},{"$f":"VLOOKUP(A26,počty!$G$6:$BM$65,15,0)","v":{"$error":"#N/A"}},{"$f":"VLOOKUP(A26,počty!$G$6:$BM$65,16,0)","v":{"$error":"#N/A"}},{"$f":"VLOOKUP(A26,počty!$G$6:$BM$65,17,0)","v":{"$error":"#N/A"}},{"$f":"VLOOKUP(A26,počty!$G$6:$BM$65,18,0)","v":{"$error":"#N/A"}},{"$f":"VLOOKUP(A26,počty!$G$6:$BM$65,19,0)","v":{"$error":"#N/A"}},{"$f":"VLOOKUP(A26,počty!$G$6:$BM$65,20,0)","v":{"$error":"#N/A"}},{"$f":"VLOOKUP(A26,počty!$G$6:$BM$65,21,0)","v":{"$error":"#N/A"}},{"$f":"VLOOKUP(A26,počty!$G$6:$BM$65,22,0)","v":{"$error":"#N/A"}},{"$f":"VLOOKUP(A26,počty!$G$6:$BM$65,42,0)","v":{"$error":"#N/A"}}]
[15,{"$f":"VLOOKUP(A27,počty!$G$6:$BM$65,41,0)","v":{"$error":"#N/A"}},{"$f":"VLOOKUP(A27,počty!$G$6:$BM$65,8,0)","v":{"$error":"#N/A"}},{"$f":"VLOOKUP(A27,počty!$G$6:$BM$65,9,0)","v":{"$error":"#N/A"}},{"$f":"VLOOKUP(A27,počty!$G$6:$BM$65,11,0)","v":{"$error":"#N/A"}},{"$f":"VLOOKUP(A27,počty!$G$6:$BM$65,14,0)","v":{"$error":"#N/A"}},{"$f":"VLOOKUP(A27,počty!$G$6:$BM$65,15,0)","v":{"$error":"#N/A"}},{"$f":"VLOOKUP(A27,počty!$G$6:$BM$65,16,0)","v":{"$error":"#N/A"}},{"$f":"VLOOKUP(A27,počty!$G$6:$BM$65,17,0)","v":{"$error":"#N/A"}},{"$f":"VLOOKUP(A27,počty!$G$6:$BM$65,18,0)","v":{"$error":"#N/A"}},{"$f":"VLOOKUP(A27,počty!$G$6:$BM$65,19,0)","v":{"$error":"#N/A"}},{"$f":"VLOOKUP(A27,počty!$G$6:$BM$65,20,0)","v":{"$error":"#N/A"}},{"$f":"VLOOKUP(A27,počty!$G$6:$BM$65,21,0)","v":{"$error":"#N/A"}},{"$f":"VLOOKUP(A27,počty!$G$6:$BM$65,22,0)","v":{"$error":"#N/A"}},{"$f":"VLOOKUP(A27,počty!$G$6:$BM$65,42,0)","v":{"$error":"#N/A"}}]
[16,{"$f":"VLOOKUP(A28,počty!$G$6:$BM$65,41,0)","v":{"$error":"#N/A"}},{"$f":"VLOOKUP(A28,počty!$G$6:$BM$65,8,0)","v":{"$error":"#N/A"}},{"$f":"VLOOKUP(A28,počty!$G$6:$BM$65,9,0)","v":{"$error":"#N/A"}},{"$f":"VLOOKUP(A28,počty!$G$6:$BM$65,11,0)","v":{"$error":"#N/A"}},{"$f":"VLOOKUP(A28,počty!$G$6:$BM$65,14,0)","v":{"$error":"#N/A"}},{"$f":"VLOOKUP(A28,počty!$G$6:$BM$65,15,0)","v":{"$error":"#N/A"}},{"$f":"VLOOKUP(A28,počty!$G$6:$BM$65,16,0)","v":{"$error":"#N/A"}},{"$f":"VLOOKUP(A28,počty!$G$6:$BM$65,17,0)","v":{"$error":"#N/A"}},{"$f":"VLOOKUP(A28,počty!$G$6:$BM$65,18,0)","v":{"$error":"#N/A"}},{"$f":"VLOOKUP(A28,počty!$G$6:$BM$65,19,0)","v":{"$error":"#N/A"}},{"$f":"VLOOKUP(A28,počty!$G$6:$BM$65,20,0)","v":{"$error":"#N/A"}},{"$f":"VLOOKUP(A28,počty!$G$6:$BM$65,21,0)","v":{"$error":"#N/A"}},{"$f":"VLOOKUP(A28,počty!$G$6:$BM$65,22,0)","v":{"$error":"#N/A"}},{"$f":"VLOOKUP(A28,počty!$G$6:$BM$65,42,0)","v":{"$error":"#N/A"}}]
[17,{"$f":"VLOOKUP(A29,počty!$G$6:$BM$65,41,0)","v":{"$error":"#N/A"}},{"$f":"VLOOKUP(A29,počty!$G$6:$BM$65,8,0)","v":{"$error":"#N/A"}},{"$f":"VLOOKUP(A29,počty!$G$6:$BM$65,9,0)","v":{"$error":"#N/A"}},{"$f":"VLOOKUP(A29,počty!$G$6:$BM$65,11,0)","v":{"$error":"#N/A"}},{"$f":"VLOOKUP(A29,počty!$G$6:$BM$65,14,0)","v":{"$error":"#N/A"}},{"$f":"VLOOKUP(A29,počty!$G$6:$BM$65,15,0)","v":{"$error":"#N/A"}},{"$f":"VLOOKUP(A29,počty!$G$6:$BM$65,16,0)","v":{"$error":"#N/A"}},{"$f":"VLOOKUP(A29,počty!$G$6:$BM$65,17,0)","v":{"$error":"#N/A"}},{"$f":"VLOOKUP(A29,počty!$G$6:$BM$65,18,0)","v":{"$error":"#N/A"}},{"$f":"VLOOKUP(A29,počty!$G$6:$BM$65,19,0)","v":{"$error":"#N/A"}},{"$f":"VLOOKUP(A29,počty!$G$6:$BM$65,20,0)","v":{"$error":"#N/A"}},{"$f":"VLOOKUP(A29,počty!$G$6:$BM$65,21,0)","v":{"$error":"#N/A"}},{"$f":"VLOOKUP(A29,počty!$G$6:$BM$65,22,0)","v":{"$error":"#N/A"}},{"$f":"VLOOKUP(A29,počty!$G$6:$BM$65,42,0)","v":{"$error":"#N/A"}}]
[18,{"$f":"VLOOKUP(A30,počty!$G$6:$BM$65,41,0)","v":{"$error":"#N/A"}},{"$f":"VLOOKUP(A30,počty!$G$6:$BM$65,8,0)","v":{"$error":"#N/A"}},{"$f":"VLOOKUP(A30,počty!$G$6:$BM$65,9,0)","v":{"$error":"#N/A"}},{"$f":"VLOOKUP(A30,počty!$G$6:$BM$65,11,0)","v":{"$error":"#N/A"}},{"$f":"VLOOKUP(A30,počty!$G$6:$BM$65,14,0)","v":{"$error":"#N/A"}},{"$f":"VLOOKUP(A30,počty!$G$6:$BM$65,15,0)","v":{"$error":"#N/A"}},{"$f":"VLOOKUP(A30,počty!$G$6:$BM$65,16,0)","v":{"$error":"#N/A"}},{"$f":"VLOOKUP(A30,počty!$G$6:$BM$65,17,0)","v":{"$error":"#N/A"}},{"$f":"VLOOKUP(A30,počty!$G$6:$BM$65,18,0)","v":{"$error":"#N/A"}},{"$f":"VLOOKUP(A30,počty!$G$6:$BM$65,19,0)","v":{"$error":"#N/A"}},{"$f":"VLOOKUP(A30,počty!$G$6:$BM$65,20,0)","v":{"$error":"#N/A"}},{"$f":"VLOOKUP(A30,počty!$G$6:$BM$65,21,0)","v":{"$error":"#N/A"}},{"$f":"VLOOKUP(A30,počty!$G$6:$BM$65,22,0)","v":{"$error":"#N/A"}},{"$f":"VLOOKUP(A30,počty!$G$6:$BM$65,42,0)","v":{"$error":"#N/A"}}]
[19,{"$f":"VLOOKUP(A31,počty!$G$6:$BM$65,41,0)","v":{"$error":"#N/A"}},{"$f":"VLOOKUP(A31,počty!$G$6:$BM$65,8,0)","v":{"$error":"#N/A"}},{"$f":"VLOOKUP(A31,počty!$G$6:$BM$65,9,0)","v":{"$error":"#N/A"}},{"$f":"VLOOKUP(A31,počty!$G$6:$BM$65,11,0)","v":{"$error":"#N/A"}},{"$f":"VLOOKUP(A31,počty!$G$6:$BM$65,14,0)","v":{"$error":"#N/A"}},{"$f":"VLOOKUP(A31,počty!$G$6:$BM$65,15,0)","v":{"$error":"#N/A"}},{"$f":"VLOOKUP(A31,počty!$G$6:$BM$65,16,0)","v":{"$error":"#N/A"}},{"$f":"VLOOKUP(A31,počty!$G$6:$BM$65,17,0)","v":{"$error":"#N/A"}},{"$f":"VLOOKUP(A31,počty!$G$6:$BM$65,18,0)","v":{"$error":"#N/A"}},{"$f":"VLOOKUP(A31,počty!$G$6:$BM$65,19,0)","v":{"$error":"#N/A"}},{"$f":"VLOOKUP(A31,počty!$G$6:$BM$65,20,0)","v":{"$error":"#N/A"}},{"$f":"VLOOKUP(A31,počty!$G$6:$BM$65,21,0)","v":{"$error":"#N/A"}},{"$f":"VLOOKUP(A31,počty!$G$6:$BM$65,22,0)","v":{"$error":"#N/A"}},{"$f":"VLOOKUP(A31,počty!$G$6:$BM$65,42,0)","v":{"$error":"#N/A"}}]
[20,{"$f":"VLOOKUP(A32,počty!$G$6:$BM$65,41,0)","v":{"$error":"#N/A"}},{"$f":"VLOOKUP(A32,počty!$G$6:$BM$65,8,0)","v":{"$error":"#N/A"}},{"$f":"VLOOKUP(A32,počty!$G$6:$BM$65,9,0)","v":{"$error":"#N/A"}},{"$f":"VLOOKUP(A32,počty!$G$6:$BM$65,11,0)","v":{"$error":"#N/A"}},{"$f":"VLOOKUP(A32,počty!$G$6:$BM$65,14,0)","v":{"$error":"#N/A"}},{"$f":"VLOOKUP(A32,počty!$G$6:$BM$65,15,0)","v":{"$error":"#N/A"}},{"$f":"VLOOKUP(A32,počty!$G$6:$BM$65,16,0)","v":{"$error":"#N/A"}},{"$f":"VLOOKUP(A32,počty!$G$6:$BM$65,17,0)","v":{"$error":"#N/A"}},{"$f":"VLOOKUP(A32,počty!$G$6:$BM$65,18,0)","v":{"$error":"#N/A"}},{"$f":"VLOOKUP(A32,počty!$G$6:$BM$65,19,0)","v":{"$error":"#N/A"}},{"$f":"VLOOKUP(A32,počty!$G$6:$BM$65,20,0)","v":{"$error":"#N/A"}},{"$f":"VLOOKUP(A32,počty!$G$6:$BM$65,21,0)","v":{"$error":"#N/A"}},{"$f":"VLOOKUP(A32,počty!$G$6:$BM$65,22,0)","v":{"$error":"#N/A"}},{"$f":"VLOOKUP(A32,počty!$G$6:$BM$65,42,0)","v":{"$error":"#N/A"}}]
[21,{"$f":"VLOOKUP(A33,počty!$G$6:$BM$65,41,0)","v":{"$error":"#N/A"}},{"$f":"VLOOKUP(A33,počty!$G$6:$BM$65,8,0)","v":{"$error":"#N/A"}},{"$f":"VLOOKUP(A33,počty!$G$6:$BM$65,9,0)","v":{"$error":"#N/A"}},{"$f":"VLOOKUP(A33,počty!$G$6:$BM$65,11,0)","v":{"$error":"#N/A"}},{"$f":"VLOOKUP(A33,počty!$G$6:$BM$65,14,0)","v":{"$error":"#N/A"}},{"$f":"VLOOKUP(A33,počty!$G$6:$BM$65,15,0)","v":{"$error":"#N/A"}},{"$f":"VLOOKUP(A33,počty!$G$6:$BM$65,16,0)","v":{"$error":"#N/A"}},{"$f":"VLOOKUP(A33,počty!$G$6:$BM$65,17,0)","v":{"$error":"#N/A"}},{"$f":"VLOOKUP(A33,počty!$G$6:$BM$65,18,0)","v":{"$error":"#N/A"}},{"$f":"VLOOKUP(A33,počty!$G$6:$BM$65,19,0)","v":{"$error":"#N/A"}},{"$f":"VLOOKUP(A33,počty!$G$6:$BM$65,20,0)","v":{"$error":"#N/A"}},{"$f":"VLOOKUP(A33,počty!$G$6:$BM$65,21,0)","v":{"$error":"#N/A"}},{"$f":"VLOOKUP(A33,počty!$G$6:$BM$65,22,0)","v":{"$error":"#N/A"}},{"$f":"VLOOKUP(A33,počty!$G$6:$BM$65,42,0)","v":{"$error":"#N/A"}}]
[22,{"$f":"VLOOKUP(A34,počty!$G$6:$BM$65,41,0)","v":{"$error":"#N/A"}},{"$f":"VLOOKUP(A34,počty!$G$6:$BM$65,8,0)","v":{"$error":"#N/A"}},{"$f":"VLOOKUP(A34,počty!$G$6:$BM$65,9,0)","v":{"$error":"#N/A"}},{"$f":"VLOOKUP(A34,počty!$G$6:$BM$65,11,0)","v":{"$error":"#N/A"}},{"$f":"VLOOKUP(A34,počty!$G$6:$BM$65,14,0)","v":{"$error":"#N/A"}},{"$f":"VLOOKUP(A34,počty!$G$6:$BM$65,15,0)","v":{"$error":"#N/A"}},{"$f":"VLOOKUP(A34,počty!$G$6:$BM$65,16,0)","v":{"$error":"#N/A"}},{"$f":"VLOOKUP(A34,počty!$G$6:$BM$65,17,0)","v":{"$error":"#N/A"}},{"$f":"VLOOKUP(A34,počty!$G$6:$BM$65,18,0)","v":{"$error":"#N/A"}},{"$f":"VLOOKUP(A34,počty!$G$6:$BM$65,19,0)","v":{"$error":"#N/A"}},{"$f":"VLOOKUP(A34,počty!$G$6:$BM$65,20,0)","v":{"$error":"#N/A"}},{"$f":"VLOOKUP(A34,počty!$G$6:$BM$65,21,0)","v":{"$error":"#N/A"}},{"$f":"VLOOKUP(A34,počty!$G$6:$BM$65,22,0)","v":{"$error":"#N/A"}},{"$f":"VLOOKUP(A34,počty!$G$6:$BM$65,42,0)","v":{"$error":"#N/A"}}]
[23,{"$f":"VLOOKUP(A35,počty!$G$6:$BM$65,41,0)","v":{"$error":"#N/A"}},{"$f":"VLOOKUP(A35,počty!$G$6:$BM$65,8,0)","v":{"$error":"#N/A"}},{"$f":"VLOOKUP(A35,počty!$G$6:$BM$65,9,0)","v":{"$error":"#N/A"}},{"$f":"VLOOKUP(A35,počty!$G$6:$BM$65,11,0)","v":{"$error":"#N/A"}},{"$f":"VLOOKUP(A35,počty!$G$6:$BM$65,14,0)","v":{"$error":"#N/A"}},{"$f":"VLOOKUP(A35,počty!$G$6:$BM$65,15,0)","v":{"$error":"#N/A"}},{"$f":"VLOOKUP(A35,počty!$G$6:$BM$65,16,0)","v":{"$error":"#N/A"}},{"$f":"VLOOKUP(A35,počty!$G$6:$BM$65,17,0)","v":{"$error":"#N/A"}},{"$f":"VLOOKUP(A35,počty!$G$6:$BM$65,18,0)","v":{"$error":"#N/A"}},{"$f":"VLOOKUP(A35,počty!$G$6:$BM$65,19,0)","v":{"$error":"#N/A"}},{"$f":"VLOOKUP(A35,počty!$G$6:$BM$65,20,0)","v":{"$error":"#N/A"}},{"$f":"VLOOKUP(A35,počty!$G$6:$BM$65,21,0)","v":{"$error":"#N/A"}},{"$f":"VLOOKUP(A35,počty!$G$6:$BM$65,22,0)","v":{"$error":"#N/A"}},{"$f":"VLOOKUP(A35,počty!$G$6:$BM$65,42,0)","v":{"$error":"#N/A"}}]

{"sheet":"stběh","index":11,"n_rows":66,"n_cols":11,"rows_kept":66,"cut":false,"hidden":false,"merged":[]}
[null,"STARTOVNÍ LISTINA - BĚH",null,null,null,null,null,null,null,null,{"$f":"+hlavicka!C11","v":"Žáci U10M 2017-2016"}]
[null,{"$f":"+SK!B2","v":"Český pohár žactva v severské kombinaci - 2/SK"},null,null,null,null,null,null,null,null,{"$f":"+vyslSL!Q2","v":"dne: 21.11.2015"}]
[{"$f":"+hlavicka!C32-5.77546296296296E-06","v":"00:59:58.501"},{"$f":"+vyslSL!B3","v":"skok.můstek: K 13"},null,null,null,null,null,null,null,null,{"$f":"+vyslSL!Q3","v":"LSK Lomnice"}]
[null,{"$f":"+vyslSL!B4","v":"certifikát můstku č.135/C35/SL pl. do "},null,null,null,{"$f":"+vyslSL!Q4","v":"K = 60 b. +/- 6 b./m"},null,null,null,null,{"$f":"CONCATENATE(\"trať \",hlavicka!C29,\"km - \",hlavicka!C30,\"bodů/min\")","v":"trať 1km - 50bodů/min"}]
[null,"start.","jméno","klub","stát","roč.","skoky",null,"ztráta","použitá","cílový"]
[null,"číslo",null,null,null,null,"body","poř.","na vítěze","spol. vlna","čas"]
[1,{"$f":"VLOOKUP(A7,počty!$E$6:$BN$65,55,0)","v":20},{"$f":"VLOOKUP(A7,počty!$E$6:$BN$65,11,0)","v":"Sankot Antonín"},{"$f":"VLOOKUP(A7,počty!$E$6:$BN$65,12,0)","v":"Lyžařský sportovní klub Lomnice nad Popelkou"},{"$f":"VLOOKUP(A7,počty!$E$6:$BN$65,13,0)","v":"CZE"},{"$f":"VLOOKUP(A7,počty!$E$6:$BN$65,14,0)","v":2017},{"$f":"VLOOKUP(A7,počty!$E$6:$BN$65,42,0)","v":95.5},{"$f":"VLOOKUP(A7,počty!$E$6:$BN$65,43,0)","v":1},{"$f":"VLOOKUP(A7,počty!$E$6:$BN$65,44,0)","v":"00:00:00"},{"$f":"VLOOKUP(A7,počty!$E$6:$BN$65,56,0)","v":"00:00:00"}]
[2,{"$f":"VLOOKUP(A8,počty!$E$6:$BN$65,55,0)","v":21},{"$f":"VLOOKUP(A8,počty!$E$6:$BN$65,11,0)","v":"Zapadlová Sára"},{"$f":"VLOOKUP(A8,počty!$E$6:$BN$65,12,0)","v":"Lyžařský sportovní klub Lomnice nad Popelkou"},{"$f":"VLOOKUP(A8,počty!$E$6:$BN$65,13,0)","v":"CZE"},{"$f":"VLOOKUP(A8,počty!$E$6:$BN$65,14,0)","v":2016},{"$f":"VLOOKUP(A8,počty!$E$6:$BN$65,42,0)","v":95.5},{"$f":"VLOOKUP(A8,počty!$E$6:$BN$65,43,0)","v":1},{"$f":"VLOOKUP(A8,počty!$E$6:$BN$65,44,0)","v":"00:00:00"},{"$f":"VLOOKUP(A8,počty!$E$6:$BN$65,56,0)","v":"00:00:00"}]
[3,{"$f":"VLOOKUP(A9,počty!$E$6:$BN$65,55,0)","v":22},{"$f":"VLOOKUP(A9,počty!$E$6:$BN$65,11,0)","v":"Huráňová Karolína"},{"$f":"VLOOKUP(A9,počty!$E$6:$BN$65,12,0)","v":"Lyžařský sportovní klub Lomnice nad Popelkou"},{"$f":"VLOOKUP(A9,počty!$E$6:$BN$65,13,0)","v":"CZE"},{"$f":"VLOOKUP(A9,počty!$E$6:$BN$65,14,0)","v":2015},{"$f":"VLOOKUP(A9,počty!$E$6:$BN$65,42,0)","v":94},{"$f":"VLOOKUP(A9,počty!$E$6:$BN$65,43,0)","v":3},{"$f":"VLOOKUP(A9,počty!$E$6:$BN$65,44,0)","v":"00:00:01.800"},{"$f":"VLOOKUP(A9,počty!$E$6:$BN$65,56,0)","v":"00:00:01.800"}]
[4,{"$f":"VLOOKUP(A10,počty!$E$6:$BN$65,55,0)","v":23},{"$f":"VLOOKUP(A10,počty!$E$6:$BN$65,11,0)","v":"Ježek Jakub"},{"$f":"VLOOKUP(A10,počty!$E$6:$BN$65,12,0)","v":"Lyžařský sportovní klub Lomnice nad Popelkou"},{"$f":"VLOOKUP(A10,počty!$E$6:$BN$65,13,0)","v":"CZE"},{"$f":"VLOOKUP(A10,počty!$E$6:$BN$65,14,0)","v":2015},{"$f":"VLOOKUP(A10,počty!$E$6:$BN$65,42,0)","v":90},{"$f":"VLOOKUP(A10,počty!$E$6:$BN$65,43,0)","v":4},{"$f":"VLOOKUP(A10,počty!$E$6:$BN$65,44,0)","v":"00:00:06.600"},{"$f":"VLOOKUP(A10,počty!$E$6:$BN$65,56,0)","v":"00:00:06.600"}]
[5,{"$f":"VLOOKUP(A11,počty!$E$6:$BN$65,55,0)","v":24},{"$f":"VLOOKUP(A11,počty!$E$6:$BN$65,11,0)","v":"Břečka Matyáš"},{"$f":"VLOOKUP(A11,počty!$E$6:$BN$65,12,0)","v":"Lyžařský sportovní klub Lomnice nad Popelkou"},{"$f":"VLOOKUP(A11,počty!$E$6:$BN$65,13,0)","v":"CZE"},{"$f":"VLOOKUP(A11,počty!$E$6:$BN$65,14,0)","v":2014},{"$f":"VLOOKUP(A11,počty!$E$6:$BN$65,42,0)","v":89.5},{"$f":"VLOOKUP(A11,počty!$E$6:$BN$65,43,0)","v":5},{"$f":"VLOOKUP(A11,počty!$E$6:$BN$65,44,0)","v":"00:00:07.200"},{"$f":"VLOOKUP(A11,počty!$E$6:$BN$65,56,0)","v":"00:00:07.200"}]
[6,{"$f":"VLOOKUP(A12,počty!$E$6:$BN$65,55,0)","v":{"$error":"#N/A"}},{"$f":"VLOOKUP(A12,počty!$E$6:$BN$65,11,0)","v":{"$error":"#N/A"}},{"$f":"VLOOKUP(A12,počty!$E$6:$BN$65,12,0)","v":{"$error":"#N/A"}},{"$f":"VLOOKUP(A12,počty!$E$6:$BN$65,13,0)","v":{"$error":"#N/A"}},{"$f":"VLOOKUP(A12,počty!$E$6:$BN$65,14,0)","v":{"$error":"#N/A"}},{"$f":"VLOOKUP(A12,počty!$E$6:$BN$65,42,0)","v":{"$error":"#N/A"}},{"$f":"VLOOKUP(A12,počty!$E$6:$BN$65,43,0)","v":{"$error":"#N/A"}},{"$f":"VLOOKUP(A12,počty!$E$6:$BN$65,44,0)","v":{"$error":"#N/A"}},{"$f":"VLOOKUP(A12,počty!$E$6:$BN$65,56,0)","v":{"$error":"#N/A"}}]
[7,{"$f":"VLOOKUP(A13,počty!$E$6:$BN$65,55,0)","v":{"$error":"#N/A"}},{"$f":"VLOOKUP(A13,počty!$E$6:$BN$65,11,0)","v":{"$error":"#N/A"}},{"$f":"VLOOKUP(A13,počty!$E$6:$BN$65,12,0)","v":{"$error":"#N/A"}},{"$f":"VLOOKUP(A13,počty!$E$6:$BN$65,13,0)","v":{"$error":"#N/A"}},{"$f":"VLOOKUP(A13,počty!$E$6:$BN$65,14,0)","v":{"$error":"#N/A"}},{"$f":"VLOOKUP(A13,počty!$E$6:$BN$65,42,0)","v":{"$error":"#N/A"}},{"$f":"VLOOKUP(A13,počty!$E$6:$BN$65,43,0)","v":{"$error":"#N/A"}},{"$f":"VLOOKUP(A13,počty!$E$6:$BN$65,44,0)","v":{"$error":"#N/A"}},{"$f":"VLOOKUP(A13,počty!$E$6:$BN$65,56,0)","v":{"$error":"#N/A"}}]
[8,{"$f":"VLOOKUP(A14,počty!$E$6:$BN$65,55,0)","v":{"$error":"#N/A"}},{"$f":"VLOOKUP(A14,počty!$E$6:$BN$65,11,0)","v":{"$error":"#N/A"}},{"$f":"VLOOKUP(A14,počty!$E$6:$BN$65,12,0)","v":{"$error":"#N/A"}},{"$f":"VLOOKUP(A14,počty!$E$6:$BN$65,13,0)","v":{"$error":"#N/A"}},{"$f":"VLOOKUP(A14,počty!$E$6:$BN$65,14,0)","v":{"$error":"#N/A"}},{"$f":"VLOOKUP(A14,počty!$E$6:$BN$65,42,0)","v":{"$error":"#N/A"}},{"$f":"VLOOKUP(A14,počty!$E$6:$BN$65,43,0)","v":{"$error":"#N/A"}},{"$f":"VLOOKUP(A14,počty!$E$6:$BN$65,44,0)","v":{"$error":"#N/A"}},{"$f":"VLOOKUP(A14,počty!$E$6:$BN$65,56,0)","v":{"$error":"#N/A"}}]
[9,{"$f":"VLOOKUP(A15,počty!$E$6:$BN$65,55,0)","v":{"$error":"#N/A"}},{"$f":"VLOOKUP(A15,počty!$E$6:$BN$65,11,0)","v":{"$error":"#N/A"}},{"$f":"VLOOKUP(A15,počty!$E$6:$BN$65,12,0)","v":{"$error":"#N/A"}},{"$f":"VLOOKUP(A15,počty!$E$6:$BN$65,13,0)","v":{"$error":"#N/A"}},{"$f":"VLOOKUP(A15,počty!$E$6:$BN$65,14,0)","v":{"$error":"#N/A"}},{"$f":"VLOOKUP(A15,počty!$E$6:$BN$65,42,0)","v":{"$error":"#N/A"}},{"$f":"VLOOKUP(A15,počty!$E$6:$BN$65,43,0)","v":{"$error":"#N/A"}},{"$f":"VLOOKUP(A15,počty!$E$6:$BN$65,44,0)","v":{"$error":"#N/A"}},{"$f":"VLOOKUP(A15,počty!$E$6:$BN$65,56,0)","v":{"$error":"#N/A"}}]
[10,{"$f":"VLOOKUP(A16,počty!$E$6:$BN$65,55,0)","v":{"$error":"#N/A"}},{"$f":"VLOOKUP(A16,počty!$E$6:$BN$65,11,0)","v":{"$error":"#N/A"}},{"$f":"VLOOKUP(A16,počty!$E$6:$BN$65,12,0)","v":{"$error":"#N/A"}},{"$f":"VLOOKUP(A16,počty!$E$6:$BN$65,13,0)","v":{"$error":"#N/A"}},{"$f":"VLOOKUP(A16,počty!$E$6:$BN$65,14,0)","v":{"$error":"#N/A"}},{"$f":"VLOOKUP(A16,počty!$E$6:$BN$65,42,0)","v":{"$error":"#N/A"}},{"$f":"VLOOKUP(A16,počty!$E$6:$BN$65,43,0)","v":{"$error":"#N/A"}},{"$f":"VLOOKUP(A16,počty!$E$6:$BN$65,44,0)","v":{"$error":"#N/A"}},{"$f":"VLOOKUP(A16,počty!$E$6:$BN$65,56,0)","v":{"$error":"#N/A"}}]
[11,{"$f":"VLOOKUP(A17,počty!$E$6:$BN$65,55,0)","v":{"$error":"#N/A"}},{"$f":"VLOOKUP(A17,počty!$E$6:$BN$65,11,0)","v":{"$error":"#N/A"}},{"$f":"VLOOKUP(A17,počty!$E$6:$BN$65,12,0)","v":{"$error":"#N/A"}},{"$f":"VLOOKUP(A17,počty!$E$6:$BN$65,13,0)","v":{"$error":"#N/A"}},{"$f":"VLOOKUP(A17,počty!$E$6:$BN$65,14,0)","v":{"$error":"#N/A"}},{"$f":"VLOOKUP(A17,počty!$E$6:$BN$65,42,0)","v":{"$error":"#N/A"}},{"$f":"VLOOKUP(A17,počty!$E$6:$BN$65,43,0)","v":{"$error":"#N/A"}},{"$f":"VLOOKUP(A17,počty!$E$6:$BN$65,44,0)","v":{"$error":"#N/A"}},{"$f":"VLOOKUP(A17,počty!$E$6:$BN$65,56,0)","v":{"$error":"#N/A"}}]
[12,{"$f":"VLOOKUP(A18,počty!$E$6:$BN$65,55,0)","v":{"$error":"#N/A"}},{"$f":"VLOOKUP(A18,počty!$E$6:$BN$65,11,0)","v":{"$error":"#N/A"}},{"$f":"VLOOKUP(A18,počty!$E$6:$BN$65,12,0)","v":{"$error":"#N/A"}},{"$f":"VLOOKUP(A18,počty!$E$6:$BN$65,13,0)","v":{"$error":"#N/A"}},{"$f":"VLOOKUP(A18,počty!$E$6:$BN$65,14,0)","v":{"$error":"#N/A"}},{"$f":"VLOOKUP(A18,počty!$E$6:$BN$65,42,0)","v":{"$error":"#N/A"}},{"$f":"VLOOKUP(A18,počty!$E$6:$BN$65,43,0)","v":{"$error":"#N/A"}},{"$f":"VLOOKUP(A18,počty!$E$6:$BN$65,44,0)","v":{"$error":"#N/A"}},{"$f":"VLOOKUP(A18,počty!$E$6:$BN$65,56,0)","v":{"$error":"#N/A"}}]
[13,{"$f":"VLOOKUP(A19,počty!$E$6:$BN$65,55,0)","v":{"$error":"#N/A"}},{"$f":"VLOOKUP(A19,počty!$E$6:$BN$65,11,0)","v":{"$error":"#N/A"}},{"$f":"VLOOKUP(A19,počty!$E$6:$BN$65,12,0)","v":{"$error":"#N/A"}},{"$f":"VLOOKUP(A19,počty!$E$6:$BN$65,13,0)","v":{"$error":"#N/A"}},{"$f":"VLOOKUP(A19,počty!$E$6:$BN$65,14,0)","v":{"$error":"#N/A"}},{"$f":"VLOOKUP(A19,počty!$E$6:$BN$65,42,0)","v":{"$error":"#N/A"}},{"$f":"VLOOKUP(A19,počty!$E$6:$BN$65,43,0)","v":{"$error":"#N/A"}},{"$f":"VLOOKUP(A19,počty!$E$6:$BN$65,44,0)","v":{"$error":"#N/A"}},{"$f":"VLOOKUP(A19,počty!$E$6:$BN$65,56,0)","v":{"$error":"#N/A"}}]
[14,{"$f":"VLOOKUP(A20,počty!$E$6:$BN$65,55,0)","v":{"$error":"#N/A"}},{"$f":"VLOOKUP(A20,počty!$E$6:$BN$65,11,0)","v":{"$error":"#N/A"}},{"$f":"VLOOKUP(A20,počty!$E$6:$BN$65,12,0)","v":{"$error":"#N/A"}},{"$f":"VLOOKUP(A20,počty!$E$6:$BN$65,13,0)","v":{"$error":"#N/A"}},{"$f":"VLOOKUP(A20,počty!$E$6:$BN$65,14,0)","v":{"$error":"#N/A"}},{"$f":"VLOOKUP(A20,počty!$E$6:$BN$65,42,0)","v":{"$error":"#N/A"}},{"$f":"VLOOKUP(A20,počty!$E$6:$BN$65,43,0)","v":{"$error":"#N/A"}},{"$f":"VLOOKUP(A20,počty!$E$6:$BN$65,44,0)","v":{"$error":"#N/A"}},{"$f":"VLOOKUP(A20,počty!$E$6:$BN$65,56,0)","v":{"$error":"#N/A"}}]
[15,{"$f":"VLOOKUP(A21,počty!$E$6:$BN$65,55,0)","v":{"$error":"#N/A"}},{"$f":"VLOOKUP(A21,počty!$E$6:$BN$65,11,0)","v":{"$error":"#N/A"}},{"$f":"VLOOKUP(A21,počty!$E$6:$BN$65,12,0)","v":{"$error":"#N/A"}},{"$f":"VLOOKUP(A21,počty!$E$6:$BN$65,13,0)","v":{"$error":"#N/A"}},{"$f":"VLOOKUP(A21,počty!$E$6:$BN$65,14,0)","v":{"$error":"#N/A"}},{"$f":"VLOOKUP(A21,počty!$E$6:$BN$65,42,0)","v":{"$error":"#N/A"}},{"$f":"VLOOKUP(A21,počty!$E$6:$BN$65,43,0)","v":{"$error":"#N/A"}},{"$f":"VLOOKUP(A21,počty!$E$6:$BN$65,44,0)","v":{"$error":"#N/A"}},{"$f":"VLOOKUP(A21,počty!$E$6:$BN$65,56,0)","v":{"$error":"#N/A"}}]
[16,{"$f":"VLOOKUP(A22,počty!$E$6:$BN$65,55,0)","v":{"$error":"#N/A"}},{"$f":"VLOOKUP(A22,počty!$E$6:$BN$65,11,0)","v":{"$error":"#N/A"}},{"$f":"VLOOKUP(A22,počty!$E$6:$BN$65,12,0)","v":{"$error":"#N/A"}},{"$f":"VLOOKUP(A22,počty!$E$6:$BN$65,13,0)","v":{"$error":"#N/A"}},{"$f":"VLOOKUP(A22,počty!$E$6:$BN$65,14,0)","v":{"$error":"#N/A"}},{"$f":"VLOOKUP(A22,počty!$E$6:$BN$65,42,0)","v":{"$error":"#N/A"}},{"$f":"VLOOKUP(A22,počty!$E$6:$BN$65,43,0)","v":{"$error":"#N/A"}},{"$f":"VLOOKUP(A22,počty!$E$6:$BN$65,44,0)","v":{"$error":"#N/A"}},{"$f":"VLOOKUP(A22,počty!$E$6:$BN$65,56,0)","v":{"$error":"#N/A"}}]
[17,{"$f":"VLOOKUP(A23,počty!$E$6:$BN$65,55,0)","v":{"$error":"#N/A"}},{"$f":"VLOOKUP(A23,počty!$E$6:$BN$65,11,0)","v":{"$error":"#N/A"}},{"$f":"VLOOKUP(A23,počty!$E$6:$BN$65,12,0)","v":{"$error":"#N/A"}},{"$f":"VLOOKUP(A23,počty!$E$6:$BN$65,13,0)","v":{"$error":"#N/A"}},{"$f":"VLOOKUP(A23,počty!$E$6:$BN$65,14,0)","v":{"$error":"#N/A"}},{"$f":"VLOOKUP(A23,počty!$E$6:$BN$65,42,0)","v":{"$error":"#N/A"}},{"$f":"VLOOKUP(A23,počty!$E$6:$BN$65,43,0)","v":{"$error":"#N/A"}},{"$f":"VLOOKUP(A23,počty!$E$6:$BN$65,44,0)","v":{"$error":"#N/A"}},{"$f":"VLOOKUP(A23,počty!$E$6:$BN$65,56,0)","v":{"$error":"#N/A"}}]
[18,{"$f":"VLOOKUP(A24,počty!$E$6:$BN$65,55,0)","v":{"$error":"#N/A"}},{"$f":"VLOOKUP(A24,počty!$E$6:$BN$65,11,0)","v":{"$error":"#N/A"}},{"$f":"VLOOKUP(A24,počty!$E$6:$BN$65,12,0)","v":{"$error":"#N/A"}},{"$f":"VLOOKUP(A24,počty!$E$6:$BN$65,13,0)","v":{"$error":"#N/A"}},{"$f":"VLOOKUP(A24,počty!$E$6:$BN$65,14,0)","v":{"$error":"#N/A"}},{"$f":"VLOOKUP(A24,počty!$E$6:$BN$65,42,0)","v":{"$error":"#N/A"}},{"$f":"VLOOKUP(A24,počty!$E$6:$BN$65,43,0)","v":{"$error":"#N/A"}},{"$f":"VLOOKUP(A24,počty!$E$6:$BN$65,44,0)","v":{"$error":"#N/A"}},{"$f":"VLOOKUP(A24,počty!$E$6:$BN$65,56,0)","v":{"$error":"#N/A"}}]
[19,{"$f":"VLOOKUP(A25,počty!$E$6:$BN$65,55,0)","v":{"$error":"#N/A"}},{"$f":"VLOOKUP(A25,počty!$E$6:$BN$65,11,0)","v":{"$error":"#N/A"}},{"$f":"VLOOKUP(A25,počty!$E$6:$BN$65,12,0)","v":{"$error":"#N/A"}},{"$f":"VLOOKUP(A25,počty!$E$6:$BN$65,13,0)","v":{"$error":"#N/A"}},{"$f":"VLOOKUP(A25,počty!$E$6:$BN$65,14,0)","v":{"$error":"#N/A"}},{"$f":"VLOOKUP(A25,počty!$E$6:$BN$65,42,0)","v":{"$error":"#N/A"}},{"$f":"VLOOKUP(A25,počty!$E$6:$BN$65,43,0)","v":{"$error":"#N/A"}},{"$f":"VLOOKUP(A25,počty!$E$6:$BN$65,44,0)","v":{"$error":"#N/A"}},{"$f":"VLOOKUP(A25,počty!$E$6:$BN$65,56,0)","v":{"$error":"#N/A"}}]
[20,{"$f":"VLOOKUP(A26,počty!$E$6:$BN$65,55,0)","v":{"$error":"#N/A"}},{"$f":"VLOOKUP(A26,počty!$E$6:$BN$65,11,0)","v":{"$error":"#N/A"}},{"$f":"VLOOKUP(A26,počty!$E$6:$BN$65,12,0)","v":{"$error":"#N/A"}},{"$f":"VLOOKUP(A26,počty!$E$6:$BN$65,13,0)","v":{"$error":"#N/A"}},{"$f":"VLOOKUP(A26,počty!$E$6:$BN$65,14,0)","v":{"$error":"#N/A"}},{"$f":"VLOOKUP(A26,počty!$E$6:$BN$65,42,0)","v":{"$error":"#N/A"}},{"$f":"VLOOKUP(A26,počty!$E$6:$BN$65,43,0)","v":{"$error":"#N/A"}},{"$f":"VLOOKUP(A26,počty!$E$6:$BN$65,44,0)","v":{"$error":"#N/A"}},{"$f":"VLOOKUP(A26,počty!$E$6:$BN$65,56,0)","v":{"$error":"#N/A"}}]
[21,{"$f":"VLOOKUP(A27,počty!$E$6:$BN$65,55,0)","v":{"$error":"#N/A"}},{"$f":"VLOOKUP(A27,počty!$E$6:$BN$65,11,0)","v":{"$error":"#N/A"}},{"$f":"VLOOKUP(A27,počty!$E$6:$BN$65,12,0)","v":{"$error":"#N/A"}},{"$f":"VLOOKUP(A27,počty!$E$6:$BN$65,13,0)","v":{"$error":"#N/A"}},{"$f":"VLOOKUP(A27,počty!$E$6:$BN$65,14,0)","v":{"$error":"#N/A"}},{"$f":"VLOOKUP(A27,počty!$E$6:$BN$65,42,0)","v":{"$error":"#N/A"}},{"$f":"VLOOKUP(A27,počty!$E$6:$BN$65,43,0)","v":{"$error":"#N/A"}},{"$f":"VLOOKUP(A27,počty!$E$6:$BN$65,44,0)","v":{"$error":"#N/A"}},{"$f":"VLOOKUP(A27,počty!$E$6:$BN$65,56,0)","v":{"$error":"#N/A"}}]
[22,{"$f":"VLOOKUP(A28,počty!$E$6:$BN$65,55,0)","v":{"$error":"#N/A"}},{"$f":"VLOOKUP(A28,počty!$E$6:$BN$65,11,0)","v":{"$error":"#N/A"}},{"$f":"VLOOKUP(A28,počty!$E$6:$BN$65,12,0)","v":{"$error":"#N/A"}},{"$f":"VLOOKUP(A28,počty!$E$6:$BN$65,13,0)","v":{"$error":"#N/A"}},{"$f":"VLOOKUP(A28,počty!$E$6:$BN$65,14,0)","v":{"$error":"#N/A"}},{"$f":"VLOOKUP(A28,počty!$E$6:$BN$65,42,0)","v":{"$error":"#N/A"}},{"$f":"VLOOKUP(A28,počty!$E$6:$BN$65,43,0)","v":{"$error":"#N/A"}},{"$f":"VLOOKUP(A28,počty!$E$6:$BN$65,44,0)","v":{"$error":"#N/A"}},{"$f":"VLOOKUP(A28,počty!$E$6:$BN$65,56,0)","v":{"$error":"#N/A"}}]
[23,{"$f":"VLOOKUP(A29,počty!$E$6:$BN$65,55,0)","v":{"$error":"#N/A"}},{"$f":"VLOOKUP(A29,počty!$E$6:$BN$65,11,0)","v":{"$error":"#N/A"}},{"$f":"VLOOKUP(A29,počty!$E$6:$BN$65,12,0)","v":{"$error":"#N/A"}},{"$f":"VLOOKUP(A29,počty!$E$6:$BN$65,13,0)","v":{"$error":"#N/A"}},{"$f":"VLOOKUP(A29,počty!$E$6:$BN$65,14,0)","v":{"$error":"#N/A"}},{"$f":"VLOOKUP(A29,počty!$E$6:$BN$65,42,0)","v":{"$error":"#N/A"}},{"$f":"VLOOKUP(A29,počty!$E$6:$BN$65,43,0)","v":{"$error":"#N/A"}},{"$f":"VLOOKUP(A29,počty!$E$6:$BN$65,44,0)","v":{"$error":"#N/A"}},{"$f":"VLOOKUP(A29,počty!$E$6:$BN$65,56,0)","v":{"$error":"#N/A"}}]
[24,{"$f":"VLOOKUP(A30,počty!$E$6:$BN$65,55,0)","v":{"$error":"#N/A"}},{"$f":"VLOOKUP(A30,počty!$E$6:$BN$65,11,0)","v":{"$error":"#N/A"}},{"$f":"VLOOKUP(A30,počty!$E$6:$BN$65,12,0)","v":{"$error":"#N/A"}},{"$f":"VLOOKUP(A30,počty!$E$6:$BN$65,13,0)","v":{"$error":"#N/A"}},{"$f":"VLOOKUP(A30,počty!$E$6:$BN$65,14,0)","v":{"$error":"#N/A"}},{"$f":"VLOOKUP(A30,počty!$E$6:$BN$65,42,0)","v":{"$error":"#N/A"}},{"$f":"VLOOKUP(A30,počty!$E$6:$BN$65,43,0)","v":{"$error":"#N/A"}},{"$f":"VLOOKUP(A30,počty!$E$6:$BN$65,44,0)","v":{"$error":"#N/A"}},{"$f":"VLOOKUP(A30,počty!$E$6:$BN$65,56,0)","v":{"$error":"#N/A"}}]
[25,{"$f":"VLOOKUP(A31,počty!$E$6:$BN$65,55,0)","v":{"$error":"#N/A"}},{"$f":"VLOOKUP(A31,počty!$E$6:$BN$65,11,0)","v":{"$error":"#N/A"}},{"$f":"VLOOKUP(A31,počty!$E$6:$BN$65,12,0)","v":{"$error":"#N/A"}},{"$f":"VLOOKUP(A31,počty!$E$6:$BN$65,13,0)","v":{"$error":"#N/A"}},{"$f":"VLOOKUP(A31,počty!$E$6:$BN$65,14,0)","v":{"$error":"#N/A"}},{"$f":"VLOOKUP(A31,počty!$E$6:$BN$65,42,0)","v":{"$error":"#N/A"}},{"$f":"VLOOKUP(A31,počty!$E$6:$BN$65,43,0)","v":{"$error":"#N/A"}},{"$f":"VLOOKUP(A31,počty!$E$6:$BN$65,44,0)","v":{"$error":"#N/A"}},{"$f":"VLOOKUP(A31,počty!$E$6:$BN$65,56,0)","v":{"$error":"#N/A"}}]
[26,{"$f":"VLOOKUP(A32,počty!$E$6:$BN$65,55,0)","v":{"$error":"#N/A"}},{"$f":"VLOOKUP(A32,počty!$E$6:$BN$65,11,0)","v":{"$error":"#N/A"}},{"$f":"VLOOKUP(A32,počty!$E$6:$BN$65,12,0)","v":{"$error":"#N/A"}},{"$f":"VLOOKUP(A32,počty!$E$6:$BN$65,13,0)","v":{"$error":"#N/A"}},{"$f":"VLOOKUP(A32,počty!$E$6:$BN$65,14,0)","v":{"$error":"#N/A"}},{"$f":"VLOOKUP(A32,počty!$E$6:$BN$65,42,0)","v":{"$error":"#N/A"}},{"$f":"VLOOKUP(A32,počty!$E$6:$BN$65,43,0)","v":{"$error":"#N/A"}},{"$f":"VLOOKUP(A32,počty!$E$6:$BN$65,44,0)","v":{"$error":"#N/A"}},{"$f":"VLOOKUP(A32,počty!$E$6:$BN$65,56,0)","v":{"$error":"#N/A"}}]
[27,{"$f":"VLOOKUP(A33,počty!$E$6:$BN$65,55,0)","v":{"$error":"#N/A"}},{"$f":"VLOOKUP(A33,počty!$E$6:$BN$65,11,0)","v":{"$error":"#N/A"}},{"$f":"VLOOKUP(A33,počty!$E$6:$BN$65,12,0)","v":{"$error":"#N/A"}},{"$f":"VLOOKUP(A33,počty!$E$6:$BN$65,13,0)","v":{"$error":"#N/A"}},{"$f":"VLOOKUP(A33,počty!$E$6:$BN$65,14,0)","v":{"$error":"#N/A"}},{"$f":"VLOOKUP(A33,počty!$E$6:$BN$65,42,0)","v":{"$error":"#N/A"}},{"$f":"VLOOKUP(A33,počty!$E$6:$BN$65,43,0)","v":{"$error":"#N/A"}},{"$f":"VLOOKUP(A33,počty!$E$6:$BN$65,44,0)","v":{"$error":"#N/A"}},{"$f":"VLOOKUP(A33,počty!$E$6:$BN$65,56,0)","v":{"$error":"#N/A"}}]
[28,{"$f":"VLOOKUP(A34,počty!$E$6:$BN$65,55,0)","v":{"$error":"#N/A"}},{"$f":"VLOOKUP(A34,počty!$E$6:$BN$65,11,0)","v":{"$error":"#N/A"}},{"$f":"VLOOKUP(A34,počty!$E$6:$BN$65,12,0)","v":{"$error":"#N/A"}},{"$f":"VLOOKUP(A34,počty!$E$6:$BN$65,13,0)","v":{"$error":"#N/A"}},{"$f":"VLOOKUP(A34,počty!$E$6:$BN$65,14,0)","v":{"$error":"#N/A"}},{"$f":"VLOOKUP(A34,počty!$E$6:$BN$65,42,0)","v":{"$error":"#N/A"}},{"$f":"VLOOKUP(A34,počty!$E$6:$BN$65,43,0)","v":{"$error":"#N/A"}},{"$f":"VLOOKUP(A34,počty!$E$6:$BN$65,44,0)","v":{"$error":"#N/A"}},{"$f":"VLOOKUP(A34,počty!$E$6:$BN$65,56,0)","v":{"$error":"#N/A"}}]
[29,{"$f":"VLOOKUP(A35,počty!$E$6:$BN$65,55,0)","v":{"$error":"#N/A"}},{"$f":"VLOOKUP(A35,počty!$E$6:$BN$65,11,0)","v":{"$error":"#N/A"}},{"$f":"VLOOKUP(A35,počty!$E$6:$BN$65,12,0)","v":{"$error":"#N/A"}},{"$f":"VLOOKUP(A35,počty!$E$6:$BN$65,13,0)","v":{"$error":"#N/A"}},{"$f":"VLOOKUP(A35,počty!$E$6:$BN$65,14,0)","v":{"$error":"#N/A"}},{"$f":"VLOOKUP(A35,počty!$E$6:$BN$65,42,0)","v":{"$error":"#N/A"}},{"$f":"VLOOKUP(A35,počty!$E$6:$BN$65,43,0)","v":{"$error":"#N/A"}},{"$f":"VLOOKUP(A35,počty!$E$6:$BN$65,44,0)","v":{"$error":"#N/A"}},{"$f":"VLOOKUP(A35,počty!$E$6:$BN$65,56,0)","v":{"$error":"#N/A"}}]
[30,{"$f":"VLOOKUP(A36,počty!$E$6:$BN$65,55,0)","v":{"$error":"#N/A"}},{"$f":"VLOOKUP(A36,počty!$E$6:$BN$65,11,0)","v":{"$error":"#N/A"}},{"$f":"VLOOKUP(A36,počty!$E$6:$BN$65,12,0)","v":{"$error":"#N/A"}},{"$f":"VLOOKUP(A36,počty!$E$6:$BN$65,13,0)","v":{"$error":"#N/A"}},{"$f":"VLOOKUP(A36,počty!$E$6:$BN$65,14,0)","v":{"$error":"#N/A"}},{"$f":"VLOOKUP(A36,počty!$E$6:$BN$65,42,0)","v":{"$error":"#N/A"}},{"$f":"VLOOKUP(A36,počty!$E$6:$BN$65,43,0)","v":{"$error":"#N/A"}},{"$f":"VLOOKUP(A36,počty!$E$6:$BN$65,44,0)","v":{"$error":"#N/A"}},{"$f":"VLOOKUP(A36,počty!$E$6:$BN$65,56,0)","v":{"$error":"#N/A"}}]
[31,{"$f":"VLOOKUP(A37,počty!$E$6:$BN$65,55,0)","v":{"$error":"#N/A"}},{"$f":"VLOOKUP(A37,počty!$E$6:$BN$65,11,0)","v":{"$error":"#N/A"}},{"$f":"VLOOKUP(A37,počty!$E$6:$BN$65,12,0)","v":{"$error":"#N/A"}},{"$f":"VLOOKUP(A37,počty!$E$6:$BN$65,13,0)","v":{"$error":"#N/A"}},{"$f":"VLOOKUP(A37,počty!$E$6:$BN$65,14,0)","v":{"$error":"#N/A"}},{"$f":"VLOOKUP(A37,počty!$E$6:$BN$65,42,0)","v":{"$error":"#N/A"}},{"$f":"VLOOKUP(A37,počty!$E$6:$BN$65,43,0)","v":{"$error":"#N/A"}},{"$f":"VLOOKUP(A37,počty!$E$6:$BN$65,44,0)","v":{"$error":"#N/A"}},{"$f":"VLOOKUP(A37,počty!$E$6:$BN$65,56,0)","v":{"$error":"#N/A"}}]
[32,{"$f":"VLOOKUP(A38,počty!$E$6:$BN$65,55,0)","v":{"$error":"#N/A"}},{"$f":"VLOOKUP(A38,počty!$E$6:$BN$65,11,0)","v":{"$error":"#N/A"}},{"$f":"VLOOKUP(A38,počty!$E$6:$BN$65,12,0)","v":{"$error":"#N/A"}},{"$f":"VLOOKUP(A38,počty!$E$6:$BN$65,13,0)","v":{"$error":"#N/A"}},{"$f":"VLOOKUP(A38,počty!$E$6:$BN$65,14,0)","v":{"$error":"#N/A"}},{"$f":"VLOOKUP(A38,počty!$E$6:$BN$65,42,0)","v":{"$error":"#N/A"}},{"$f":"VLOOKUP(A38,počty!$E$6:$BN$65,43,0)","v":{"$error":"#N/A"}},{"$f":"VLOOKUP(A38,počty!$E$6:$BN$65,44,0)","v":{"$error":"#N/A"}},{"$f":"VLOOKUP(A38,počty!$E$6:$BN$65,56,0)","v":{"$error":"#N/A"}}]
[33,{"$f":"VLOOKUP(A39,počty!$E$6:$BN$65,55,0)","v":{"$error":"#N/A"}},{"$f":"VLOOKUP(A39,počty!$E$6:$BN$65,11,0)","v":{"$error":"#N/A"}},{"$f":"VLOOKUP(A39,počty!$E$6:$BN$65,12,0)","v":{"$error":"#N/A"}},{"$f":"VLOOKUP(A39,počty!$E$6:$BN$65,13,0)","v":{"$error":"#N/A"}},{"$f":"VLOOKUP(A39,počty!$E$6:$BN$65,14,0)","v":{"$error":"#N/A"}},{"$f":"VLOOKUP(A39,počty!$E$6:$BN$65,42,0)","v":{"$error":"#N/A"}},{"$f":"VLOOKUP(A39,počty!$E$6:$BN$65,43,0)","v":{"$error":"#N/A"}},{"$f":"VLOOKUP(A39,počty!$E$6:$BN$65,44,0)","v":{"$error":"#N/A"}},{"$f":"VLOOKUP(A39,počty!$E$6:$BN$65,56,0)","v":{"$error":"#N/A"}}]
[34,{"$f":"VLOOKUP(A40,počty!$E$6:$BN$65,55,0)","v":{"$error":"#N/A"}},{"$f":"VLOOKUP(A40,počty!$E$6:$BN$65,11,0)","v":{"$error":"#N/A"}},{"$f":"VLOOKUP(A40,počty!$E$6:$BN$65,12,0)","v":{"$error":"#N/A"}},{"$f":"VLOOKUP(A40,počty!$E$6:$BN$65,13,0)","v":{"$error":"#N/A"}},{"$f":"VLOOKUP(A40,počty!$E$6:$BN$65,14,0)","v":{"$error":"#N/A"}},{"$f":"VLOOKUP(A40,počty!$E$6:$BN$65,42,0)","v":{"$error":"#N/A"}},{"$f":"VLOOKUP(A40,počty!$E$6:$BN$65,43,0)","v":{"$error":"#N/A"}},{"$f":"VLOOKUP(A40,počty!$E$6:$BN$65,44,0)","v":{"$error":"#N/A"}},{"$f":"VLOOKUP(A40,počty!$E$6:$BN$65,56,0)","v":{"$error":"#N/A"}}]
[35,{"$f":"VLOOKUP(A41,počty!$E$6:$BN$65,55,0)","v":{"$error":"#N/A"}},{"$f":"VLOOKUP(A41,počty!$E$6:$BN$65,11,0)","v":{"$error":"#N/A"}},{"$f":"VLOOKUP(A41,počty!$E$6:$BN$65,12,0)","v":{"$error":"#N/A"}},{"$f":"VLOOKUP(A41,počty!$E$6:$BN$65,13,0)","v":{"$error":"#N/A"}},{"$f":"VLOOKUP(A41,počty!$E$6:$BN$65,14,0)","v":{"$error":"#N/A"}},{"$f":"VLOOKUP(A41,počty!$E$6:$BN$65,42,0)","v":{"$error":"#N/A"}},{"$f":"VLOOKUP(A41,počty!$E$6:$BN$65,43,0)","v":{"$error":"#N/A"}},{"$f":"VLOOKUP(A41,počty!$E$6:$BN$65,44,0)","v":{"$error":"#N/A"}},{"$f":"VLOOKUP(A41,počty!$E$6:$BN$65,56,0)","v":{"$error":"#N/A"}}]
[36,{"$f":"VLOOKUP(A42,počty!$E$6:$BN$65,55,0)","v":{"$error":"#N/A"}},{"$f":"VLOOKUP(A42,počty!$E$6:$BN$65,11,0)","v":{"$error":"#N/A"}},{"$f":"VLOOKUP(A42,počty!$E$6:$BN$65,12,0)","v":{"$error":"#N/A"}},{"$f":"VLOOKUP(A42,počty!$E$6:$BN$65,13,0)","v":{"$error":"#N/A"}},{"$f":"VLOOKUP(A42,počty!$E$6:$BN$65,14,0)","v":{"$error":"#N/A"}},{"$f":"VLOOKUP(A42,počty!$E$6:$BN$65,42,0)","v":{"$error":"#N/A"}},{"$f":"VLOOKUP(A42,počty!$E$6:$BN$65,43,0)","v":{"$error":"#N/A"}},{"$f":"VLOOKUP(A42,počty!$E$6:$BN$65,44,0)","v":{"$error":"#N/A"}},{"$f":"VLOOKUP(A42,počty!$E$6:$BN$65,56,0)","v":{"$error":"#N/A"}}]
[37,{"$f":"VLOOKUP(A43,počty!$E$6:$BN$65,55,0)","v":{"$error":"#N/A"}},{"$f":"VLOOKUP(A43,počty!$E$6:$BN$65,11,0)","v":{"$error":"#N/A"}},{"$f":"VLOOKUP(A43,počty!$E$6:$BN$65,12,0)","v":{"$error":"#N/A"}},{"$f":"VLOOKUP(A43,počty!$E$6:$BN$65,13,0)","v":{"$error":"#N/A"}},{"$f":"VLOOKUP(A43,počty!$E$6:$BN$65,14,0)","v":{"$error":"#N/A"}},{"$f":"VLOOKUP(A43,počty!$E$6:$BN$65,42,0)","v":{"$error":"#N/A"}},{"$f":"VLOOKUP(A43,počty!$E$6:$BN$65,43,0)","v":{"$error":"#N/A"}},{"$f":"VLOOKUP(A43,počty!$E$6:$BN$65,44,0)","v":{"$error":"#N/A"}},{"$f":"VLOOKUP(A43,počty!$E$6:$BN$65,56,0)","v":{"$error":"#N/A"}}]
[38,{"$f":"VLOOKUP(A44,počty!$E$6:$BN$65,55,0)","v":{"$error":"#N/A"}},{"$f":"VLOOKUP(A44,počty!$E$6:$BN$65,11,0)","v":{"$error":"#N/A"}},{"$f":"VLOOKUP(A44,počty!$E$6:$BN$65,12,0)","v":{"$error":"#N/A"}},{"$f":"VLOOKUP(A44,počty!$E$6:$BN$65,13,0)","v":{"$error":"#N/A"}},{"$f":"VLOOKUP(A44,počty!$E$6:$BN$65,14,0)","v":{"$error":"#N/A"}},{"$f":"VLOOKUP(A44,počty!$E$6:$BN$65,42,0)","v":{"$error":"#N/A"}},{"$f":"VLOOKUP(A44,počty!$E$6:$BN$65,43,0)","v":{"$error":"#N/A"}},{"$f":"VLOOKUP(A44,počty!$E$6:$BN$65,44,0)","v":{"$error":"#N/A"}},{"$f":"VLOOKUP(A44,počty!$E$6:$BN$65,56,0)","v":{"$error":"#N/A"}}]
[39,{"$f":"VLOOKUP(A45,počty!$E$6:$BN$65,55,0)","v":{"$error":"#N/A"}},{"$f":"VLOOKUP(A45,počty!$E$6:$BN$65,11,0)","v":{"$error":"#N/A"}},{"$f":"VLOOKUP(A45,počty!$E$6:$BN$65,12,0)","v":{"$error":"#N/A"}},{"$f":"VLOOKUP(A45,počty!$E$6:$BN$65,13,0)","v":{"$error":"#N/A"}},{"$f":"VLOOKUP(A45,počty!$E$6:$BN$65,14,0)","v":{"$error":"#N/A"}},{"$f":"VLOOKUP(A45,počty!$E$6:$BN$65,42,0)","v":{"$error":"#N/A"}},{"$f":"VLOOKUP(A45,počty!$E$6:$BN$65,43,0)","v":{"$error":"#N/A"}},{"$f":"VLOOKUP(A45,počty!$E$6:$BN$65,44,0)","v":{"$error":"#N/A"}},{"$f":"VLOOKUP(A45,počty!$E$6:$BN$65,56,0)","v":{"$error":"#N/A"}}]
[40,{"$f":"VLOOKUP(A46,počty!$E$6:$BN$65,55,0)","v":{"$error":"#N/A"}},{"$f":"VLOOKUP(A46,počty!$E$6:$BN$65,11,0)","v":{"$error":"#N/A"}},{"$f":"VLOOKUP(A46,počty!$E$6:$BN$65,12,0)","v":{"$error":"#N/A"}},{"$f":"VLOOKUP(A46,počty!$E$6:$BN$65,13,0)","v":{"$error":"#N/A"}},{"$f":"VLOOKUP(A46,počty!$E$6:$BN$65,14,0)","v":{"$error":"#N/A"}},{"$f":"VLOOKUP(A46,počty!$E$6:$BN$65,42,0)","v":{"$error":"#N/A"}},{"$f":"VLOOKUP(A46,počty!$E$6:$BN$65,43,0)","v":{"$error":"#N/A"}},{"$f":"VLOOKUP(A46,počty!$E$6:$BN$65,44,0)","v":{"$error":"#N/A"}},{"$f":"VLOOKUP(A46,počty!$E$6:$BN$65,56,0)","v":{"$error":"#N/A"}}]
[41,{"$f":"VLOOKUP(A47,počty!$E$6:$BN$65,55,0)","v":{"$error":"#N/A"}},{"$f":"VLOOKUP(A47,počty!$E$6:$BN$65,11,0)","v":{"$error":"#N/A"}},{"$f":"VLOOKUP(A47,počty!$E$6:$BN$65,12,0)","v":{"$error":"#N/A"}},{"$f":"VLOOKUP(A47,počty!$E$6:$BN$65,13,0)","v":{"$error":"#N/A"}},{"$f":"VLOOKUP(A47,počty!$E$6:$BN$65,14,0)","v":{"$error":"#N/A"}},{"$f":"VLOOKUP(A47,počty!$E$6:$BN$65,42,0)","v":{"$error":"#N/A"}},{"$f":"VLOOKUP(A47,počty!$E$6:$BN$65,43,0)","v":{"$error":"#N/A"}},{"$f":"VLOOKUP(A47,počty!$E$6:$BN$65,44,0)","v":{"$error":"#N/A"}},{"$f":"VLOOKUP(A47,počty!$E$6:$BN$65,56,0)","v":{"$error":"#N/A"}}]
[42,{"$f":"VLOOKUP(A48,počty!$E$6:$BN$65,55,0)","v":{"$error":"#N/A"}},{"$f":"VLOOKUP(A48,počty!$E$6:$BN$65,11,0)","v":{"$error":"#N/A"}},{"$f":"VLOOKUP(A48,počty!$E$6:$BN$65,12,0)","v":{"$error":"#N/A"}},{"$f":"VLOOKUP(A48,počty!$E$6:$BN$65,13,0)","v":{"$error":"#N/A"}},{"$f":"VLOOKUP(A48,počty!$E$6:$BN$65,14,0)","v":{"$error":"#N/A"}},{"$f":"VLOOKUP(A48,počty!$E$6:$BN$65,42,0)","v":{"$error":"#N/A"}},{"$f":"VLOOKUP(A48,počty!$E$6:$BN$65,43,0)","v":{"$error":"#N/A"}},{"$f":"VLOOKUP(A48,počty!$E$6:$BN$65,44,0)","v":{"$error":"#N/A"}},{"$f":"VLOOKUP(A48,počty!$E$6:$BN$65,56,0)","v":{"$error":"#N/A"}}]
[43,{"$f":"VLOOKUP(A49,počty!$E$6:$BN$65,55,0)","v":{"$error":"#N/A"}},{"$f":"VLOOKUP(A49,počty!$E$6:$BN$65,11,0)","v":{"$error":"#N/A"}},{"$f":"VLOOKUP(A49,počty!$E$6:$BN$65,12,0)","v":{"$error":"#N/A"}},{"$f":"VLOOKUP(A49,počty!$E$6:$BN$65,13,0)","v":{"$error":"#N/A"}},{"$f":"VLOOKUP(A49,počty!$E$6:$BN$65,14,0)","v":{"$error":"#N/A"}},{"$f":"VLOOKUP(A49,počty!$E$6:$BN$65,42,0)","v":{"$error":"#N/A"}},{"$f":"VLOOKUP(A49,počty!$E$6:$BN$65,43,0)","v":{"$error":"#N/A"}},{"$f":"VLOOKUP(A49,počty!$E$6:$BN$65,44,0)","v":{"$error":"#N/A"}},{"$f":"VLOOKUP(A49,počty!$E$6:$BN$65,56,0)","v":{"$error":"#N/A"}}]
[44,{"$f":"VLOOKUP(A50,počty!$E$6:$BN$65,55,0)","v":{"$error":"#N/A"}},{"$f":"VLOOKUP(A50,počty!$E$6:$BN$65,11,0)","v":{"$error":"#N/A"}},{"$f":"VLOOKUP(A50,počty!$E$6:$BN$65,12,0)","v":{"$error":"#N/A"}},{"$f":"VLOOKUP(A50,počty!$E$6:$BN$65,13,0)","v":{"$error":"#N/A"}},{"$f":"VLOOKUP(A50,počty!$E$6:$BN$65,14,0)","v":{"$error":"#N/A"}},{"$f":"VLOOKUP(A50,počty!$E$6:$BN$65,42,0)","v":{"$error":"#N/A"}},{"$f":"VLOOKUP(A50,počty!$E$6:$BN$65,43,0)","v":{"$error":"#N/A"}},{"$f":"VLOOKUP(A50,počty!$E$6:$BN$65,44,0)","v":{"$error":"#N/A"}},{"$f":"VLOOKUP(A50,počty!$E$6:$BN$65,56,0)","v":{"$error":"#N/A"}}]
[45,{"$f":"VLOOKUP(A51,počty!$E$6:$BN$65,55,0)","v":{"$error":"#N/A"}},{"$f":"VLOOKUP(A51,počty!$E$6:$BN$65,11,0)","v":{"$error":"#N/A"}},{"$f":"VLOOKUP(A51,počty!$E$6:$BN$65,12,0)","v":{"$error":"#N/A"}},{"$f":"VLOOKUP(A51,počty!$E$6:$BN$65,13,0)","v":{"$error":"#N/A"}},{"$f":"VLOOKUP(A51,počty!$E$6:$BN$65,14,0)","v":{"$error":"#N/A"}},{"$f":"VLOOKUP(A51,počty!$E$6:$BN$65,42,0)","v":{"$error":"#N/A"}},{"$f":"VLOOKUP(A51,počty!$E$6:$BN$65,43,0)","v":{"$error":"#N/A"}},{"$f":"VLOOKUP(A51,počty!$E$6:$BN$65,44,0)","v":{"$error":"#N/A"}},{"$f":"VLOOKUP(A51,počty!$E$6:$BN$65,56,0)","v":{"$error":"#N/A"}}]
[46,{"$f":"VLOOKUP(A52,počty!$E$6:$BN$65,55,0)","v":{"$error":"#N/A"}},{"$f":"VLOOKUP(A52,počty!$E$6:$BN$65,11,0)","v":{"$error":"#N/A"}},{"$f":"VLOOKUP(A52,počty!$E$6:$BN$65,12,0)","v":{"$error":"#N/A"}},{"$f":"VLOOKUP(A52,počty!$E$6:$BN$65,13,0)","v":{"$error":"#N/A"}},{"$f":"VLOOKUP(A52,počty!$E$6:$BN$65,14,0)","v":{"$error":"#N/A"}},{"$f":"VLOOKUP(A52,počty!$E$6:$BN$65,42,0)","v":{"$error":"#N/A"}},{"$f":"VLOOKUP(A52,počty!$E$6:$BN$65,43,0)","v":{"$error":"#N/A"}},{"$f":"VLOOKUP(A52,počty!$E$6:$BN$65,44,0)","v":{"$error":"#N/A"}},{"$f":"VLOOKUP(A52,počty!$E$6:$BN$65,56,0)","v":{"$error":"#N/A"}}]
[47,{"$f":"VLOOKUP(A53,počty!$E$6:$BN$65,55,0)","v":{"$error":"#N/A"}},{"$f":"VLOOKUP(A53,počty!$E$6:$BN$65,11,0)","v":{"$error":"#N/A"}},{"$f":"VLOOKUP(A53,počty!$E$6:$BN$65,12,0)","v":{"$error":"#N/A"}},{"$f":"VLOOKUP(A53,počty!$E$6:$BN$65,13,0)","v":{"$error":"#N/A"}},{"$f":"VLOOKUP(A53,počty!$E$6:$BN$65,14,0)","v":{"$error":"#N/A"}},{"$f":"VLOOKUP(A53,počty!$E$6:$BN$65,42,0)","v":{"$error":"#N/A"}},{"$f":"VLOOKUP(A53,počty!$E$6:$BN$65,43,0)","v":{"$error":"#N/A"}},{"$f":"VLOOKUP(A53,počty!$E$6:$BN$65,44,0)","v":{"$error":"#N/A"}},{"$f":"VLOOKUP(A53,počty!$E$6:$BN$65,56,0)","v":{"$error":"#N/A"}}]
[48,{"$f":"VLOOKUP(A54,počty!$E$6:$BN$65,55,0)","v":{"$error":"#N/A"}},{"$f":"VLOOKUP(A54,počty!$E$6:$BN$65,11,0)","v":{"$error":"#N/A"}},{"$f":"VLOOKUP(A54,počty!$E$6:$BN$65,12,0)","v":{"$error":"#N/A"}},{"$f":"VLOOKUP(A54,počty!$E$6:$BN$65,13,0)","v":{"$error":"#N/A"}},{"$f":"VLOOKUP(A54,počty!$E$6:$BN$65,14,0)","v":{"$error":"#N/A"}},{"$f":"VLOOKUP(A54,počty!$E$6:$BN$65,42,0)","v":{"$error":"#N/A"}},{"$f":"VLOOKUP(A54,počty!$E$6:$BN$65,43,0)","v":{"$error":"#N/A"}},{"$f":"VLOOKUP(A54,počty!$E$6:$BN$65,44,0)","v":{"$error":"#N/A"}},{"$f":"VLOOKUP(A54,počty!$E$6:$BN$65,56,0)","v":{"$error":"#N/A"}}]
[49,{"$f":"VLOOKUP(A55,počty!$E$6:$BN$65,55,0)","v":{"$error":"#N/A"}},{"$f":"VLOOKUP(A55,počty!$E$6:$BN$65,11,0)","v":{"$error":"#N/A"}},{"$f":"VLOOKUP(A55,počty!$E$6:$BN$65,12,0)","v":{"$error":"#N/A"}},{"$f":"VLOOKUP(A55,počty!$E$6:$BN$65,13,0)","v":{"$error":"#N/A"}},{"$f":"VLOOKUP(A55,počty!$E$6:$BN$65,14,0)","v":{"$error":"#N/A"}},{"$f":"VLOOKUP(A55,počty!$E$6:$BN$65,42,0)","v":{"$error":"#N/A"}},{"$f":"VLOOKUP(A55,počty!$E$6:$BN$65,43,0)","v":{"$error":"#N/A"}},{"$f":"VLOOKUP(A55,počty!$E$6:$BN$65,44,0)","v":{"$error":"#N/A"}},{"$f":"VLOOKUP(A55,počty!$E$6:$BN$65,56,0)","v":{"$error":"#N/A"}}]
[50,{"$f":"VLOOKUP(A56,počty!$E$6:$BN$65,55,0)","v":{"$error":"#N/A"}},{"$f":"VLOOKUP(A56,počty!$E$6:$BN$65,11,0)","v":{"$error":"#N/A"}},{"$f":"VLOOKUP(A56,počty!$E$6:$BN$65,12,0)","v":{"$error":"#N/A"}},{"$f":"VLOOKUP(A56,počty!$E$6:$BN$65,13,0)","v":{"$error":"#N/A"}},{"$f":"VLOOKUP(A56,počty!$E$6:$BN$65,14,0)","v":{"$error":"#N/A"}},{"$f":"VLOOKUP(A56,počty!$E$6:$BN$65,42,0)","v":{"$error":"#N/A"}},{"$f":"VLOOKUP(A56,počty!$E$6:$BN$65,43,0)","v":{"$error":"#N/A"}},{"$f":"VLOOKUP(A56,počty!$E$6:$BN$65,44,0)","v":{"$error":"#N/A"}},{"$f":"VLOOKUP(A56,počty!$E$6:$BN$65,56,0)","v":{"$error":"#N/A"}}]
[51,{"$f":"VLOOKUP(A57,počty!$E$6:$BN$65,55,0)","v":{"$error":"#N/A"}},{"$f":"VLOOKUP(A57,počty!$E$6:$BN$65,11,0)","v":{"$error":"#N/A"}},{"$f":"VLOOKUP(A57,počty!$E$6:$BN$65,12,0)","v":{"$error":"#N/A"}},{"$f":"VLOOKUP(A57,počty!$E$6:$BN$65,13,0)","v":{"$error":"#N/A"}},{"$f":"VLOOKUP(A57,počty!$E$6:$BN$65,14,0)","v":{"$error":"#N/A"}},{"$f":"VLOOKUP(A57,počty!$E$6:$BN$65,42,0)","v":{"$error":"#N/A"}},{"$f":"VLOOKUP(A57,počty!$E$6:$BN$65,43,0)","v":{"$error":"#N/A"}},{"$f":"VLOOKUP(A57,počty!$E$6:$BN$65,44,0)","v":{"$error":"#N/A"}},{"$f":"VLOOKUP(A57,počty!$E$6:$BN$65,56,0)","v":{"$error":"#N/A"}}]
[52,{"$f":"VLOOKUP(A58,počty!$E$6:$BN$65,55,0)","v":{"$error":"#N/A"}},{"$f":"VLOOKUP(A58,počty!$E$6:$BN$65,11,0)","v":{"$error":"#N/A"}},{"$f":"VLOOKUP(A58,počty!$E$6:$BN$65,12,0)","v":{"$error":"#N/A"}},{"$f":"VLOOKUP(A58,počty!$E$6:$BN$65,13,0)","v":{"$error":"#N/A"}},{"$f":"VLOOKUP(A58,počty!$E$6:$BN$65,14,0)","v":{"$error":"#N/A"}},{"$f":"VLOOKUP(A58,počty!$E$6:$BN$65,42,0)","v":{"$error":"#N/A"}},{"$f":"VLOOKUP(A58,počty!$E$6:$BN$65,43,0)","v":{"$error":"#N/A"}},{"$f":"VLOOKUP(A58,počty!$E$6:$BN$65,44,0)","v":{"$error":"#N/A"}},{"$f":"VLOOKUP(A58,počty!$E$6:$BN$65,56,0)","v":{"$error":"#N/A"}}]
[53,{"$f":"VLOOKUP(A59,počty!$E$6:$BN$65,55,0)","v":{"$error":"#N/A"}},{"$f":"VLOOKUP(A59,počty!$E$6:$BN$65,11,0)","v":{"$error":"#N/A"}},{"$f":"VLOOKUP(A59,počty!$E$6:$BN$65,12,0)","v":{"$error":"#N/A"}},{"$f":"VLOOKUP(A59,počty!$E$6:$BN$65,13,0)","v":{"$error":"#N/A"}},{"$f":"VLOOKUP(A59,počty!$E$6:$BN$65,14,0)","v":{"$error":"#N/A"}},{"$f":"VLOOKUP(A59,počty!$E$6:$BN$65,42,0)","v":{"$error":"#N/A"}},{"$f":"VLOOKUP(A59,počty!$E$6:$BN$65,43,0)","v":{"$error":"#N/A"}},{"$f":"VLOOKUP(A59,počty!$E$6:$BN$65,44,0)","v":{"$error":"#N/A"}},{"$f":"VLOOKUP(A59,počty!$E$6:$BN$65,56,0)","v":{"$error":"#N/A"}}]
[54,{"$f":"VLOOKUP(A60,počty!$E$6:$BN$65,55,0)","v":{"$error":"#N/A"}},{"$f":"VLOOKUP(A60,počty!$E$6:$BN$65,11,0)","v":{"$error":"#N/A"}},{"$f":"VLOOKUP(A60,počty!$E$6:$BN$65,12,0)","v":{"$error":"#N/A"}},{"$f":"VLOOKUP(A60,počty!$E$6:$BN$65,13,0)","v":{"$error":"#N/A"}},{"$f":"VLOOKUP(A60,počty!$E$6:$BN$65,14,0)","v":{"$error":"#N/A"}},{"$f":"VLOOKUP(A60,počty!$E$6:$BN$65,42,0)","v":{"$error":"#N/A"}},{"$f":"VLOOKUP(A60,počty!$E$6:$BN$65,43,0)","v":{"$error":"#N/A"}},{"$f":"VLOOKUP(A60,počty!$E$6:$BN$65,44,0)","v":{"$error":"#N/A"}},{"$f":"VLOOKUP(A60,počty!$E$6:$BN$65,56,0)","v":{"$error":"#N/A"}}]
[55,{"$f":"VLOOKUP(A61,počty!$E$6:$BN$65,55,0)","v":{"$error":"#N/A"}},{"$f":"VLOOKUP(A61,počty!$E$6:$BN$65,11,0)","v":{"$error":"#N/A"}},{"$f":"VLOOKUP(A61,počty!$E$6:$BN$65,12,0)","v":{"$error":"#N/A"}},{"$f":"VLOOKUP(A61,počty!$E$6:$BN$65,13,0)","v":{"$error":"#N/A"}},{"$f":"VLOOKUP(A61,počty!$E$6:$BN$65,14,0)","v":{"$error":"#N/A"}},{"$f":"VLOOKUP(A61,počty!$E$6:$BN$65,42,0)","v":{"$error":"#N/A"}},{"$f":"VLOOKUP(A61,počty!$E$6:$BN$65,43,0)","v":{"$error":"#N/A"}},{"$f":"VLOOKUP(A61,počty!$E$6:$BN$65,44,0)","v":{"$error":"#N/A"}},{"$f":"VLOOKUP(A61,počty!$E$6:$BN$65,56,0)","v":{"$error":"#N/A"}}]
[56,{"$f":"VLOOKUP(A62,počty!$E$6:$BN$65,55,0)","v":{"$error":"#N/A"}},{"$f":"VLOOKUP(A62,počty!$E$6:$BN$65,11,0)","v":{"$error":"#N/A"}},{"$f":"VLOOKUP(A62,počty!$E$6:$BN$65,12,0)","v":{"$error":"#N/A"}},{"$f":"VLOOKUP(A62,počty!$E$6:$BN$65,13,0)","v":{"$error":"#N/A"}},{"$f":"VLOOKUP(A62,počty!$E$6:$BN$65,14,0)","v":{"$error":"#N/A"}},{"$f":"VLOOKUP(A62,počty!$E$6:$BN$65,42,0)","v":{"$error":"#N/A"}},{"$f":"VLOOKUP(A62,počty!$E$6:$BN$65,43,0)","v":{"$error":"#N/A"}},{"$f":"VLOOKUP(A62,počty!$E$6:$BN$65,44,0)","v":{"$error":"#N/A"}},{"$f":"VLOOKUP(A62,počty!$E$6:$BN$65,56,0)","v":{"$error":"#N/A"}}]
[57,{"$f":"VLOOKUP(A63,počty!$E$6:$BN$65,55,0)","v":{"$error":"#N/A"}},{"$f":"VLOOKUP(A63,počty!$E$6:$BN$65,11,0)","v":{"$error":"#N/A"}},{"$f":"VLOOKUP(A63,počty!$E$6:$BN$65,12,0)","v":{"$error":"#N/A"}},{"$f":"VLOOKUP(A63,počty!$E$6:$BN$65,13,0)","v":{"$error":"#N/A"}},{"$f":"VLOOKUP(A63,počty!$E$6:$BN$65,14,0)","v":{"$error":"#N/A"}},{"$f":"VLOOKUP(A63,počty!$E$6:$BN$65,42,0)","v":{"$error":"#N/A"}},{"$f":"VLOOKUP(A63,počty!$E$6:$BN$65,43,0)","v":{"$error":"#N/A"}},{"$f":"VLOOKUP(A63,počty!$E$6:$BN$65,44,0)","v":{"$error":"#N/A"}},{"$f":"VLOOKUP(A63,počty!$E$6:$BN$65,56,0)","v":{"$error":"#N/A"}}]
[58,{"$f":"VLOOKUP(A64,počty!$E$6:$BN$65,55,0)","v":{"$error":"#N/A"}},{"$f":"VLOOKUP(A64,počty!$E$6:$BN$65,11,0)","v":{"$error":"#N/A"}},{"$f":"VLOOKUP(A64,počty!$E$6:$BN$65,12,0)","v":{"$error":"#N/A"}},{"$f":"VLOOKUP(A64,počty!$E$6:$BN$65,13,0)","v":{"$error":"#N/A"}},{"$f":"VLOOKUP(A64,počty!$E$6:$BN$65,14,0)","v":{"$error":"#N/A"}},{"$f":"VLOOKUP(A64,počty!$E$6:$BN$65,42,0)","v":{"$error":"#N/A"}},{"$f":"VLOOKUP(A64,počty!$E$6:$BN$65,43,0)","v":{"$error":"#N/A"}},{"$f":"VLOOKUP(A64,počty!$E$6:$BN$65,44,0)","v":{"$error":"#N/A"}},{"$f":"VLOOKUP(A64,počty!$E$6:$BN$65,56,0)","v":{"$error":"#N/A"}}]
[59,{"$f":"VLOOKUP(A65,počty!$E$6:$BN$65,55,0)","v":{"$error":"#N/A"}},{"$f":"VLOOKUP(A65,počty!$E$6:$BN$65,11,0)","v":{"$error":"#N/A"}},{"$f":"VLOOKUP(A65,počty!$E$6:$BN$65,12,0)","v":{"$error":"#N/A"}},{"$f":"VLOOKUP(A65,počty!$E$6:$BN$65,13,0)","v":{"$error":"#N/A"}},{"$f":"VLOOKUP(A65,počty!$E$6:$BN$65,14,0)","v":{"$error":"#N/A"}},{"$f":"VLOOKUP(A65,počty!$E$6:$BN$65,42,0)","v":{"$error":"#N/A"}},{"$f":"VLOOKUP(A65,počty!$E$6:$BN$65,43,0)","v":{"$error":"#N/A"}},{"$f":"VLOOKUP(A65,počty!$E$6:$BN$65,44,0)","v":{"$error":"#N/A"}},{"$f":"VLOOKUP(A65,počty!$E$6:$BN$65,56,0)","v":{"$error":"#N/A"}}]
[60,{"$f":"VLOOKUP(A66,počty!$E$6:$BN$65,55,0)","v":{"$error":"#N/A"}},{"$f":"VLOOKUP(A66,počty!$E$6:$BN$65,11,0)","v":{"$error":"#N/A"}},{"$f":"VLOOKUP(A66,počty!$E$6:$BN$65,12,0)","v":{"$error":"#N/A"}},{"$f":"VLOOKUP(A66,počty!$E$6:$BN$65,13,0)","v":{"$error":"#N/A"}},{"$f":"VLOOKUP(A66,počty!$E$6:$BN$65,14,0)","v":{"$error":"#N/A"}},{"$f":"VLOOKUP(A66,počty!$E$6:$BN$65,42,0)","v":{"$error":"#N/A"}},{"$f":"VLOOKUP(A66,počty!$E$6:$BN$65,43,0)","v":{"$error":"#N/A"}},{"$f":"VLOOKUP(A66,počty!$E$6:$BN$65,44,0)","v":{"$error":"#N/A"}},{"$f":"VLOOKUP(A66,počty!$E$6:$BN$65,56,0)","v":{"$error":"#N/A"}}]

{"sheet":"SK","index":12,"n_rows":80,"n_cols":13,"rows_kept":80,"cut":false,"hidden":false,"merged":[]}
[null,"Oficialní výsl. listina SEV. KOMBINACE",null,null,null,null,null,null,null,null,null,null,{"$f":"+hlavicka!C11","v":"Žáci U10M 2017-2016"}]
[null,{"$f":"CONCATENATE(+hlavicka!C33,\" - \",hlavicka!C34)","v":"Český pohár žactva v severské kombinaci - 2/SK"},null,null,null,null,null,null,null,null,null,null,{"$f":"+vyslSL!Q2","v":"dne: 21.11.2015"}]
[null,{"$f":"+vyslSL!B3","v":"skok.můstek: K 13"},null,null,null,null,null,null,null,null,null,null,{"$f":"+vyslSL!Q3","v":"LSK Lomnice"}]
[null,{"$f":"+vyslSL!B4","v":"certifikát můstku č.135/C35/SL pl. do "},null,null,null,{"$f":"+vyslSL!Q4","v":"K = 60 b. +/- 6 b./m"},null,null,null,null,null,null,{"$f":"CONCATENATE(\"trať \",hlavicka!C29,\"km - \",hlavicka!C30,\"bodů/min\")","v":"trať 1km - 50bodů/min"}]
[null,"SOUTĚŽNÍ VÝBOR",null,null,null,"ROZHODČÍ STYLU"]
[null,{"$f":"+hlavicka!B36","v":"ŘZ"},{"$f":"+hlavicka!C36","v":"Ing. Stanislav Jirásek"},null,{"$f":"+hlavicka!D36","v":"CZE"},"A",{"$f":"+hlavicka!C22","v":"Čestmír Kožíšek st."},null,null,null,null,null,{"$f":"+hlavicka!D22","v":"CZE"}]
[null,{"$f":"+hlavicka!B37","v":"TD"},"Bernat Pavel",null,{"$f":"+hlavicka!D37","v":"CZE"},"B",{"$f":"+hlavicka!C23","v":"Lukáš Doležal"},null,null,null,null,null,{"$f":"+hlavicka!D23","v":"CZE"}]
[null,{"$f":"+hlavicka!B38","v":"ATD"},"Kamil Rybář",null,{"$f":"+hlavicka!D38","v":"CZE"},"C",{"$f":"+hlavicka!C24","v":"Michal Šváb"},null,null,null,null,null,{"$f":"+hlavicka!D24","v":"CZE"}]
[null,{"$f":"+hlavicka!B39","v":"ZRS"},{"$f":"+hlavicka!C39","v":0},null,{"$f":"+hlavicka!D39","v":0},"D",{"$f":"+hlavicka!C25","v":0},null,null,null,null,null,{"$f":"+hlavicka!D25","v":"CZE"}]
[null,{"$f":"+hlavicka!B40","v":"ZZ"},{"$f":"+hlavicka!C40","v":0},null,{"$f":"+hlavicka!D40","v":0},"E",{"$f":"+hlavicka!C26","v":0},null,null,null,null,null,{"$f":"+hlavicka!D26","v":"CZE"}]
[null,"poř.","jméno","klub","stát","roč.","skoky",null,null,"běh",null,"čas","ztráta"]
[null,null,null,null,null,null,"body","poř.","ztráta","čas","poř.","v cíli","cíl"]
[1,{"$f":"IF(VLOOKUP(A13,počty!$C$6:$BL$65,50,0)>=1000,\"M\",VLOOKUP(A13,počty!$C$6:$BO$65,64,0))","v":1},{"$f":"VLOOKUP(A13,počty!$C$6:$BL$65,13,0)","v":"Sankot Antonín"},{"$f":"VLOOKUP(A13,počty!$C$6:$BL$65,14,0)","v":"Lyžařský sportovní klub Lomnice nad Popelkou"},{"$f":"VLOOKUP(A13,počty!$C$6:$BL$65,15,0)","v":"CZE"},{"$f":"VLOOKUP(A13,počty!$C$6:$BL$65,16,0)","v":2017},{"$f":"VLOOKUP(A13,počty!$C$6:$BL$65,44,0)","v":95.5},{"$f":"VLOOKUP(A13,počty!$C$6:$BL$65,45,0)","v":1},{"$f":"VLOOKUP(A13,počty!$C$6:$BL$65,46,0)","v":"00:00:00"},{"$f":"VLOOKUP(A13,počty!$C$6:$BL$65,48,0)","v":"00:05:13"},{"$f":"VLOOKUP(A13,počty!$C$6:$BL$65,49,0)","v":1},{"$f":"VLOOKUP(A13,počty!$C$6:$BL$65,47,0)","v":"00:05:13"},{"$f":"IF(B13=\"M\",\"M\",+L13-MIN(počty!$BO$6:$BO$65))","v":"00:00:00"}]
[2,{"$f":"IF(VLOOKUP(A14,počty!$C$6:$BL$65,50,0)>=1000,\"M\",VLOOKUP(A14,počty!$C$6:$BO$65,64,0))","v":2},{"$f":"VLOOKUP(A14,počty!$C$6:$BL$65,13,0)","v":"Zapadlová Sára"},{"$f":"VLOOKUP(A14,počty!$C$6:$BL$65,14,0)","v":"Lyžařský sportovní klub Lomnice nad Popelkou"},{"$f":"VLOOKUP(A14,počty!$C$6:$BL$65,15,0)","v":"CZE"},{"$f":"VLOOKUP(A14,počty!$C$6:$BL$65,16,0)","v":2016},{"$f":"VLOOKUP(A14,počty!$C$6:$BL$65,44,0)","v":95.5},{"$f":"VLOOKUP(A14,počty!$C$6:$BL$65,45,0)","v":1},{"$f":"VLOOKUP(A14,počty!$C$6:$BL$65,46,0)","v":"00:00:00"},{"$f":"VLOOKUP(A14,počty!$C$6:$BL$65,48,0)","v":"00:05:47.200"},{"$f":"VLOOKUP(A14,počty!$C$6:$BL$65,49,0)","v":2},{"$f":"VLOOKUP(A14,počty!$C$6:$BL$65,47,0)","v":"00:05:47.200"},{"$f":"IF(B14=\"M\",\"M\",+L14-MIN(počty!$BO$6:$BO$65))","v":"00:00:34.200"}]
[3,{"$f":"IF(VLOOKUP(A15,počty!$C$6:$BL$65,50,0)>=1000,\"M\",VLOOKUP(A15,počty!$C$6:$BO$65,64,0))","v":3},{"$f":"VLOOKUP(A15,počty!$C$6:$BL$65,13,0)","v":"Břečka Matyáš"},{"$f":"VLOOKUP(A15,počty!$C$6:$BL$65,14,0)","v":"Lyžařský sportovní klub Lomnice nad Popelkou"},{"$f":"VLOOKUP(A15,počty!$C$6:$BL$65,15,0)","v":"CZE"},{"$f":"VLOOKUP(A15,počty!$C$6:$BL$65,16,0)","v":2014},{"$f":"VLOOKUP(A15,počty!$C$6:$BL$65,44,0)","v":89.5},{"$f":"VLOOKUP(A15,počty!$C$6:$BL$65,45,0)","v":5},{"$f":"VLOOKUP(A15,počty!$C$6:$BL$65,46,0)","v":"00:00:07.200"},{"$f":"VLOOKUP(A15,počty!$C$6:$BL$65,48,0)","v":"00:06:07"},{"$f":"VLOOKUP(A15,počty!$C$6:$BL$65,49,0)","v":3},{"$f":"VLOOKUP(A15,počty!$C$6:$BL$65,47,0)","v":"00:06:14.200"},{"$f":"IF(B15=\"M\",\"M\",+L15-MIN(počty!$BO$6:$BO$65))","v":"00:01:01.200"}]
[4,{"$f":"IF(VLOOKUP(A16,počty!$C$6:$BL$65,50,0)>=1000,\"M\",VLOOKUP(A16,počty!$C$6:$BO$65,64,0))","v":4},{"$f":"VLOOKUP(A16,počty!$C$6:$BL$65,13,0)","v":"Huráňová Karolína"},{"$f":"VLOOKUP(A16,počty!$C$6:$BL$65,14,0)","v":"Lyžařský sportovní klub Lomnice nad Popelkou"},{"$f":"VLOOKUP(A16,počty!$C$6:$BL$65,15,0)","v":"CZE"},{"$f":"VLOOKUP(A16,počty!$C$6:$BL$65,16,0)","v":2015},{"$f":"VLOOKUP(A16,počty!$C$6:$BL$65,44,0)","v":94},{"$f":"VLOOKUP(A16,počty!$C$6:$BL$65,45,0)","v":3},{"$f":"VLOOKUP(A16,počty!$C$6:$BL$65,46,0)","v":"00:00:01.800"},{"$f":"VLOOKUP(A16,počty!$C$6:$BL$65,48,0)","v":"00:06:31"},{"$f":"VLOOKUP(A16,počty!$C$6:$BL$65,49,0)","v":4},{"$f":"VLOOKUP(A16,počty!$C$6:$BL$65,47,0)","v":"00:06:32.800"},{"$f":"IF(B16=\"M\",\"M\",+L16-MIN(počty!$BO$6:$BO$65))","v":"00:01:19.800"}]
[5,{"$f":"IF(VLOOKUP(A17,počty!$C$6:$BL$65,50,0)>=1000,\"M\",VLOOKUP(A17,počty!$C$6:$BO$65,64,0))","v":5},{"$f":"VLOOKUP(A17,počty!$C$6:$BL$65,13,0)","v":"Ježek Jakub"},{"$f":"VLOOKUP(A17,počty!$C$6:$BL$65,14,0)","v":"Lyžařský sportovní klub Lomnice nad Popelkou"},{"$f":"VLOOKUP(A17,počty!$C$6:$BL$65,15,0)","v":"CZE"},{"$f":"VLOOKUP(A17,počty!$C$6:$BL$65,16,0)","v":2015},{"$f":"VLOOKUP(A17,počty!$C$6:$BL$65,44,0)","v":90},{"$f":"VLOOKUP(A17,počty!$C$6:$BL$65,45,0)","v":4},{"$f":"VLOOKUP(A17,počty!$C$6:$BL$65,46,0)","v":"00:00:06.600"},{"$f":"VLOOKUP(A17,počty!$C$6:$BL$65,48,0)","v":"00:06:49.700"},{"$f":"VLOOKUP(A17,počty!$C$6:$BL$65,49,0)","v":5},{"$f":"VLOOKUP(A17,počty!$C$6:$BL$65,47,0)","v":"00:06:56.300"},{"$f":"IF(B17=\"M\",\"M\",+L17-MIN(počty!$BO$6:$BO$65))","v":"00:01:43.300"}]
[6,{"$f":"IF(VLOOKUP(A18,počty!$C$6:$BL$65,50,0)>=1000,\"M\",VLOOKUP(A18,počty!$C$6:$BO$65,64,0))","v":{"$error":"#N/A"}},{"$f":"VLOOKUP(A18,počty!$C$6:$BL$65,13,0)","v":{"$error":"#N/A"}},{"$f":"VLOOKUP(A18,počty!$C$6:$BL$65,14,0)","v":{"$error":"#N/A"}},{"$f":"VLOOKUP(A18,počty!$C$6:$BL$65,15,0)","v":{"$error":"#N/A"}},{"$f":"VLOOKUP(A18,počty!$C$6:$BL$65,16,0)","v":{"$error":"#N/A"}},{"$f":"VLOOKUP(A18,počty!$C$6:$BL$65,44,0)","v":{"$error":"#N/A"}},{"$f":"VLOOKUP(A18,počty!$C$6:$BL$65,45,0)","v":{"$error":"#N/A"}},{"$f":"VLOOKUP(A18,počty!$C$6:$BL$65,46,0)","v":{"$error":"#N/A"}},{"$f":"VLOOKUP(A18,počty!$C$6:$BL$65,48,0)","v":{"$error":"#N/A"}},{"$f":"VLOOKUP(A18,počty!$C$6:$BL$65,49,0)","v":{"$error":"#N/A"}},{"$f":"VLOOKUP(A18,počty!$C$6:$BL$65,47,0)","v":{"$error":"#N/A"}},{"$f":"IF(B18=\"M\",\"M\",+L18-MIN(počty!$BO$6:$BO$65))","v":{"$error":"#N/A"}}]
[7,{"$f":"IF(VLOOKUP(A19,počty!$C$6:$BL$65,50,0)>=1000,\"M\",VLOOKUP(A19,počty!$C$6:$BO$65,64,0))","v":{"$error":"#N/A"}},{"$f":"VLOOKUP(A19,počty!$C$6:$BL$65,13,0)","v":{"$error":"#N/A"}},{"$f":"VLOOKUP(A19,počty!$C$6:$BL$65,14,0)","v":{"$error":"#N/A"}},{"$f":"VLOOKUP(A19,počty!$C$6:$BL$65,15,0)","v":{"$error":"#N/A"}},{"$f":"VLOOKUP(A19,počty!$C$6:$BL$65,16,0)","v":{"$error":"#N/A"}},{"$f":"VLOOKUP(A19,počty!$C$6:$BL$65,44,0)","v":{"$error":"#N/A"}},{"$f":"VLOOKUP(A19,počty!$C$6:$BL$65,45,0)","v":{"$error":"#N/A"}},{"$f":"VLOOKUP(A19,počty!$C$6:$BL$65,46,0)","v":{"$error":"#N/A"}},{"$f":"VLOOKUP(A19,počty!$C$6:$BL$65,48,0)","v":{"$error":"#N/A"}},{"$f":"VLOOKUP(A19,počty!$C$6:$BL$65,49,0)","v":{"$error":"#N/A"}},{"$f":"VLOOKUP(A19,počty!$C$6:$BL$65,47,0)","v":{"$error":"#N/A"}},{"$f":"IF(B19=\"M\",\"M\",+L19-MIN(počty!$BO$6:$BO$65))","v":{"$error":"#N/A"}}]
[8,{"$f":"IF(VLOOKUP(A20,počty!$C$6:$BL$65,50,0)>=1000,\"M\",VLOOKUP(A20,počty!$C$6:$BO$65,64,0))","v":{"$error":"#N/A"}},{"$f":"VLOOKUP(A20,počty!$C$6:$BL$65,13,0)","v":{"$error":"#N/A"}},{"$f":"VLOOKUP(A20,počty!$C$6:$BL$65,14,0)","v":{"$error":"#N/A"}},{"$f":"VLOOKUP(A20,počty!$C$6:$BL$65,15,0)","v":{"$error":"#N/A"}},{"$f":"VLOOKUP(A20,počty!$C$6:$BL$65,16,0)","v":{"$error":"#N/A"}},{"$f":"VLOOKUP(A20,počty!$C$6:$BL$65,44,0)","v":{"$error":"#N/A"}},{"$f":"VLOOKUP(A20,počty!$C$6:$BL$65,45,0)","v":{"$error":"#N/A"}},{"$f":"VLOOKUP(A20,počty!$C$6:$BL$65,46,0)","v":{"$error":"#N/A"}},{"$f":"VLOOKUP(A20,počty!$C$6:$BL$65,48,0)","v":{"$error":"#N/A"}},{"$f":"VLOOKUP(A20,počty!$C$6:$BL$65,49,0)","v":{"$error":"#N/A"}},{"$f":"VLOOKUP(A20,počty!$C$6:$BL$65,47,0)","v":{"$error":"#N/A"}},{"$f":"IF(B20=\"M\",\"M\",+L20-MIN(počty!$BO$6:$BO$65))","v":{"$error":"#N/A"}}]
[9,{"$f":"IF(VLOOKUP(A21,počty!$C$6:$BL$65,50,0)>=1000,\"M\",VLOOKUP(A21,počty!$C$6:$BO$65,64,0))","v":{"$error":"#N/A"}},{"$f":"VLOOKUP(A21,počty!$C$6:$BL$65,13,0)","v":{"$error":"#N/A"}},{"$f":"VLOOKUP(A21,počty!$C$6:$BL$65,14,0)","v":{"$error":"#N/A"}},{"$f":"VLOOKUP(A21,počty!$C$6:$BL$65,15,0)","v":{"$error":"#N/A"}},{"$f":"VLOOKUP(A21,počty!$C$6:$BL$65,16,0)","v":{"$error":"#N/A"}},{"$f":"VLOOKUP(A21,počty!$C$6:$BL$65,44,0)","v":{"$error":"#N/A"}},{"$f":"VLOOKUP(A21,počty!$C$6:$BL$65,45,0)","v":{"$error":"#N/A"}},{"$f":"VLOOKUP(A21,počty!$C$6:$BL$65,46,0)","v":{"$error":"#N/A"}},{"$f":"VLOOKUP(A21,počty!$C$6:$BL$65,48,0)","v":{"$error":"#N/A"}},{"$f":"VLOOKUP(A21,počty!$C$6:$BL$65,49,0)","v":{"$error":"#N/A"}},{"$f":"VLOOKUP(A21,počty!$C$6:$BL$65,47,0)","v":{"$error":"#N/A"}},{"$f":"IF(B21=\"M\",\"M\",+L21-MIN(počty!$BO$6:$BO$65))","v":{"$error":"#N/A"}}]
[10,{"$f":"IF(VLOOKUP(A22,počty!$C$6:$BL$65,50,0)>=1000,\"M\",VLOOKUP(A22,počty!$C$6:$BO$65,64,0))","v":{"$error":"#N/A"}},{"$f":"VLOOKUP(A22,počty!$C$6:$BL$65,13,0)","v":{"$error":"#N/A"}},{"$f":"VLOOKUP(A22,počty!$C$6:$BL$65,14,0)","v":{"$error":"#N/A"}},{"$f":"VLOOKUP(A22,počty!$C$6:$BL$65,15,0)","v":{"$error":"#N/A"}},{"$f":"VLOOKUP(A22,počty!$C$6:$BL$65,16,0)","v":{"$error":"#N/A"}},{"$f":"VLOOKUP(A22,počty!$C$6:$BL$65,44,0)","v":{"$error":"#N/A"}},{"$f":"VLOOKUP(A22,počty!$C$6:$BL$65,45,0)","v":{"$error":"#N/A"}},{"$f":"VLOOKUP(A22,počty!$C$6:$BL$65,46,0)","v":{"$error":"#N/A"}},{"$f":"VLOOKUP(A22,počty!$C$6:$BL$65,48,0)","v":{"$error":"#N/A"}},{"$f":"VLOOKUP(A22,počty!$C$6:$BL$65,49,0)","v":{"$error":"#N/A"}},{"$f":"VLOOKUP(A22,počty!$C$6:$BL$65,47,0)","v":{"$error":"#N/A"}},{"$f":"IF(B22=\"M\",\"M\",+L22-MIN(počty!$BO$6:$BO$65))","v":{"$error":"#N/A"}}]
[11,{"$f":"IF(VLOOKUP(A23,počty!$C$6:$BL$65,50,0)>=1000,\"M\",VLOOKUP(A23,počty!$C$6:$BO$65,64,0))","v":{"$error":"#N/A"}},{"$f":"VLOOKUP(A23,počty!$C$6:$BL$65,13,0)","v":{"$error":"#N/A"}},{"$f":"VLOOKUP(A23,počty!$C$6:$BL$65,14,0)","v":{"$error":"#N/A"}},{"$f":"VLOOKUP(A23,počty!$C$6:$BL$65,15,0)","v":{"$error":"#N/A"}},{"$f":"VLOOKUP(A23,počty!$C$6:$BL$65,16,0)","v":{"$error":"#N/A"}},{"$f":"VLOOKUP(A23,počty!$C$6:$BL$65,44,0)","v":{"$error":"#N/A"}},{"$f":"VLOOKUP(A23,počty!$C$6:$BL$65,45,0)","v":{"$error":"#N/A"}},{"$f":"VLOOKUP(A23,počty!$C$6:$BL$65,46,0)","v":{"$error":"#N/A"}},{"$f":"VLOOKUP(A23,počty!$C$6:$BL$65,48,0)","v":{"$error":"#N/A"}},{"$f":"VLOOKUP(A23,počty!$C$6:$BL$65,49,0)","v":{"$error":"#N/A"}},{"$f":"VLOOKUP(A23,počty!$C$6:$BL$65,47,0)","v":{"$error":"#N/A"}},{"$f":"IF(B23=\"M\",\"M\",+L23-MIN(počty!$BO$6:$BO$65))","v":{"$error":"#N/A"}}]
[12,{"$f":"IF(VLOOKUP(A24,počty!$C$6:$BL$65,50,0)>=1000,\"M\",VLOOKUP(A24,počty!$C$6:$BO$65,64,0))","v":{"$error":"#N/A"}},{"$f":"VLOOKUP(A24,počty!$C$6:$BL$65,13,0)","v":{"$error":"#N/A"}},{"$f":"VLOOKUP(A24,počty!$C$6:$BL$65,14,0)","v":{"$error":"#N/A"}},{"$f":"VLOOKUP(A24,počty!$C$6:$BL$65,15,0)","v":{"$error":"#N/A"}},{"$f":"VLOOKUP(A24,počty!$C$6:$BL$65,16,0)","v":{"$error":"#N/A"}},{"$f":"VLOOKUP(A24,počty!$C$6:$BL$65,44,0)","v":{"$error":"#N/A"}},{"$f":"VLOOKUP(A24,počty!$C$6:$BL$65,45,0)","v":{"$error":"#N/A"}},{"$f":"VLOOKUP(A24,počty!$C$6:$BL$65,46,0)","v":{"$error":"#N/A"}},{"$f":"VLOOKUP(A24,počty!$C$6:$BL$65,48,0)","v":{"$error":"#N/A"}},{"$f":"VLOOKUP(A24,počty!$C$6:$BL$65,49,0)","v":{"$error":"#N/A"}},{"$f":"VLOOKUP(A24,počty!$C$6:$BL$65,47,0)","v":{"$error":"#N/A"}},{"$f":"IF(B24=\"M\",\"M\",+L24-MIN(počty!$BO$6:$BO$65))","v":{"$error":"#N/A"}}]
[13,{"$f":"IF(VLOOKUP(A25,počty!$C$6:$BL$65,50,0)>=1000,\"M\",VLOOKUP(A25,počty!$C$6:$BO$65,64,0))","v":{"$error":"#N/A"}},{"$f":"VLOOKUP(A25,počty!$C$6:$BL$65,13,0)","v":{"$error":"#N/A"}},{"$f":"VLOOKUP(A25,počty!$C$6:$BL$65,14,0)","v":{"$error":"#N/A"}},{"$f":"VLOOKUP(A25,počty!$C$6:$BL$65,15,0)","v":{"$error":"#N/A"}},{"$f":"VLOOKUP(A25,počty!$C$6:$BL$65,16,0)","v":{"$error":"#N/A"}},{"$f":"VLOOKUP(A25,počty!$C$6:$BL$65,44,0)","v":{"$error":"#N/A"}},{"$f":"VLOOKUP(A25,počty!$C$6:$BL$65,45,0)","v":{"$error":"#N/A"}},{"$f":"VLOOKUP(A25,počty!$C$6:$BL$65,46,0)","v":{"$error":"#N/A"}},{"$f":"VLOOKUP(A25,počty!$C$6:$BL$65,48,0)","v":{"$error":"#N/A"}},{"$f":"VLOOKUP(A25,počty!$C$6:$BL$65,49,0)","v":{"$error":"#N/A"}},{"$f":"VLOOKUP(A25,počty!$C$6:$BL$65,47,0)","v":{"$error":"#N/A"}},{"$f":"IF(B25=\"M\",\"M\",+L25-MIN(počty!$BO$6:$BO$65))","v":{"$error":"#N/A"}}]
[14,{"$f":"IF(VLOOKUP(A26,počty!$C$6:$BL$65,50,0)>=1000,\"M\",VLOOKUP(A26,počty!$C$6:$BO$65,64,0))","v":{"$error":"#N/A"}},{"$f":"VLOOKUP(A26,počty!$C$6:$BL$65,13,0)","v":{"$error":"#N/A"}},{"$f":"VLOOKUP(A26,počty!$C$6:$BL$65,14,0)","v":{"$error":"#N/A"}},{"$f":"VLOOKUP(A26,počty!$C$6:$BL$65,15,0)","v":{"$error":"#N/A"}},{"$f":"VLOOKUP(A26,počty!$C$6:$BL$65,16,0)","v":{"$error":"#N/A"}},{"$f":"VLOOKUP(A26,počty!$C$6:$BL$65,44,0)","v":{"$error":"#N/A"}},{"$f":"VLOOKUP(A26,počty!$C$6:$BL$65,45,0)","v":{"$error":"#N/A"}},{"$f":"VLOOKUP(A26,počty!$C$6:$BL$65,46,0)","v":{"$error":"#N/A"}},{"$f":"VLOOKUP(A26,počty!$C$6:$BL$65,48,0)","v":{"$error":"#N/A"}},{"$f":"VLOOKUP(A26,počty!$C$6:$BL$65,49,0)","v":{"$error":"#N/A"}},{"$f":"VLOOKUP(A26,počty!$C$6:$BL$65,47,0)","v":{"$error":"#N/A"}},{"$f":"IF(B26=\"M\",\"M\",+L26-MIN(počty!$BO$6:$BO$65))","v":{"$error":"#N/A"}}]
[15,{"$f":"IF(VLOOKUP(A27,počty!$C$6:$BL$65,50,0)>=1000,\"M\",VLOOKUP(A27,počty!$C$6:$BO$65,64,0))","v":{"$error":"#N/A"}},{"$f":"VLOOKUP(A27,počty!$C$6:$BL$65,13,0)","v":{"$error":"#N/A"}},{"$f":"VLOOKUP(A27,počty!$C$6:$BL$65,14,0)","v":{"$error":"#N/A"}},{"$f":"VLOOKUP(A27,počty!$C$6:$BL$65,15,0)","v":{"$error":"#N/A"}},{"$f":"VLOOKUP(A27,počty!$C$6:$BL$65,16,0)","v":{"$error":"#N/A"}},{"$f":"VLOOKUP(A27,počty!$C$6:$BL$65,44,0)","v":{"$error":"#N/A"}},{"$f":"VLOOKUP(A27,počty!$C$6:$BL$65,45,0)","v":{"$error":"#N/A"}},{"$f":"VLOOKUP(A27,počty!$C$6:$BL$65,46,0)","v":{"$error":"#N/A"}},{"$f":"VLOOKUP(A27,počty!$C$6:$BL$65,48,0)","v":{"$error":"#N/A"}},{"$f":"VLOOKUP(A27,počty!$C$6:$BL$65,49,0)","v":{"$error":"#N/A"}},{"$f":"VLOOKUP(A27,počty!$C$6:$BL$65,47,0)","v":{"$error":"#N/A"}},{"$f":"IF(B27=\"M\",\"M\",+L27-MIN(počty!$BO$6:$BO$65))","v":{"$error":"#N/A"}}]
[16,{"$f":"IF(VLOOKUP(A28,počty!$C$6:$BL$65,50,0)>=1000,\"M\",VLOOKUP(A28,počty!$C$6:$BO$65,64,0))","v":{"$error":"#N/A"}},{"$f":"VLOOKUP(A28,počty!$C$6:$BL$65,13,0)","v":{"$error":"#N/A"}},{"$f":"VLOOKUP(A28,počty!$C$6:$BL$65,14,0)","v":{"$error":"#N/A"}},{"$f":"VLOOKUP(A28,počty!$C$6:$BL$65,15,0)","v":{"$error":"#N/A"}},{"$f":"VLOOKUP(A28,počty!$C$6:$BL$65,16,0)","v":{"$error":"#N/A"}},{"$f":"VLOOKUP(A28,počty!$C$6:$BL$65,44,0)","v":{"$error":"#N/A"}},{"$f":"VLOOKUP(A28,počty!$C$6:$BL$65,45,0)","v":{"$error":"#N/A"}},{"$f":"VLOOKUP(A28,počty!$C$6:$BL$65,46,0)","v":{"$error":"#N/A"}},{"$f":"VLOOKUP(A28,počty!$C$6:$BL$65,48,0)","v":{"$error":"#N/A"}},{"$f":"VLOOKUP(A28,počty!$C$6:$BL$65,49,0)","v":{"$error":"#N/A"}},{"$f":"VLOOKUP(A28,počty!$C$6:$BL$65,47,0)","v":{"$error":"#N/A"}},{"$f":"IF(B28=\"M\",\"M\",+L28-MIN(počty!$BO$6:$BO$65))","v":{"$error":"#N/A"}}]
[17,{"$f":"IF(VLOOKUP(A29,počty!$C$6:$BL$65,50,0)>=1000,\"M\",VLOOKUP(A29,počty!$C$6:$BO$65,64,0))","v":{"$error":"#N/A"}},{"$f":"VLOOKUP(A29,počty!$C$6:$BL$65,13,0)","v":{"$error":"#N/A"}},{"$f":"VLOOKUP(A29,počty!$C$6:$BL$65,14,0)","v":{"$error":"#N/A"}},{"$f":"VLOOKUP(A29,počty!$C$6:$BL$65,15,0)","v":{"$error":"#N/A"}},{"$f":"VLOOKUP(A29,počty!$C$6:$BL$65,16,0)","v":{"$error":"#N/A"}},{"$f":"VLOOKUP(A29,počty!$C$6:$BL$65,44,0)","v":{"$error":"#N/A"}},{"$f":"VLOOKUP(A29,počty!$C$6:$BL$65,45,0)","v":{"$error":"#N/A"}},{"$f":"VLOOKUP(A29,počty!$C$6:$BL$65,46,0)","v":{"$error":"#N/A"}},{"$f":"VLOOKUP(A29,počty!$C$6:$BL$65,48,0)","v":{"$error":"#N/A"}},{"$f":"VLOOKUP(A29,počty!$C$6:$BL$65,49,0)","v":{"$error":"#N/A"}},{"$f":"VLOOKUP(A29,počty!$C$6:$BL$65,47,0)","v":{"$error":"#N/A"}},{"$f":"IF(B29=\"M\",\"M\",+L29-MIN(počty!$BO$6:$BO$65))","v":{"$error":"#N/A"}}]
[18,{"$f":"IF(VLOOKUP(A30,počty!$C$6:$BL$65,50,0)>=1000,\"M\",VLOOKUP(A30,počty!$C$6:$BO$65,64,0))","v":{"$error":"#N/A"}},{"$f":"VLOOKUP(A30,počty!$C$6:$BL$65,13,0)","v":{"$error":"#N/A"}},{"$f":"VLOOKUP(A30,počty!$C$6:$BL$65,14,0)","v":{"$error":"#N/A"}},{"$f":"VLOOKUP(A30,počty!$C$6:$BL$65,15,0)","v":{"$error":"#N/A"}},{"$f":"VLOOKUP(A30,počty!$C$6:$BL$65,16,0)","v":{"$error":"#N/A"}},{"$f":"VLOOKUP(A30,počty!$C$6:$BL$65,44,0)","v":{"$error":"#N/A"}},{"$f":"VLOOKUP(A30,počty!$C$6:$BL$65,45,0)","v":{"$error":"#N/A"}},{"$f":"VLOOKUP(A30,počty!$C$6:$BL$65,46,0)","v":{"$error":"#N/A"}},{"$f":"VLOOKUP(A30,počty!$C$6:$BL$65,48,0)","v":{"$error":"#N/A"}},{"$f":"VLOOKUP(A30,počty!$C$6:$BL$65,49,0)","v":{"$error":"#N/A"}},{"$f":"VLOOKUP(A30,počty!$C$6:$BL$65,47,0)","v":{"$error":"#N/A"}},{"$f":"IF(B30=\"M\",\"M\",+L30-MIN(počty!$BO$6:$BO$65))","v":{"$error":"#N/A"}}]
[19,{"$f":"IF(VLOOKUP(A31,počty!$C$6:$BL$65,50,0)>=1000,\"M\",VLOOKUP(A31,počty!$C$6:$BO$65,64,0))","v":{"$error":"#N/A"}},{"$f":"VLOOKUP(A31,počty!$C$6:$BL$65,13,0)","v":{"$error":"#N/A"}},{"$f":"VLOOKUP(A31,počty!$C$6:$BL$65,14,0)","v":{"$error":"#N/A"}},{"$f":"VLOOKUP(A31,počty!$C$6:$BL$65,15,0)","v":{"$error":"#N/A"}},{"$f":"VLOOKUP(A31,počty!$C$6:$BL$65,16,0)","v":{"$error":"#N/A"}},{"$f":"VLOOKUP(A31,počty!$C$6:$BL$65,44,0)","v":{"$error":"#N/A"}},{"$f":"VLOOKUP(A31,počty!$C$6:$BL$65,45,0)","v":{"$error":"#N/A"}},{"$f":"VLOOKUP(A31,počty!$C$6:$BL$65,46,0)","v":{"$error":"#N/A"}},{"$f":"VLOOKUP(A31,počty!$C$6:$BL$65,48,0)","v":{"$error":"#N/A"}},{"$f":"VLOOKUP(A31,počty!$C$6:$BL$65,49,0)","v":{"$error":"#N/A"}},{"$f":"VLOOKUP(A31,počty!$C$6:$BL$65,47,0)","v":{"$error":"#N/A"}},{"$f":"IF(B31=\"M\",\"M\",+L31-MIN(počty!$BO$6:$BO$65))","v":{"$error":"#N/A"}}]
[20,{"$f":"IF(VLOOKUP(A32,počty!$C$6:$BL$65,50,0)>=1000,\"M\",VLOOKUP(A32,počty!$C$6:$BO$65,64,0))","v":{"$error":"#N/A"}},{"$f":"VLOOKUP(A32,počty!$C$6:$BL$65,13,0)","v":{"$error":"#N/A"}},{"$f":"VLOOKUP(A32,počty!$C$6:$BL$65,14,0)","v":{"$error":"#N/A"}},{"$f":"VLOOKUP(A32,počty!$C$6:$BL$65,15,0)","v":{"$error":"#N/A"}},{"$f":"VLOOKUP(A32,počty!$C$6:$BL$65,16,0)","v":{"$error":"#N/A"}},{"$f":"VLOOKUP(A32,počty!$C$6:$BL$65,44,0)","v":{"$error":"#N/A"}},{"$f":"VLOOKUP(A32,počty!$C$6:$BL$65,45,0)","v":{"$error":"#N/A"}},{"$f":"VLOOKUP(A32,počty!$C$6:$BL$65,46,0)","v":{"$error":"#N/A"}},{"$f":"VLOOKUP(A32,počty!$C$6:$BL$65,48,0)","v":{"$error":"#N/A"}},{"$f":"VLOOKUP(A32,počty!$C$6:$BL$65,49,0)","v":{"$error":"#N/A"}},{"$f":"VLOOKUP(A32,počty!$C$6:$BL$65,47,0)","v":{"$error":"#N/A"}},{"$f":"IF(B32=\"M\",\"M\",+L32-MIN(počty!$BO$6:$BO$65))","v":{"$error":"#N/A"}}]
[21,{"$f":"IF(VLOOKUP(A33,počty!$C$6:$BL$65,50,0)>=1000,\"M\",VLOOKUP(A33,počty!$C$6:$BO$65,64,0))","v":{"$error":"#N/A"}},{"$f":"VLOOKUP(A33,počty!$C$6:$BL$65,13,0)","v":{"$error":"#N/A"}},{"$f":"VLOOKUP(A33,počty!$C$6:$BL$65,14,0)","v":{"$error":"#N/A"}},{"$f":"VLOOKUP(A33,počty!$C$6:$BL$65,15,0)","v":{"$error":"#N/A"}},{"$f":"VLOOKUP(A33,počty!$C$6:$BL$65,16,0)","v":{"$error":"#N/A"}},{"$f":"VLOOKUP(A33,počty!$C$6:$BL$65,44,0)","v":{"$error":"#N/A"}},{"$f":"VLOOKUP(A33,počty!$C$6:$BL$65,45,0)","v":{"$error":"#N/A"}},{"$f":"VLOOKUP(A33,počty!$C$6:$BL$65,46,0)","v":{"$error":"#N/A"}},{"$f":"VLOOKUP(A33,počty!$C$6:$BL$65,48,0)","v":{"$error":"#N/A"}},{"$f":"VLOOKUP(A33,počty!$C$6:$BL$65,49,0)","v":{"$error":"#N/A"}},{"$f":"VLOOKUP(A33,počty!$C$6:$BL$65,47,0)","v":{"$error":"#N/A"}},{"$f":"IF(B33=\"M\",\"M\",+L33-MIN(počty!$BO$6:$BO$65))","v":{"$error":"#N/A"}}]
[22,{"$f":"IF(VLOOKUP(A34,počty!$C$6:$BL$65,50,0)>=1000,\"M\",VLOOKUP(A34,počty!$C$6:$BO$65,64,0))","v":{"$error":"#N/A"}},{"$f":"VLOOKUP(A34,počty!$C$6:$BL$65,13,0)","v":{"$error":"#N/A"}},{"$f":"VLOOKUP(A34,počty!$C$6:$BL$65,14,0)","v":{"$error":"#N/A"}},{"$f":"VLOOKUP(A34,počty!$C$6:$BL$65,15,0)","v":{"$error":"#N/A"}},{"$f":"VLOOKUP(A34,počty!$C$6:$BL$65,16,0)","v":{"$error":"#N/A"}},{"$f":"VLOOKUP(A34,počty!$C$6:$BL$65,44,0)","v":{"$error":"#N/A"}},{"$f":"VLOOKUP(A34,počty!$C$6:$BL$65,45,0)","v":{"$error":"#N/A"}},{"$f":"VLOOKUP(A34,počty!$C$6:$BL$65,46,0)","v":{"$error":"#N/A"}},{"$f":"VLOOKUP(A34,počty!$C$6:$BL$65,48,0)","v":{"$error":"#N/A"}},{"$f":"VLOOKUP(A34,počty!$C$6:$BL$65,49,0)","v":{"$error":"#N/A"}},{"$f":"VLOOKUP(A34,počty!$C$6:$BL$65,47,0)","v":{"$error":"#N/A"}},{"$f":"IF(B34=\"M\",\"M\",+L34-MIN(počty!$BO$6:$BO$65))","v":{"$error":"#N/A"}}]
[23,{"$f":"IF(VLOOKUP(A35,počty!$C$6:$BL$65,50,0)>=1000,\"M\",VLOOKUP(A35,počty!$C$6:$BO$65,64,0))","v":{"$error":"#N/A"}},{"$f":"VLOOKUP(A35,počty!$C$6:$BL$65,13,0)","v":{"$error":"#N/A"}},{"$f":"VLOOKUP(A35,počty!$C$6:$BL$65,14,0)","v":{"$error":"#N/A"}},{"$f":"VLOOKUP(A35,počty!$C$6:$BL$65,15,0)","v":{"$error":"#N/A"}},{"$f":"VLOOKUP(A35,počty!$C$6:$BL$65,16,0)","v":{"$error":"#N/A"}},{"$f":"VLOOKUP(A35,počty!$C$6:$BL$65,44,0)","v":{"$error":"#N/A"}},{"$f":"VLOOKUP(A35,počty!$C$6:$BL$65,45,0)","v":{"$error":"#N/A"}},{"$f":"VLOOKUP(A35,počty!$C$6:$BL$65,46,0)","v":{"$error":"#N/A"}},{"$f":"VLOOKUP(A35,počty!$C$6:$BL$65,48,0)","v":{"$error":"#N/A"}},{"$f":"VLOOKUP(A35,počty!$C$6:$BL$65,49,0)","v":{"$error":"#N/A"}},{"$f":"VLOOKUP(A35,počty!$C$6:$BL$65,47,0)","v":{"$error":"#N/A"}},{"$f":"IF(B35=\"M\",\"M\",+L35-MIN(počty!$BO$6:$BO$65))","v":{"$error":"#N/A"}}]
[24,{"$f":"IF(VLOOKUP(A36,počty!$C$6:$BL$65,50,0)>=1000,\"M\",VLOOKUP(A36,počty!$C$6:$BO$65,64,0))","v":{"$error":"#N/A"}},{"$f":"VLOOKUP(A36,počty!$C$6:$BL$65,13,0)","v":{"$error":"#N/A"}},{"$f":"VLOOKUP(A36,počty!$C$6:$BL$65,14,0)","v":{"$error":"#N/A"}},{"$f":"VLOOKUP(A36,počty!$C$6:$BL$65,15,0)","v":{"$error":"#N/A"}},{"$f":"VLOOKUP(A36,počty!$C$6:$BL$65,16,0)","v":{"$error":"#N/A"}},{"$f":"VLOOKUP(A36,počty!$C$6:$BL$65,44,0)","v":{"$error":"#N/A"}},{"$f":"VLOOKUP(A36,počty!$C$6:$BL$65,45,0)","v":{"$error":"#N/A"}},{"$f":"VLOOKUP(A36,počty!$C$6:$BL$65,46,0)","v":{"$error":"#N/A"}},{"$f":"VLOOKUP(A36,počty!$C$6:$BL$65,48,0)","v":{"$error":"#N/A"}},{"$f":"VLOOKUP(A36,počty!$C$6:$BL$65,49,0)","v":{"$error":"#N/A"}},{"$f":"VLOOKUP(A36,počty!$C$6:$BL$65,47,0)","v":{"$error":"#N/A"}},{"$f":"IF(B36=\"M\",\"M\",+L36-MIN(počty!$BO$6:$BO$65))","v":{"$error":"#N/A"}}]
[25,{"$f":"IF(VLOOKUP(A37,počty!$C$6:$BL$65,50,0)>=1000,\"M\",VLOOKUP(A37,počty!$C$6:$BO$65,64,0))","v":{"$error":"#N/A"}},{"$f":"VLOOKUP(A37,počty!$C$6:$BL$65,13,0)","v":{"$error":"#N/A"}},{"$f":"VLOOKUP(A37,počty!$C$6:$BL$65,14,0)","v":{"$error":"#N/A"}},{"$f":"VLOOKUP(A37,počty!$C$6:$BL$65,15,0)","v":{"$error":"#N/A"}},{"$f":"VLOOKUP(A37,počty!$C$6:$BL$65,16,0)","v":{"$error":"#N/A"}},{"$f":"VLOOKUP(A37,počty!$C$6:$BL$65,44,0)","v":{"$error":"#N/A"}},{"$f":"VLOOKUP(A37,počty!$C$6:$BL$65,45,0)","v":{"$error":"#N/A"}},{"$f":"VLOOKUP(A37,počty!$C$6:$BL$65,46,0)","v":{"$error":"#N/A"}},{"$f":"VLOOKUP(A37,počty!$C$6:$BL$65,48,0)","v":{"$error":"#N/A"}},{"$f":"VLOOKUP(A37,počty!$C$6:$BL$65,49,0)","v":{"$error":"#N/A"}},{"$f":"VLOOKUP(A37,počty!$C$6:$BL$65,47,0)","v":{"$error":"#N/A"}},{"$f":"IF(B37=\"M\",\"M\",+L37-MIN(počty!$BO$6:$BO$65))","v":{"$error":"#N/A"}}]
[26,{"$f":"IF(VLOOKUP(A38,počty!$C$6:$BL$65,50,0)>=1000,\"M\",VLOOKUP(A38,počty!$C$6:$BO$65,64,0))","v":{"$error":"#N/A"}},{"$f":"VLOOKUP(A38,počty!$C$6:$BL$65,13,0)","v":{"$error":"#N/A"}},{"$f":"VLOOKUP(A38,počty!$C$6:$BL$65,14,0)","v":{"$error":"#N/A"}},{"$f":"VLOOKUP(A38,počty!$C$6:$BL$65,15,0)","v":{"$error":"#N/A"}},{"$f":"VLOOKUP(A38,počty!$C$6:$BL$65,16,0)","v":{"$error":"#N/A"}},{"$f":"VLOOKUP(A38,počty!$C$6:$BL$65,44,0)","v":{"$error":"#N/A"}},{"$f":"VLOOKUP(A38,počty!$C$6:$BL$65,45,0)","v":{"$error":"#N/A"}},{"$f":"VLOOKUP(A38,počty!$C$6:$BL$65,46,0)","v":{"$error":"#N/A"}},{"$f":"VLOOKUP(A38,počty!$C$6:$BL$65,48,0)","v":{"$error":"#N/A"}},{"$f":"VLOOKUP(A38,počty!$C$6:$BL$65,49,0)","v":{"$error":"#N/A"}},{"$f":"VLOOKUP(A38,počty!$C$6:$BL$65,47,0)","v":{"$error":"#N/A"}},{"$f":"IF(B38=\"M\",\"M\",+L38-MIN(počty!$BO$6:$BO$65))","v":{"$error":"#N/A"}}]
[27,{"$f":"IF(VLOOKUP(A39,počty!$C$6:$BL$65,50,0)>=1000,\"M\",VLOOKUP(A39,počty!$C$6:$BO$65,64,0))","v":{"$error":"#N/A"}},{"$f":"VLOOKUP(A39,počty!$C$6:$BL$65,13,0)","v":{"$error":"#N/A"}},{"$f":"VLOOKUP(A39,počty!$C$6:$BL$65,14,0)","v":{"$error":"#N/A"}},{"$f":"VLOOKUP(A39,počty!$C$6:$BL$65,15,0)","v":{"$error":"#N/A"}},{"$f":"VLOOKUP(A39,počty!$C$6:$BL$65,16,0)","v":{"$error":"#N/A"}},{"$f":"VLOOKUP(A39,počty!$C$6:$BL$65,44,0)","v":{"$error":"#N/A"}},{"$f":"VLOOKUP(A39,počty!$C$6:$BL$65,45,0)","v":{"$error":"#N/A"}},{"$f":"VLOOKUP(A39,počty!$C$6:$BL$65,46,0)","v":{"$error":"#N/A"}},{"$f":"VLOOKUP(A39,počty!$C$6:$BL$65,48,0)","v":{"$error":"#N/A"}},{"$f":"VLOOKUP(A39,počty!$C$6:$BL$65,49,0)","v":{"$error":"#N/A"}},{"$f":"VLOOKUP(A39,počty!$C$6:$BL$65,47,0)","v":{"$error":"#N/A"}},{"$f":"IF(B39=\"M\",\"M\",+L39-MIN(počty!$BO$6:$BO$65))","v":{"$error":"#N/A"}}]
[28,{"$f":"IF(VLOOKUP(A40,počty!$C$6:$BL$65,50,0)>=1000,\"M\",VLOOKUP(A40,počty!$C$6:$BO$65,64,0))","v":{"$error":"#N/A"}},{"$f":"VLOOKUP(A40,počty!$C$6:$BL$65,13,0)","v":{"$error":"#N/A"}},{"$f":"VLOOKUP(A40,počty!$C$6:$BL$65,14,0)","v":{"$error":"#N/A"}},{"$f":"VLOOKUP(A40,počty!$C$6:$BL$65,15,0)","v":{"$error":"#N/A"}},{"$f":"VLOOKUP(A40,počty!$C$6:$BL$65,16,0)","v":{"$error":"#N/A"}},{"$f":"VLOOKUP(A40,počty!$C$6:$BL$65,44,0)","v":{"$error":"#N/A"}},{"$f":"VLOOKUP(A40,počty!$C$6:$BL$65,45,0)","v":{"$error":"#N/A"}},{"$f":"VLOOKUP(A40,počty!$C$6:$BL$65,46,0)","v":{"$error":"#N/A"}},{"$f":"VLOOKUP(A40,počty!$C$6:$BL$65,48,0)","v":{"$error":"#N/A"}},{"$f":"VLOOKUP(A40,počty!$C$6:$BL$65,49,0)","v":{"$error":"#N/A"}},{"$f":"VLOOKUP(A40,počty!$C$6:$BL$65,47,0)","v":{"$error":"#N/A"}},{"$f":"IF(B40=\"M\",\"M\",+L40-MIN(počty!$BO$6:$BO$65))","v":{"$error":"#N/A"}}]
[29,{"$f":"IF(VLOOKUP(A41,počty!$C$6:$BL$65,50,0)>=1000,\"M\",VLOOKUP(A41,počty!$C$6:$BO$65,64,0))","v":{"$error":"#N/A"}},{"$f":"VLOOKUP(A41,počty!$C$6:$BL$65,13,0)","v":{"$error":"#N/A"}},{"$f":"VLOOKUP(A41,počty!$C$6:$BL$65,14,0)","v":{"$error":"#N/A"}},{"$f":"VLOOKUP(A41,počty!$C$6:$BL$65,15,0)","v":{"$error":"#N/A"}},{"$f":"VLOOKUP(A41,počty!$C$6:$BL$65,16,0)","v":{"$error":"#N/A"}},{"$f":"VLOOKUP(A41,počty!$C$6:$BL$65,44,0)","v":{"$error":"#N/A"}},{"$f":"VLOOKUP(A41,počty!$C$6:$BL$65,45,0)","v":{"$error":"#N/A"}},{"$f":"VLOOKUP(A41,počty!$C$6:$BL$65,46,0)","v":{"$error":"#N/A"}},{"$f":"VLOOKUP(A41,počty!$C$6:$BL$65,48,0)","v":{"$error":"#N/A"}},{"$f":"VLOOKUP(A41,počty!$C$6:$BL$65,49,0)","v":{"$error":"#N/A"}},{"$f":"VLOOKUP(A41,počty!$C$6:$BL$65,47,0)","v":{"$error":"#N/A"}},{"$f":"IF(B41=\"M\",\"M\",+L41-MIN(počty!$BO$6:$BO$65))","v":{"$error":"#N/A"}}]
[30,{"$f":"IF(VLOOKUP(A42,počty!$C$6:$BL$65,50,0)>=1000,\"M\",VLOOKUP(A42,počty!$C$6:$BO$65,64,0))","v":{"$error":"#N/A"}},{"$f":"VLOOKUP(A42,počty!$C$6:$BL$65,13,0)","v":{"$error":"#N/A"}},{"$f":"VLOOKUP(A42,počty!$C$6:$BL$65,14,0)","v":{"$error":"#N/A"}},{"$f":"VLOOKUP(A42,počty!$C$6:$BL$65,15,0)","v":{"$error":"#N/A"}},{"$f":"VLOOKUP(A42,počty!$C$6:$BL$65,16,0)","v":{"$error":"#N/A"}},{"$f":"VLOOKUP(A42,počty!$C$6:$BL$65,44,0)","v":{"$error":"#N/A"}},{"$f":"VLOOKUP(A42,počty!$C$6:$BL$65,45,0)","v":{"$error":"#N/A"}},{"$f":"VLOOKUP(A42,počty!$C$6:$BL$65,46,0)","v":{"$error":"#N/A"}},{"$f":"VLOOKUP(A42,počty!$C$6:$BL$65,48,0)","v":{"$error":"#N/A"}},{"$f":"VLOOKUP(A42,počty!$C$6:$BL$65,49,0)","v":{"$error":"#N/A"}},{"$f":"VLOOKUP(A42,počty!$C$6:$BL$65,47,0)","v":{"$error":"#N/A"}},{"$f":"IF(B42=\"M\",\"M\",+L42-MIN(počty!$BO$6:$BO$65))","v":{"$error":"#N/A"}}]
[31,{"$f":"IF(VLOOKUP(A43,počty!$C$6:$BL$65,50,0)>=1000,\"M\",VLOOKUP(A43,počty!$C$6:$BO$65,64,0))","v":{"$error":"#N/A"}},{"$f":"VLOOKUP(A43,počty!$C$6:$BL$65,13,0)","v":{"$error":"#N/A"}},{"$f":"VLOOKUP(A43,počty!$C$6:$BL$65,14,0)","v":{"$error":"#N/A"}},{"$f":"VLOOKUP(A43,počty!$C$6:$BL$65,15,0)","v":{"$error":"#N/A"}},{"$f":"VLOOKUP(A43,počty!$C$6:$BL$65,16,0)","v":{"$error":"#N/A"}},{"$f":"VLOOKUP(A43,počty!$C$6:$BL$65,44,0)","v":{"$error":"#N/A"}},{"$f":"VLOOKUP(A43,počty!$C$6:$BL$65,45,0)","v":{"$error":"#N/A"}},{"$f":"VLOOKUP(A43,počty!$C$6:$BL$65,46,0)","v":{"$error":"#N/A"}},{"$f":"VLOOKUP(A43,počty!$C$6:$BL$65,48,0)","v":{"$error":"#N/A"}},{"$f":"VLOOKUP(A43,počty!$C$6:$BL$65,49,0)","v":{"$error":"#N/A"}},{"$f":"VLOOKUP(A43,počty!$C$6:$BL$65,47,0)","v":{"$error":"#N/A"}},{"$f":"IF(B43=\"M\",\"M\",+L43-MIN(počty!$BO$6:$BO$65))","v":{"$error":"#N/A"}}]
[32,{"$f":"IF(VLOOKUP(A44,počty!$C$6:$BL$65,50,0)>=1000,\"M\",VLOOKUP(A44,počty!$C$6:$BO$65,64,0))","v":{"$error":"#N/A"}},{"$f":"VLOOKUP(A44,počty!$C$6:$BL$65,13,0)","v":{"$error":"#N/A"}},{"$f":"VLOOKUP(A44,počty!$C$6:$BL$65,14,0)","v":{"$error":"#N/A"}},{"$f":"VLOOKUP(A44,počty!$C$6:$BL$65,15,0)","v":{"$error":"#N/A"}},{"$f":"VLOOKUP(A44,počty!$C$6:$BL$65,16,0)","v":{"$error":"#N/A"}},{"$f":"VLOOKUP(A44,počty!$C$6:$BL$65,44,0)","v":{"$error":"#N/A"}},{"$f":"VLOOKUP(A44,počty!$C$6:$BL$65,45,0)","v":{"$error":"#N/A"}},{"$f":"VLOOKUP(A44,počty!$C$6:$BL$65,46,0)","v":{"$error":"#N/A"}},{"$f":"VLOOKUP(A44,počty!$C$6:$BL$65,48,0)","v":{"$error":"#N/A"}},{"$f":"VLOOKUP(A44,počty!$C$6:$BL$65,49,0)","v":{"$error":"#N/A"}},{"$f":"VLOOKUP(A44,počty!$C$6:$BL$65,47,0)","v":{"$error":"#N/A"}},{"$f":"IF(B44=\"M\",\"M\",+L44-MIN(počty!$BO$6:$BO$65))","v":{"$error":"#N/A"}}]
[33,{"$f":"IF(VLOOKUP(A45,počty!$C$6:$BL$65,50,0)>=1000,\"M\",VLOOKUP(A45,počty!$C$6:$BO$65,64,0))","v":{"$error":"#N/A"}},{"$f":"VLOOKUP(A45,počty!$C$6:$BL$65,13,0)","v":{"$error":"#N/A"}},{"$f":"VLOOKUP(A45,počty!$C$6:$BL$65,14,0)","v":{"$error":"#N/A"}},{"$f":"VLOOKUP(A45,počty!$C$6:$BL$65,15,0)","v":{"$error":"#N/A"}},{"$f":"VLOOKUP(A45,počty!$C$6:$BL$65,16,0)","v":{"$error":"#N/A"}},{"$f":"VLOOKUP(A45,počty!$C$6:$BL$65,44,0)","v":{"$error":"#N/A"}},{"$f":"VLOOKUP(A45,počty!$C$6:$BL$65,45,0)","v":{"$error":"#N/A"}},{"$f":"VLOOKUP(A45,počty!$C$6:$BL$65,46,0)","v":{"$error":"#N/A"}},{"$f":"VLOOKUP(A45,počty!$C$6:$BL$65,48,0)","v":{"$error":"#N/A"}},{"$f":"VLOOKUP(A45,počty!$C$6:$BL$65,49,0)","v":{"$error":"#N/A"}},{"$f":"VLOOKUP(A45,počty!$C$6:$BL$65,47,0)","v":{"$error":"#N/A"}},{"$f":"IF(B45=\"M\",\"M\",+L45-MIN(počty!$BO$6:$BO$65))","v":{"$error":"#N/A"}}]
[34,{"$f":"IF(VLOOKUP(A46,počty!$C$6:$BL$65,50,0)>=1000,\"M\",VLOOKUP(A46,počty!$C$6:$BO$65,64,0))","v":{"$error":"#N/A"}},{"$f":"VLOOKUP(A46,počty!$C$6:$BL$65,13,0)","v":{"$error":"#N/A"}},{"$f":"VLOOKUP(A46,počty!$C$6:$BL$65,14,0)","v":{"$error":"#N/A"}},{"$f":"VLOOKUP(A46,počty!$C$6:$BL$65,15,0)","v":{"$error":"#N/A"}},{"$f":"VLOOKUP(A46,počty!$C$6:$BL$65,16,0)","v":{"$error":"#N/A"}},{"$f":"VLOOKUP(A46,počty!$C$6:$BL$65,44,0)","v":{"$error":"#N/A"}},{"$f":"VLOOKUP(A46,počty!$C$6:$BL$65,45,0)","v":{"$error":"#N/A"}},{"$f":"VLOOKUP(A46,počty!$C$6:$BL$65,46,0)","v":{"$error":"#N/A"}},{"$f":"VLOOKUP(A46,počty!$C$6:$BL$65,48,0)","v":{"$error":"#N/A"}},{"$f":"VLOOKUP(A46,počty!$C$6:$BL$65,49,0)","v":{"$error":"#N/A"}},{"$f":"VLOOKUP(A46,počty!$C$6:$BL$65,47,0)","v":{"$error":"#N/A"}},{"$f":"IF(B46=\"M\",\"M\",+L46-MIN(počty!$BO$6:$BO$65))","v":{"$error":"#N/A"}}]
[35,{"$f":"IF(VLOOKUP(A47,počty!$C$6:$BL$65,50,0)>=1000,\"M\",VLOOKUP(A47,počty!$C$6:$BO$65,64,0))","v":{"$error":"#N/A"}},{"$f":"VLOOKUP(A47,počty!$C$6:$BL$65,13,0)","v":{"$error":"#N/A"}},{"$f":"VLOOKUP(A47,počty!$C$6:$BL$65,14,0)","v":{"$error":"#N/A"}},{"$f":"VLOOKUP(A47,počty!$C$6:$BL$65,15,0)","v":{"$error":"#N/A"}},{"$f":"VLOOKUP(A47,počty!$C$6:$BL$65,16,0)","v":{"$error":"#N/A"}},{"$f":"VLOOKUP(A47,počty!$C$6:$BL$65,44,0)","v":{"$error":"#N/A"}},{"$f":"VLOOKUP(A47,počty!$C$6:$BL$65,45,0)","v":{"$error":"#N/A"}},{"$f":"VLOOKUP(A47,počty!$C$6:$BL$65,46,0)","v":{"$error":"#N/A"}},{"$f":"VLOOKUP(A47,počty!$C$6:$BL$65,48,0)","v":{"$error":"#N/A"}},{"$f":"VLOOKUP(A47,počty!$C$6:$BL$65,49,0)","v":{"$error":"#N/A"}},{"$f":"VLOOKUP(A47,počty!$C$6:$BL$65,47,0)","v":{"$error":"#N/A"}},{"$f":"IF(B47=\"M\",\"M\",+L47-MIN(počty!$BO$6:$BO$65))","v":{"$error":"#N/A"}}]
[36,{"$f":"IF(VLOOKUP(A48,počty!$C$6:$BL$65,50,0)>=1000,\"M\",VLOOKUP(A48,počty!$C$6:$BO$65,64,0))","v":{"$error":"#N/A"}},{"$f":"VLOOKUP(A48,počty!$C$6:$BL$65,13,0)","v":{"$error":"#N/A"}},{"$f":"VLOOKUP(A48,počty!$C$6:$BL$65,14,0)","v":{"$error":"#N/A"}},{"$f":"VLOOKUP(A48,počty!$C$6:$BL$65,15,0)","v":{"$error":"#N/A"}},{"$f":"VLOOKUP(A48,počty!$C$6:$BL$65,16,0)","v":{"$error":"#N/A"}},{"$f":"VLOOKUP(A48,počty!$C$6:$BL$65,44,0)","v":{"$error":"#N/A"}},{"$f":"VLOOKUP(A48,počty!$C$6:$BL$65,45,0)","v":{"$error":"#N/A"}},{"$f":"VLOOKUP(A48,počty!$C$6:$BL$65,46,0)","v":{"$error":"#N/A"}},{"$f":"VLOOKUP(A48,počty!$C$6:$BL$65,48,0)","v":{"$error":"#N/A"}},{"$f":"VLOOKUP(A48,počty!$C$6:$BL$65,49,0)","v":{"$error":"#N/A"}},{"$f":"VLOOKUP(A48,počty!$C$6:$BL$65,47,0)","v":{"$error":"#N/A"}},{"$f":"IF(B48=\"M\",\"M\",+L48-MIN(počty!$BO$6:$BO$65))","v":{"$error":"#N/A"}}]
[37,{"$f":"IF(VLOOKUP(A49,počty!$C$6:$BL$65,50,0)>=1000,\"M\",VLOOKUP(A49,počty!$C$6:$BO$65,64,0))","v":{"$error":"#N/A"}},{"$f":"VLOOKUP(A49,počty!$C$6:$BL$65,13,0)","v":{"$error":"#N/A"}},{"$f":"VLOOKUP(A49,počty!$C$6:$BL$65,14,0)","v":{"$error":"#N/A"}},{"$f":"VLOOKUP(A49,počty!$C$6:$BL$65,15,0)","v":{"$error":"#N/A"}},{"$f":"VLOOKUP(A49,počty!$C$6:$BL$65,16,0)","v":{"$error":"#N/A"}},{"$f":"VLOOKUP(A49,počty!$C$6:$BL$65,44,0)","v":{"$error":"#N/A"}},{"$f":"VLOOKUP(A49,počty!$C$6:$BL$65,45,0)","v":{"$error":"#N/A"}},{"$f":"VLOOKUP(A49,počty!$C$6:$BL$65,46,0)","v":{"$error":"#N/A"}},{"$f":"VLOOKUP(A49,počty!$C$6:$BL$65,48,0)","v":{"$error":"#N/A"}},{"$f":"VLOOKUP(A49,počty!$C$6:$BL$65,49,0)","v":{"$error":"#N/A"}},{"$f":"VLOOKUP(A49,počty!$C$6:$BL$65,47,0)","v":{"$error":"#N/A"}},{"$f":"IF(B49=\"M\",\"M\",+L49-MIN(počty!$BO$6:$BO$65))","v":{"$error":"#N/A"}}]
[38,{"$f":"IF(VLOOKUP(A50,počty!$C$6:$BL$65,50,0)>=1000,\"M\",VLOOKUP(A50,počty!$C$6:$BO$65,64,0))","v":{"$error":"#N/A"}},{"$f":"VLOOKUP(A50,počty!$C$6:$BL$65,13,0)","v":{"$error":"#N/A"}},{"$f":"VLOOKUP(A50,počty!$C$6:$BL$65,14,0)","v":{"$error":"#N/A"}},{"$f":"VLOOKUP(A50,počty!$C$6:$BL$65,15,0)","v":{"$error":"#N/A"}},{"$f":"VLOOKUP(A50,počty!$C$6:$BL$65,16,0)","v":{"$error":"#N/A"}},{"$f":"VLOOKUP(A50,počty!$C$6:$BL$65,44,0)","v":{"$error":"#N/A"}},{"$f":"VLOOKUP(A50,počty!$C$6:$BL$65,45,0)","v":{"$error":"#N/A"}},{"$f":"VLOOKUP(A50,počty!$C$6:$BL$65,46,0)","v":{"$error":"#N/A"}},{"$f":"VLOOKUP(A50,počty!$C$6:$BL$65,48,0)","v":{"$error":"#N/A"}},{"$f":"VLOOKUP(A50,počty!$C$6:$BL$65,49,0)","v":{"$error":"#N/A"}},{"$f":"VLOOKUP(A50,počty!$C$6:$BL$65,47,0)","v":{"$error":"#N/A"}},{"$f":"IF(B50=\"M\",\"M\",+L50-MIN(počty!$BO$6:$BO$65))","v":{"$error":"#N/A"}}]
[39,{"$f":"IF(VLOOKUP(A51,počty!$C$6:$BL$65,50,0)>=1000,\"M\",VLOOKUP(A51,počty!$C$6:$BO$65,64,0))","v":{"$error":"#N/A"}},{"$f":"VLOOKUP(A51,počty!$C$6:$BL$65,13,0)","v":{"$error":"#N/A"}},{"$f":"VLOOKUP(A51,počty!$C$6:$BL$65,14,0)","v":{"$error":"#N/A"}},{"$f":"VLOOKUP(A51,počty!$C$6:$BL$65,15,0)","v":{"$error":"#N/A"}},{"$f":"VLOOKUP(A51,počty!$C$6:$BL$65,16,0)","v":{"$error":"#N/A"}},{"$f":"VLOOKUP(A51,počty!$C$6:$BL$65,44,0)","v":{"$error":"#N/A"}},{"$f":"VLOOKUP(A51,počty!$C$6:$BL$65,45,0)","v":{"$error":"#N/A"}},{"$f":"VLOOKUP(A51,počty!$C$6:$BL$65,46,0)","v":{"$error":"#N/A"}},{"$f":"VLOOKUP(A51,počty!$C$6:$BL$65,48,0)","v":{"$error":"#N/A"}},{"$f":"VLOOKUP(A51,počty!$C$6:$BL$65,49,0)","v":{"$error":"#N/A"}},{"$f":"VLOOKUP(A51,počty!$C$6:$BL$65,47,0)","v":{"$error":"#N/A"}},{"$f":"IF(B51=\"M\",\"M\",+L51-MIN(počty!$BO$6:$BO$65))","v":{"$error":"#N/A"}}]
[40,{"$f":"IF(VLOOKUP(A52,počty!$C$6:$BL$65,50,0)>=1000,\"M\",VLOOKUP(A52,počty!$C$6:$BO$65,64,0))","v":{"$error":"#N/A"}},{"$f":"VLOOKUP(A52,počty!$C$6:$BL$65,13,0)","v":{"$error":"#N/A"}},{"$f":"VLOOKUP(A52,počty!$C$6:$BL$65,14,0)","v":{"$error":"#N/A"}},{"$f":"VLOOKUP(A52,počty!$C$6:$BL$65,15,0)","v":{"$error":"#N/A"}},{"$f":"VLOOKUP(A52,počty!$C$6:$BL$65,16,0)","v":{"$error":"#N/A"}},{"$f":"VLOOKUP(A52,počty!$C$6:$BL$65,44,0)","v":{"$error":"#N/A"}},{"$f":"VLOOKUP(A52,počty!$C$6:$BL$65,45,0)","v":{"$error":"#N/A"}},{"$f":"VLOOKUP(A52,počty!$C$6:$BL$65,46,0)","v":{"$error":"#N/A"}},{"$f":"VLOOKUP(A52,počty!$C$6:$BL$65,48,0)","v":{"$error":"#N/A"}},{"$f":"VLOOKUP(A52,počty!$C$6:$BL$65,49,0)","v":{"$error":"#N/A"}},{"$f":"VLOOKUP(A52,počty!$C$6:$BL$65,47,0)","v":{"$error":"#N/A"}},{"$f":"IF(B52=\"M\",\"M\",+L52-MIN(počty!$BO$6:$BO$65))","v":{"$error":"#N/A"}}]
[41,{"$f":"IF(VLOOKUP(A53,počty!$C$6:$BL$65,50,0)>=1000,\"M\",VLOOKUP(A53,počty!$C$6:$BO$65,64,0))","v":{"$error":"#N/A"}},{"$f":"VLOOKUP(A53,počty!$C$6:$BL$65,13,0)","v":{"$error":"#N/A"}},{"$f":"VLOOKUP(A53,počty!$C$6:$BL$65,14,0)","v":{"$error":"#N/A"}},{"$f":"VLOOKUP(A53,počty!$C$6:$BL$65,15,0)","v":{"$error":"#N/A"}},{"$f":"VLOOKUP(A53,počty!$C$6:$BL$65,16,0)","v":{"$error":"#N/A"}},{"$f":"VLOOKUP(A53,počty!$C$6:$BL$65,44,0)","v":{"$error":"#N/A"}},{"$f":"VLOOKUP(A53,počty!$C$6:$BL$65,45,0)","v":{"$error":"#N/A"}},{"$f":"VLOOKUP(A53,počty!$C$6:$BL$65,46,0)","v":{"$error":"#N/A"}},{"$f":"VLOOKUP(A53,počty!$C$6:$BL$65,48,0)","v":{"$error":"#N/A"}},{"$f":"VLOOKUP(A53,počty!$C$6:$BL$65,49,0)","v":{"$error":"#N/A"}},{"$f":"VLOOKUP(A53,počty!$C$6:$BL$65,47,0)","v":{"$error":"#N/A"}},{"$f":"IF(B53=\"M\",\"M\",+L53-MIN(počty!$BO$6:$BO$65))","v":{"$error":"#N/A"}}]
[42,{"$f":"IF(VLOOKUP(A54,počty!$C$6:$BL$65,50,0)>=1000,\"M\",VLOOKUP(A54,počty!$C$6:$BO$65,64,0))","v":{"$error":"#N/A"}},{"$f":"VLOOKUP(A54,počty!$C$6:$BL$65,13,0)","v":{"$error":"#N/A"}},{"$f":"VLOOKUP(A54,počty!$C$6:$BL$65,14,0)","v":{"$error":"#N/A"}},{"$f":"VLOOKUP(A54,počty!$C$6:$BL$65,15,0)","v":{"$error":"#N/A"}},{"$f":"VLOOKUP(A54,počty!$C$6:$BL$65,16,0)","v":{"$error":"#N/A"}},{"$f":"VLOOKUP(A54,počty!$C$6:$BL$65,44,0)","v":{"$error":"#N/A"}},{"$f":"VLOOKUP(A54,počty!$C$6:$BL$65,45,0)","v":{"$error":"#N/A"}},{"$f":"VLOOKUP(A54,počty!$C$6:$BL$65,46,0)","v":{"$error":"#N/A"}},{"$f":"VLOOKUP(A54,počty!$C$6:$BL$65,48,0)","v":{"$error":"#N/A"}},{"$f":"VLOOKUP(A54,počty!$C$6:$BL$65,49,0)","v":{"$error":"#N/A"}},{"$f":"VLOOKUP(A54,počty!$C$6:$BL$65,47,0)","v":{"$error":"#N/A"}},{"$f":"IF(B54=\"M\",\"M\",+L54-MIN(počty!$BO$6:$BO$65))","v":{"$error":"#N/A"}}]
[43,{"$f":"IF(VLOOKUP(A55,počty!$C$6:$BL$65,50,0)>=1000,\"M\",VLOOKUP(A55,počty!$C$6:$BO$65,64,0))","v":{"$error":"#N/A"}},{"$f":"VLOOKUP(A55,počty!$C$6:$BL$65,13,0)","v":{"$error":"#N/A"}},{"$f":"VLOOKUP(A55,počty!$C$6:$BL$65,14,0)","v":{"$error":"#N/A"}},{"$f":"VLOOKUP(A55,počty!$C$6:$BL$65,15,0)","v":{"$error":"#N/A"}},{"$f":"VLOOKUP(A55,počty!$C$6:$BL$65,16,0)","v":{"$error":"#N/A"}},{"$f":"VLOOKUP(A55,počty!$C$6:$BL$65,44,0)","v":{"$error":"#N/A"}},{"$f":"VLOOKUP(A55,počty!$C$6:$BL$65,45,0)","v":{"$error":"#N/A"}},{"$f":"VLOOKUP(A55,počty!$C$6:$BL$65,46,0)","v":{"$error":"#N/A"}},{"$f":"VLOOKUP(A55,počty!$C$6:$BL$65,48,0)","v":{"$error":"#N/A"}},{"$f":"VLOOKUP(A55,počty!$C$6:$BL$65,49,0)","v":{"$error":"#N/A"}},{"$f":"VLOOKUP(A55,počty!$C$6:$BL$65,47,0)","v":{"$error":"#N/A"}},{"$f":"IF(B55=\"M\",\"M\",+L55-MIN(počty!$BO$6:$BO$65))","v":{"$error":"#N/A"}}]
[44,{"$f":"IF(VLOOKUP(A56,počty!$C$6:$BL$65,50,0)>=1000,\"M\",VLOOKUP(A56,počty!$C$6:$BO$65,64,0))","v":{"$error":"#N/A"}},{"$f":"VLOOKUP(A56,počty!$C$6:$BL$65,13,0)","v":{"$error":"#N/A"}},{"$f":"VLOOKUP(A56,počty!$C$6:$BL$65,14,0)","v":{"$error":"#N/A"}},{"$f":"VLOOKUP(A56,počty!$C$6:$BL$65,15,0)","v":{"$error":"#N/A"}},{"$f":"VLOOKUP(A56,počty!$C$6:$BL$65,16,0)","v":{"$error":"#N/A"}},{"$f":"VLOOKUP(A56,počty!$C$6:$BL$65,44,0)","v":{"$error":"#N/A"}},{"$f":"VLOOKUP(A56,počty!$C$6:$BL$65,45,0)","v":{"$error":"#N/A"}},{"$f":"VLOOKUP(A56,počty!$C$6:$BL$65,46,0)","v":{"$error":"#N/A"}},{"$f":"VLOOKUP(A56,počty!$C$6:$BL$65,48,0)","v":{"$error":"#N/A"}},{"$f":"VLOOKUP(A56,počty!$C$6:$BL$65,49,0)","v":{"$error":"#N/A"}},{"$f":"VLOOKUP(A56,počty!$C$6:$BL$65,47,0)","v":{"$error":"#N/A"}},{"$f":"IF(B56=\"M\",\"M\",+L56-MIN(počty!$BO$6:$BO$65))","v":{"$error":"#N/A"}}]
[45,{"$f":"IF(VLOOKUP(A57,počty!$C$6:$BL$65,50,0)>=1000,\"M\",VLOOKUP(A57,počty!$C$6:$BO$65,64,0))","v":{"$error":"#N/A"}},{"$f":"VLOOKUP(A57,počty!$C$6:$BL$65,13,0)","v":{"$error":"#N/A"}},{"$f":"VLOOKUP(A57,počty!$C$6:$BL$65,14,0)","v":{"$error":"#N/A"}},{"$f":"VLOOKUP(A57,počty!$C$6:$BL$65,15,0)","v":{"$error":"#N/A"}},{"$f":"VLOOKUP(A57,počty!$C$6:$BL$65,16,0)","v":{"$error":"#N/A"}},{"$f":"VLOOKUP(A57,počty!$C$6:$BL$65,44,0)","v":{"$error":"#N/A"}},{"$f":"VLOOKUP(A57,počty!$C$6:$BL$65,45,0)","v":{"$error":"#N/A"}},{"$f":"VLOOKUP(A57,počty!$C$6:$BL$65,46,0)","v":{"$error":"#N/A"}},{"$f":"VLOOKUP(A57,počty!$C$6:$BL$65,48,0)","v":{"$error":"#N/A"}},{"$f":"VLOOKUP(A57,počty!$C$6:$BL$65,49,0)","v":{"$error":"#N/A"}},{"$f":"VLOOKUP(A57,počty!$C$6:$BL$65,47,0)","v":{"$error":"#N/A"}},{"$f":"IF(B57=\"M\",\"M\",+L57-MIN(počty!$BO$6:$BO$65))","v":{"$error":"#N/A"}}]
[46,{"$f":"IF(VLOOKUP(A58,počty!$C$6:$BL$65,50,0)>=1000,\"M\",VLOOKUP(A58,počty!$C$6:$BO$65,64,0))","v":{"$error":"#N/A"}},{"$f":"VLOOKUP(A58,počty!$C$6:$BL$65,13,0)","v":{"$error":"#N/A"}},{"$f":"VLOOKUP(A58,počty!$C$6:$BL$65,14,0)","v":{"$error":"#N/A"}},{"$f":"VLOOKUP(A58,počty!$C$6:$BL$65,15,0)","v":{"$error":"#N/A"}},{"$f":"VLOOKUP(A58,počty!$C$6:$BL$65,16,0)","v":{"$error":"#N/A"}},{"$f":"VLOOKUP(A58,počty!$C$6:$BL$65,44,0)","v":{"$error":"#N/A"}},{"$f":"VLOOKUP(A58,počty!$C$6:$BL$65,45,0)","v":{"$error":"#N/A"}},{"$f":"VLOOKUP(A58,počty!$C$6:$BL$65,46,0)","v":{"$error":"#N/A"}},{"$f":"VLOOKUP(A58,počty!$C$6:$BL$65,48,0)","v":{"$error":"#N/A"}},{"$f":"VLOOKUP(A58,počty!$C$6:$BL$65,49,0)","v":{"$error":"#N/A"}},{"$f":"VLOOKUP(A58,počty!$C$6:$BL$65,47,0)","v":{"$error":"#N/A"}},{"$f":"IF(B58=\"M\",\"M\",+L58-MIN(počty!$BO$6:$BO$65))","v":{"$error":"#N/A"}}]
[47,{"$f":"IF(VLOOKUP(A59,počty!$C$6:$BL$65,50,0)>=1000,\"M\",VLOOKUP(A59,počty!$C$6:$BO$65,64,0))","v":{"$error":"#N/A"}},{"$f":"VLOOKUP(A59,počty!$C$6:$BL$65,13,0)","v":{"$error":"#N/A"}},{"$f":"VLOOKUP(A59,počty!$C$6:$BL$65,14,0)","v":{"$error":"#N/A"}},{"$f":"VLOOKUP(A59,počty!$C$6:$BL$65,15,0)","v":{"$error":"#N/A"}},{"$f":"VLOOKUP(A59,počty!$C$6:$BL$65,16,0)","v":{"$error":"#N/A"}},{"$f":"VLOOKUP(A59,počty!$C$6:$BL$65,44,0)","v":{"$error":"#N/A"}},{"$f":"VLOOKUP(A59,počty!$C$6:$BL$65,45,0)","v":{"$error":"#N/A"}},{"$f":"VLOOKUP(A59,počty!$C$6:$BL$65,46,0)","v":{"$error":"#N/A"}},{"$f":"VLOOKUP(A59,počty!$C$6:$BL$65,48,0)","v":{"$error":"#N/A"}},{"$f":"VLOOKUP(A59,počty!$C$6:$BL$65,49,0)","v":{"$error":"#N/A"}},{"$f":"VLOOKUP(A59,počty!$C$6:$BL$65,47,0)","v":{"$error":"#N/A"}},{"$f":"IF(B59=\"M\",\"M\",+L59-MIN(počty!$BO$6:$BO$65))","v":{"$error":"#N/A"}}]
[48,{"$f":"IF(VLOOKUP(A60,počty!$C$6:$BL$65,50,0)>=1000,\"M\",VLOOKUP(A60,počty!$C$6:$BO$65,64,0))","v":{"$error":"#N/A"}},{"$f":"VLOOKUP(A60,počty!$C$6:$BL$65,13,0)","v":{"$error":"#N/A"}},{"$f":"VLOOKUP(A60,počty!$C$6:$BL$65,14,0)","v":{"$error":"#N/A"}},{"$f":"VLOOKUP(A60,počty!$C$6:$BL$65,15,0)","v":{"$error":"#N/A"}},{"$f":"VLOOKUP(A60,počty!$C$6:$BL$65,16,0)","v":{"$error":"#N/A"}},{"$f":"VLOOKUP(A60,počty!$C$6:$BL$65,44,0)","v":{"$error":"#N/A"}},{"$f":"VLOOKUP(A60,počty!$C$6:$BL$65,45,0)","v":{"$error":"#N/A"}},{"$f":"VLOOKUP(A60,počty!$C$6:$BL$65,46,0)","v":{"$error":"#N/A"}},{"$f":"VLOOKUP(A60,počty!$C$6:$BL$65,48,0)","v":{"$error":"#N/A"}},{"$f":"VLOOKUP(A60,počty!$C$6:$BL$65,49,0)","v":{"$error":"#N/A"}},{"$f":"VLOOKUP(A60,počty!$C$6:$BL$65,47,0)","v":{"$error":"#N/A"}},{"$f":"IF(B60=\"M\",\"M\",+L60-MIN(počty!$BO$6:$BO$65))","v":{"$error":"#N/A"}}]
[49,{"$f":"IF(VLOOKUP(A61,počty!$C$6:$BL$65,50,0)>=1000,\"M\",VLOOKUP(A61,počty!$C$6:$BO$65,64,0))","v":{"$error":"#N/A"}},{"$f":"VLOOKUP(A61,počty!$C$6:$BL$65,13,0)","v":{"$error":"#N/A"}},{"$f":"VLOOKUP(A61,počty!$C$6:$BL$65,14,0)","v":{"$error":"#N/A"}},{"$f":"VLOOKUP(A61,počty!$C$6:$BL$65,15,0)","v":{"$error":"#N/A"}},{"$f":"VLOOKUP(A61,počty!$C$6:$BL$65,16,0)","v":{"$error":"#N/A"}},{"$f":"VLOOKUP(A61,počty!$C$6:$BL$65,44,0)","v":{"$error":"#N/A"}},{"$f":"VLOOKUP(A61,počty!$C$6:$BL$65,45,0)","v":{"$error":"#N/A"}},{"$f":"VLOOKUP(A61,počty!$C$6:$BL$65,46,0)","v":{"$error":"#N/A"}},{"$f":"VLOOKUP(A61,počty!$C$6:$BL$65,48,0)","v":{"$error":"#N/A"}},{"$f":"VLOOKUP(A61,počty!$C$6:$BL$65,49,0)","v":{"$error":"#N/A"}},{"$f":"VLOOKUP(A61,počty!$C$6:$BL$65,47,0)","v":{"$error":"#N/A"}},{"$f":"IF(B61=\"M\",\"M\",+L61-MIN(počty!$BO$6:$BO$65))","v":{"$error":"#N/A"}}]
[50,{"$f":"IF(VLOOKUP(A62,počty!$C$6:$BL$65,50,0)>=1000,\"M\",VLOOKUP(A62,počty!$C$6:$BO$65,64,0))","v":{"$error":"#N/A"}},{"$f":"VLOOKUP(A62,počty!$C$6:$BL$65,13,0)","v":{"$error":"#N/A"}},{"$f":"VLOOKUP(A62,počty!$C$6:$BL$65,14,0)","v":{"$error":"#N/A"}},{"$f":"VLOOKUP(A62,počty!$C$6:$BL$65,15,0)","v":{"$error":"#N/A"}},{"$f":"VLOOKUP(A62,počty!$C$6:$BL$65,16,0)","v":{"$error":"#N/A"}},{"$f":"VLOOKUP(A62,počty!$C$6:$BL$65,44,0)","v":{"$error":"#N/A"}},{"$f":"VLOOKUP(A62,počty!$C$6:$BL$65,45,0)","v":{"$error":"#N/A"}},{"$f":"VLOOKUP(A62,počty!$C$6:$BL$65,46,0)","v":{"$error":"#N/A"}},{"$f":"VLOOKUP(A62,počty!$C$6:$BL$65,48,0)","v":{"$error":"#N/A"}},{"$f":"VLOOKUP(A62,počty!$C$6:$BL$65,49,0)","v":{"$error":"#N/A"}},{"$f":"VLOOKUP(A62,počty!$C$6:$BL$65,47,0)","v":{"$error":"#N/A"}},{"$f":"IF(B62=\"M\",\"M\",+L62-MIN(počty!$BO$6:$BO$65))","v":{"$error":"#N/A"}}]
[51,{"$f":"IF(VLOOKUP(A63,počty!$C$6:$BL$65,50,0)>=1000,\"M\",VLOOKUP(A63,počty!$C$6:$BO$65,64,0))","v":{"$error":"#N/A"}},{"$f":"VLOOKUP(A63,počty!$C$6:$BL$65,13,0)","v":{"$error":"#N/A"}},{"$f":"VLOOKUP(A63,počty!$C$6:$BL$65,14,0)","v":{"$error":"#N/A"}},{"$f":"VLOOKUP(A63,počty!$C$6:$BL$65,15,0)","v":{"$error":"#N/A"}},{"$f":"VLOOKUP(A63,počty!$C$6:$BL$65,16,0)","v":{"$error":"#N/A"}},{"$f":"VLOOKUP(A63,počty!$C$6:$BL$65,44,0)","v":{"$error":"#N/A"}},{"$f":"VLOOKUP(A63,počty!$C$6:$BL$65,45,0)","v":{"$error":"#N/A"}},{"$f":"VLOOKUP(A63,počty!$C$6:$BL$65,46,0)","v":{"$error":"#N/A"}},{"$f":"VLOOKUP(A63,počty!$C$6:$BL$65,48,0)","v":{"$error":"#N/A"}},{"$f":"VLOOKUP(A63,počty!$C$6:$BL$65,49,0)","v":{"$error":"#N/A"}},{"$f":"VLOOKUP(A63,počty!$C$6:$BL$65,47,0)","v":{"$error":"#N/A"}},{"$f":"IF(B63=\"M\",\"M\",+L63-MIN(počty!$BO$6:$BO$65))","v":{"$error":"#N/A"}}]
[52,{"$f":"IF(VLOOKUP(A64,počty!$C$6:$BL$65,50,0)>=1000,\"M\",VLOOKUP(A64,počty!$C$6:$BO$65,64,0))","v":{"$error":"#N/A"}},{"$f":"VLOOKUP(A64,počty!$C$6:$BL$65,13,0)","v":{"$error":"#N/A"}},{"$f":"VLOOKUP(A64,počty!$C$6:$BL$65,14,0)","v":{"$error":"#N/A"}},{"$f":"VLOOKUP(A64,počty!$C$6:$BL$65,15,0)","v":{"$error":"#N/A"}},{"$f":"VLOOKUP(A64,počty!$C$6:$BL$65,16,0)","v":{"$error":"#N/A"}},{"$f":"VLOOKUP(A64,počty!$C$6:$BL$65,44,0)","v":{"$error":"#N/A"}},{"$f":"VLOOKUP(A64,počty!$C$6:$BL$65,45,0)","v":{"$error":"#N/A"}},{"$f":"VLOOKUP(A64,počty!$C$6:$BL$65,46,0)","v":{"$error":"#N/A"}},{"$f":"VLOOKUP(A64,počty!$C$6:$BL$65,48,0)","v":{"$error":"#N/A"}},{"$f":"VLOOKUP(A64,počty!$C$6:$BL$65,49,0)","v":{"$error":"#N/A"}},{"$f":"VLOOKUP(A64,počty!$C$6:$BL$65,47,0)","v":{"$error":"#N/A"}},{"$f":"IF(B64=\"M\",\"M\",+L64-MIN(počty!$BO$6:$BO$65))","v":{"$error":"#N/A"}}]
[53,{"$f":"IF(VLOOKUP(A65,počty!$C$6:$BL$65,50,0)>=1000,\"M\",VLOOKUP(A65,počty!$C$6:$BO$65,64,0))","v":{"$error":"#N/A"}},{"$f":"VLOOKUP(A65,počty!$C$6:$BL$65,13,0)","v":{"$error":"#N/A"}},{"$f":"VLOOKUP(A65,počty!$C$6:$BL$65,14,0)","v":{"$error":"#N/A"}},{"$f":"VLOOKUP(A65,počty!$C$6:$BL$65,15,0)","v":{"$error":"#N/A"}},{"$f":"VLOOKUP(A65,počty!$C$6:$BL$65,16,0)","v":{"$error":"#N/A"}},{"$f":"VLOOKUP(A65,počty!$C$6:$BL$65,44,0)","v":{"$error":"#N/A"}},{"$f":"VLOOKUP(A65,počty!$C$6:$BL$65,45,0)","v":{"$error":"#N/A"}},{"$f":"VLOOKUP(A65,počty!$C$6:$BL$65,46,0)","v":{"$error":"#N/A"}},{"$f":"VLOOKUP(A65,počty!$C$6:$BL$65,48,0)","v":{"$error":"#N/A"}},{"$f":"VLOOKUP(A65,počty!$C$6:$BL$65,49,0)","v":{"$error":"#N/A"}},{"$f":"VLOOKUP(A65,počty!$C$6:$BL$65,47,0)","v":{"$error":"#N/A"}},{"$f":"IF(B65=\"M\",\"M\",+L65-MIN(počty!$BO$6:$BO$65))","v":{"$error":"#N/A"}}]
[54,{"$f":"IF(VLOOKUP(A66,počty!$C$6:$BL$65,50,0)>=1000,\"M\",VLOOKUP(A66,počty!$C$6:$BO$65,64,0))","v":{"$error":"#N/A"}},{"$f":"VLOOKUP(A66,počty!$C$6:$BL$65,13,0)","v":{"$error":"#N/A"}},{"$f":"VLOOKUP(A66,počty!$C$6:$BL$65,14,0)","v":{"$error":"#N/A"}},{"$f":"VLOOKUP(A66,počty!$C$6:$BL$65,15,0)","v":{"$error":"#N/A"}},{"$f":"VLOOKUP(A66,počty!$C$6:$BL$65,16,0)","v":{"$error":"#N/A"}},{"$f":"VLOOKUP(A66,počty!$C$6:$BL$65,44,0)","v":{"$error":"#N/A"}},{"$f":"VLOOKUP(A66,počty!$C$6:$BL$65,45,0)","v":{"$error":"#N/A"}},{"$f":"VLOOKUP(A66,počty!$C$6:$BL$65,46,0)","v":{"$error":"#N/A"}},{"$f":"VLOOKUP(A66,počty!$C$6:$BL$65,48,0)","v":{"$error":"#N/A"}},{"$f":"VLOOKUP(A66,počty!$C$6:$BL$65,49,0)","v":{"$error":"#N/A"}},{"$f":"VLOOKUP(A66,počty!$C$6:$BL$65,47,0)","v":{"$error":"#N/A"}},{"$f":"IF(B66=\"M\",\"M\",+L66-MIN(počty!$BO$6:$BO$65))","v":{"$error":"#N/A"}}]
[55,{"$f":"IF(VLOOKUP(A67,počty!$C$6:$BL$65,50,0)>=1000,\"M\",VLOOKUP(A67,počty!$C$6:$BO$65,64,0))","v":{"$error":"#N/A"}},{"$f":"VLOOKUP(A67,počty!$C$6:$BL$65,13,0)","v":{"$error":"#N/A"}},{"$f":"VLOOKUP(A67,počty!$C$6:$BL$65,14,0)","v":{"$error":"#N/A"}},{"$f":"VLOOKUP(A67,počty!$C$6:$BL$65,15,0)","v":{"$error":"#N/A"}},{"$f":"VLOOKUP(A67,počty!$C$6:$BL$65,16,0)","v":{"$error":"#N/A"}},{"$f":"VLOOKUP(A67,počty!$C$6:$BL$65,44,0)","v":{"$error":"#N/A"}},{"$f":"VLOOKUP(A67,počty!$C$6:$BL$65,45,0)","v":{"$error":"#N/A"}},{"$f":"VLOOKUP(A67,počty!$C$6:$BL$65,46,0)","v":{"$error":"#N/A"}},{"$f":"VLOOKUP(A67,počty!$C$6:$BL$65,48,0)","v":{"$error":"#N/A"}},{"$f":"VLOOKUP(A67,počty!$C$6:$BL$65,49,0)","v":{"$error":"#N/A"}},{"$f":"VLOOKUP(A67,počty!$C$6:$BL$65,47,0)","v":{"$error":"#N/A"}},{"$f":"IF(B67=\"M\",\"M\",+L67-MIN(počty!$BO$6:$BO$65))","v":{"$error":"#N/A"}}]
[56,{"$f":"IF(VLOOKUP(A68,počty!$C$6:$BL$65,50,0)>=1000,\"M\",VLOOKUP(A68,počty!$C$6:$BO$65,64,0))","v":{"$error":"#N/A"}},{"$f":"VLOOKUP(A68,počty!$C$6:$BL$65,13,0)","v":{"$error":"#N/A"}},{"$f":"VLOOKUP(A68,počty!$C$6:$BL$65,14,0)","v":{"$error":"#N/A"}},{"$f":"VLOOKUP(A68,počty!$C$6:$BL$65,15,0)","v":{"$error":"#N/A"}},{"$f":"VLOOKUP(A68,počty!$C$6:$BL$65,16,0)","v":{"$error":"#N/A"}},{"$f":"VLOOKUP(A68,počty!$C$6:$BL$65,44,0)","v":{"$error":"#N/A"}},{"$f":"VLOOKUP(A68,počty!$C$6:$BL$65,45,0)","v":{"$error":"#N/A"}},{"$f":"VLOOKUP(A68,počty!$C$6:$BL$65,46,0)","v":{"$error":"#N/A"}},{"$f":"VLOOKUP(A68,počty!$C$6:$BL$65,48,0)","v":{"$error":"#N/A"}},{"$f":"VLOOKUP(A68,počty!$C$6:$BL$65,49,0)","v":{"$error":"#N/A"}},{"$f":"VLOOKUP(A68,počty!$C$6:$BL$65,47,0)","v":{"$error":"#N/A"}},{"$f":"IF(B68=\"M\",\"M\",+L68-MIN(počty!$BO$6:$BO$65))","v":{"$error":"#N/A"}}]
[57,{"$f":"IF(VLOOKUP(A69,počty!$C$6:$BL$65,50,0)>=1000,\"M\",VLOOKUP(A69,počty!$C$6:$BO$65,64,0))","v":{"$error":"#N/A"}},{"$f":"VLOOKUP(A69,počty!$C$6:$BL$65,13,0)","v":{"$error":"#N/A"}},{"$f":"VLOOKUP(A69,počty!$C$6:$BL$65,14,0)","v":{"$error":"#N/A"}},{"$f":"VLOOKUP(A69,počty!$C$6:$BL$65,15,0)","v":{"$error":"#N/A"}},{"$f":"VLOOKUP(A69,počty!$C$6:$BL$65,16,0)","v":{"$error":"#N/A"}},{"$f":"VLOOKUP(A69,počty!$C$6:$BL$65,44,0)","v":{"$error":"#N/A"}},{"$f":"VLOOKUP(A69,počty!$C$6:$BL$65,45,0)","v":{"$error":"#N/A"}},{"$f":"VLOOKUP(A69,počty!$C$6:$BL$65,46,0)","v":{"$error":"#N/A"}},{"$f":"VLOOKUP(A69,počty!$C$6:$BL$65,48,0)","v":{"$error":"#N/A"}},{"$f":"VLOOKUP(A69,počty!$C$6:$BL$65,49,0)","v":{"$error":"#N/A"}},{"$f":"VLOOKUP(A69,počty!$C$6:$BL$65,47,0)","v":{"$error":"#N/A"}},{"$f":"IF(B69=\"M\",\"M\",+L69-MIN(počty!$BO$6:$BO$65))","v":{"$error":"#N/A"}}]
[58,{"$f":"IF(VLOOKUP(A70,počty!$C$6:$BL$65,50,0)>=1000,\"M\",VLOOKUP(A70,počty!$C$6:$BO$65,64,0))","v":{"$error":"#N/A"}},{"$f":"VLOOKUP(A70,počty!$C$6:$BL$65,13,0)","v":{"$error":"#N/A"}},{"$f":"VLOOKUP(A70,počty!$C$6:$BL$65,14,0)","v":{"$error":"#N/A"}},{"$f":"VLOOKUP(A70,počty!$C$6:$BL$65,15,0)","v":{"$error":"#N/A"}},{"$f":"VLOOKUP(A70,počty!$C$6:$BL$65,16,0)","v":{"$error":"#N/A"}},{"$f":"VLOOKUP(A70,počty!$C$6:$BL$65,44,0)","v":{"$error":"#N/A"}},{"$f":"VLOOKUP(A70,počty!$C$6:$BL$65,45,0)","v":{"$error":"#N/A"}},{"$f":"VLOOKUP(A70,počty!$C$6:$BL$65,46,0)","v":{"$error":"#N/A"}},{"$f":"VLOOKUP(A70,počty!$C$6:$BL$65,48,0)","v":{"$error":"#N/A"}},{"$f":"VLOOKUP(A70,počty!$C$6:$BL$65,49,0)","v":{"$error":"#N/A"}},{"$f":"VLOOKUP(A70,počty!$C$6:$BL$65,47,0)","v":{"$error":"#N/A"}},{"$f":"IF(B70=\"M\",\"M\",+L70-MIN(počty!$BO$6:$BO$65))","v":{"$error":"#N/A"}}]
[59,{"$f":"IF(VLOOKUP(A71,počty!$C$6:$BL$65,50,0)>=1000,\"M\",VLOOKUP(A71,počty!$C$6:$BO$65,64,0))","v":{"$error":"#N/A"}},{"$f":"VLOOKUP(A71,počty!$C$6:$BL$65,13,0)","v":{"$error":"#N/A"}},{"$f":"VLOOKUP(A71,počty!$C$6:$BL$65,14,0)","v":{"$error":"#N/A"}},{"$f":"VLOOKUP(A71,počty!$C$6:$BL$65,15,0)","v":{"$error":"#N/A"}},{"$f":"VLOOKUP(A71,počty!$C$6:$BL$65,16,0)","v":{"$error":"#N/A"}},{"$f":"VLOOKUP(A71,počty!$C$6:$BL$65,44,0)","v":{"$error":"#N/A"}},{"$f":"VLOOKUP(A71,počty!$C$6:$BL$65,45,0)","v":{"$error":"#N/A"}},{"$f":"VLOOKUP(A71,počty!$C$6:$BL$65,46,0)","v":{"$error":"#N/A"}},{"$f":"VLOOKUP(A71,počty!$C$6:$BL$65,48,0)","v":{"$error":"#N/A"}},{"$f":"VLOOKUP(A71,počty!$C$6:$BL$65,49,0)","v":{"$error":"#N/A"}},{"$f":"VLOOKUP(A71,počty!$C$6:$BL$65,47,0)","v":{"$error":"#N/A"}},{"$f":"IF(B71=\"M\",\"M\",+L71-MIN(počty!$BO$6:$BO$65))","v":{"$error":"#N/A"}}]
[60,{"$f":"IF(VLOOKUP(A72,počty!$C$6:$BL$65,50,0)>=1000,\"M\",VLOOKUP(A72,počty!$C$6:$BO$65,64,0))","v":{"$error":"#N/A"}},{"$f":"VLOOKUP(A72,počty!$C$6:$BL$65,13,0)","v":{"$error":"#N/A"}},{"$f":"VLOOKUP(A72,počty!$C$6:$BL$65,14,0)","v":{"$error":"#N/A"}},{"$f":"VLOOKUP(A72,počty!$C$6:$BL$65,15,0)","v":{"$error":"#N/A"}},{"$f":"VLOOKUP(A72,počty!$C$6:$BL$65,16,0)","v":{"$error":"#N/A"}},{"$f":"VLOOKUP(A72,počty!$C$6:$BL$65,44,0)","v":{"$error":"#N/A"}},{"$f":"VLOOKUP(A72,počty!$C$6:$BL$65,45,0)","v":{"$error":"#N/A"}},{"$f":"VLOOKUP(A72,počty!$C$6:$BL$65,46,0)","v":{"$error":"#N/A"}},{"$f":"VLOOKUP(A72,počty!$C$6:$BL$65,48,0)","v":{"$error":"#N/A"}},{"$f":"VLOOKUP(A72,počty!$C$6:$BL$65,49,0)","v":{"$error":"#N/A"}},{"$f":"VLOOKUP(A72,počty!$C$6:$BL$65,47,0)","v":{"$error":"#N/A"}},{"$f":"IF(B72=\"M\",\"M\",+L72-MIN(počty!$BO$6:$BO$65))","v":{"$error":"#N/A"}}]
[]
[null,"počet přihlášených:",null,{"$f":"COUNTA(počty!S6:S65)","v":5}]
[null,"počet startujících do skoku:",null,{"$f":"COUNT(počty!AT6:AT65)","v":5}]
[null,"dobehlo do cíle:",null,{"$f":"COUNT(počty!BJ6:BJ65)","v":5}]
[null,"z toho mimo soutěž (M):",null,{"$f":"DCOUNTA(B11:B72,1,CUP!M9:M10)","v":0}]
[]
[null,null,"ředitel závodu",null,null,null,null,null,null,"technický delegát"]
[null,null,{"$f":"+C6","v":"Ing. Stanislav Jirásek"},null,null,null,null,null,null,{"$f":"+C7","v":"Bernat Pavel"}]

{"sheet":"SK dod","index":13,"n_rows":42,"n_cols":16,"rows_kept":42,"cut":false,"hidden":false,"merged":[]}
[null,"Oficialní výsl. listina SEV. KOMBINACE",null,null,null,null,null,null,null,null,null,null,null,null,null,{"$f":"+hlavicka!C11","v":"Žáci U10M 2017-2016"}]
[null,{"$f":"CONCATENATE(+hlavicka!C33,\" - \",hlavicka!C34)","v":"Český pohár žactva v severské kombinaci - 2/SK"},null,null,null,null,null,null,null,null,null,null,null,null,null,{"$f":"+vyslSL!Q2","v":"dne: 21.11.2015"}]
[null,{"$f":"+vyslSL!B3","v":"skok.můstek: K 13"},null,null,null,null,null,null,null,null,null,null,null,null,null,{"$f":"+vyslSL!Q3","v":"LSK Lomnice"}]
[null,{"$f":"+vyslSL!B4","v":"certifikát můstku č.135/C35/SL pl. do "},null,null,null,null,{"$f":"+vyslSL!Q4","v":"K = 60 b. +/- 6 b./m"},null,null,null,null,null,null,null,null,{"$f":"CONCATENATE(\"trať \",hlavicka!C29,\"km - \",hlavicka!C30,\"bodů/min\")","v":"trať 1km - 50bodů/min"}]
[null,"Pořadí","Start. číslo","Kód závodníka","Příjmení","Jméno","Rok nar.","Pohlaví","Stát","FIS kód","Název klubu","Skok pořadí","Skok body","Běh pořadí","Běh čas","Čas"]
[1,{"$f":"IF(VLOOKUP(A6,počty!$C$6:$BL$65,50,0)>=1000,\"M\",VLOOKUP(A6,počty!$C$6:$BO$65,64,0))","v":1},{"$f":"VLOOKUP(A6,počty!$C$6:$BL$65,12,0)","v":22},{"$f":"VLOOKUP(A6,počty!$C$6:$BZ$65,73,0)","v":777372},{"$f":"VLOOKUP(A6,počty!$C$6:$BZ$65,68,0)","v":"Sankot"},{"$f":"VLOOKUP(A6,počty!$C$6:$BZ$65,67,0)","v":"Antonín"},{"$f":"VLOOKUP(A6,počty!$C$6:$BZ$65,71,0)","v":2017},{"$f":"VLOOKUP(A6,počty!$C$6:$BZ$65,70,0)","v":"MEN"},{"$f":"VLOOKUP(A6,počty!$C$6:$BZ$65,72,0)","v":"CZE"},{"$f":"VLOOKUP(A6,počty!$C$6:$BZ$65,74,0)","v":0},{"$f":"VLOOKUP(A6,počty!$C$6:$BZ$65,69,0)","v":"Lyžařský sportovní klub Lomnice nad Popelkou"},{"$f":"VLOOKUP(A6,počty!$C$6:$BL$65,45,0)","v":1},{"$f":"VLOOKUP(A6,počty!$C$6:$BL$65,44,0)","v":95.5},{"$f":"VLOOKUP(A6,počty!$C$6:$BL$65,49,0)","v":1},{"$f":"VLOOKUP(A6,počty!$C$6:$BL$65,48,0)","v":"00:05:13"},{"$f":"VLOOKUP(A6,počty!$C$6:$BL$65,47,0)","v":"00:05:13"}]
[2,{"$f":"IF(VLOOKUP(A7,počty!$C$6:$BL$65,50,0)>=1000,\"M\",VLOOKUP(A7,počty!$C$6:$BO$65,64,0))","v":2},{"$f":"VLOOKUP(A7,počty!$C$6:$BL$65,12,0)","v":13},{"$f":"VLOOKUP(A7,počty!$C$6:$BZ$65,73,0)","v":890332},{"$f":"VLOOKUP(A7,počty!$C$6:$BZ$65,68,0)","v":"Zapadlová"},{"$f":"VLOOKUP(A7,počty!$C$6:$BZ$65,67,0)","v":"Sára"},{"$f":"VLOOKUP(A7,počty!$C$6:$BZ$65,71,0)","v":2016},{"$f":"VLOOKUP(A7,počty!$C$6:$BZ$65,70,0)","v":"WOMEN"},{"$f":"VLOOKUP(A7,počty!$C$6:$BZ$65,72,0)","v":"CZE"},{"$f":"VLOOKUP(A7,počty!$C$6:$BZ$65,74,0)","v":0},{"$f":"VLOOKUP(A7,počty!$C$6:$BZ$65,69,0)","v":"Lyžařský sportovní klub Lomnice nad Popelkou"},{"$f":"VLOOKUP(A7,počty!$C$6:$BL$65,45,0)","v":1},{"$f":"VLOOKUP(A7,počty!$C$6:$BL$65,44,0)","v":95.5},{"$f":"VLOOKUP(A7,počty!$C$6:$BL$65,49,0)","v":2},{"$f":"VLOOKUP(A7,počty!$C$6:$BL$65,48,0)","v":"00:05:47.200"},{"$f":"VLOOKUP(A7,počty!$C$6:$BL$65,47,0)","v":"00:05:47.200"}]
[3,{"$f":"IF(VLOOKUP(A8,počty!$C$6:$BL$65,50,0)>=1000,\"M\",VLOOKUP(A8,počty!$C$6:$BO$65,64,0))","v":3},{"$f":"VLOOKUP(A8,počty!$C$6:$BL$65,12,0)","v":23},{"$f":"VLOOKUP(A8,počty!$C$6:$BZ$65,73,0)","v":774426},{"$f":"VLOOKUP(A8,počty!$C$6:$BZ$65,68,0)","v":"Břečka"},{"$f":"VLOOKUP(A8,počty!$C$6:$BZ$65,67,0)","v":"Matyáš"},{"$f":"VLOOKUP(A8,počty!$C$6:$BZ$65,71,0)","v":2014},{"$f":"VLOOKUP(A8,počty!$C$6:$BZ$65,70,0)","v":"MEN"},{"$f":"VLOOKUP(A8,počty!$C$6:$BZ$65,72,0)","v":"CZE"},{"$f":"VLOOKUP(A8,počty!$C$6:$BZ$65,74,0)","v":0},{"$f":"VLOOKUP(A8,počty!$C$6:$BZ$65,69,0)","v":"Lyžařský sportovní klub Lomnice nad Popelkou"},{"$f":"VLOOKUP(A8,počty!$C$6:$BL$65,45,0)","v":5},{"$f":"VLOOKUP(A8,počty!$C$6:$BL$65,44,0)","v":89.5},{"$f":"VLOOKUP(A8,počty!$C$6:$BL$65,49,0)","v":3},{"$f":"VLOOKUP(A8,počty!$C$6:$BL$65,48,0)","v":"00:06:07"},{"$f":"VLOOKUP(A8,počty!$C$6:$BL$65,47,0)","v":"00:06:14.200"}]
[4,{"$f":"IF(VLOOKUP(A9,počty!$C$6:$BL$65,50,0)>=1000,\"M\",VLOOKUP(A9,počty!$C$6:$BO$65,64,0))","v":4},{"$f":"VLOOKUP(A9,počty!$C$6:$BL$65,12,0)","v":24},{"$f":"VLOOKUP(A9,počty!$C$6:$BZ$65,73,0)","v":889929},{"$f":"VLOOKUP(A9,počty!$C$6:$BZ$65,68,0)","v":"Huráňová"},{"$f":"VLOOKUP(A9,počty!$C$6:$BZ$65,67,0)","v":"Karolína"},{"$f":"VLOOKUP(A9,počty!$C$6:$BZ$65,71,0)","v":2015},{"$f":"VLOOKUP(A9,počty!$C$6:$BZ$65,70,0)","v":"WOMEN"},{"$f":"VLOOKUP(A9,počty!$C$6:$BZ$65,72,0)","v":"CZE"},{"$f":"VLOOKUP(A9,počty!$C$6:$BZ$65,74,0)","v":0},{"$f":"VLOOKUP(A9,počty!$C$6:$BZ$65,69,0)","v":"Lyžařský sportovní klub Lomnice nad Popelkou"},{"$f":"VLOOKUP(A9,počty!$C$6:$BL$65,45,0)","v":3},{"$f":"VLOOKUP(A9,počty!$C$6:$BL$65,44,0)","v":94},{"$f":"VLOOKUP(A9,počty!$C$6:$BL$65,49,0)","v":4},{"$f":"VLOOKUP(A9,počty!$C$6:$BL$65,48,0)","v":"00:06:31"},{"$f":"VLOOKUP(A9,počty!$C$6:$BL$65,47,0)","v":"00:06:32.800"}]
[5,{"$f":"IF(VLOOKUP(A10,počty!$C$6:$BL$65,50,0)>=1000,\"M\",VLOOKUP(A10,počty!$C$6:$BO$65,64,0))","v":5},{"$f":"VLOOKUP(A10,počty!$C$6:$BL$65,12,0)","v":25},{"$f":"VLOOKUP(A10,počty!$C$6:$BZ$65,73,0)","v":774424},{"$f":"VLOOKUP(A10,počty!$C$6:$BZ$65,68,0)","v":"Ježek"},{"$f":"VLOOKUP(A10,počty!$C$6:$BZ$65,67,0)","v":"Jakub"},{"$f":"VLOOKUP(A10,počty!$C$6:$BZ$65,71,0)","v":2015},{"$f":"VLOOKUP(A10,počty!$C$6:$BZ$65,70,0)","v":"MEN"},{"$f":"VLOOKUP(A10,počty!$C$6:$BZ$65,72,0)","v":"CZE"},{"$f":"VLOOKUP(A10,počty!$C$6:$BZ$65,74,0)","v":0},{"$f":"VLOOKUP(A10,počty!$C$6:$BZ$65,69,0)","v":"Lyžařský sportovní klub Lomnice nad Popelkou"},{"$f":"VLOOKUP(A10,počty!$C$6:$BL$65,45,0)","v":4},{"$f":"VLOOKUP(A10,počty!$C$6:$BL$65,44,0)","v":90},{"$f":"VLOOKUP(A10,počty!$C$6:$BL$65,49,0)","v":5},{"$f":"VLOOKUP(A10,počty!$C$6:$BL$65,48,0)","v":"00:06:49.700"},{"$f":"VLOOKUP(A10,počty!$C$6:$BL$65,47,0)","v":"00:06:56.300"}]
[6,{"$f":"IF(VLOOKUP(A11,počty!$C$6:$BL$65,50,0)>=1000,\"M\",VLOOKUP(A11,počty!$C$6:$BO$65,64,0))","v":{"$error":"#N/A"}},{"$f":"VLOOKUP(A11,počty!$C$6:$BL$65,12,0)","v":{"$error":"#N/A"}},{"$f":"VLOOKUP(A11,počty!$C$6:$BZ$65,73,0)","v":{"$error":"#N/A"}},{"$f":"VLOOKUP(A11,počty!$C$6:$BZ$65,68,0)","v":{"$error":"#N/A"}},{"$f":"VLOOKUP(A11,počty!$C$6:$BZ$65,67,0)","v":{"$error":"#N/A"}},{"$f":"VLOOKUP(A11,počty!$C$6:$BZ$65,71,0)","v":{"$error":"#N/A"}},{"$f":"VLOOKUP(A11,počty!$C$6:$BZ$65,70,0)","v":{"$error":"#N/A"}},{"$f":"VLOOKUP(A11,počty!$C$6:$BZ$65,72,0)","v":{"$error":"#N/A"}},{"$f":"VLOOKUP(A11,počty!$C$6:$BZ$65,74,0)","v":{"$error":"#N/A"}},{"$f":"VLOOKUP(A11,počty!$C$6:$BZ$65,69,0)","v":{"$error":"#N/A"}},{"$f":"VLOOKUP(A11,počty!$C$6:$BL$65,45,0)","v":{"$error":"#N/A"}},{"$f":"VLOOKUP(A11,počty!$C$6:$BL$65,44,0)","v":{"$error":"#N/A"}},{"$f":"VLOOKUP(A11,počty!$C$6:$BL$65,49,0)","v":{"$error":"#N/A"}},{"$f":"VLOOKUP(A11,počty!$C$6:$BL$65,48,0)","v":{"$error":"#N/A"}},{"$f":"VLOOKUP(A11,počty!$C$6:$BL$65,47,0)","v":{"$error":"#N/A"}}]
[7,{"$f":"IF(VLOOKUP(A12,počty!$C$6:$BL$65,50,0)>=1000,\"M\",VLOOKUP(A12,počty!$C$6:$BO$65,64,0))","v":{"$error":"#N/A"}},{"$f":"VLOOKUP(A12,počty!$C$6:$BL$65,12,0)","v":{"$error":"#N/A"}},{"$f":"VLOOKUP(A12,počty!$C$6:$BZ$65,73,0)","v":{"$error":"#N/A"}},{"$f":"VLOOKUP(A12,počty!$C$6:$BZ$65,68,0)","v":{"$error":"#N/A"}},{"$f":"VLOOKUP(A12,počty!$C$6:$BZ$65,67,0)","v":{"$error":"#N/A"}},{"$f":"VLOOKUP(A12,počty!$C$6:$BZ$65,71,0)","v":{"$error":"#N/A"}},{"$f":"VLOOKUP(A12,počty!$C$6:$BZ$65,70,0)","v":{"$error":"#N/A"}},{"$f":"VLOOKUP(A12,počty!$C$6:$BZ$65,72,0)","v":{"$error":"#N/A"}},{"$f":"VLOOKUP(A12,počty!$C$6:$BZ$65,74,0)","v":{"$error":"#N/A"}},{"$f":"VLOOKUP(A12,počty!$C$6:$BZ$65,69,0)","v":{"$error":"#N/A"}},{"$f":"VLOOKUP(A12,počty!$C$6:$BL$65,45,0)","v":{"$error":"#N/A"}},{"$f":"VLOOKUP(A12,počty!$C$6:$BL$65,44,0)","v":{"$error":"#N/A"}},{"$f":"VLOOKUP(A12,počty!$C$6:$BL$65,49,0)","v":{"$error":"#N/A"}},{"$f":"VLOOKUP(A12,počty!$C$6:$BL$65,48,0)","v":{"$error":"#N/A"}},{"$f":"VLOOKUP(A12,počty!$C$6:$BL$65,47,0)","v":{"$error":"#N/A"}}]
[8,{"$f":"IF(VLOOKUP(A13,počty!$C$6:$BL$65,50,0)>=1000,\"M\",VLOOKUP(A13,počty!$C$6:$BO$65,64,0))","v":{"$error":"#N/A"}},{"$f":"VLOOKUP(A13,počty!$C$6:$BL$65,12,0)","v":{"$error":"#N/A"}},{"$f":"VLOOKUP(A13,počty!$C$6:$BZ$65,73,0)","v":{"$error":"#N/A"}},{"$f":"VLOOKUP(A13,počty!$C$6:$BZ$65,68,0)","v":{"$error":"#N/A"}},{"$f":"VLOOKUP(A13,počty!$C$6:$BZ$65,67,0)","v":{"$error":"#N/A"}},{"$f":"VLOOKUP(A13,počty!$C$6:$BZ$65,71,0)","v":{"$error":"#N/A"}},{"$f":"VLOOKUP(A13,počty!$C$6:$BZ$65,70,0)","v":{"$error":"#N/A"}},{"$f":"VLOOKUP(A13,počty!$C$6:$BZ$65,72,0)","v":{"$error":"#N/A"}},{"$f":"VLOOKUP(A13,počty!$C$6:$BZ$65,74,0)","v":{"$error":"#N/A"}},{"$f":"VLOOKUP(A13,počty!$C$6:$BZ$65,69,0)","v":{"$error":"#N/A"}},{"$f":"VLOOKUP(A13,počty!$C$6:$BL$65,45,0)","v":{"$error":"#N/A"}},{"$f":"VLOOKUP(A13,počty!$C$6:$BL$65,44,0)","v":{"$error":"#N/A"}},{"$f":"VLOOKUP(A13,počty!$C$6:$BL$65,49,0)","v":{"$error":"#N/A"}},{"$f":"VLOOKUP(A13,počty!$C$6:$BL$65,48,0)","v":{"$error":"#N/A"}},{"$f":"VLOOKUP(A13,počty!$C$6:$BL$65,47,0)","v":{"$error":"#N/A"}}]
[9,{"$f":"IF(VLOOKUP(A14,počty!$C$6:$BL$65,50,0)>=1000,\"M\",VLOOKUP(A14,počty!$C$6:$BO$65,64,0))","v":{"$error":"#N/A"}},{"$f":"VLOOKUP(A14,počty!$C$6:$BL$65,12,0)","v":{"$error":"#N/A"}},{"$f":"VLOOKUP(A14,počty!$C$6:$BZ$65,73,0)","v":{"$error":"#N/A"}},{"$f":"VLOOKUP(A14,počty!$C$6:$BZ$65,68,0)","v":{"$error":"#N/A"}},{"$f":"VLOOKUP(A14,počty!$C$6:$BZ$65,67,0)","v":{"$error":"#N/A"}},{"$f":"VLOOKUP(A14,počty!$C$6:$BZ$65,71,0)","v":{"$error":"#N/A"}},{"$f":"VLOOKUP(A14,počty!$C$6:$BZ$65,70,0)","v":{"$error":"#N/A"}},{"$f":"VLOOKUP(A14,počty!$C$6:$BZ$65,72,0)","v":{"$error":"#N/A"}},{"$f":"VLOOKUP(A14,počty!$C$6:$BZ$65,74,0)","v":{"$error":"#N/A"}},{"$f":"VLOOKUP(A14,počty!$C$6:$BZ$65,69,0)","v":{"$error":"#N/A"}},{"$f":"VLOOKUP(A14,počty!$C$6:$BL$65,45,0)","v":{"$error":"#N/A"}},{"$f":"VLOOKUP(A14,počty!$C$6:$BL$65,44,0)","v":{"$error":"#N/A"}},{"$f":"VLOOKUP(A14,počty!$C$6:$BL$65,49,0)","v":{"$error":"#N/A"}},{"$f":"VLOOKUP(A14,počty!$C$6:$BL$65,48,0)","v":{"$error":"#N/A"}},{"$f":"VLOOKUP(A14,počty!$C$6:$BL$65,47,0)","v":{"$error":"#N/A"}}]
[10,{"$f":"IF(VLOOKUP(A15,počty!$C$6:$BL$65,50,0)>=1000,\"M\",VLOOKUP(A15,počty!$C$6:$BO$65,64,0))","v":{"$error":"#N/A"}},{"$f":"VLOOKUP(A15,počty!$C$6:$BL$65,12,0)","v":{"$error":"#N/A"}},{"$f":"VLOOKUP(A15,počty!$C$6:$BZ$65,73,0)","v":{"$error":"#N/A"}},{"$f":"VLOOKUP(A15,počty!$C$6:$BZ$65,68,0)","v":{"$error":"#N/A"}},{"$f":"VLOOKUP(A15,počty!$C$6:$BZ$65,67,0)","v":{"$error":"#N/A"}},{"$f":"VLOOKUP(A15,počty!$C$6:$BZ$65,71,0)","v":{"$error":"#N/A"}},{"$f":"VLOOKUP(A15,počty!$C$6:$BZ$65,70,0)","v":{"$error":"#N/A"}},{"$f":"VLOOKUP(A15,počty!$C$6:$BZ$65,72,0)","v":{"$error":"#N/A"}},{"$f":"VLOOKUP(A15,počty!$C$6:$BZ$65,74,0)","v":{"$error":"#N/A"}},{"$f":"VLOOKUP(A15,počty!$C$6:$BZ$65,69,0)","v":{"$error":"#N/A"}},{"$f":"VLOOKUP(A15,počty!$C$6:$BL$65,45,0)","v":{"$error":"#N/A"}},{"$f":"VLOOKUP(A15,počty!$C$6:$BL$65,44,0)","v":{"$error":"#N/A"}},{"$f":"VLOOKUP(A15,počty!$C$6:$BL$65,49,0)","v":{"$error":"#N/A"}},{"$f":"VLOOKUP(A15,počty!$C$6:$BL$65,48,0)","v":{"$error":"#N/A"}},{"$f":"VLOOKUP(A15,počty!$C$6:$BL$65,47,0)","v":{"$error":"#N/A"}}]
[11,{"$f":"IF(VLOOKUP(A16,počty!$C$6:$BL$65,50,0)>=1000,\"M\",VLOOKUP(A16,počty!$C$6:$BO$65,64,0))","v":{"$error":"#N/A"}},{"$f":"VLOOKUP(A16,počty!$C$6:$BL$65,12,0)","v":{"$error":"#N/A"}},{"$f":"VLOOKUP(A16,počty!$C$6:$BZ$65,73,0)","v":{"$error":"#N/A"}},{"$f":"VLOOKUP(A16,počty!$C$6:$BZ$65,68,0)","v":{"$error":"#N/A"}},{"$f":"VLOOKUP(A16,počty!$C$6:$BZ$65,67,0)","v":{"$error":"#N/A"}},{"$f":"VLOOKUP(A16,počty!$C$6:$BZ$65,71,0)","v":{"$error":"#N/A"}},{"$f":"VLOOKUP(A16,počty!$C$6:$BZ$65,70,0)","v":{"$error":"#N/A"}},{"$f":"VLOOKUP(A16,počty!$C$6:$BZ$65,72,0)","v":{"$error":"#N/A"}},{"$f":"VLOOKUP(A16,počty!$C$6:$BZ$65,74,0)","v":{"$error":"#N/A"}},{"$f":"VLOOKUP(A16,počty!$C$6:$BZ$65,69,0)","v":{"$error":"#N/A"}},{"$f":"VLOOKUP(A16,počty!$C$6:$BL$65,45,0)","v":{"$error":"#N/A"}},{"$f":"VLOOKUP(A16,počty!$C$6:$BL$65,44,0)","v":{"$error":"#N/A"}},{"$f":"VLOOKUP(A16,počty!$C$6:$BL$65,49,0)","v":{"$error":"#N/A"}},{"$f":"VLOOKUP(A16,počty!$C$6:$BL$65,48,0)","v":{"$error":"#N/A"}},{"$f":"VLOOKUP(A16,počty!$C$6:$BL$65,47,0)","v":{"$error":"#N/A"}}]
[12,{"$f":"IF(VLOOKUP(A17,počty!$C$6:$BL$65,50,0)>=1000,\"M\",VLOOKUP(A17,počty!$C$6:$BO$65,64,0))","v":{"$error":"#N/A"}},{"$f":"VLOOKUP(A17,počty!$C$6:$BL$65,12,0)","v":{"$error":"#N/A"}},{"$f":"VLOOKUP(A17,počty!$C$6:$BZ$65,73,0)","v":{"$error":"#N/A"}},{"$f":"VLOOKUP(A17,počty!$C$6:$BZ$65,68,0)","v":{"$error":"#N/A"}},{"$f":"VLOOKUP(A17,počty!$C$6:$BZ$65,67,0)","v":{"$error":"#N/A"}},{"$f":"VLOOKUP(A17,počty!$C$6:$BZ$65,71,0)","v":{"$error":"#N/A"}},{"$f":"VLOOKUP(A17,počty!$C$6:$BZ$65,70,0)","v":{"$error":"#N/A"}},{"$f":"VLOOKUP(A17,počty!$C$6:$BZ$65,72,0)","v":{"$error":"#N/A"}},{"$f":"VLOOKUP(A17,počty!$C$6:$BZ$65,74,0)","v":{"$error":"#N/A"}},{"$f":"VLOOKUP(A17,počty!$C$6:$BZ$65,69,0)","v":{"$error":"#N/A"}},{"$f":"VLOOKUP(A17,počty!$C$6:$BL$65,45,0)","v":{"$error":"#N/A"}},{"$f":"VLOOKUP(A17,počty!$C$6:$BL$65,44,0)","v":{"$error":"#N/A"}},{"$f":"VLOOKUP(A17,počty!$C$6:$BL$65,49,0)","v":{"$error":"#N/A"}},{"$f":"VLOOKUP(A17,počty!$C$6:$BL$65,48,0)","v":{"$error":"#N/A"}},{"$f":"VLOOKUP(A17,počty!$C$6:$BL$65,47,0)","v":{"$error":"#N/A"}}]
[13,{"$f":"IF(VLOOKUP(A18,počty!$C$6:$BL$65,50,0)>=1000,\"M\",VLOOKUP(A18,počty!$C$6:$BO$65,64,0))","v":{"$error":"#N/A"}},{"$f":"VLOOKUP(A18,počty!$C$6:$BL$65,12,0)","v":{"$error":"#N/A"}},{"$f":"VLOOKUP(A18,počty!$C$6:$BZ$65,73,0)","v":{"$error":"#N/A"}},{"$f":"VLOOKUP(A18,počty!$C$6:$BZ$65,68,0)","v":{"$error":"#N/A"}},{"$f":"VLOOKUP(A18,počty!$C$6:$BZ$65,67,0)","v":{"$error":"#N/A"}},{"$f":"VLOOKUP(A18,počty!$C$6:$BZ$65,71,0)","v":{"$error":"#N/A"}},{"$f":"VLOOKUP(A18,počty!$C$6:$BZ$65,70,0)","v":{"$error":"#N/A"}},{"$f":"VLOOKUP(A18,počty!$C$6:$BZ$65,72,0)","v":{"$error":"#N/A"}},{"$f":"VLOOKUP(A18,počty!$C$6:$BZ$65,74,0)","v":{"$error":"#N/A"}},{"$f":"VLOOKUP(A18,počty!$C$6:$BZ$65,69,0)","v":{"$error":"#N/A"}},{"$f":"VLOOKUP(A18,počty!$C$6:$BL$65,45,0)","v":{"$error":"#N/A"}},{"$f":"VLOOKUP(A18,počty!$C$6:$BL$65,44,0)","v":{"$error":"#N/A"}},{"$f":"VLOOKUP(A18,počty!$C$6:$BL$65,49,0)","v":{"$error":"#N/A"}},{"$f":"VLOOKUP(A18,počty!$C$6:$BL$65,48,0)","v":{"$error":"#N/A"}},{"$f":"VLOOKUP(A18,počty!$C$6:$BL$65,47,0)","v":{"$error":"#N/A"}}]
[14,{"$f":"IF(VLOOKUP(A19,počty!$C$6:$BL$65,50,0)>=1000,\"M\",VLOOKUP(A19,počty!$C$6:$BO$65,64,0))","v":{"$error":"#N/A"}},{"$f":"VLOOKUP(A19,počty!$C$6:$BL$65,12,0)","v":{"$error":"#N/A"}},{"$f":"VLOOKUP(A19,počty!$C$6:$BZ$65,73,0)","v":{"$error":"#N/A"}},{"$f":"VLOOKUP(A19,počty!$C$6:$BZ$65,68,0)","v":{"$error":"#N/A"}},{"$f":"VLOOKUP(A19,počty!$C$6:$BZ$65,67,0)","v":{"$error":"#N/A"}},{"$f":"VLOOKUP(A19,počty!$C$6:$BZ$65,71,0)","v":{"$error":"#N/A"}},{"$f":"VLOOKUP(A19,počty!$C$6:$BZ$65,70,0)","v":{"$error":"#N/A"}},{"$f":"VLOOKUP(A19,počty!$C$6:$BZ$65,72,0)","v":{"$error":"#N/A"}},{"$f":"VLOOKUP(A19,počty!$C$6:$BZ$65,74,0)","v":{"$error":"#N/A"}},{"$f":"VLOOKUP(A19,počty!$C$6:$BZ$65,69,0)","v":{"$error":"#N/A"}},{"$f":"VLOOKUP(A19,počty!$C$6:$BL$65,45,0)","v":{"$error":"#N/A"}},{"$f":"VLOOKUP(A19,počty!$C$6:$BL$65,44,0)","v":{"$error":"#N/A"}},{"$f":"VLOOKUP(A19,počty!$C$6:$BL$65,49,0)","v":{"$error":"#N/A"}},{"$f":"VLOOKUP(A19,počty!$C$6:$BL$65,48,0)","v":{"$error":"#N/A"}},{"$f":"VLOOKUP(A19,počty!$C$6:$BL$65,47,0)","v":{"$error":"#N/A"}}]
[15,{"$f":"IF(VLOOKUP(A20,počty!$C$6:$BL$65,50,0)>=1000,\"M\",VLOOKUP(A20,počty!$C$6:$BO$65,64,0))","v":{"$error":"#N/A"}},{"$f":"VLOOKUP(A20,počty!$C$6:$BL$65,12,0)","v":{"$error":"#N/A"}},{"$f":"VLOOKUP(A20,počty!$C$6:$BZ$65,73,0)","v":{"$error":"#N/A"}},{"$f":"VLOOKUP(A20,počty!$C$6:$BZ$65,68,0)","v":{"$error":"#N/A"}},{"$f":"VLOOKUP(A20,počty!$C$6:$BZ$65,67,0)","v":{"$error":"#N/A"}},{"$f":"VLOOKUP(A20,počty!$C$6:$BZ$65,71,0)","v":{"$error":"#N/A"}},{"$f":"VLOOKUP(A20,počty!$C$6:$BZ$65,70,0)","v":{"$error":"#N/A"}},{"$f":"VLOOKUP(A20,počty!$C$6:$BZ$65,72,0)","v":{"$error":"#N/A"}},{"$f":"VLOOKUP(A20,počty!$C$6:$BZ$65,74,0)","v":{"$error":"#N/A"}},{"$f":"VLOOKUP(A20,počty!$C$6:$BZ$65,69,0)","v":{"$error":"#N/A"}},{"$f":"VLOOKUP(A20,počty!$C$6:$BL$65,45,0)","v":{"$error":"#N/A"}},{"$f":"VLOOKUP(A20,počty!$C$6:$BL$65,44,0)","v":{"$error":"#N/A"}},{"$f":"VLOOKUP(A20,počty!$C$6:$BL$65,49,0)","v":{"$error":"#N/A"}},{"$f":"VLOOKUP(A20,počty!$C$6:$BL$65,48,0)","v":{"$error":"#N/A"}},{"$f":"VLOOKUP(A20,počty!$C$6:$BL$65,47,0)","v":{"$error":"#N/A"}}]
[16,{"$f":"IF(VLOOKUP(A21,počty!$C$6:$BL$65,50,0)>=1000,\"M\",VLOOKUP(A21,počty!$C$6:$BO$65,64,0))","v":{"$error":"#N/A"}},{"$f":"VLOOKUP(A21,počty!$C$6:$BL$65,12,0)","v":{"$error":"#N/A"}},{"$f":"VLOOKUP(A21,počty!$C$6:$BZ$65,73,0)","v":{"$error":"#N/A"}},{"$f":"VLOOKUP(A21,počty!$C$6:$BZ$65,68,0)","v":{"$error":"#N/A"}},{"$f":"VLOOKUP(A21,počty!$C$6:$BZ$65,67,0)","v":{"$error":"#N/A"}},{"$f":"VLOOKUP(A21,počty!$C$6:$BZ$65,71,0)","v":{"$error":"#N/A"}},{"$f":"VLOOKUP(A21,počty!$C$6:$BZ$65,70,0)","v":{"$error":"#N/A"}},{"$f":"VLOOKUP(A21,počty!$C$6:$BZ$65,72,0)","v":{"$error":"#N/A"}},{"$f":"VLOOKUP(A21,počty!$C$6:$BZ$65,74,0)","v":{"$error":"#N/A"}},{"$f":"VLOOKUP(A21,počty!$C$6:$BZ$65,69,0)","v":{"$error":"#N/A"}},{"$f":"VLOOKUP(A21,počty!$C$6:$BL$65,45,0)","v":{"$error":"#N/A"}},{"$f":"VLOOKUP(A21,počty!$C$6:$BL$65,44,0)","v":{"$error":"#N/A"}},{"$f":"VLOOKUP(A21,počty!$C$6:$BL$65,49,0)","v":{"$error":"#N/A"}},{"$f":"VLOOKUP(A21,počty!$C$6:$BL$65,48,0)","v":{"$error":"#N/A"}},{"$f":"VLOOKUP(A21,počty!$C$6:$BL$65,47,0)","v":{"$error":"#N/A"}}]
[17,{"$f":"IF(VLOOKUP(A22,počty!$C$6:$BL$65,50,0)>=1000,\"M\",VLOOKUP(A22,počty!$C$6:$BO$65,64,0))","v":{"$error":"#N/A"}},{"$f":"VLOOKUP(A22,počty!$C$6:$BL$65,12,0)","v":{"$error":"#N/A"}},{"$f":"VLOOKUP(A22,počty!$C$6:$BZ$65,73,0)","v":{"$error":"#N/A"}},{"$f":"VLOOKUP(A22,počty!$C$6:$BZ$65,68,0)","v":{"$error":"#N/A"}},{"$f":"VLOOKUP(A22,počty!$C$6:$BZ$65,67,0)","v":{"$error":"#N/A"}},{"$f":"VLOOKUP(A22,počty!$C$6:$BZ$65,71,0)","v":{"$error":"#N/A"}},{"$f":"VLOOKUP(A22,počty!$C$6:$BZ$65,70,0)","v":{"$error":"#N/A"}},{"$f":"VLOOKUP(A22,počty!$C$6:$BZ$65,72,0)","v":{"$error":"#N/A"}},{"$f":"VLOOKUP(A22,počty!$C$6:$BZ$65,74,0)","v":{"$error":"#N/A"}},{"$f":"VLOOKUP(A22,počty!$C$6:$BZ$65,69,0)","v":{"$error":"#N/A"}},{"$f":"VLOOKUP(A22,počty!$C$6:$BL$65,45,0)","v":{"$error":"#N/A"}},{"$f":"VLOOKUP(A22,počty!$C$6:$BL$65,44,0)","v":{"$error":"#N/A"}},{"$f":"VLOOKUP(A22,počty!$C$6:$BL$65,49,0)","v":{"$error":"#N/A"}},{"$f":"VLOOKUP(A22,počty!$C$6:$BL$65,48,0)","v":{"$error":"#N/A"}},{"$f":"VLOOKUP(A22,počty!$C$6:$BL$65,47,0)","v":{"$error":"#N/A"}}]
[18,{"$f":"IF(VLOOKUP(A23,počty!$C$6:$BL$65,50,0)>=1000,\"M\",VLOOKUP(A23,počty!$C$6:$BO$65,64,0))","v":{"$error":"#N/A"}},{"$f":"VLOOKUP(A23,počty!$C$6:$BL$65,12,0)","v":{"$error":"#N/A"}},{"$f":"VLOOKUP(A23,počty!$C$6:$BZ$65,73,0)","v":{"$error":"#N/A"}},{"$f":"VLOOKUP(A23,počty!$C$6:$BZ$65,68,0)","v":{"$error":"#N/A"}},{"$f":"VLOOKUP(A23,počty!$C$6:$BZ$65,67,0)","v":{"$error":"#N/A"}},{"$f":"VLOOKUP(A23,počty!$C$6:$BZ$65,71,0)","v":{"$error":"#N/A"}},{"$f":"VLOOKUP(A23,počty!$C$6:$BZ$65,70,0)","v":{"$error":"#N/A"}},{"$f":"VLOOKUP(A23,počty!$C$6:$BZ$65,72,0)","v":{"$error":"#N/A"}},{"$f":"VLOOKUP(A23,počty!$C$6:$BZ$65,74,0)","v":{"$error":"#N/A"}},{"$f":"VLOOKUP(A23,počty!$C$6:$BZ$65,69,0)","v":{"$error":"#N/A"}},{"$f":"VLOOKUP(A23,počty!$C$6:$BL$65,45,0)","v":{"$error":"#N/A"}},{"$f":"VLOOKUP(A23,počty!$C$6:$BL$65,44,0)","v":{"$error":"#N/A"}},{"$f":"VLOOKUP(A23,počty!$C$6:$BL$65,49,0)","v":{"$error":"#N/A"}},{"$f":"VLOOKUP(A23,počty!$C$6:$BL$65,48,0)","v":{"$error":"#N/A"}},{"$f":"VLOOKUP(A23,počty!$C$6:$BL$65,47,0)","v":{"$error":"#N/A"}}]
[19,{"$f":"IF(VLOOKUP(A24,počty!$C$6:$BL$65,50,0)>=1000,\"M\",VLOOKUP(A24,počty!$C$6:$BO$65,64,0))","v":{"$error":"#N/A"}},{"$f":"VLOOKUP(A24,počty!$C$6:$BL$65,12,0)","v":{"$error":"#N/A"}},{"$f":"VLOOKUP(A24,počty!$C$6:$BZ$65,73,0)","v":{"$error":"#N/A"}},{"$f":"VLOOKUP(A24,počty!$C$6:$BZ$65,68,0)","v":{"$error":"#N/A"}},{"$f":"VLOOKUP(A24,počty!$C$6:$BZ$65,67,0)","v":{"$error":"#N/A"}},{"$f":"VLOOKUP(A24,počty!$C$6:$BZ$65,71,0)","v":{"$error":"#N/A"}},{"$f":"VLOOKUP(A24,počty!$C$6:$BZ$65,70,0)","v":{"$error":"#N/A"}},{"$f":"VLOOKUP(A24,počty!$C$6:$BZ$65,72,0)","v":{"$error":"#N/A"}},{"$f":"VLOOKUP(A24,počty!$C$6:$BZ$65,74,0)","v":{"$error":"#N/A"}},{"$f":"VLOOKUP(A24,počty!$C$6:$BZ$65,69,0)","v":{"$error":"#N/A"}},{"$f":"VLOOKUP(A24,počty!$C$6:$BL$65,45,0)","v":{"$error":"#N/A"}},{"$f":"VLOOKUP(A24,počty!$C$6:$BL$65,44,0)","v":{"$error":"#N/A"}},{"$f":"VLOOKUP(A24,počty!$C$6:$BL$65,49,0)","v":{"$error":"#N/A"}},{"$f":"VLOOKUP(A24,počty!$C$6:$BL$65,48,0)","v":{"$error":"#N/A"}},{"$f":"VLOOKUP(A24,počty!$C$6:$BL$65,47,0)","v":{"$error":"#N/A"}}]
[20,{"$f":"IF(VLOOKUP(A25,počty!$C$6:$BL$65,50,0)>=1000,\"M\",VLOOKUP(A25,počty!$C$6:$BO$65,64,0))","v":{"$error":"#N/A"}},{"$f":"VLOOKUP(A25,počty!$C$6:$BL$65,12,0)","v":{"$error":"#N/A"}},{"$f":"VLOOKUP(A25,počty!$C$6:$BZ$65,73,0)","v":{"$error":"#N/A"}},{"$f":"VLOOKUP(A25,počty!$C$6:$BZ$65,68,0)","v":{"$error":"#N/A"}},{"$f":"VLOOKUP(A25,počty!$C$6:$BZ$65,67,0)","v":{"$error":"#N/A"}},{"$f":"VLOOKUP(A25,počty!$C$6:$BZ$65,71,0)","v":{"$error":"#N/A"}},{"$f":"VLOOKUP(A25,počty!$C$6:$BZ$65,70,0)","v":{"$error":"#N/A"}},{"$f":"VLOOKUP(A25,počty!$C$6:$BZ$65,72,0)","v":{"$error":"#N/A"}},{"$f":"VLOOKUP(A25,počty!$C$6:$BZ$65,74,0)","v":{"$error":"#N/A"}},{"$f":"VLOOKUP(A25,počty!$C$6:$BZ$65,69,0)","v":{"$error":"#N/A"}},{"$f":"VLOOKUP(A25,počty!$C$6:$BL$65,45,0)","v":{"$error":"#N/A"}},{"$f":"VLOOKUP(A25,počty!$C$6:$BL$65,44,0)","v":{"$error":"#N/A"}},{"$f":"VLOOKUP(A25,počty!$C$6:$BL$65,49,0)","v":{"$error":"#N/A"}},{"$f":"VLOOKUP(A25,počty!$C$6:$BL$65,48,0)","v":{"$error":"#N/A"}},{"$f":"VLOOKUP(A25,počty!$C$6:$BL$65,47,0)","v":{"$error":"#N/A"}}]
[21,{"$f":"IF(VLOOKUP(A26,počty!$C$6:$BL$65,50,0)>=1000,\"M\",VLOOKUP(A26,počty!$C$6:$BO$65,64,0))","v":{"$error":"#N/A"}},{"$f":"VLOOKUP(A26,počty!$C$6:$BL$65,12,0)","v":{"$error":"#N/A"}},{"$f":"VLOOKUP(A26,počty!$C$6:$BZ$65,73,0)","v":{"$error":"#N/A"}},{"$f":"VLOOKUP(A26,počty!$C$6:$BZ$65,68,0)","v":{"$error":"#N/A"}},{"$f":"VLOOKUP(A26,počty!$C$6:$BZ$65,67,0)","v":{"$error":"#N/A"}},{"$f":"VLOOKUP(A26,počty!$C$6:$BZ$65,71,0)","v":{"$error":"#N/A"}},{"$f":"VLOOKUP(A26,počty!$C$6:$BZ$65,70,0)","v":{"$error":"#N/A"}},{"$f":"VLOOKUP(A26,počty!$C$6:$BZ$65,72,0)","v":{"$error":"#N/A"}},{"$f":"VLOOKUP(A26,počty!$C$6:$BZ$65,74,0)","v":{"$error":"#N/A"}},{"$f":"VLOOKUP(A26,počty!$C$6:$BZ$65,69,0)","v":{"$error":"#N/A"}},{"$f":"VLOOKUP(A26,počty!$C$6:$BL$65,45,0)","v":{"$error":"#N/A"}},{"$f":"VLOOKUP(A26,počty!$C$6:$BL$65,44,0)","v":{"$error":"#N/A"}},{"$f":"VLOOKUP(A26,počty!$C$6:$BL$65,49,0)","v":{"$error":"#N/A"}},{"$f":"VLOOKUP(A26,počty!$C$6:$BL$65,48,0)","v":{"$error":"#N/A"}},{"$f":"VLOOKUP(A26,počty!$C$6:$BL$65,47,0)","v":{"$error":"#N/A"}}]
[22,{"$f":"IF(VLOOKUP(A27,počty!$C$6:$BL$65,50,0)>=1000,\"M\",VLOOKUP(A27,počty!$C$6:$BO$65,64,0))","v":{"$error":"#N/A"}},{"$f":"VLOOKUP(A27,počty!$C$6:$BL$65,12,0)","v":{"$error":"#N/A"}},{"$f":"VLOOKUP(A27,počty!$C$6:$BZ$65,73,0)","v":{"$error":"#N/A"}},{"$f":"VLOOKUP(A27,počty!$C$6:$BZ$65,68,0)","v":{"$error":"#N/A"}},{"$f":"VLOOKUP(A27,počty!$C$6:$BZ$65,67,0)","v":{"$error":"#N/A"}},{"$f":"VLOOKUP(A27,počty!$C$6:$BZ$65,71,0)","v":{"$error":"#N/A"}},{"$f":"VLOOKUP(A27,počty!$C$6:$BZ$65,70,0)","v":{"$error":"#N/A"}},{"$f":"VLOOKUP(A27,počty!$C$6:$BZ$65,72,0)","v":{"$error":"#N/A"}},{"$f":"VLOOKUP(A27,počty!$C$6:$BZ$65,74,0)","v":{"$error":"#N/A"}},{"$f":"VLOOKUP(A27,počty!$C$6:$BZ$65,69,0)","v":{"$error":"#N/A"}},{"$f":"VLOOKUP(A27,počty!$C$6:$BL$65,45,0)","v":{"$error":"#N/A"}},{"$f":"VLOOKUP(A27,počty!$C$6:$BL$65,44,0)","v":{"$error":"#N/A"}},{"$f":"VLOOKUP(A27,počty!$C$6:$BL$65,49,0)","v":{"$error":"#N/A"}},{"$f":"VLOOKUP(A27,počty!$C$6:$BL$65,48,0)","v":{"$error":"#N/A"}},{"$f":"VLOOKUP(A27,počty!$C$6:$BL$65,47,0)","v":{"$error":"#N/A"}}]
[23,{"$f":"IF(VLOOKUP(A28,počty!$C$6:$BL$65,50,0)>=1000,\"M\",VLOOKUP(A28,počty!$C$6:$BO$65,64,0))","v":{"$error":"#N/A"}},{"$f":"VLOOKUP(A28,počty!$C$6:$BL$65,12,0)","v":{"$error":"#N/A"}},{"$f":"VLOOKUP(A28,počty!$C$6:$BZ$65,73,0)","v":{"$error":"#N/A"}},{"$f":"VLOOKUP(A28,počty!$C$6:$BZ$65,68,0)","v":{"$error":"#N/A"}},{"$f":"VLOOKUP(A28,počty!$C$6:$BZ$65,67,0)","v":{"$error":"#N/A"}},{"$f":"VLOOKUP(A28,počty!$C$6:$BZ$65,71,0)","v":{"$error":"#N/A"}},{"$f":"VLOOKUP(A28,počty!$C$6:$BZ$65,70,0)","v":{"$error":"#N/A"}},{"$f":"VLOOKUP(A28,počty!$C$6:$BZ$65,72,0)","v":{"$error":"#N/A"}},{"$f":"VLOOKUP(A28,počty!$C$6:$BZ$65,74,0)","v":{"$error":"#N/A"}},{"$f":"VLOOKUP(A28,počty!$C$6:$BZ$65,69,0)","v":{"$error":"#N/A"}},{"$f":"VLOOKUP(A28,počty!$C$6:$BL$65,45,0)","v":{"$error":"#N/A"}},{"$f":"VLOOKUP(A28,počty!$C$6:$BL$65,44,0)","v":{"$error":"#N/A"}},{"$f":"VLOOKUP(A28,počty!$C$6:$BL$65,49,0)","v":{"$error":"#N/A"}},{"$f":"VLOOKUP(A28,počty!$C$6:$BL$65,48,0)","v":{"$error":"#N/A"}},{"$f":"VLOOKUP(A28,počty!$C$6:$BL$65,47,0)","v":{"$error":"#N/A"}}]
[24,{"$f":"IF(VLOOKUP(A29,počty!$C$6:$BL$65,50,0)>=1000,\"M\",VLOOKUP(A29,počty!$C$6:$BO$65,64,0))","v":{"$error":"#N/A"}},{"$f":"VLOOKUP(A29,počty!$C$6:$BL$65,12,0)","v":{"$error":"#N/A"}},{"$f":"VLOOKUP(A29,počty!$C$6:$BZ$65,73,0)","v":{"$error":"#N/A"}},{"$f":"VLOOKUP(A29,počty!$C$6:$BZ$65,68,0)","v":{"$error":"#N/A"}},{"$f":"VLOOKUP(A29,počty!$C$6:$BZ$65,67,0)","v":{"$error":"#N/A"}},{"$f":"VLOOKUP(A29,počty!$C$6:$BZ$65,71,0)","v":{"$error":"#N/A"}},{"$f":"VLOOKUP(A29,počty!$C$6:$BZ$65,70,0)","v":{"$error":"#N/A"}},{"$f":"VLOOKUP(A29,počty!$C$6:$BZ$65,72,0)","v":{"$error":"#N/A"}},{"$f":"VLOOKUP(A29,počty!$C$6:$BZ$65,74,0)","v":{"$error":"#N/A"}},{"$f":"VLOOKUP(A29,počty!$C$6:$BZ$65,69,0)","v":{"$error":"#N/A"}},{"$f":"VLOOKUP(A29,počty!$C$6:$BL$65,45,0)","v":{"$error":"#N/A"}},{"$f":"VLOOKUP(A29,počty!$C$6:$BL$65,44,0)","v":{"$error":"#N/A"}},{"$f":"VLOOKUP(A29,počty!$C$6:$BL$65,49,0)","v":{"$error":"#N/A"}},{"$f":"VLOOKUP(A29,počty!$C$6:$BL$65,48,0)","v":{"$error":"#N/A"}},{"$f":"VLOOKUP(A29,počty!$C$6:$BL$65,47,0)","v":{"$error":"#N/A"}}]
[25,{"$f":"IF(VLOOKUP(A30,počty!$C$6:$BL$65,50,0)>=1000,\"M\",VLOOKUP(A30,počty!$C$6:$BO$65,64,0))","v":{"$error":"#N/A"}},{"$f":"VLOOKUP(A30,počty!$C$6:$BL$65,12,0)","v":{"$error":"#N/A"}},{"$f":"VLOOKUP(A30,počty!$C$6:$BZ$65,73,0)","v":{"$error":"#N/A"}},{"$f":"VLOOKUP(A30,počty!$C$6:$BZ$65,68,0)","v":{"$error":"#N/A"}},{"$f":"VLOOKUP(A30,počty!$C$6:$BZ$65,67,0)","v":{"$error":"#N/A"}},{"$f":"VLOOKUP(A30,počty!$C$6:$BZ$65,71,0)","v":{"$error":"#N/A"}},{"$f":"VLOOKUP(A30,počty!$C$6:$BZ$65,70,0)","v":{"$error":"#N/A"}},{"$f":"VLOOKUP(A30,počty!$C$6:$BZ$65,72,0)","v":{"$error":"#N/A"}},{"$f":"VLOOKUP(A30,počty!$C$6:$BZ$65,74,0)","v":{"$error":"#N/A"}},{"$f":"VLOOKUP(A30,počty!$C$6:$BZ$65,69,0)","v":{"$error":"#N/A"}},{"$f":"VLOOKUP(A30,počty!$C$6:$BL$65,45,0)","v":{"$error":"#N/A"}},{"$f":"VLOOKUP(A30,počty!$C$6:$BL$65,44,0)","v":{"$error":"#N/A"}},{"$f":"VLOOKUP(A30,počty!$C$6:$BL$65,49,0)","v":{"$error":"#N/A"}},{"$f":"VLOOKUP(A30,počty!$C$6:$BL$65,48,0)","v":{"$error":"#N/A"}},{"$f":"VLOOKUP(A30,počty!$C$6:$BL$65,47,0)","v":{"$error":"#N/A"}}]
[26,{"$f":"IF(VLOOKUP(A31,počty!$C$6:$BL$65,50,0)>=1000,\"M\",VLOOKUP(A31,počty!$C$6:$BO$65,64,0))","v":{"$error":"#N/A"}},{"$f":"VLOOKUP(A31,počty!$C$6:$BL$65,12,0)","v":{"$error":"#N/A"}},{"$f":"VLOOKUP(A31,počty!$C$6:$BZ$65,73,0)","v":{"$error":"#N/A"}},{"$f":"VLOOKUP(A31,počty!$C$6:$BZ$65,68,0)","v":{"$error":"#N/A"}},{"$f":"VLOOKUP(A31,počty!$C$6:$BZ$65,67,0)","v":{"$error":"#N/A"}},{"$f":"VLOOKUP(A31,počty!$C$6:$BZ$65,71,0)","v":{"$error":"#N/A"}},{"$f":"VLOOKUP(A31,počty!$C$6:$BZ$65,70,0)","v":{"$error":"#N/A"}},{"$f":"VLOOKUP(A31,počty!$C$6:$BZ$65,72,0)","v":{"$error":"#N/A"}},{"$f":"VLOOKUP(A31,počty!$C$6:$BZ$65,74,0)","v":{"$error":"#N/A"}},{"$f":"VLOOKUP(A31,počty!$C$6:$BZ$65,69,0)","v":{"$error":"#N/A"}},{"$f":"VLOOKUP(A31,počty!$C$6:$BL$65,45,0)","v":{"$error":"#N/A"}},{"$f":"VLOOKUP(A31,počty!$C$6:$BL$65,44,0)","v":{"$error":"#N/A"}},{"$f":"VLOOKUP(A31,počty!$C$6:$BL$65,49,0)","v":{"$error":"#N/A"}},{"$f":"VLOOKUP(A31,počty!$C$6:$BL$65,48,0)","v":{"$error":"#N/A"}},{"$f":"VLOOKUP(A31,počty!$C$6:$BL$65,47,0)","v":{"$error":"#N/A"}}]
[27,{"$f":"IF(VLOOKUP(A32,počty!$C$6:$BL$65,50,0)>=1000,\"M\",VLOOKUP(A32,počty!$C$6:$BO$65,64,0))","v":{"$error":"#N/A"}},{"$f":"VLOOKUP(A32,počty!$C$6:$BL$65,12,0)","v":{"$error":"#N/A"}},{"$f":"VLOOKUP(A32,počty!$C$6:$BZ$65,73,0)","v":{"$error":"#N/A"}},{"$f":"VLOOKUP(A32,počty!$C$6:$BZ$65,68,0)","v":{"$error":"#N/A"}},{"$f":"VLOOKUP(A32,počty!$C$6:$BZ$65,67,0)","v":{"$error":"#N/A"}},{"$f":"VLOOKUP(A32,počty!$C$6:$BZ$65,71,0)","v":{"$error":"#N/A"}},{"$f":"VLOOKUP(A32,počty!$C$6:$BZ$65,70,0)","v":{"$error":"#N/A"}},{"$f":"VLOOKUP(A32,počty!$C$6:$BZ$65,72,0)","v":{"$error":"#N/A"}},{"$f":"VLOOKUP(A32,počty!$C$6:$BZ$65,74,0)","v":{"$error":"#N/A"}},{"$f":"VLOOKUP(A32,počty!$C$6:$BZ$65,69,0)","v":{"$error":"#N/A"}},{"$f":"VLOOKUP(A32,počty!$C$6:$BL$65,45,0)","v":{"$error":"#N/A"}},{"$f":"VLOOKUP(A32,počty!$C$6:$BL$65,44,0)","v":{"$error":"#N/A"}},{"$f":"VLOOKUP(A32,počty!$C$6:$BL$65,49,0)","v":{"$error":"#N/A"}},{"$f":"VLOOKUP(A32,počty!$C$6:$BL$65,48,0)","v":{"$error":"#N/A"}},{"$f":"VLOOKUP(A32,počty!$C$6:$BL$65,47,0)","v":{"$error":"#N/A"}}]
[28,{"$f":"IF(VLOOKUP(A33,počty!$C$6:$BL$65,50,0)>=1000,\"M\",VLOOKUP(A33,počty!$C$6:$BO$65,64,0))","v":{"$error":"#N/A"}},{"$f":"VLOOKUP(A33,počty!$C$6:$BL$65,12,0)","v":{"$error":"#N/A"}},{"$f":"VLOOKUP(A33,počty!$C$6:$BZ$65,73,0)","v":{"$error":"#N/A"}},{"$f":"VLOOKUP(A33,počty!$C$6:$BZ$65,68,0)","v":{"$error":"#N/A"}},{"$f":"VLOOKUP(A33,počty!$C$6:$BZ$65,67,0)","v":{"$error":"#N/A"}},{"$f":"VLOOKUP(A33,počty!$C$6:$BZ$65,71,0)","v":{"$error":"#N/A"}},{"$f":"VLOOKUP(A33,počty!$C$6:$BZ$65,70,0)","v":{"$error":"#N/A"}},{"$f":"VLOOKUP(A33,počty!$C$6:$BZ$65,72,0)","v":{"$error":"#N/A"}},{"$f":"VLOOKUP(A33,počty!$C$6:$BZ$65,74,0)","v":{"$error":"#N/A"}},{"$f":"VLOOKUP(A33,počty!$C$6:$BZ$65,69,0)","v":{"$error":"#N/A"}},{"$f":"VLOOKUP(A33,počty!$C$6:$BL$65,45,0)","v":{"$error":"#N/A"}},{"$f":"VLOOKUP(A33,počty!$C$6:$BL$65,44,0)","v":{"$error":"#N/A"}},{"$f":"VLOOKUP(A33,počty!$C$6:$BL$65,49,0)","v":{"$error":"#N/A"}},{"$f":"VLOOKUP(A33,počty!$C$6:$BL$65,48,0)","v":{"$error":"#N/A"}},{"$f":"VLOOKUP(A33,počty!$C$6:$BL$65,47,0)","v":{"$error":"#N/A"}}]
[29,{"$f":"IF(VLOOKUP(A34,počty!$C$6:$BL$65,50,0)>=1000,\"M\",VLOOKUP(A34,počty!$C$6:$BO$65,64,0))","v":{"$error":"#N/A"}},{"$f":"VLOOKUP(A34,počty!$C$6:$BL$65,12,0)","v":{"$error":"#N/A"}},{"$f":"VLOOKUP(A34,počty!$C$6:$BZ$65,73,0)","v":{"$error":"#N/A"}},{"$f":"VLOOKUP(A34,počty!$C$6:$BZ$65,68,0)","v":{"$error":"#N/A"}},{"$f":"VLOOKUP(A34,počty!$C$6:$BZ$65,67,0)","v":{"$error":"#N/A"}},{"$f":"VLOOKUP(A34,počty!$C$6:$BZ$65,71,0)","v":{"$error":"#N/A"}},{"$f":"VLOOKUP(A34,počty!$C$6:$BZ$65,70,0)","v":{"$error":"#N/A"}},{"$f":"VLOOKUP(A34,počty!$C$6:$BZ$65,72,0)","v":{"$error":"#N/A"}},{"$f":"VLOOKUP(A34,počty!$C$6:$BZ$65,74,0)","v":{"$error":"#N/A"}},{"$f":"VLOOKUP(A34,počty!$C$6:$BZ$65,69,0)","v":{"$error":"#N/A"}},{"$f":"VLOOKUP(A34,počty!$C$6:$BL$65,45,0)","v":{"$error":"#N/A"}},{"$f":"VLOOKUP(A34,počty!$C$6:$BL$65,44,0)","v":{"$error":"#N/A"}},{"$f":"VLOOKUP(A34,počty!$C$6:$BL$65,49,0)","v":{"$error":"#N/A"}},{"$f":"VLOOKUP(A34,počty!$C$6:$BL$65,48,0)","v":{"$error":"#N/A"}},{"$f":"VLOOKUP(A34,počty!$C$6:$BL$65,47,0)","v":{"$error":"#N/A"}}]
[30,{"$f":"IF(VLOOKUP(A35,počty!$C$6:$BL$65,50,0)>=1000,\"M\",VLOOKUP(A35,počty!$C$6:$BO$65,64,0))","v":{"$error":"#N/A"}},{"$f":"VLOOKUP(A35,počty!$C$6:$BL$65,12,0)","v":{"$error":"#N/A"}},{"$f":"VLOOKUP(A35,počty!$C$6:$BZ$65,73,0)","v":{"$error":"#N/A"}},{"$f":"VLOOKUP(A35,počty!$C$6:$BZ$65,68,0)","v":{"$error":"#N/A"}},{"$f":"VLOOKUP(A35,počty!$C$6:$BZ$65,67,0)","v":{"$error":"#N/A"}},{"$f":"VLOOKUP(A35,počty!$C$6:$BZ$65,71,0)","v":{"$error":"#N/A"}},{"$f":"VLOOKUP(A35,počty!$C$6:$BZ$65,70,0)","v":{"$error":"#N/A"}},{"$f":"VLOOKUP(A35,počty!$C$6:$BZ$65,72,0)","v":{"$error":"#N/A"}},{"$f":"VLOOKUP(A35,počty!$C$6:$BZ$65,74,0)","v":{"$error":"#N/A"}},{"$f":"VLOOKUP(A35,počty!$C$6:$BZ$65,69,0)","v":{"$error":"#N/A"}},{"$f":"VLOOKUP(A35,počty!$C$6:$BL$65,45,0)","v":{"$error":"#N/A"}},{"$f":"VLOOKUP(A35,počty!$C$6:$BL$65,44,0)","v":{"$error":"#N/A"}},{"$f":"VLOOKUP(A35,počty!$C$6:$BL$65,49,0)","v":{"$error":"#N/A"}},{"$f":"VLOOKUP(A35,počty!$C$6:$BL$65,48,0)","v":{"$error":"#N/A"}},{"$f":"VLOOKUP(A35,počty!$C$6:$BL$65,47,0)","v":{"$error":"#N/A"}}]
[31,{"$f":"IF(VLOOKUP(A36,počty!$C$6:$BL$65,50,0)>=1000,\"M\",VLOOKUP(A36,počty!$C$6:$BO$65,64,0))","v":{"$error":"#N/A"}},{"$f":"VLOOKUP(A36,počty!$C$6:$BL$65,12,0)","v":{"$error":"#N/A"}},{"$f":"VLOOKUP(A36,počty!$C$6:$BZ$65,73,0)","v":{"$error":"#N/A"}},{"$f":"VLOOKUP(A36,počty!$C$6:$BZ$65,68,0)","v":{"$error":"#N/A"}},{"$f":"VLOOKUP(A36,počty!$C$6:$BZ$65,67,0)","v":{"$error":"#N/A"}},{"$f":"VLOOKUP(A36,počty!$C$6:$BZ$65,71,0)","v":{"$error":"#N/A"}},{"$f":"VLOOKUP(A36,počty!$C$6:$BZ$65,70,0)","v":{"$error":"#N/A"}},{"$f":"VLOOKUP(A36,počty!$C$6:$BZ$65,72,0)","v":{"$error":"#N/A"}},{"$f":"VLOOKUP(A36,počty!$C$6:$BZ$65,74,0)","v":{"$error":"#N/A"}},{"$f":"VLOOKUP(A36,počty!$C$6:$BZ$65,69,0)","v":{"$error":"#N/A"}},{"$f":"VLOOKUP(A36,počty!$C$6:$BL$65,45,0)","v":{"$error":"#N/A"}},{"$f":"VLOOKUP(A36,počty!$C$6:$BL$65,44,0)","v":{"$error":"#N/A"}},{"$f":"VLOOKUP(A36,počty!$C$6:$BL$65,49,0)","v":{"$error":"#N/A"}},{"$f":"VLOOKUP(A36,počty!$C$6:$BL$65,48,0)","v":{"$error":"#N/A"}},{"$f":"VLOOKUP(A36,počty!$C$6:$BL$65,47,0)","v":{"$error":"#N/A"}}]
[32,{"$f":"IF(VLOOKUP(A37,počty!$C$6:$BL$65,50,0)>=1000,\"M\",VLOOKUP(A37,počty!$C$6:$BO$65,64,0))","v":{"$error":"#N/A"}},{"$f":"VLOOKUP(A37,počty!$C$6:$BL$65,12,0)","v":{"$error":"#N/A"}},{"$f":"VLOOKUP(A37,počty!$C$6:$BZ$65,73,0)","v":{"$error":"#N/A"}},{"$f":"VLOOKUP(A37,počty!$C$6:$BZ$65,68,0)","v":{"$error":"#N/A"}},{"$f":"VLOOKUP(A37,počty!$C$6:$BZ$65,67,0)","v":{"$error":"#N/A"}},{"$f":"VLOOKUP(A37,počty!$C$6:$BZ$65,71,0)","v":{"$error":"#N/A"}},{"$f":"VLOOKUP(A37,počty!$C$6:$BZ$65,70,0)","v":{"$error":"#N/A"}},{"$f":"VLOOKUP(A37,počty!$C$6:$BZ$65,72,0)","v":{"$error":"#N/A"}},{"$f":"VLOOKUP(A37,počty!$C$6:$BZ$65,74,0)","v":{"$error":"#N/A"}},{"$f":"VLOOKUP(A37,počty!$C$6:$BZ$65,69,0)","v":{"$error":"#N/A"}},{"$f":"VLOOKUP(A37,počty!$C$6:$BL$65,45,0)","v":{"$error":"#N/A"}},{"$f":"VLOOKUP(A37,počty!$C$6:$BL$65,44,0)","v":{"$error":"#N/A"}},{"$f":"VLOOKUP(A37,počty!$C$6:$BL$65,49,0)","v":{"$error":"#N/A"}},{"$f":"VLOOKUP(A37,počty!$C$6:$BL$65,48,0)","v":{"$error":"#N/A"}},{"$f":"VLOOKUP(A37,počty!$C$6:$BL$65,47,0)","v":{"$error":"#N/A"}}]
[33,{"$f":"IF(VLOOKUP(A38,počty!$C$6:$BL$65,50,0)>=1000,\"M\",VLOOKUP(A38,počty!$C$6:$BO$65,64,0))","v":{"$error":"#N/A"}},{"$f":"VLOOKUP(A38,počty!$C$6:$BL$65,12,0)","v":{"$error":"#N/A"}},{"$f":"VLOOKUP(A38,počty!$C$6:$BZ$65,73,0)","v":{"$error":"#N/A"}},{"$f":"VLOOKUP(A38,počty!$C$6:$BZ$65,68,0)","v":{"$error":"#N/A"}},{"$f":"VLOOKUP(A38,počty!$C$6:$BZ$65,67,0)","v":{"$error":"#N/A"}},{"$f":"VLOOKUP(A38,počty!$C$6:$BZ$65,71,0)","v":{"$error":"#N/A"}},{"$f":"VLOOKUP(A38,počty!$C$6:$BZ$65,70,0)","v":{"$error":"#N/A"}},{"$f":"VLOOKUP(A38,počty!$C$6:$BZ$65,72,0)","v":{"$error":"#N/A"}},{"$f":"VLOOKUP(A38,počty!$C$6:$BZ$65,74,0)","v":{"$error":"#N/A"}},{"$f":"VLOOKUP(A38,počty!$C$6:$BZ$65,69,0)","v":{"$error":"#N/A"}},{"$f":"VLOOKUP(A38,počty!$C$6:$BL$65,45,0)","v":{"$error":"#N/A"}},{"$f":"VLOOKUP(A38,počty!$C$6:$BL$65,44,0)","v":{"$error":"#N/A"}},{"$f":"VLOOKUP(A38,počty!$C$6:$BL$65,49,0)","v":{"$error":"#N/A"}},{"$f":"VLOOKUP(A38,počty!$C$6:$BL$65,48,0)","v":{"$error":"#N/A"}},{"$f":"VLOOKUP(A38,počty!$C$6:$BL$65,47,0)","v":{"$error":"#N/A"}}]
[34,{"$f":"IF(VLOOKUP(A39,počty!$C$6:$BL$65,50,0)>=1000,\"M\",VLOOKUP(A39,počty!$C$6:$BO$65,64,0))","v":{"$error":"#N/A"}},{"$f":"VLOOKUP(A39,počty!$C$6:$BL$65,12,0)","v":{"$error":"#N/A"}},{"$f":"VLOOKUP(A39,počty!$C$6:$BZ$65,73,0)","v":{"$error":"#N/A"}},{"$f":"VLOOKUP(A39,počty!$C$6:$BZ$65,68,0)","v":{"$error":"#N/A"}},{"$f":"VLOOKUP(A39,počty!$C$6:$BZ$65,67,0)","v":{"$error":"#N/A"}},{"$f":"VLOOKUP(A39,počty!$C$6:$BZ$65,71,0)","v":{"$error":"#N/A"}},{"$f":"VLOOKUP(A39,počty!$C$6:$BZ$65,70,0)","v":{"$error":"#N/A"}},{"$f":"VLOOKUP(A39,počty!$C$6:$BZ$65,72,0)","v":{"$error":"#N/A"}},{"$f":"VLOOKUP(A39,počty!$C$6:$BZ$65,74,0)","v":{"$error":"#N/A"}},{"$f":"VLOOKUP(A39,počty!$C$6:$BZ$65,69,0)","v":{"$error":"#N/A"}},{"$f":"VLOOKUP(A39,počty!$C$6:$BL$65,45,0)","v":{"$error":"#N/A"}},{"$f":"VLOOKUP(A39,počty!$C$6:$BL$65,44,0)","v":{"$error":"#N/A"}},{"$f":"VLOOKUP(A39,počty!$C$6:$BL$65,49,0)","v":{"$error":"#N/A"}},{"$f":"VLOOKUP(A39,počty!$C$6:$BL$65,48,0)","v":{"$error":"#N/A"}},{"$f":"VLOOKUP(A39,počty!$C$6:$BL$65,47,0)","v":{"$error":"#N/A"}}]
[35,{"$f":"IF(VLOOKUP(A40,počty!$C$6:$BL$65,50,0)>=1000,\"M\",VLOOKUP(A40,počty!$C$6:$BO$65,64,0))","v":{"$error":"#N/A"}},{"$f":"VLOOKUP(A40,počty!$C$6:$BL$65,12,0)","v":{"$error":"#N/A"}},{"$f":"VLOOKUP(A40,počty!$C$6:$BZ$65,73,0)","v":{"$error":"#N/A"}},{"$f":"VLOOKUP(A40,počty!$C$6:$BZ$65,68,0)","v":{"$error":"#N/A"}},{"$f":"VLOOKUP(A40,počty!$C$6:$BZ$65,67,0)","v":{"$error":"#N/A"}},{"$f":"VLOOKUP(A40,počty!$C$6:$BZ$65,71,0)","v":{"$error":"#N/A"}},{"$f":"VLOOKUP(A40,počty!$C$6:$BZ$65,70,0)","v":{"$error":"#N/A"}},{"$f":"VLOOKUP(A40,počty!$C$6:$BZ$65,72,0)","v":{"$error":"#N/A"}},{"$f":"VLOOKUP(A40,počty!$C$6:$BZ$65,74,0)","v":{"$error":"#N/A"}},{"$f":"VLOOKUP(A40,počty!$C$6:$BZ$65,69,0)","v":{"$error":"#N/A"}},{"$f":"VLOOKUP(A40,počty!$C$6:$BL$65,45,0)","v":{"$error":"#N/A"}},{"$f":"VLOOKUP(A40,počty!$C$6:$BL$65,44,0)","v":{"$error":"#N/A"}},{"$f":"VLOOKUP(A40,počty!$C$6:$BL$65,49,0)","v":{"$error":"#N/A"}},{"$f":"VLOOKUP(A40,počty!$C$6:$BL$65,48,0)","v":{"$error":"#N/A"}},{"$f":"VLOOKUP(A40,počty!$C$6:$BL$65,47,0)","v":{"$error":"#N/A"}}]
[36,{"$f":"IF(VLOOKUP(A41,počty!$C$6:$BL$65,50,0)>=1000,\"M\",VLOOKUP(A41,počty!$C$6:$BO$65,64,0))","v":{"$error":"#N/A"}},{"$f":"VLOOKUP(A41,počty!$C$6:$BL$65,12,0)","v":{"$error":"#N/A"}},{"$f":"VLOOKUP(A41,počty!$C$6:$BZ$65,73,0)","v":{"$error":"#N/A"}},{"$f":"VLOOKUP(A41,počty!$C$6:$BZ$65,68,0)","v":{"$error":"#N/A"}},{"$f":"VLOOKUP(A41,počty!$C$6:$BZ$65,67,0)","v":{"$error":"#N/A"}},{"$f":"VLOOKUP(A41,počty!$C$6:$BZ$65,71,0)","v":{"$error":"#N/A"}},{"$f":"VLOOKUP(A41,počty!$C$6:$BZ$65,70,0)","v":{"$error":"#N/A"}},{"$f":"VLOOKUP(A41,počty!$C$6:$BZ$65,72,0)","v":{"$error":"#N/A"}},{"$f":"VLOOKUP(A41,počty!$C$6:$BZ$65,74,0)","v":{"$error":"#N/A"}},{"$f":"VLOOKUP(A41,počty!$C$6:$BZ$65,69,0)","v":{"$error":"#N/A"}},{"$f":"VLOOKUP(A41,počty!$C$6:$BL$65,45,0)","v":{"$error":"#N/A"}},{"$f":"VLOOKUP(A41,počty!$C$6:$BL$65,44,0)","v":{"$error":"#N/A"}},{"$f":"VLOOKUP(A41,počty!$C$6:$BL$65,49,0)","v":{"$error":"#N/A"}},{"$f":"VLOOKUP(A41,počty!$C$6:$BL$65,48,0)","v":{"$error":"#N/A"}},{"$f":"VLOOKUP(A41,počty!$C$6:$BL$65,47,0)","v":{"$error":"#N/A"}}]
[37,{"$f":"IF(VLOOKUP(A42,počty!$C$6:$BL$65,50,0)>=1000,\"M\",VLOOKUP(A42,počty!$C$6:$BO$65,64,0))","v":{"$error":"#N/A"}},{"$f":"VLOOKUP(A42,počty!$C$6:$BL$65,12,0)","v":{"$error":"#N/A"}},{"$f":"VLOOKUP(A42,počty!$C$6:$BZ$65,73,0)","v":{"$error":"#N/A"}},{"$f":"VLOOKUP(A42,počty!$C$6:$BZ$65,68,0)","v":{"$error":"#N/A"}},{"$f":"VLOOKUP(A42,počty!$C$6:$BZ$65,67,0)","v":{"$error":"#N/A"}},{"$f":"VLOOKUP(A42,počty!$C$6:$BZ$65,71,0)","v":{"$error":"#N/A"}},{"$f":"VLOOKUP(A42,počty!$C$6:$BZ$65,70,0)","v":{"$error":"#N/A"}},{"$f":"VLOOKUP(A42,počty!$C$6:$BZ$65,72,0)","v":{"$error":"#N/A"}},{"$f":"VLOOKUP(A42,počty!$C$6:$BZ$65,74,0)","v":{"$error":"#N/A"}},{"$f":"VLOOKUP(A42,počty!$C$6:$BZ$65,69,0)","v":{"$error":"#N/A"}},{"$f":"VLOOKUP(A42,počty!$C$6:$BL$65,45,0)","v":{"$error":"#N/A"}},{"$f":"VLOOKUP(A42,počty!$C$6:$BL$65,44,0)","v":{"$error":"#N/A"}},{"$f":"VLOOKUP(A42,počty!$C$6:$BL$65,49,0)","v":{"$error":"#N/A"}},{"$f":"VLOOKUP(A42,počty!$C$6:$BL$65,48,0)","v":{"$error":"#N/A"}},{"$f":"VLOOKUP(A42,počty!$C$6:$BL$65,47,0)","v":{"$error":"#N/A"}}]

{"sheet":"SL dod","index":14,"n_rows":40,"n_cols":16,"rows_kept":40,"cut":false,"hidden":false,"merged":[[0,8,0,9]]}
[null,"Ofic. Výsl. Listina skok",null,null,null,null,null,null,{"$f":"CONCATENATE(\"K \",hlavicka!C6)","v":"K 13"},null,null,null,null,null,null,{"$f":"+hlavicka!C11","v":"Žáci U10M 2017-2016"}]
[null,{"$f":"CONCATENATE(hlavicka!C2,\" - \",hlavicka!C3)","v":"Český pohár žactva ve skoku na lyžích - 9/SL"},null,null,null,null,null,null,null,null,null,null,null,null,null,{"$f":"CONCATENATE(\"dne: \",hlavicka!C5)","v":"dne: 21.11.2015"}]
[null,{"$f":"CONCATENATE(\"skok.můstek: K \",hlavicka!C6)","v":"skok.můstek: K 13"},null,null,null,null,null,null,null,null,null,null,null,null,null,{"$f":"+hlavicka!C4","v":"LSK Lomnice"}]
[null,{"$f":"CONCATENATE(\"certifikát můstku č.\",hlavicka!C8,\" pl. do \",hlavicka!C9)","v":"certifikát můstku č.135/C35/SL pl. do "},null,null,null,null,null,null,null,null,null,null,null,null,null,{"$f":"CONCATENATE(\"K = 60 b. +/- \",hlavicka!C7,\" b./m\")","v":"K = 60 b. +/- 6 b./m"}]
[null,"Pořadí","Start. číslo","Kód závodníka","Příjmení","Jméno","Rok nar.","Pohlaví","Stát","FIS kód","Název klubu","1. kolo délka","1. kolo body","2. kolo délka","2. kolo body","Body"]
[1,{"$f":"IF(VLOOKUP(A6,počty!$L$6:$AP$163,31,0)>=1000,\"M\",VLOOKUP(A6,počty!$L$6:$BR$163,53,0))","v":1},{"$f":"VLOOKUP(A6,počty!$L$6:$AP$163,3,0)","v":13},{"$f":"VLOOKUP(A6,počty!$C$6:$BZ$65,73,0)","v":777372},{"$f":"VLOOKUP(A6,počty!$C$6:$BZ$65,68,0)","v":"Sankot"},{"$f":"VLOOKUP(A6,počty!$C$6:$BZ$65,67,0)","v":"Antonín"},{"$f":"VLOOKUP(A6,počty!$C$6:$BZ$65,71,0)","v":2017},{"$f":"VLOOKUP(A6,počty!$C$6:$BZ$65,70,0)","v":"MEN"},{"$f":"VLOOKUP(A6,počty!$C$6:$BZ$65,72,0)","v":"CZE"},{"$f":"VLOOKUP(A6,počty!$C$6:$BZ$65,74,0)","v":0},{"$f":"VLOOKUP(A6,počty!$C$6:$BZ$65,69,0)","v":"Lyžařský sportovní klub Lomnice nad Popelkou"},{"$f":"VLOOKUP(A6,počty!$L$6:$AP$163,9,0)","v":11.5},{"$f":"VLOOKUP(A6,počty!$L$6:$AP$163,17,0)","v":95.5},{"$f":"VLOOKUP(A6,počty!$L$6:$AP$163,20,0)","v":11.5},{"$f":"VLOOKUP(A6,počty!$L$6:$AP$163,28,0)","v":95.5},{"$f":"VLOOKUP(A6,počty!$L$6:$AP$163,30,0)","v":191}]
[2,{"$f":"IF(VLOOKUP(A7,počty!$L$6:$AP$163,31,0)>=1000,\"M\",VLOOKUP(A7,počty!$L$6:$BR$163,53,0))","v":2},{"$f":"VLOOKUP(A7,počty!$L$6:$AP$163,3,0)","v":24},{"$f":"VLOOKUP(A7,počty!$C$6:$BZ$65,73,0)","v":890332},{"$f":"VLOOKUP(A7,počty!$C$6:$BZ$65,68,0)","v":"Zapadlová"},{"$f":"VLOOKUP(A7,počty!$C$6:$BZ$65,67,0)","v":"Sára"},{"$f":"VLOOKUP(A7,počty!$C$6:$BZ$65,71,0)","v":2016},{"$f":"VLOOKUP(A7,počty!$C$6:$BZ$65,70,0)","v":"WOMEN"},{"$f":"VLOOKUP(A7,počty!$C$6:$BZ$65,72,0)","v":"CZE"},{"$f":"VLOOKUP(A7,počty!$C$6:$BZ$65,74,0)","v":0},{"$f":"VLOOKUP(A7,počty!$C$6:$BZ$65,69,0)","v":"Lyžařský sportovní klub Lomnice nad Popelkou"},{"$f":"VLOOKUP(A7,počty!$L$6:$AP$163,9,0)","v":11.5},{"$f":"VLOOKUP(A7,počty!$L$6:$AP$163,17,0)","v":94},{"$f":"VLOOKUP(A7,počty!$L$6:$AP$163,20,0)","v":11.5},{"$f":"VLOOKUP(A7,počty!$L$6:$AP$163,28,0)","v":94},{"$f":"VLOOKUP(A7,počty!$L$6:$AP$163,30,0)","v":188}]
[3,{"$f":"IF(VLOOKUP(A8,počty!$L$6:$AP$163,31,0)>=1000,\"M\",VLOOKUP(A8,počty!$L$6:$BR$163,53,0))","v":3},{"$f":"VLOOKUP(A8,počty!$L$6:$AP$163,3,0)","v":25},{"$f":"VLOOKUP(A8,počty!$C$6:$BZ$65,73,0)","v":774426},{"$f":"VLOOKUP(A8,počty!$C$6:$BZ$65,68,0)","v":"Břečka"},{"$f":"VLOOKUP(A8,počty!$C$6:$BZ$65,67,0)","v":"Matyáš"},{"$f":"VLOOKUP(A8,počty!$C$6:$BZ$65,71,0)","v":2014},{"$f":"VLOOKUP(A8,počty!$C$6:$BZ$65,70,0)","v":"MEN"},{"$f":"VLOOKUP(A8,počty!$C$6:$BZ$65,72,0)","v":"CZE"},{"$f":"VLOOKUP(A8,počty!$C$6:$BZ$65,74,0)","v":0},{"$f":"VLOOKUP(A8,počty!$C$6:$BZ$65,69,0)","v":"Lyžařský sportovní klub Lomnice nad Popelkou"},{"$f":"VLOOKUP(A8,počty!$L$6:$AP$163,9,0)","v":11},{"$f":"VLOOKUP(A8,počty!$L$6:$AP$163,17,0)","v":90},{"$f":"VLOOKUP(A8,počty!$L$6:$AP$163,20,0)","v":11},{"$f":"VLOOKUP(A8,počty!$L$6:$AP$163,28,0)","v":91},{"$f":"VLOOKUP(A8,počty!$L$6:$AP$163,30,0)","v":181}]
[4,{"$f":"IF(VLOOKUP(A9,počty!$L$6:$AP$163,31,0)>=1000,\"M\",VLOOKUP(A9,počty!$L$6:$BR$163,53,0))","v":4},{"$f":"VLOOKUP(A9,počty!$L$6:$AP$163,3,0)","v":23},{"$f":"VLOOKUP(A9,počty!$C$6:$BZ$65,73,0)","v":889929},{"$f":"VLOOKUP(A9,počty!$C$6:$BZ$65,68,0)","v":"Huráňová"},{"$f":"VLOOKUP(A9,počty!$C$6:$BZ$65,67,0)","v":"Karolína"},{"$f":"VLOOKUP(A9,počty!$C$6:$BZ$65,71,0)","v":2015},{"$f":"VLOOKUP(A9,počty!$C$6:$BZ$65,70,0)","v":"WOMEN"},{"$f":"VLOOKUP(A9,počty!$C$6:$BZ$65,72,0)","v":"CZE"},{"$f":"VLOOKUP(A9,počty!$C$6:$BZ$65,74,0)","v":0},{"$f":"VLOOKUP(A9,počty!$C$6:$BZ$65,69,0)","v":"Lyžařský sportovní klub Lomnice nad Popelkou"},{"$f":"VLOOKUP(A9,počty!$L$6:$AP$163,9,0)","v":11},{"$f":"VLOOKUP(A9,počty!$L$6:$AP$163,17,0)","v":89.5},{"$f":"VLOOKUP(A9,počty!$L$6:$AP$163,20,0)","v":11.5},{"$f":"VLOOKUP(A9,počty!$L$6:$AP$163,28,0)","v":89.5},{"$f":"VLOOKUP(A9,počty!$L$6:$AP$163,30,0)","v":179}]
[5,{"$f":"IF(VLOOKUP(A10,počty!$L$6:$AP$163,31,0)>=1000,\"M\",VLOOKUP(A10,počty!$L$6:$BR$163,53,0))","v":5},{"$f":"VLOOKUP(A10,počty!$L$6:$AP$163,3,0)","v":22},{"$f":"VLOOKUP(A10,počty!$C$6:$BZ$65,73,0)","v":774424},{"$f":"VLOOKUP(A10,počty!$C$6:$BZ$65,68,0)","v":"Ježek"},{"$f":"VLOOKUP(A10,počty!$C$6:$BZ$65,67,0)","v":"Jakub"},{"$f":"VLOOKUP(A10,počty!$C$6:$BZ$65,71,0)","v":2015},{"$f":"VLOOKUP(A10,počty!$C$6:$BZ$65,70,0)","v":"MEN"},{"$f":"VLOOKUP(A10,počty!$C$6:$BZ$65,72,0)","v":"CZE"},{"$f":"VLOOKUP(A10,počty!$C$6:$BZ$65,74,0)","v":0},{"$f":"VLOOKUP(A10,počty!$C$6:$BZ$65,69,0)","v":"Lyžařský sportovní klub Lomnice nad Popelkou"},{"$f":"VLOOKUP(A10,počty!$L$6:$AP$163,9,0)","v":12},{"$f":"VLOOKUP(A10,počty!$L$6:$AP$163,17,0)","v":95.5},{"$f":"VLOOKUP(A10,počty!$L$6:$AP$163,20,0)","v":12.5},{"$f":"VLOOKUP(A10,počty!$L$6:$AP$163,28,0)","v":81},{"$f":"VLOOKUP(A10,počty!$L$6:$AP$163,30,0)","v":176.5}]
[6,{"$f":"IF(VLOOKUP(A11,počty!$L$6:$AP$163,31,0)>=1000,\"M\",VLOOKUP(A11,počty!$L$6:$BR$163,53,0))","v":{"$error":"#N/A"}},{"$f":"VLOOKUP(A11,počty!$L$6:$AP$163,3,0)","v":{"$error":"#N/A"}},{"$f":"VLOOKUP(A11,počty!$C$6:$BZ$65,73,0)","v":{"$error":"#N/A"}},{"$f":"VLOOKUP(A11,počty!$C$6:$BZ$65,68,0)","v":{"$error":"#N/A"}},{"$f":"VLOOKUP(A11,počty!$C$6:$BZ$65,67,0)","v":{"$error":"#N/A"}},{"$f":"VLOOKUP(A11,počty!$C$6:$BZ$65,71,0)","v":{"$error":"#N/A"}},{"$f":"VLOOKUP(A11,počty!$C$6:$BZ$65,70,0)","v":{"$error":"#N/A"}},{"$f":"VLOOKUP(A11,počty!$C$6:$BZ$65,72,0)","v":{"$error":"#N/A"}},{"$f":"VLOOKUP(A11,počty!$C$6:$BZ$65,74,0)","v":{"$error":"#N/A"}},{"$f":"VLOOKUP(A11,počty!$C$6:$BZ$65,69,0)","v":{"$error":"#N/A"}},{"$f":"VLOOKUP(A11,počty!$L$6:$AP$163,9,0)","v":{"$error":"#N/A"}},{"$f":"VLOOKUP(A11,počty!$L$6:$AP$163,17,0)","v":{"$error":"#N/A"}},{"$f":"VLOOKUP(A11,počty!$L$6:$AP$163,20,0)","v":{"$error":"#N/A"}},{"$f":"VLOOKUP(A11,počty!$L$6:$AP$163,28,0)","v":{"$error":"#N/A"}},{"$f":"VLOOKUP(A11,počty!$L$6:$AP$163,30,0)","v":{"$error":"#N/A"}}]
[7,{"$f":"IF(VLOOKUP(A12,počty!$L$6:$AP$163,31,0)>=1000,\"M\",VLOOKUP(A12,počty!$L$6:$BR$163,53,0))","v":{"$error":"#N/A"}},{"$f":"VLOOKUP(A12,počty!$L$6:$AP$163,3,0)","v":{"$error":"#N/A"}},{"$f":"VLOOKUP(A12,počty!$C$6:$BZ$65,73,0)","v":{"$error":"#N/A"}},{"$f":"VLOOKUP(A12,počty!$C$6:$BZ$65,68,0)","v":{"$error":"#N/A"}},{"$f":"VLOOKUP(A12,počty!$C$6:$BZ$65,67,0)","v":{"$error":"#N/A"}},{"$f":"VLOOKUP(A12,počty!$C$6:$BZ$65,71,0)","v":{"$error":"#N/A"}},{"$f":"VLOOKUP(A12,počty!$C$6:$BZ$65,70,0)","v":{"$error":"#N/A"}},{"$f":"VLOOKUP(A12,počty!$C$6:$BZ$65,72,0)","v":{"$error":"#N/A"}},{"$f":"VLOOKUP(A12,počty!$C$6:$BZ$65,74,0)","v":{"$error":"#N/A"}},{"$f":"VLOOKUP(A12,počty!$C$6:$BZ$65,69,0)","v":{"$error":"#N/A"}},{"$f":"VLOOKUP(A12,počty!$L$6:$AP$163,9,0)","v":{"$error":"#N/A"}},{"$f":"VLOOKUP(A12,počty!$L$6:$AP$163,17,0)","v":{"$error":"#N/A"}},{"$f":"VLOOKUP(A12,počty!$L$6:$AP$163,20,0)","v":{"$error":"#N/A"}},{"$f":"VLOOKUP(A12,počty!$L$6:$AP$163,28,0)","v":{"$error":"#N/A"}},{"$f":"VLOOKUP(A12,počty!$L$6:$AP$163,30,0)","v":{"$error":"#N/A"}}]
[8,{"$f":"IF(VLOOKUP(A13,počty!$L$6:$AP$163,31,0)>=1000,\"M\",VLOOKUP(A13,počty!$L$6:$BR$163,53,0))","v":{"$error":"#N/A"}},{"$f":"VLOOKUP(A13,počty!$L$6:$AP$163,3,0)","v":{"$error":"#N/A"}},{"$f":"VLOOKUP(A13,počty!$C$6:$BZ$65,73,0)","v":{"$error":"#N/A"}},{"$f":"VLOOKUP(A13,počty!$C$6:$BZ$65,68,0)","v":{"$error":"#N/A"}},{"$f":"VLOOKUP(A13,počty!$C$6:$BZ$65,67,0)","v":{"$error":"#N/A"}},{"$f":"VLOOKUP(A13,počty!$C$6:$BZ$65,71,0)","v":{"$error":"#N/A"}},{"$f":"VLOOKUP(A13,počty!$C$6:$BZ$65,70,0)","v":{"$error":"#N/A"}},{"$f":"VLOOKUP(A13,počty!$C$6:$BZ$65,72,0)","v":{"$error":"#N/A"}},{"$f":"VLOOKUP(A13,počty!$C$6:$BZ$65,74,0)","v":{"$error":"#N/A"}},{"$f":"VLOOKUP(A13,počty!$C$6:$BZ$65,69,0)","v":{"$error":"#N/A"}},{"$f":"VLOOKUP(A13,počty!$L$6:$AP$163,9,0)","v":{"$error":"#N/A"}},{"$f":"VLOOKUP(A13,počty!$L$6:$AP$163,17,0)","v":{"$error":"#N/A"}},{"$f":"VLOOKUP(A13,počty!$L$6:$AP$163,20,0)","v":{"$error":"#N/A"}},{"$f":"VLOOKUP(A13,počty!$L$6:$AP$163,28,0)","v":{"$error":"#N/A"}},{"$f":"VLOOKUP(A13,počty!$L$6:$AP$163,30,0)","v":{"$error":"#N/A"}}]
[9,{"$f":"IF(VLOOKUP(A14,počty!$L$6:$AP$163,31,0)>=1000,\"M\",VLOOKUP(A14,počty!$L$6:$BR$163,53,0))","v":{"$error":"#N/A"}},{"$f":"VLOOKUP(A14,počty!$L$6:$AP$163,3,0)","v":{"$error":"#N/A"}},{"$f":"VLOOKUP(A14,počty!$C$6:$BZ$65,73,0)","v":{"$error":"#N/A"}},{"$f":"VLOOKUP(A14,počty!$C$6:$BZ$65,68,0)","v":{"$error":"#N/A"}},{"$f":"VLOOKUP(A14,počty!$C$6:$BZ$65,67,0)","v":{"$error":"#N/A"}},{"$f":"VLOOKUP(A14,počty!$C$6:$BZ$65,71,0)","v":{"$error":"#N/A"}},{"$f":"VLOOKUP(A14,počty!$C$6:$BZ$65,70,0)","v":{"$error":"#N/A"}},{"$f":"VLOOKUP(A14,počty!$C$6:$BZ$65,72,0)","v":{"$error":"#N/A"}},{"$f":"VLOOKUP(A14,počty!$C$6:$BZ$65,74,0)","v":{"$error":"#N/A"}},{"$f":"VLOOKUP(A14,počty!$C$6:$BZ$65,69,0)","v":{"$error":"#N/A"}},{"$f":"VLOOKUP(A14,počty!$L$6:$AP$163,9,0)","v":{"$error":"#N/A"}},{"$f":"VLOOKUP(A14,počty!$L$6:$AP$163,17,0)","v":{"$error":"#N/A"}},{"$f":"VLOOKUP(A14,počty!$L$6:$AP$163,20,0)","v":{"$error":"#N/A"}},{"$f":"VLOOKUP(A14,počty!$L$6:$AP$163,28,0)","v":{"$error":"#N/A"}},{"$f":"VLOOKUP(A14,počty!$L$6:$AP$163,30,0)","v":{"$error":"#N/A"}}]
[10,{"$f":"IF(VLOOKUP(A15,počty!$L$6:$AP$163,31,0)>=1000,\"M\",VLOOKUP(A15,počty!$L$6:$BR$163,53,0))","v":{"$error":"#N/A"}},{"$f":"VLOOKUP(A15,počty!$L$6:$AP$163,3,0)","v":{"$error":"#N/A"}},{"$f":"VLOOKUP(A15,počty!$C$6:$BZ$65,73,0)","v":{"$error":"#N/A"}},{"$f":"VLOOKUP(A15,počty!$C$6:$BZ$65,68,0)","v":{"$error":"#N/A"}},{"$f":"VLOOKUP(A15,počty!$C$6:$BZ$65,67,0)","v":{"$error":"#N/A"}},{"$f":"VLOOKUP(A15,počty!$C$6:$BZ$65,71,0)","v":{"$error":"#N/A"}},{"$f":"VLOOKUP(A15,počty!$C$6:$BZ$65,70,0)","v":{"$error":"#N/A"}},{"$f":"VLOOKUP(A15,počty!$C$6:$BZ$65,72,0)","v":{"$error":"#N/A"}},{"$f":"VLOOKUP(A15,počty!$C$6:$BZ$65,74,0)","v":{"$error":"#N/A"}},{"$f":"VLOOKUP(A15,počty!$C$6:$BZ$65,69,0)","v":{"$error":"#N/A"}},{"$f":"VLOOKUP(A15,počty!$L$6:$AP$163,9,0)","v":{"$error":"#N/A"}},{"$f":"VLOOKUP(A15,počty!$L$6:$AP$163,17,0)","v":{"$error":"#N/A"}},{"$f":"VLOOKUP(A15,počty!$L$6:$AP$163,20,0)","v":{"$error":"#N/A"}},{"$f":"VLOOKUP(A15,počty!$L$6:$AP$163,28,0)","v":{"$error":"#N/A"}},{"$f":"VLOOKUP(A15,počty!$L$6:$AP$163,30,0)","v":{"$error":"#N/A"}}]
[11,{"$f":"IF(VLOOKUP(A16,počty!$L$6:$AP$163,31,0)>=1000,\"M\",VLOOKUP(A16,počty!$L$6:$BR$163,53,0))","v":{"$error":"#N/A"}},{"$f":"VLOOKUP(A16,počty!$L$6:$AP$163,3,0)","v":{"$error":"#N/A"}},{"$f":"VLOOKUP(A16,počty!$C$6:$BZ$65,73,0)","v":{"$error":"#N/A"}},{"$f":"VLOOKUP(A16,počty!$C$6:$BZ$65,68,0)","v":{"$error":"#N/A"}},{"$f":"VLOOKUP(A16,počty!$C$6:$BZ$65,67,0)","v":{"$error":"#N/A"}},{"$f":"VLOOKUP(A16,počty!$C$6:$BZ$65,71,0)","v":{"$error":"#N/A"}},{"$f":"VLOOKUP(A16,počty!$C$6:$BZ$65,70,0)","v":{"$error":"#N/A"}},{"$f":"VLOOKUP(A16,počty!$C$6:$BZ$65,72,0)","v":{"$error":"#N/A"}},{"$f":"VLOOKUP(A16,počty!$C$6:$BZ$65,74,0)","v":{"$error":"#N/A"}},{"$f":"VLOOKUP(A16,počty!$C$6:$BZ$65,69,0)","v":{"$error":"#N/A"}},{"$f":"VLOOKUP(A16,počty!$L$6:$AP$163,9,0)","v":{"$error":"#N/A"}},{"$f":"VLOOKUP(A16,počty!$L$6:$AP$163,17,0)","v":{"$error":"#N/A"}},{"$f":"VLOOKUP(A16,počty!$L$6:$AP$163,20,0)","v":{"$error":"#N/A"}},{"$f":"VLOOKUP(A16,počty!$L$6:$AP$163,28,0)","v":{"$error":"#N/A"}},{"$f":"VLOOKUP(A16,počty!$L$6:$AP$163,30,0)","v":{"$error":"#N/A"}}]
[12,{"$f":"IF(VLOOKUP(A17,počty!$L$6:$AP$163,31,0)>=1000,\"M\",VLOOKUP(A17,počty!$L$6:$BR$163,53,0))","v":{"$error":"#N/A"}},{"$f":"VLOOKUP(A17,počty!$L$6:$AP$163,3,0)","v":{"$error":"#N/A"}},{"$f":"VLOOKUP(A17,počty!$C$6:$BZ$65,73,0)","v":{"$error":"#N/A"}},{"$f":"VLOOKUP(A17,počty!$C$6:$BZ$65,68,0)","v":{"$error":"#N/A"}},{"$f":"VLOOKUP(A17,počty!$C$6:$BZ$65,67,0)","v":{"$error":"#N/A"}},{"$f":"VLOOKUP(A17,počty!$C$6:$BZ$65,71,0)","v":{"$error":"#N/A"}},{"$f":"VLOOKUP(A17,počty!$C$6:$BZ$65,70,0)","v":{"$error":"#N/A"}},{"$f":"VLOOKUP(A17,počty!$C$6:$BZ$65,72,0)","v":{"$error":"#N/A"}},{"$f":"VLOOKUP(A17,počty!$C$6:$BZ$65,74,0)","v":{"$error":"#N/A"}},{"$f":"VLOOKUP(A17,počty!$C$6:$BZ$65,69,0)","v":{"$error":"#N/A"}},{"$f":"VLOOKUP(A17,počty!$L$6:$AP$163,9,0)","v":{"$error":"#N/A"}},{"$f":"VLOOKUP(A17,počty!$L$6:$AP$163,17,0)","v":{"$error":"#N/A"}},{"$f":"VLOOKUP(A17,počty!$L$6:$AP$163,20,0)","v":{"$error":"#N/A"}},{"$f":"VLOOKUP(A17,počty!$L$6:$AP$163,28,0)","v":{"$error":"#N/A"}},{"$f":"VLOOKUP(A17,počty!$L$6:$AP$163,30,0)","v":{"$error":"#N/A"}}]
[13,{"$f":"IF(VLOOKUP(A18,počty!$L$6:$AP$163,31,0)>=1000,\"M\",VLOOKUP(A18,počty!$L$6:$BR$163,53,0))","v":{"$error":"#N/A"}},{"$f":"VLOOKUP(A18,počty!$L$6:$AP$163,3,0)","v":{"$error":"#N/A"}},{"$f":"VLOOKUP(A18,počty!$C$6:$BZ$65,73,0)","v":{"$error":"#N/A"}},{"$f":"VLOOKUP(A18,počty!$C$6:$BZ$65,68,0)","v":{"$error":"#N/A"}},{"$f":"VLOOKUP(A18,počty!$C$6:$BZ$65,67,0)","v":{"$error":"#N/A"}},{"$f":"VLOOKUP(A18,počty!$C$6:$BZ$65,71,0)","v":{"$error":"#N/A"}},{"$f":"VLOOKUP(A18,počty!$C$6:$BZ$65,70,0)","v":{"$error":"#N/A"}},{"$f":"VLOOKUP(A18,počty!$C$6:$BZ$65,72,0)","v":{"$error":"#N/A"}},{"$f":"VLOOKUP(A18,počty!$C$6:$BZ$65,74,0)","v":{"$error":"#N/A"}},{"$f":"VLOOKUP(A18,počty!$C$6:$BZ$65,69,0)","v":{"$error":"#N/A"}},{"$f":"VLOOKUP(A18,počty!$L$6:$AP$163,9,0)","v":{"$error":"#N/A"}},{"$f":"VLOOKUP(A18,počty!$L$6:$AP$163,17,0)","v":{"$error":"#N/A"}},{"$f":"VLOOKUP(A18,počty!$L$6:$AP$163,20,0)","v":{"$error":"#N/A"}},{"$f":"VLOOKUP(A18,počty!$L$6:$AP$163,28,0)","v":{"$error":"#N/A"}},{"$f":"VLOOKUP(A18,počty!$L$6:$AP$163,30,0)","v":{"$error":"#N/A"}}]
[14,{"$f":"IF(VLOOKUP(A19,počty!$L$6:$AP$163,31,0)>=1000,\"M\",VLOOKUP(A19,počty!$L$6:$BR$163,53,0))","v":{"$error":"#N/A"}},{"$f":"VLOOKUP(A19,počty!$L$6:$AP$163,3,0)","v":{"$error":"#N/A"}},{"$f":"VLOOKUP(A19,počty!$C$6:$BZ$65,73,0)","v":{"$error":"#N/A"}},{"$f":"VLOOKUP(A19,počty!$C$6:$BZ$65,68,0)","v":{"$error":"#N/A"}},{"$f":"VLOOKUP(A19,počty!$C$6:$BZ$65,67,0)","v":{"$error":"#N/A"}},{"$f":"VLOOKUP(A19,počty!$C$6:$BZ$65,71,0)","v":{"$error":"#N/A"}},{"$f":"VLOOKUP(A19,počty!$C$6:$BZ$65,70,0)","v":{"$error":"#N/A"}},{"$f":"VLOOKUP(A19,počty!$C$6:$BZ$65,72,0)","v":{"$error":"#N/A"}},{"$f":"VLOOKUP(A19,počty!$C$6:$BZ$65,74,0)","v":{"$error":"#N/A"}},{"$f":"VLOOKUP(A19,počty!$C$6:$BZ$65,69,0)","v":{"$error":"#N/A"}},{"$f":"VLOOKUP(A19,počty!$L$6:$AP$163,9,0)","v":{"$error":"#N/A"}},{"$f":"VLOOKUP(A19,počty!$L$6:$AP$163,17,0)","v":{"$error":"#N/A"}},{"$f":"VLOOKUP(A19,počty!$L$6:$AP$163,20,0)","v":{"$error":"#N/A"}},{"$f":"VLOOKUP(A19,počty!$L$6:$AP$163,28,0)","v":{"$error":"#N/A"}},{"$f":"VLOOKUP(A19,počty!$L$6:$AP$163,30,0)","v":{"$error":"#N/A"}}]
[15,{"$f":"IF(VLOOKUP(A20,počty!$L$6:$AP$163,31,0)>=1000,\"M\",VLOOKUP(A20,počty!$L$6:$BR$163,53,0))","v":{"$error":"#N/A"}},{"$f":"VLOOKUP(A20,počty!$L$6:$AP$163,3,0)","v":{"$error":"#N/A"}},{"$f":"VLOOKUP(A20,počty!$C$6:$BZ$65,73,0)","v":{"$error":"#N/A"}},{"$f":"VLOOKUP(A20,počty!$C$6:$BZ$65,68,0)","v":{"$error":"#N/A"}},{"$f":"VLOOKUP(A20,počty!$C$6:$BZ$65,67,0)","v":{"$error":"#N/A"}},{"$f":"VLOOKUP(A20,počty!$C$6:$BZ$65,71,0)","v":{"$error":"#N/A"}},{"$f":"VLOOKUP(A20,počty!$C$6:$BZ$65,70,0)","v":{"$error":"#N/A"}},{"$f":"VLOOKUP(A20,počty!$C$6:$BZ$65,72,0)","v":{"$error":"#N/A"}},{"$f":"VLOOKUP(A20,počty!$C$6:$BZ$65,74,0)","v":{"$error":"#N/A"}},{"$f":"VLOOKUP(A20,počty!$C$6:$BZ$65,69,0)","v":{"$error":"#N/A"}},{"$f":"VLOOKUP(A20,počty!$L$6:$AP$163,9,0)","v":{"$error":"#N/A"}},{"$f":"VLOOKUP(A20,počty!$L$6:$AP$163,17,0)","v":{"$error":"#N/A"}},{"$f":"VLOOKUP(A20,počty!$L$6:$AP$163,20,0)","v":{"$error":"#N/A"}},{"$f":"VLOOKUP(A20,počty!$L$6:$AP$163,28,0)","v":{"$error":"#N/A"}},{"$f":"VLOOKUP(A20,počty!$L$6:$AP$163,30,0)","v":{"$error":"#N/A"}}]
[16,{"$f":"IF(VLOOKUP(A21,počty!$L$6:$AP$163,31,0)>=1000,\"M\",VLOOKUP(A21,počty!$L$6:$BR$163,53,0))","v":{"$error":"#N/A"}},{"$f":"VLOOKUP(A21,počty!$L$6:$AP$163,3,0)","v":{"$error":"#N/A"}},{"$f":"VLOOKUP(A21,počty!$C$6:$BZ$65,73,0)","v":{"$error":"#N/A"}},{"$f":"VLOOKUP(A21,počty!$C$6:$BZ$65,68,0)","v":{"$error":"#N/A"}},{"$f":"VLOOKUP(A21,počty!$C$6:$BZ$65,67,0)","v":{"$error":"#N/A"}},{"$f":"VLOOKUP(A21,počty!$C$6:$BZ$65,71,0)","v":{"$error":"#N/A"}},{"$f":"VLOOKUP(A21,počty!$C$6:$BZ$65,70,0)","v":{"$error":"#N/A"}},{"$f":"VLOOKUP(A21,počty!$C$6:$BZ$65,72,0)","v":{"$error":"#N/A"}},{"$f":"VLOOKUP(A21,počty!$C$6:$BZ$65,74,0)","v":{"$error":"#N/A"}},{"$f":"VLOOKUP(A21,počty!$C$6:$BZ$65,69,0)","v":{"$error":"#N/A"}},{"$f":"VLOOKUP(A21,počty!$L$6:$AP$163,9,0)","v":{"$error":"#N/A"}},{"$f":"VLOOKUP(A21,počty!$L$6:$AP$163,17,0)","v":{"$error":"#N/A"}},{"$f":"VLOOKUP(A21,počty!$L$6:$AP$163,20,0)","v":{"$error":"#N/A"}},{"$f":"VLOOKUP(A21,počty!$L$6:$AP$163,28,0)","v":{"$error":"#N/A"}},{"$f":"VLOOKUP(A21,počty!$L$6:$AP$163,30,0)","v":{"$error":"#N/A"}}]
[17,{"$f":"IF(VLOOKUP(A22,počty!$L$6:$AP$163,31,0)>=1000,\"M\",VLOOKUP(A22,počty!$L$6:$BR$163,53,0))","v":{"$error":"#N/A"}},{"$f":"VLOOKUP(A22,počty!$L$6:$AP$163,3,0)","v":{"$error":"#N/A"}},{"$f":"VLOOKUP(A22,počty!$C$6:$BZ$65,73,0)","v":{"$error":"#N/A"}},{"$f":"VLOOKUP(A22,počty!$C$6:$BZ$65,68,0)","v":{"$error":"#N/A"}},{"$f":"VLOOKUP(A22,počty!$C$6:$BZ$65,67,0)","v":{"$error":"#N/A"}},{"$f":"VLOOKUP(A22,počty!$C$6:$BZ$65,71,0)","v":{"$error":"#N/A"}},{"$f":"VLOOKUP(A22,počty!$C$6:$BZ$65,70,0)","v":{"$error":"#N/A"}},{"$f":"VLOOKUP(A22,počty!$C$6:$BZ$65,72,0)","v":{"$error":"#N/A"}},{"$f":"VLOOKUP(A22,počty!$C$6:$BZ$65,74,0)","v":{"$error":"#N/A"}},{"$f":"VLOOKUP(A22,počty!$C$6:$BZ$65,69,0)","v":{"$error":"#N/A"}},{"$f":"VLOOKUP(A22,počty!$L$6:$AP$163,9,0)","v":{"$error":"#N/A"}},{"$f":"VLOOKUP(A22,počty!$L$6:$AP$163,17,0)","v":{"$error":"#N/A"}},{"$f":"VLOOKUP(A22,počty!$L$6:$AP$163,20,0)","v":{"$error":"#N/A"}},{"$f":"VLOOKUP(A22,počty!$L$6:$AP$163,28,0)","v":{"$error":"#N/A"}},{"$f":"VLOOKUP(A22,počty!$L$6:$AP$163,30,0)","v":{"$error":"#N/A"}}]
[18,{"$f":"IF(VLOOKUP(A23,počty!$L$6:$AP$163,31,0)>=1000,\"M\",VLOOKUP(A23,počty!$L$6:$BR$163,53,0))","v":{"$error":"#N/A"}},{"$f":"VLOOKUP(A23,počty!$L$6:$AP$163,3,0)","v":{"$error":"#N/A"}},{"$f":"VLOOKUP(A23,počty!$C$6:$BZ$65,73,0)","v":{"$error":"#N/A"}},{"$f":"VLOOKUP(A23,počty!$C$6:$BZ$65,68,0)","v":{"$error":"#N/A"}},{"$f":"VLOOKUP(A23,počty!$C$6:$BZ$65,67,0)","v":{"$error":"#N/A"}},{"$f":"VLOOKUP(A23,počty!$C$6:$BZ$65,71,0)","v":{"$error":"#N/A"}},{"$f":"VLOOKUP(A23,počty!$C$6:$BZ$65,70,0)","v":{"$error":"#N/A"}},{"$f":"VLOOKUP(A23,počty!$C$6:$BZ$65,72,0)","v":{"$error":"#N/A"}},{"$f":"VLOOKUP(A23,počty!$C$6:$BZ$65,74,0)","v":{"$error":"#N/A"}},{"$f":"VLOOKUP(A23,počty!$C$6:$BZ$65,69,0)","v":{"$error":"#N/A"}},{"$f":"VLOOKUP(A23,počty!$L$6:$AP$163,9,0)","v":{"$error":"#N/A"}},{"$f":"VLOOKUP(A23,počty!$L$6:$AP$163,17,0)","v":{"$error":"#N/A"}},{"$f":"VLOOKUP(A23,počty!$L$6:$AP$163,20,0)","v":{"$error":"#N/A"}},{"$f":"VLOOKUP(A23,počty!$L$6:$AP$163,28,0)","v":{"$error":"#N/A"}},{"$f":"VLOOKUP(A23,počty!$L$6:$AP$163,30,0)","v":{"$error":"#N/A"}}]
[19,{"$f":"IF(VLOOKUP(A24,počty!$L$6:$AP$163,31,0)>=1000,\"M\",VLOOKUP(A24,počty!$L$6:$BR$163,53,0))","v":{"$error":"#N/A"}},{"$f":"VLOOKUP(A24,počty!$L$6:$AP$163,3,0)","v":{"$error":"#N/A"}},{"$f":"VLOOKUP(A24,počty!$C$6:$BZ$65,73,0)","v":{"$error":"#N/A"}},{"$f":"VLOOKUP(A24,počty!$C$6:$BZ$65,68,0)","v":{"$error":"#N/A"}},{"$f":"VLOOKUP(A24,počty!$C$6:$BZ$65,67,0)","v":{"$error":"#N/A"}},{"$f":"VLOOKUP(A24,počty!$C$6:$BZ$65,71,0)","v":{"$error":"#N/A"}},{"$f":"VLOOKUP(A24,počty!$C$6:$BZ$65,70,0)","v":{"$error":"#N/A"}},{"$f":"VLOOKUP(A24,počty!$C$6:$BZ$65,72,0)","v":{"$error":"#N/A"}},{"$f":"VLOOKUP(A24,počty!$C$6:$BZ$65,74,0)","v":{"$error":"#N/A"}},{"$f":"VLOOKUP(A24,počty!$C$6:$BZ$65,69,0)","v":{"$error":"#N/A"}},{"$f":"VLOOKUP(A24,počty!$L$6:$AP$163,9,0)","v":{"$error":"#N/A"}},{"$f":"VLOOKUP(A24,počty!$L$6:$AP$163,17,0)","v":{"$error":"#N/A"}},{"$f":"VLOOKUP(A24,počty!$L$6:$AP$163,20,0)","v":{"$error":"#N/A"}},{"$f":"VLOOKUP(A24,počty!$L$6:$AP$163,28,0)","v":{"$error":"#N/A"}},{"$f":"VLOOKUP(A24,počty!$L$6:$AP$163,30,0)","v":{"$error":"#N/A"}}]
[20,{"$f":"IF(VLOOKUP(A25,počty!$L$6:$AP$163,31,0)>=1000,\"M\",VLOOKUP(A25,počty!$L$6:$BR$163,53,0))","v":{"$error":"#N/A"}},{"$f":"VLOOKUP(A25,počty!$L$6:$AP$163,3,0)","v":{"$error":"#N/A"}},{"$f":"VLOOKUP(A25,počty!$C$6:$BZ$65,73,0)","v":{"$error":"#N/A"}},{"$f":"VLOOKUP(A25,počty!$C$6:$BZ$65,68,0)","v":{"$error":"#N/A"}},{"$f":"VLOOKUP(A25,počty!$C$6:$BZ$65,67,0)","v":{"$error":"#N/A"}},{"$f":"VLOOKUP(A25,počty!$C$6:$BZ$65,71,0)","v":{"$error":"#N/A"}},{"$f":"VLOOKUP(A25,počty!$C$6:$BZ$65,70,0)","v":{"$error":"#N/A"}},{"$f":"VLOOKUP(A25,počty!$C$6:$BZ$65,72,0)","v":{"$error":"#N/A"}},{"$f":"VLOOKUP(A25,počty!$C$6:$BZ$65,74,0)","v":{"$error":"#N/A"}},{"$f":"VLOOKUP(A25,počty!$C$6:$BZ$65,69,0)","v":{"$error":"#N/A"}},{"$f":"VLOOKUP(A25,počty!$L$6:$AP$163,9,0)","v":{"$error":"#N/A"}},{"$f":"VLOOKUP(A25,počty!$L$6:$AP$163,17,0)","v":{"$error":"#N/A"}},{"$f":"VLOOKUP(A25,počty!$L$6:$AP$163,20,0)","v":{"$error":"#N/A"}},{"$f":"VLOOKUP(A25,počty!$L$6:$AP$163,28,0)","v":{"$error":"#N/A"}},{"$f":"VLOOKUP(A25,počty!$L$6:$AP$163,30,0)","v":{"$error":"#N/A"}}]
[21,{"$f":"IF(VLOOKUP(A26,počty!$L$6:$AP$163,31,0)>=1000,\"M\",VLOOKUP(A26,počty!$L$6:$BR$163,53,0))","v":{"$error":"#N/A"}},{"$f":"VLOOKUP(A26,počty!$L$6:$AP$163,3,0)","v":{"$error":"#N/A"}},{"$f":"VLOOKUP(A26,počty!$C$6:$BZ$65,73,0)","v":{"$error":"#N/A"}},{"$f":"VLOOKUP(A26,počty!$C$6:$BZ$65,68,0)","v":{"$error":"#N/A"}},{"$f":"VLOOKUP(A26,počty!$C$6:$BZ$65,67,0)","v":{"$error":"#N/A"}},{"$f":"VLOOKUP(A26,počty!$C$6:$BZ$65,71,0)","v":{"$error":"#N/A"}},{"$f":"VLOOKUP(A26,počty!$C$6:$BZ$65,70,0)","v":{"$error":"#N/A"}},{"$f":"VLOOKUP(A26,počty!$C$6:$BZ$65,72,0)","v":{"$error":"#N/A"}},{"$f":"VLOOKUP(A26,počty!$C$6:$BZ$65,74,0)","v":{"$error":"#N/A"}},{"$f":"VLOOKUP(A26,počty!$C$6:$BZ$65,69,0)","v":{"$error":"#N/A"}},{"$f":"VLOOKUP(A26,počty!$L$6:$AP$163,9,0)","v":{"$error":"#N/A"}},{"$f":"VLOOKUP(A26,počty!$L$6:$AP$163,17,0)","v":{"$error":"#N/A"}},{"$f":"VLOOKUP(A26,počty!$L$6:$AP$163,20,0)","v":{"$error":"#N/A"}},{"$f":"VLOOKUP(A26,počty!$L$6:$AP$163,28,0)","v":{"$error":"#N/A"}},{"$f":"VLOOKUP(A26,počty!$L$6:$AP$163,30,0)","v":{"$error":"#N/A"}}]
[22,{"$f":"IF(VLOOKUP(A27,počty!$L$6:$AP$163,31,0)>=1000,\"M\",VLOOKUP(A27,počty!$L$6:$BR$163,53,0))","v":{"$error":"#N/A"}},{"$f":"VLOOKUP(A27,počty!$L$6:$AP$163,3,0)","v":{"$error":"#N/A"}},{"$f":"VLOOKUP(A27,počty!$C$6:$BZ$65,73,0)","v":{"$error":"#N/A"}},{"$f":"VLOOKUP(A27,počty!$C$6:$BZ$65,68,0)","v":{"$error":"#N/A"}},{"$f":"VLOOKUP(A27,počty!$C$6:$BZ$65,67,0)","v":{"$error":"#N/A"}},{"$f":"VLOOKUP(A27,počty!$C$6:$BZ$65,71,0)","v":{"$error":"#N/A"}},{"$f":"VLOOKUP(A27,počty!$C$6:$BZ$65,70,0)","v":{"$error":"#N/A"}},{"$f":"VLOOKUP(A27,počty!$C$6:$BZ$65,72,0)","v":{"$error":"#N/A"}},{"$f":"VLOOKUP(A27,počty!$C$6:$BZ$65,74,0)","v":{"$error":"#N/A"}},{"$f":"VLOOKUP(A27,počty!$C$6:$BZ$65,69,0)","v":{"$error":"#N/A"}},{"$f":"VLOOKUP(A27,počty!$L$6:$AP$163,9,0)","v":{"$error":"#N/A"}},{"$f":"VLOOKUP(A27,počty!$L$6:$AP$163,17,0)","v":{"$error":"#N/A"}},{"$f":"VLOOKUP(A27,počty!$L$6:$AP$163,20,0)","v":{"$error":"#N/A"}},{"$f":"VLOOKUP(A27,počty!$L$6:$AP$163,28,0)","v":{"$error":"#N/A"}},{"$f":"VLOOKUP(A27,počty!$L$6:$AP$163,30,0)","v":{"$error":"#N/A"}}]
[23,{"$f":"IF(VLOOKUP(A28,počty!$L$6:$AP$163,31,0)>=1000,\"M\",VLOOKUP(A28,počty!$L$6:$BR$163,53,0))","v":{"$error":"#N/A"}},{"$f":"VLOOKUP(A28,počty!$L$6:$AP$163,3,0)","v":{"$error":"#N/A"}},{"$f":"VLOOKUP(A28,počty!$C$6:$BZ$65,73,0)","v":{"$error":"#N/A"}},{"$f":"VLOOKUP(A28,počty!$C$6:$BZ$65,68,0)","v":{"$error":"#N/A"}},{"$f":"VLOOKUP(A28,počty!$C$6:$BZ$65,67,0)","v":{"$error":"#N/A"}},{"$f":"VLOOKUP(A28,počty!$C$6:$BZ$65,71,0)","v":{"$error":"#N/A"}},{"$f":"VLOOKUP(A28,počty!$C$6:$BZ$65,70,0)","v":{"$error":"#N/A"}},{"$f":"VLOOKUP(A28,počty!$C$6:$BZ$65,72,0)","v":{"$error":"#N/A"}},{"$f":"VLOOKUP(A28,počty!$C$6:$BZ$65,74,0)","v":{"$error":"#N/A"}},{"$f":"VLOOKUP(A28,počty!$C$6:$BZ$65,69,0)","v":{"$error":"#N/A"}},{"$f":"VLOOKUP(A28,počty!$L$6:$AP$163,9,0)","v":{"$error":"#N/A"}},{"$f":"VLOOKUP(A28,počty!$L$6:$AP$163,17,0)","v":{"$error":"#N/A"}},{"$f":"VLOOKUP(A28,počty!$L$6:$AP$163,20,0)","v":{"$error":"#N/A"}},{"$f":"VLOOKUP(A28,počty!$L$6:$AP$163,28,0)","v":{"$error":"#N/A"}},{"$f":"VLOOKUP(A28,počty!$L$6:$AP$163,30,0)","v":{"$error":"#N/A"}}]
[24,{"$f":"IF(VLOOKUP(A29,počty!$L$6:$AP$163,31,0)>=1000,\"M\",VLOOKUP(A29,počty!$L$6:$BR$163,53,0))","v":{"$error":"#N/A"}},{"$f":"VLOOKUP(A29,počty!$L$6:$AP$163,3,0)","v":{"$error":"#N/A"}},{"$f":"VLOOKUP(A29,počty!$C$6:$BZ$65,73,0)","v":{"$error":"#N/A"}},{"$f":"VLOOKUP(A29,počty!$C$6:$BZ$65,68,0)","v":{"$error":"#N/A"}},{"$f":"VLOOKUP(A29,počty!$C$6:$BZ$65,67,0)","v":{"$error":"#N/A"}},{"$f":"VLOOKUP(A29,počty!$C$6:$BZ$65,71,0)","v":{"$error":"#N/A"}},{"$f":"VLOOKUP(A29,počty!$C$6:$BZ$65,70,0)","v":{"$error":"#N/A"}},{"$f":"VLOOKUP(A29,počty!$C$6:$BZ$65,72,0)","v":{"$error":"#N/A"}},{"$f":"VLOOKUP(A29,počty!$C$6:$BZ$65,74,0)","v":{"$error":"#N/A"}},{"$f":"VLOOKUP(A29,počty!$C$6:$BZ$65,69,0)","v":{"$error":"#N/A"}},{"$f":"VLOOKUP(A29,počty!$L$6:$AP$163,9,0)","v":{"$error":"#N/A"}},{"$f":"VLOOKUP(A29,počty!$L$6:$AP$163,17,0)","v":{"$error":"#N/A"}},{"$f":"VLOOKUP(A29,počty!$L$6:$AP$163,20,0)","v":{"$error":"#N/A"}},{"$f":"VLOOKUP(A29,počty!$L$6:$AP$163,28,0)","v":{"$error":"#N/A"}},{"$f":"VLOOKUP(A29,počty!$L$6:$AP$163,30,0)","v":{"$error":"#N/A"}}]
[25,{"$f":"IF(VLOOKUP(A30,počty!$L$6:$AP$163,31,0)>=1000,\"M\",VLOOKUP(A30,počty!$L$6:$BR$163,53,0))","v":{"$error":"#N/A"}},{"$f":"VLOOKUP(A30,počty!$L$6:$AP$163,3,0)","v":{"$error":"#N/A"}},{"$f":"VLOOKUP(A30,počty!$C$6:$BZ$65,73,0)","v":{"$error":"#N/A"}},{"$f":"VLOOKUP(A30,počty!$C$6:$BZ$65,68,0)","v":{"$error":"#N/A"}},{"$f":"VLOOKUP(A30,počty!$C$6:$BZ$65,67,0)","v":{"$error":"#N/A"}},{"$f":"VLOOKUP(A30,počty!$C$6:$BZ$65,71,0)","v":{"$error":"#N/A"}},{"$f":"VLOOKUP(A30,počty!$C$6:$BZ$65,70,0)","v":{"$error":"#N/A"}},{"$f":"VLOOKUP(A30,počty!$C$6:$BZ$65,72,0)","v":{"$error":"#N/A"}},{"$f":"VLOOKUP(A30,počty!$C$6:$BZ$65,74,0)","v":{"$error":"#N/A"}},{"$f":"VLOOKUP(A30,počty!$C$6:$BZ$65,69,0)","v":{"$error":"#N/A"}},{"$f":"VLOOKUP(A30,počty!$L$6:$AP$163,9,0)","v":{"$error":"#N/A"}},{"$f":"VLOOKUP(A30,počty!$L$6:$AP$163,17,0)","v":{"$error":"#N/A"}},{"$f":"VLOOKUP(A30,počty!$L$6:$AP$163,20,0)","v":{"$error":"#N/A"}},{"$f":"VLOOKUP(A30,počty!$L$6:$AP$163,28,0)","v":{"$error":"#N/A"}},{"$f":"VLOOKUP(A30,počty!$L$6:$AP$163,30,0)","v":{"$error":"#N/A"}}]
[26,{"$f":"IF(VLOOKUP(A31,počty!$L$6:$AP$163,31,0)>=1000,\"M\",VLOOKUP(A31,počty!$L$6:$BR$163,53,0))","v":{"$error":"#N/A"}},{"$f":"VLOOKUP(A31,počty!$L$6:$AP$163,3,0)","v":{"$error":"#N/A"}},{"$f":"VLOOKUP(A31,počty!$C$6:$BZ$65,73,0)","v":{"$error":"#N/A"}},{"$f":"VLOOKUP(A31,počty!$C$6:$BZ$65,68,0)","v":{"$error":"#N/A"}},{"$f":"VLOOKUP(A31,počty!$C$6:$BZ$65,67,0)","v":{"$error":"#N/A"}},{"$f":"VLOOKUP(A31,počty!$C$6:$BZ$65,71,0)","v":{"$error":"#N/A"}},{"$f":"VLOOKUP(A31,počty!$C$6:$BZ$65,70,0)","v":{"$error":"#N/A"}},{"$f":"VLOOKUP(A31,počty!$C$6:$BZ$65,72,0)","v":{"$error":"#N/A"}},{"$f":"VLOOKUP(A31,počty!$C$6:$BZ$65,74,0)","v":{"$error":"#N/A"}},{"$f":"VLOOKUP(A31,počty!$C$6:$BZ$65,69,0)","v":{"$error":"#N/A"}},{"$f":"VLOOKUP(A31,počty!$L$6:$AP$163,9,0)","v":{"$error":"#N/A"}},{"$f":"VLOOKUP(A31,počty!$L$6:$AP$163,17,0)","v":{"$error":"#N/A"}},{"$f":"VLOOKUP(A31,počty!$L$6:$AP$163,20,0)","v":{"$error":"#N/A"}},{"$f":"VLOOKUP(A31,počty!$L$6:$AP$163,28,0)","v":{"$error":"#N/A"}},{"$f":"VLOOKUP(A31,počty!$L$6:$AP$163,30,0)","v":{"$error":"#N/A"}}]
[27,{"$f":"IF(VLOOKUP(A32,počty!$L$6:$AP$163,31,0)>=1000,\"M\",VLOOKUP(A32,počty!$L$6:$BR$163,53,0))","v":{"$error":"#N/A"}},{"$f":"VLOOKUP(A32,počty!$L$6:$AP$163,3,0)","v":{"$error":"#N/A"}},{"$f":"VLOOKUP(A32,počty!$C$6:$BZ$65,73,0)","v":{"$error":"#N/A"}},{"$f":"VLOOKUP(A32,počty!$C$6:$BZ$65,68,0)","v":{"$error":"#N/A"}},{"$f":"VLOOKUP(A32,počty!$C$6:$BZ$65,67,0)","v":{"$error":"#N/A"}},{"$f":"VLOOKUP(A32,počty!$C$6:$BZ$65,71,0)","v":{"$error":"#N/A"}},{"$f":"VLOOKUP(A32,počty!$C$6:$BZ$65,70,0)","v":{"$error":"#N/A"}},{"$f":"VLOOKUP(A32,počty!$C$6:$BZ$65,72,0)","v":{"$error":"#N/A"}},{"$f":"VLOOKUP(A32,počty!$C$6:$BZ$65,74,0)","v":{"$error":"#N/A"}},{"$f":"VLOOKUP(A32,počty!$C$6:$BZ$65,69,0)","v":{"$error":"#N/A"}},{"$f":"VLOOKUP(A32,počty!$L$6:$AP$163,9,0)","v":{"$error":"#N/A"}},{"$f":"VLOOKUP(A32,počty!$L$6:$AP$163,17,0)","v":{"$error":"#N/A"}},{"$f":"VLOOKUP(A32,počty!$L$6:$AP$163,20,0)","v":{"$error":"#N/A"}},{"$f":"VLOOKUP(A32,počty!$L$6:$AP$163,28,0)","v":{"$error":"#N/A"}},{"$f":"VLOOKUP(A32,počty!$L$6:$AP$163,30,0)","v":{"$error":"#N/A"}}]
[28,{"$f":"IF(VLOOKUP(A33,počty!$L$6:$AP$163,31,0)>=1000,\"M\",VLOOKUP(A33,počty!$L$6:$BR$163,53,0))","v":{"$error":"#N/A"}},{"$f":"VLOOKUP(A33,počty!$L$6:$AP$163,3,0)","v":{"$error":"#N/A"}},{"$f":"VLOOKUP(A33,počty!$C$6:$BZ$65,73,0)","v":{"$error":"#N/A"}},{"$f":"VLOOKUP(A33,počty!$C$6:$BZ$65,68,0)","v":{"$error":"#N/A"}},{"$f":"VLOOKUP(A33,počty!$C$6:$BZ$65,67,0)","v":{"$error":"#N/A"}},{"$f":"VLOOKUP(A33,počty!$C$6:$BZ$65,71,0)","v":{"$error":"#N/A"}},{"$f":"VLOOKUP(A33,počty!$C$6:$BZ$65,70,0)","v":{"$error":"#N/A"}},{"$f":"VLOOKUP(A33,počty!$C$6:$BZ$65,72,0)","v":{"$error":"#N/A"}},{"$f":"VLOOKUP(A33,počty!$C$6:$BZ$65,74,0)","v":{"$error":"#N/A"}},{"$f":"VLOOKUP(A33,počty!$C$6:$BZ$65,69,0)","v":{"$error":"#N/A"}},{"$f":"VLOOKUP(A33,počty!$L$6:$AP$163,9,0)","v":{"$error":"#N/A"}},{"$f":"VLOOKUP(A33,počty!$L$6:$AP$163,17,0)","v":{"$error":"#N/A"}},{"$f":"VLOOKUP(A33,počty!$L$6:$AP$163,20,0)","v":{"$error":"#N/A"}},{"$f":"VLOOKUP(A33,počty!$L$6:$AP$163,28,0)","v":{"$error":"#N/A"}},{"$f":"VLOOKUP(A33,počty!$L$6:$AP$163,30,0)","v":{"$error":"#N/A"}}]
[29,{"$f":"IF(VLOOKUP(A34,počty!$L$6:$AP$163,31,0)>=1000,\"M\",VLOOKUP(A34,počty!$L$6:$BR$163,53,0))","v":{"$error":"#N/A"}},{"$f":"VLOOKUP(A34,počty!$L$6:$AP$163,3,0)","v":{"$error":"#N/A"}},{"$f":"VLOOKUP(A34,počty!$C$6:$BZ$65,73,0)","v":{"$error":"#N/A"}},{"$f":"VLOOKUP(A34,počty!$C$6:$BZ$65,68,0)","v":{"$error":"#N/A"}},{"$f":"VLOOKUP(A34,počty!$C$6:$BZ$65,67,0)","v":{"$error":"#N/A"}},{"$f":"VLOOKUP(A34,počty!$C$6:$BZ$65,71,0)","v":{"$error":"#N/A"}},{"$f":"VLOOKUP(A34,počty!$C$6:$BZ$65,70,0)","v":{"$error":"#N/A"}},{"$f":"VLOOKUP(A34,počty!$C$6:$BZ$65,72,0)","v":{"$error":"#N/A"}},{"$f":"VLOOKUP(A34,počty!$C$6:$BZ$65,74,0)","v":{"$error":"#N/A"}},{"$f":"VLOOKUP(A34,počty!$C$6:$BZ$65,69,0)","v":{"$error":"#N/A"}},{"$f":"VLOOKUP(A34,počty!$L$6:$AP$163,9,0)","v":{"$error":"#N/A"}},{"$f":"VLOOKUP(A34,počty!$L$6:$AP$163,17,0)","v":{"$error":"#N/A"}},{"$f":"VLOOKUP(A34,počty!$L$6:$AP$163,20,0)","v":{"$error":"#N/A"}},{"$f":"VLOOKUP(A34,počty!$L$6:$AP$163,28,0)","v":{"$error":"#N/A"}},{"$f":"VLOOKUP(A34,počty!$L$6:$AP$163,30,0)","v":{"$error":"#N/A"}}]
[30,{"$f":"IF(VLOOKUP(A35,počty!$L$6:$AP$163,31,0)>=1000,\"M\",VLOOKUP(A35,počty!$L$6:$BR$163,53,0))","v":{"$error":"#N/A"}},{"$f":"VLOOKUP(A35,počty!$L$6:$AP$163,3,0)","v":{"$error":"#N/A"}},{"$f":"VLOOKUP(A35,počty!$C$6:$BZ$65,73,0)","v":{"$error":"#N/A"}},{"$f":"VLOOKUP(A35,počty!$C$6:$BZ$65,68,0)","v":{"$error":"#N/A"}},{"$f":"VLOOKUP(A35,počty!$C$6:$BZ$65,67,0)","v":{"$error":"#N/A"}},{"$f":"VLOOKUP(A35,počty!$C$6:$BZ$65,71,0)","v":{"$error":"#N/A"}},{"$f":"VLOOKUP(A35,počty!$C$6:$BZ$65,70,0)","v":{"$error":"#N/A"}},{"$f":"VLOOKUP(A35,počty!$C$6:$BZ$65,72,0)","v":{"$error":"#N/A"}},{"$f":"VLOOKUP(A35,počty!$C$6:$BZ$65,74,0)","v":{"$error":"#N/A"}},{"$f":"VLOOKUP(A35,počty!$C$6:$BZ$65,69,0)","v":{"$error":"#N/A"}},{"$f":"VLOOKUP(A35,počty!$L$6:$AP$163,9,0)","v":{"$error":"#N/A"}},{"$f":"VLOOKUP(A35,počty!$L$6:$AP$163,17,0)","v":{"$error":"#N/A"}},{"$f":"VLOOKUP(A35,počty!$L$6:$AP$163,20,0)","v":{"$error":"#N/A"}},{"$f":"VLOOKUP(A35,počty!$L$6:$AP$163,28,0)","v":{"$error":"#N/A"}},{"$f":"VLOOKUP(A35,počty!$L$6:$AP$163,30,0)","v":{"$error":"#N/A"}}]
[31,{"$f":"IF(VLOOKUP(A36,počty!$L$6:$AP$163,31,0)>=1000,\"M\",VLOOKUP(A36,počty!$L$6:$BR$163,53,0))","v":{"$error":"#N/A"}},{"$f":"VLOOKUP(A36,počty!$L$6:$AP$163,3,0)","v":{"$error":"#N/A"}},{"$f":"VLOOKUP(A36,počty!$C$6:$BZ$65,73,0)","v":{"$error":"#N/A"}},{"$f":"VLOOKUP(A36,počty!$C$6:$BZ$65,68,0)","v":{"$error":"#N/A"}},{"$f":"VLOOKUP(A36,počty!$C$6:$BZ$65,67,0)","v":{"$error":"#N/A"}},{"$f":"VLOOKUP(A36,počty!$C$6:$BZ$65,71,0)","v":{"$error":"#N/A"}},{"$f":"VLOOKUP(A36,počty!$C$6:$BZ$65,70,0)","v":{"$error":"#N/A"}},{"$f":"VLOOKUP(A36,počty!$C$6:$BZ$65,72,0)","v":{"$error":"#N/A"}},{"$f":"VLOOKUP(A36,počty!$C$6:$BZ$65,74,0)","v":{"$error":"#N/A"}},{"$f":"VLOOKUP(A36,počty!$C$6:$BZ$65,69,0)","v":{"$error":"#N/A"}},{"$f":"VLOOKUP(A36,počty!$L$6:$AP$163,9,0)","v":{"$error":"#N/A"}},{"$f":"VLOOKUP(A36,počty!$L$6:$AP$163,17,0)","v":{"$error":"#N/A"}},{"$f":"VLOOKUP(A36,počty!$L$6:$AP$163,20,0)","v":{"$error":"#N/A"}},{"$f":"VLOOKUP(A36,počty!$L$6:$AP$163,28,0)","v":{"$error":"#N/A"}},{"$f":"VLOOKUP(A36,počty!$L$6:$AP$163,30,0)","v":{"$error":"#N/A"}}]
[32,{"$f":"IF(VLOOKUP(A37,počty!$L$6:$AP$163,31,0)>=1000,\"M\",VLOOKUP(A37,počty!$L$6:$BR$163,53,0))","v":{"$error":"#N/A"}},{"$f":"VLOOKUP(A37,počty!$L$6:$AP$163,3,0)","v":{"$error":"#N/A"}},{"$f":"VLOOKUP(A37,počty!$C$6:$BZ$65,73,0)","v":{"$error":"#N/A"}},{"$f":"VLOOKUP(A37,počty!$C$6:$BZ$65,68,0)","v":{"$error":"#N/A"}},{"$f":"VLOOKUP(A37,počty!$C$6:$BZ$65,67,0)","v":{"$error":"#N/A"}},{"$f":"VLOOKUP(A37,počty!$C$6:$BZ$65,71,0)","v":{"$error":"#N/A"}},{"$f":"VLOOKUP(A37,počty!$C$6:$BZ$65,70,0)","v":{"$error":"#N/A"}},{"$f":"VLOOKUP(A37,počty!$C$6:$BZ$65,72,0)","v":{"$error":"#N/A"}},{"$f":"VLOOKUP(A37,počty!$C$6:$BZ$65,74,0)","v":{"$error":"#N/A"}},{"$f":"VLOOKUP(A37,počty!$C$6:$BZ$65,69,0)","v":{"$error":"#N/A"}},{"$f":"VLOOKUP(A37,počty!$L$6:$AP$163,9,0)","v":{"$error":"#N/A"}},{"$f":"VLOOKUP(A37,počty!$L$6:$AP$163,17,0)","v":{"$error":"#N/A"}},{"$f":"VLOOKUP(A37,počty!$L$6:$AP$163,20,0)","v":{"$error":"#N/A"}},{"$f":"VLOOKUP(A37,počty!$L$6:$AP$163,28,0)","v":{"$error":"#N/A"}},{"$f":"VLOOKUP(A37,počty!$L$6:$AP$163,30,0)","v":{"$error":"#N/A"}}]
[33,{"$f":"IF(VLOOKUP(A38,počty!$L$6:$AP$163,31,0)>=1000,\"M\",VLOOKUP(A38,počty!$L$6:$BR$163,53,0))","v":{"$error":"#N/A"}},{"$f":"VLOOKUP(A38,počty!$L$6:$AP$163,3,0)","v":{"$error":"#N/A"}},{"$f":"VLOOKUP(A38,počty!$C$6:$BZ$65,73,0)","v":{"$error":"#N/A"}},{"$f":"VLOOKUP(A38,počty!$C$6:$BZ$65,68,0)","v":{"$error":"#N/A"}},{"$f":"VLOOKUP(A38,počty!$C$6:$BZ$65,67,0)","v":{"$error":"#N/A"}},{"$f":"VLOOKUP(A38,počty!$C$6:$BZ$65,71,0)","v":{"$error":"#N/A"}},{"$f":"VLOOKUP(A38,počty!$C$6:$BZ$65,70,0)","v":{"$error":"#N/A"}},{"$f":"VLOOKUP(A38,počty!$C$6:$BZ$65,72,0)","v":{"$error":"#N/A"}},{"$f":"VLOOKUP(A38,počty!$C$6:$BZ$65,74,0)","v":{"$error":"#N/A"}},{"$f":"VLOOKUP(A38,počty!$C$6:$BZ$65,69,0)","v":{"$error":"#N/A"}},{"$f":"VLOOKUP(A38,počty!$L$6:$AP$163,9,0)","v":{"$error":"#N/A"}},{"$f":"VLOOKUP(A38,počty!$L$6:$AP$163,17,0)","v":{"$error":"#N/A"}},{"$f":"VLOOKUP(A38,počty!$L$6:$AP$163,20,0)","v":{"$error":"#N/A"}},{"$f":"VLOOKUP(A38,počty!$L$6:$AP$163,28,0)","v":{"$error":"#N/A"}},{"$f":"VLOOKUP(A38,počty!$L$6:$AP$163,30,0)","v":{"$error":"#N/A"}}]
[34,{"$f":"IF(VLOOKUP(A39,počty!$L$6:$AP$163,31,0)>=1000,\"M\",VLOOKUP(A39,počty!$L$6:$BR$163,53,0))","v":{"$error":"#N/A"}},{"$f":"VLOOKUP(A39,počty!$L$6:$AP$163,3,0)","v":{"$error":"#N/A"}},{"$f":"VLOOKUP(A39,počty!$C$6:$BZ$65,73,0)","v":{"$error":"#N/A"}},{"$f":"VLOOKUP(A39,počty!$C$6:$BZ$65,68,0)","v":{"$error":"#N/A"}},{"$f":"VLOOKUP(A39,počty!$C$6:$BZ$65,67,0)","v":{"$error":"#N/A"}},{"$f":"VLOOKUP(A39,počty!$C$6:$BZ$65,71,0)","v":{"$error":"#N/A"}},{"$f":"VLOOKUP(A39,počty!$C$6:$BZ$65,70,0)","v":{"$error":"#N/A"}},{"$f":"VLOOKUP(A39,počty!$C$6:$BZ$65,72,0)","v":{"$error":"#N/A"}},{"$f":"VLOOKUP(A39,počty!$C$6:$BZ$65,74,0)","v":{"$error":"#N/A"}},{"$f":"VLOOKUP(A39,počty!$C$6:$BZ$65,69,0)","v":{"$error":"#N/A"}},{"$f":"VLOOKUP(A39,počty!$L$6:$AP$163,9,0)","v":{"$error":"#N/A"}},{"$f":"VLOOKUP(A39,počty!$L$6:$AP$163,17,0)","v":{"$error":"#N/A"}},{"$f":"VLOOKUP(A39,počty!$L$6:$AP$163,20,0)","v":{"$error":"#N/A"}},{"$f":"VLOOKUP(A39,počty!$L$6:$AP$163,28,0)","v":{"$error":"#N/A"}},{"$f":"VLOOKUP(A39,počty!$L$6:$AP$163,30,0)","v":{"$error":"#N/A"}}]
[35,{"$f":"IF(VLOOKUP(A40,počty!$L$6:$AP$163,31,0)>=1000,\"M\",VLOOKUP(A40,počty!$L$6:$BR$163,53,0))","v":{"$error":"#N/A"}},{"$f":"VLOOKUP(A40,počty!$L$6:$AP$163,3,0)","v":{"$error":"#N/A"}},{"$f":"VLOOKUP(A40,počty!$C$6:$BZ$65,73,0)","v":{"$error":"#N/A"}},{"$f":"VLOOKUP(A40,počty!$C$6:$BZ$65,68,0)","v":{"$error":"#N/A"}},{"$f":"VLOOKUP(A40,počty!$C$6:$BZ$65,67,0)","v":{"$error":"#N/A"}},{"$f":"VLOOKUP(A40,počty!$C$6:$BZ$65,71,0)","v":{"$error":"#N/A"}},{"$f":"VLOOKUP(A40,počty!$C$6:$BZ$65,70,0)","v":{"$error":"#N/A"}},{"$f":"VLOOKUP(A40,počty!$C$6:$BZ$65,72,0)","v":{"$error":"#N/A"}},{"$f":"VLOOKUP(A40,počty!$C$6:$BZ$65,74,0)","v":{"$error":"#N/A"}},{"$f":"VLOOKUP(A40,počty!$C$6:$BZ$65,69,0)","v":{"$error":"#N/A"}},{"$f":"VLOOKUP(A40,počty!$L$6:$AP$163,9,0)","v":{"$error":"#N/A"}},{"$f":"VLOOKUP(A40,počty!$L$6:$AP$163,17,0)","v":{"$error":"#N/A"}},{"$f":"VLOOKUP(A40,počty!$L$6:$AP$163,20,0)","v":{"$error":"#N/A"}},{"$f":"VLOOKUP(A40,počty!$L$6:$AP$163,28,0)","v":{"$error":"#N/A"}},{"$f":"VLOOKUP(A40,počty!$L$6:$AP$163,30,0)","v":{"$error":"#N/A"}}]

{"sheet":"EL_V_SL","index":15,"n_rows":40,"n_cols":15,"rows_kept":40,"cut":false,"hidden":false,"merged":[]}
["Pořadí","Start. číslo","Kód závodníka","Příjmení","Jméno","Rok nar.","Pohlaví","Stát","FIS kód","Název klubu","1. kolo délka","1. kolo body","2. kolo délka","2. kolo body","Body"]
[{"$f":"'SL dod'!B6","v":1},{"$f":"'SL dod'!C6","v":13},{"$f":"IF('SL dod'!D6=0,\"\",'SL dod'!D6)","v":777372},{"$f":"'SL dod'!E6","v":"Sankot"},{"$f":"'SL dod'!F6","v":"Antonín"},{"$f":"'SL dod'!G6","v":2017},{"$f":"'SL dod'!H6","v":"MEN"},{"$f":"'SL dod'!I6","v":"CZE"},null,{"$f":"'SL dod'!K6","v":"Lyžařský sportovní klub Lomnice nad Popelkou"},{"$f":"'SL dod'!L6","v":11.5},{"$f":"'SL dod'!M6","v":95.5},{"$f":"'SL dod'!N6","v":11.5},{"$f":"'SL dod'!O6","v":95.5},{"$f":"'SL dod'!P6","v":191}]
[{"$f":"'SL dod'!B7","v":2},{"$f":"'SL dod'!C7","v":24},{"$f":"IF('SL dod'!D7=0,\"\",'SL dod'!D7)","v":890332},{"$f":"'SL dod'!E7","v":"Zapadlová"},{"$f":"'SL dod'!F7","v":"Sára"},{"$f":"'SL dod'!G7","v":2016},{"$f":"'SL dod'!H7","v":"WOMEN"},{"$f":"'SL dod'!I7","v":"CZE"},null,{"$f":"'SL dod'!K7","v":"Lyžařský sportovní klub Lomnice nad Popelkou"},{"$f":"'SL dod'!L7","v":11.5},{"$f":"'SL dod'!M7","v":94},{"$f":"'SL dod'!N7","v":11.5},{"$f":"'SL dod'!O7","v":94},{"$f":"'SL dod'!P7","v":188}]
[{"$f":"'SL dod'!B8","v":3},{"$f":"'SL dod'!C8","v":25},{"$f":"IF('SL dod'!D8=0,\"\",'SL dod'!D8)","v":774426},{"$f":"'SL dod'!E8","v":"Břečka"},{"$f":"'SL dod'!F8","v":"Matyáš"},{"$f":"'SL dod'!G8","v":2014},{"$f":"'SL dod'!H8","v":"MEN"},{"$f":"'SL dod'!I8","v":"CZE"},null,{"$f":"'SL dod'!K8","v":"Lyžařský sportovní klub Lomnice nad Popelkou"},{"$f":"'SL dod'!L8","v":11},{"$f":"'SL dod'!M8","v":90},{"$f":"'SL dod'!N8","v":11},{"$f":"'SL dod'!O8","v":91},{"$f":"'SL dod'!P8","v":181}]
[{"$f":"'SL dod'!B9","v":4},{"$f":"'SL dod'!C9","v":23},{"$f":"IF('SL dod'!D9=0,\"\",'SL dod'!D9)","v":889929},{"$f":"'SL dod'!E9","v":"Huráňová"},{"$f":"'SL dod'!F9","v":"Karolína"},{"$f":"'SL dod'!G9","v":2015},{"$f":"'SL dod'!H9","v":"WOMEN"},{"$f":"'SL dod'!I9","v":"CZE"},null,{"$f":"'SL dod'!K9","v":"Lyžařský sportovní klub Lomnice nad Popelkou"},{"$f":"'SL dod'!L9","v":11},{"$f":"'SL dod'!M9","v":89.5},{"$f":"'SL dod'!N9","v":11.5},{"$f":"'SL dod'!O9","v":89.5},{"$f":"'SL dod'!P9","v":179}]
[{"$f":"'SL dod'!B10","v":5},{"$f":"'SL dod'!C10","v":22},{"$f":"IF('SL dod'!D10=0,\"\",'SL dod'!D10)","v":774424},{"$f":"'SL dod'!E10","v":"Ježek"},{"$f":"'SL dod'!F10","v":"Jakub"},{"$f":"'SL dod'!G10","v":2015},{"$f":"'SL dod'!H10","v":"MEN"},{"$f":"'SL dod'!I10","v":"CZE"},null,{"$f":"'SL dod'!K10","v":"Lyžařský sportovní klub Lomnice nad Popelkou"},{"$f":"'SL dod'!L10","v":12},{"$f":"'SL dod'!M10","v":95.5},{"$f":"'SL dod'!N10","v":12.5},{"$f":"'SL dod'!O10","v":81},{"$f":"'SL dod'!P10","v":176.5}]
[{"$f":"'SL dod'!B11","v":{"$error":"#N/A"}},{"$f":"'SL dod'!C11","v":{"$error":"#N/A"}},{"$f":"IF('SL dod'!D11=0,\"\",'SL dod'!D11)","v":{"$error":"#N/A"}},{"$f":"'SL dod'!E11","v":{"$error":"#N/A"}},{"$f":"'SL dod'!F11","v":{"$error":"#N/A"}},{"$f":"'SL dod'!G11","v":{"$error":"#N/A"}},{"$f":"'SL dod'!H11","v":{"$error":"#N/A"}},{"$f":"'SL dod'!I11","v":{"$error":"#N/A"}},null,{"$f":"'SL dod'!K11","v":{"$error":"#N/A"}},{"$f":"'SL dod'!L11","v":{"$error":"#N/A"}},{"$f":"'SL dod'!M11","v":{"$error":"#N/A"}},{"$f":"'SL dod'!N11","v":{"$error":"#N/A"}},{"$f":"'SL dod'!O11","v":{"$error":"#N/A"}},{"$f":"'SL dod'!P11","v":{"$error":"#N/A"}}]
[{"$f":"'SL dod'!B12","v":{"$error":"#N/A"}},{"$f":"'SL dod'!C12","v":{"$error":"#N/A"}},{"$f":"IF('SL dod'!D12=0,\"\",'SL dod'!D12)","v":{"$error":"#N/A"}},{"$f":"'SL dod'!E12","v":{"$error":"#N/A"}},{"$f":"'SL dod'!F12","v":{"$error":"#N/A"}},{"$f":"'SL dod'!G12","v":{"$error":"#N/A"}},{"$f":"'SL dod'!H12","v":{"$error":"#N/A"}},{"$f":"'SL dod'!I12","v":{"$error":"#N/A"}},null,{"$f":"'SL dod'!K12","v":{"$error":"#N/A"}},{"$f":"'SL dod'!L12","v":{"$error":"#N/A"}},{"$f":"'SL dod'!M12","v":{"$error":"#N/A"}},{"$f":"'SL dod'!N12","v":{"$error":"#N/A"}},{"$f":"'SL dod'!O12","v":{"$error":"#N/A"}},{"$f":"'SL dod'!P12","v":{"$error":"#N/A"}}]
[{"$f":"'SL dod'!B13","v":{"$error":"#N/A"}},{"$f":"'SL dod'!C13","v":{"$error":"#N/A"}},{"$f":"IF('SL dod'!D13=0,\"\",'SL dod'!D13)","v":{"$error":"#N/A"}},{"$f":"'SL dod'!E13","v":{"$error":"#N/A"}},{"$f":"'SL dod'!F13","v":{"$error":"#N/A"}},{"$f":"'SL dod'!G13","v":{"$error":"#N/A"}},{"$f":"'SL dod'!H13","v":{"$error":"#N/A"}},{"$f":"'SL dod'!I13","v":{"$error":"#N/A"}},null,{"$f":"'SL dod'!K13","v":{"$error":"#N/A"}},{"$f":"'SL dod'!L13","v":{"$error":"#N/A"}},{"$f":"'SL dod'!M13","v":{"$error":"#N/A"}},{"$f":"'SL dod'!N13","v":{"$error":"#N/A"}},{"$f":"'SL dod'!O13","v":{"$error":"#N/A"}},{"$f":"'SL dod'!P13","v":{"$error":"#N/A"}}]
[{"$f":"'SL dod'!B14","v":{"$error":"#N/A"}},{"$f":"'SL dod'!C14","v":{"$error":"#N/A"}},{"$f":"IF('SL dod'!D14=0,\"\",'SL dod'!D14)","v":{"$error":"#N/A"}},{"$f":"'SL dod'!E14","v":{"$error":"#N/A"}},{"$f":"'SL dod'!F14","v":{"$error":"#N/A"}},{"$f":"'SL dod'!G14","v":{"$error":"#N/A"}},{"$f":"'SL dod'!H14","v":{"$error":"#N/A"}},{"$f":"'SL dod'!I14","v":{"$error":"#N/A"}},null,{"$f":"'SL dod'!K14","v":{"$error":"#N/A"}},{"$f":"'SL dod'!L14","v":{"$error":"#N/A"}},{"$f":"'SL dod'!M14","v":{"$error":"#N/A"}},{"$f":"'SL dod'!N14","v":{"$error":"#N/A"}},{"$f":"'SL dod'!O14","v":{"$error":"#N/A"}},{"$f":"'SL dod'!P14","v":{"$error":"#N/A"}}]
[{"$f":"'SL dod'!B15","v":{"$error":"#N/A"}},{"$f":"'SL dod'!C15","v":{"$error":"#N/A"}},{"$f":"IF('SL dod'!D15=0,\"\",'SL dod'!D15)","v":{"$error":"#N/A"}},{"$f":"'SL dod'!E15","v":{"$error":"#N/A"}},{"$f":"'SL dod'!F15","v":{"$error":"#N/A"}},{"$f":"'SL dod'!G15","v":{"$error":"#N/A"}},{"$f":"'SL dod'!H15","v":{"$error":"#N/A"}},{"$f":"'SL dod'!I15","v":{"$error":"#N/A"}},null,{"$f":"'SL dod'!K15","v":{"$error":"#N/A"}},{"$f":"'SL dod'!L15","v":{"$error":"#N/A"}},{"$f":"'SL dod'!M15","v":{"$error":"#N/A"}},{"$f":"'SL dod'!N15","v":{"$error":"#N/A"}},{"$f":"'SL dod'!O15","v":{"$error":"#N/A"}},{"$f":"'SL dod'!P15","v":{"$error":"#N/A"}}]
[{"$f":"'SL dod'!B16","v":{"$error":"#N/A"}},{"$f":"'SL dod'!C16","v":{"$error":"#N/A"}},{"$f":"IF('SL dod'!D16=0,\"\",'SL dod'!D16)","v":{"$error":"#N/A"}},{"$f":"'SL dod'!E16","v":{"$error":"#N/A"}},{"$f":"'SL dod'!F16","v":{"$error":"#N/A"}},{"$f":"'SL dod'!G16","v":{"$error":"#N/A"}},{"$f":"'SL dod'!H16","v":{"$error":"#N/A"}},{"$f":"'SL dod'!I16","v":{"$error":"#N/A"}},null,{"$f":"'SL dod'!K16","v":{"$error":"#N/A"}},{"$f":"'SL dod'!L16","v":{"$error":"#N/A"}},{"$f":"'SL dod'!M16","v":{"$error":"#N/A"}},{"$f":"'SL dod'!N16","v":{"$error":"#N/A"}},{"$f":"'SL dod'!O16","v":{"$error":"#N/A"}},{"$f":"'SL dod'!P16","v":{"$error":"#N/A"}}]
[{"$f":"'SL dod'!B17","v":{"$error":"#N/A"}},{"$f":"'SL dod'!C17","v":{"$error":"#N/A"}},{"$f":"IF('SL dod'!D17=0,\"\",'SL dod'!D17)","v":{"$error":"#N/A"}},{"$f":"'SL dod'!E17","v":{"$error":"#N/A"}},{"$f":"'SL dod'!F17","v":{"$error":"#N/A"}},{"$f":"'SL dod'!G17","v":{"$error":"#N/A"}},{"$f":"'SL dod'!H17","v":{"$error":"#N/A"}},{"$f":"'SL dod'!I17","v":{"$error":"#N/A"}},null,{"$f":"'SL dod'!K17","v":{"$error":"#N/A"}},{"$f":"'SL dod'!L17","v":{"$error":"#N/A"}},{"$f":"'SL dod'!M17","v":{"$error":"#N/A"}},{"$f":"'SL dod'!N17","v":{"$error":"#N/A"}},{"$f":"'SL dod'!O17","v":{"$error":"#N/A"}},{"$f":"'SL dod'!P17","v":{"$error":"#N/A"}}]
[{"$f":"'SL dod'!B18","v":{"$error":"#N/A"}},{"$f":"'SL dod'!C18","v":{"$error":"#N/A"}},{"$f":"IF('SL dod'!D18=0,\"\",'SL dod'!D18)","v":{"$error":"#N/A"}},{"$f":"'SL dod'!E18","v":{"$error":"#N/A"}},{"$f":"'SL dod'!F18","v":{"$error":"#N/A"}},{"$f":"'SL dod'!G18","v":{"$error":"#N/A"}},{"$f":"'SL dod'!H18","v":{"$error":"#N/A"}},{"$f":"'SL dod'!I18","v":{"$error":"#N/A"}},null,{"$f":"'SL dod'!K18","v":{"$error":"#N/A"}},{"$f":"'SL dod'!L18","v":{"$error":"#N/A"}},{"$f":"'SL dod'!M18","v":{"$error":"#N/A"}},{"$f":"'SL dod'!N18","v":{"$error":"#N/A"}},{"$f":"'SL dod'!O18","v":{"$error":"#N/A"}},{"$f":"'SL dod'!P18","v":{"$error":"#N/A"}}]
[{"$f":"'SL dod'!B19","v":{"$error":"#N/A"}},{"$f":"'SL dod'!C19","v":{"$error":"#N/A"}},{"$f":"IF('SL dod'!D19=0,\"\",'SL dod'!D19)","v":{"$error":"#N/A"}},{"$f":"'SL dod'!E19","v":{"$error":"#N/A"}},{"$f":"'SL dod'!F19","v":{"$error":"#N/A"}},{"$f":"'SL dod'!G19","v":{"$error":"#N/A"}},{"$f":"'SL dod'!H19","v":{"$error":"#N/A"}},{"$f":"'SL dod'!I19","v":{"$error":"#N/A"}},null,{"$f":"'SL dod'!K19","v":{"$error":"#N/A"}},{"$f":"'SL dod'!L19","v":{"$error":"#N/A"}},{"$f":"'SL dod'!M19","v":{"$error":"#N/A"}},{"$f":"'SL dod'!N19","v":{"$error":"#N/A"}},{"$f":"'SL dod'!O19","v":{"$error":"#N/A"}},{"$f":"'SL dod'!P19","v":{"$error":"#N/A"}}]
[{"$f":"'SL dod'!B20","v":{"$error":"#N/A"}},{"$f":"'SL dod'!C20","v":{"$error":"#N/A"}},{"$f":"IF('SL dod'!D20=0,\"\",'SL dod'!D20)","v":{"$error":"#N/A"}},{"$f":"'SL dod'!E20","v":{"$error":"#N/A"}},{"$f":"'SL dod'!F20","v":{"$error":"#N/A"}},{"$f":"'SL dod'!G20","v":{"$error":"#N/A"}},{"$f":"'SL dod'!H20","v":{"$error":"#N/A"}},{"$f":"'SL dod'!I20","v":{"$error":"#N/A"}},null,{"$f":"'SL dod'!K20","v":{"$error":"#N/A"}},{"$f":"'SL dod'!L20","v":{"$error":"#N/A"}},{"$f":"'SL dod'!M20","v":{"$error":"#N/A"}},{"$f":"'SL dod'!N20","v":{"$error":"#N/A"}},{"$f":"'SL dod'!O20","v":{"$error":"#N/A"}},{"$f":"'SL dod'!P20","v":{"$error":"#N/A"}}]
[{"$f":"'SL dod'!B21","v":{"$error":"#N/A"}},{"$f":"'SL dod'!C21","v":{"$error":"#N/A"}},{"$f":"IF('SL dod'!D21=0,\"\",'SL dod'!D21)","v":{"$error":"#N/A"}},{"$f":"'SL dod'!E21","v":{"$error":"#N/A"}},{"$f":"'SL dod'!F21","v":{"$error":"#N/A"}},{"$f":"'SL dod'!G21","v":{"$error":"#N/A"}},{"$f":"'SL dod'!H21","v":{"$error":"#N/A"}},{"$f":"'SL dod'!I21","v":{"$error":"#N/A"}},null,{"$f":"'SL dod'!K21","v":{"$error":"#N/A"}},{"$f":"'SL dod'!L21","v":{"$error":"#N/A"}},{"$f":"'SL dod'!M21","v":{"$error":"#N/A"}},{"$f":"'SL dod'!N21","v":{"$error":"#N/A"}},{"$f":"'SL dod'!O21","v":{"$error":"#N/A"}},{"$f":"'SL dod'!P21","v":{"$error":"#N/A"}}]
[{"$f":"'SL dod'!B22","v":{"$error":"#N/A"}},{"$f":"'SL dod'!C22","v":{"$error":"#N/A"}},{"$f":"IF('SL dod'!D22=0,\"\",'SL dod'!D22)","v":{"$error":"#N/A"}},{"$f":"'SL dod'!E22","v":{"$error":"#N/A"}},{"$f":"'SL dod'!F22","v":{"$error":"#N/A"}},{"$f":"'SL dod'!G22","v":{"$error":"#N/A"}},{"$f":"'SL dod'!H22","v":{"$error":"#N/A"}},{"$f":"'SL dod'!I22","v":{"$error":"#N/A"}},null,{"$f":"'SL dod'!K22","v":{"$error":"#N/A"}},{"$f":"'SL dod'!L22","v":{"$error":"#N/A"}},{"$f":"'SL dod'!M22","v":{"$error":"#N/A"}},{"$f":"'SL dod'!N22","v":{"$error":"#N/A"}},{"$f":"'SL dod'!O22","v":{"$error":"#N/A"}},{"$f":"'SL dod'!P22","v":{"$error":"#N/A"}}]
[{"$f":"'SL dod'!B23","v":{"$error":"#N/A"}},{"$f":"'SL dod'!C23","v":{"$error":"#N/A"}},{"$f":"IF('SL dod'!D23=0,\"\",'SL dod'!D23)","v":{"$error":"#N/A"}},{"$f":"'SL dod'!E23","v":{"$error":"#N/A"}},{"$f":"'SL dod'!F23","v":{"$error":"#N/A"}},{"$f":"'SL dod'!G23","v":{"$error":"#N/A"}},{"$f":"'SL dod'!H23","v":{"$error":"#N/A"}},{"$f":"'SL dod'!I23","v":{"$error":"#N/A"}},null,{"$f":"'SL dod'!K23","v":{"$error":"#N/A"}},{"$f":"'SL dod'!L23","v":{"$error":"#N/A"}},{"$f":"'SL dod'!M23","v":{"$error":"#N/A"}},{"$f":"'SL dod'!N23","v":{"$error":"#N/A"}},{"$f":"'SL dod'!O23","v":{"$error":"#N/A"}},{"$f":"'SL dod'!P23","v":{"$error":"#N/A"}}]
[{"$f":"'SL dod'!B24","v":{"$error":"#N/A"}},{"$f":"'SL dod'!C24","v":{"$error":"#N/A"}},{"$f":"IF('SL dod'!D24=0,\"\",'SL dod'!D24)","v":{"$error":"#N/A"}},{"$f":"'SL dod'!E24","v":{"$error":"#N/A"}},{"$f":"'SL dod'!F24","v":{"$error":"#N/A"}},{"$f":"'SL dod'!G24","v":{"$error":"#N/A"}},{"$f":"'SL dod'!H24","v":{"$error":"#N/A"}},{"$f":"'SL dod'!I24","v":{"$error":"#N/A"}},null,{"$f":"'SL dod'!K24","v":{"$error":"#N/A"}},{"$f":"'SL dod'!L24","v":{"$error":"#N/A"}},{"$f":"'SL dod'!M24","v":{"$error":"#N/A"}},{"$f":"'SL dod'!N24","v":{"$error":"#N/A"}},{"$f":"'SL dod'!O24","v":{"$error":"#N/A"}},{"$f":"'SL dod'!P24","v":{"$error":"#N/A"}}]
[{"$f":"'SL dod'!B25","v":{"$error":"#N/A"}},{"$f":"'SL dod'!C25","v":{"$error":"#N/A"}},{"$f":"IF('SL dod'!D25=0,\"\",'SL dod'!D25)","v":{"$error":"#N/A"}},{"$f":"'SL dod'!E25","v":{"$error":"#N/A"}},{"$f":"'SL dod'!F25","v":{"$error":"#N/A"}},{"$f":"'SL dod'!G25","v":{"$error":"#N/A"}},{"$f":"'SL dod'!H25","v":{"$error":"#N/A"}},{"$f":"'SL dod'!I25","v":{"$error":"#N/A"}},null,{"$f":"'SL dod'!K25","v":{"$error":"#N/A"}},{"$f":"'SL dod'!L25","v":{"$error":"#N/A"}},{"$f":"'SL dod'!M25","v":{"$error":"#N/A"}},{"$f":"'SL dod'!N25","v":{"$error":"#N/A"}},{"$f":"'SL dod'!O25","v":{"$error":"#N/A"}},{"$f":"'SL dod'!P25","v":{"$error":"#N/A"}}]
[{"$f":"'SL dod'!B26","v":{"$error":"#N/A"}},{"$f":"'SL dod'!C26","v":{"$error":"#N/A"}},{"$f":"IF('SL dod'!D26=0,\"\",'SL dod'!D26)","v":{"$error":"#N/A"}},{"$f":"'SL dod'!E26","v":{"$error":"#N/A"}},{"$f":"'SL dod'!F26","v":{"$error":"#N/A"}},{"$f":"'SL dod'!G26","v":{"$error":"#N/A"}},{"$f":"'SL dod'!H26","v":{"$error":"#N/A"}},{"$f":"'SL dod'!I26","v":{"$error":"#N/A"}},null,{"$f":"'SL dod'!K26","v":{"$error":"#N/A"}},{"$f":"'SL dod'!L26","v":{"$error":"#N/A"}},{"$f":"'SL dod'!M26","v":{"$error":"#N/A"}},{"$f":"'SL dod'!N26","v":{"$error":"#N/A"}},{"$f":"'SL dod'!O26","v":{"$error":"#N/A"}},{"$f":"'SL dod'!P26","v":{"$error":"#N/A"}}]
[{"$f":"'SL dod'!B27","v":{"$error":"#N/A"}},{"$f":"'SL dod'!C27","v":{"$error":"#N/A"}},{"$f":"IF('SL dod'!D27=0,\"\",'SL dod'!D27)","v":{"$error":"#N/A"}},{"$f":"'SL dod'!E27","v":{"$error":"#N/A"}},{"$f":"'SL dod'!F27","v":{"$error":"#N/A"}},{"$f":"'SL dod'!G27","v":{"$error":"#N/A"}},{"$f":"'SL dod'!H27","v":{"$error":"#N/A"}},{"$f":"'SL dod'!I27","v":{"$error":"#N/A"}},null,{"$f":"'SL dod'!K27","v":{"$error":"#N/A"}},{"$f":"'SL dod'!L27","v":{"$error":"#N/A"}},{"$f":"'SL dod'!M27","v":{"$error":"#N/A"}},{"$f":"'SL dod'!N27","v":{"$error":"#N/A"}},{"$f":"'SL dod'!O27","v":{"$error":"#N/A"}},{"$f":"'SL dod'!P27","v":{"$error":"#N/A"}}]
[{"$f":"'SL dod'!B28","v":{"$error":"#N/A"}},{"$f":"'SL dod'!C28","v":{"$error":"#N/A"}},{"$f":"IF('SL dod'!D28=0,\"\",'SL dod'!D28)","v":{"$error":"#N/A"}},{"$f":"'SL dod'!E28","v":{"$error":"#N/A"}},{"$f":"'SL dod'!F28","v":{"$error":"#N/A"}},{"$f":"'SL dod'!G28","v":{"$error":"#N/A"}},{"$f":"'SL dod'!H28","v":{"$error":"#N/A"}},{"$f":"'SL dod'!I28","v":{"$error":"#N/A"}},null,{"$f":"'SL dod'!K28","v":{"$error":"#N/A"}},{"$f":"'SL dod'!L28","v":{"$error":"#N/A"}},{"$f":"'SL dod'!M28","v":{"$error":"#N/A"}},{"$f":"'SL dod'!N28","v":{"$error":"#N/A"}},{"$f":"'SL dod'!O28","v":{"$error":"#N/A"}},{"$f":"'SL dod'!P28","v":{"$error":"#N/A"}}]
[{"$f":"'SL dod'!B29","v":{"$error":"#N/A"}},{"$f":"'SL dod'!C29","v":{"$error":"#N/A"}},{"$f":"IF('SL dod'!D29=0,\"\",'SL dod'!D29)","v":{"$error":"#N/A"}},{"$f":"'SL dod'!E29","v":{"$error":"#N/A"}},{"$f":"'SL dod'!F29","v":{"$error":"#N/A"}},{"$f":"'SL dod'!G29","v":{"$error":"#N/A"}},{"$f":"'SL dod'!H29","v":{"$error":"#N/A"}},{"$f":"'SL dod'!I29","v":{"$error":"#N/A"}},null,{"$f":"'SL dod'!K29","v":{"$error":"#N/A"}},{"$f":"'SL dod'!L29","v":{"$error":"#N/A"}},{"$f":"'SL dod'!M29","v":{"$error":"#N/A"}},{"$f":"'SL dod'!N29","v":{"$error":"#N/A"}},{"$f":"'SL dod'!O29","v":{"$error":"#N/A"}},{"$f":"'SL dod'!P29","v":{"$error":"#N/A"}}]
[{"$f":"'SL dod'!B30","v":{"$error":"#N/A"}},{"$f":"'SL dod'!C30","v":{"$error":"#N/A"}},{"$f":"IF('SL dod'!D30=0,\"\",'SL dod'!D30)","v":{"$error":"#N/A"}},{"$f":"'SL dod'!E30","v":{"$error":"#N/A"}},{"$f":"'SL dod'!F30","v":{"$error":"#N/A"}},{"$f":"'SL dod'!G30","v":{"$error":"#N/A"}},{"$f":"'SL dod'!H30","v":{"$error":"#N/A"}},{"$f":"'SL dod'!I30","v":{"$error":"#N/A"}},null,{"$f":"'SL dod'!K30","v":{"$error":"#N/A"}},{"$f":"'SL dod'!L30","v":{"$error":"#N/A"}},{"$f":"'SL dod'!M30","v":{"$error":"#N/A"}},{"$f":"'SL dod'!N30","v":{"$error":"#N/A"}},{"$f":"'SL dod'!O30","v":{"$error":"#N/A"}},{"$f":"'SL dod'!P30","v":{"$error":"#N/A"}}]
[{"$f":"'SL dod'!B31","v":{"$error":"#N/A"}},{"$f":"'SL dod'!C31","v":{"$error":"#N/A"}},{"$f":"IF('SL dod'!D31=0,\"\",'SL dod'!D31)","v":{"$error":"#N/A"}},{"$f":"'SL dod'!E31","v":{"$error":"#N/A"}},{"$f":"'SL dod'!F31","v":{"$error":"#N/A"}},{"$f":"'SL dod'!G31","v":{"$error":"#N/A"}},{"$f":"'SL dod'!H31","v":{"$error":"#N/A"}},{"$f":"'SL dod'!I31","v":{"$error":"#N/A"}},null,{"$f":"'SL dod'!K31","v":{"$error":"#N/A"}},{"$f":"'SL dod'!L31","v":{"$error":"#N/A"}},{"$f":"'SL dod'!M31","v":{"$error":"#N/A"}},{"$f":"'SL dod'!N31","v":{"$error":"#N/A"}},{"$f":"'SL dod'!O31","v":{"$error":"#N/A"}},{"$f":"'SL dod'!P31","v":{"$error":"#N/A"}}]
[{"$f":"'SL dod'!B32","v":{"$error":"#N/A"}},{"$f":"'SL dod'!C32","v":{"$error":"#N/A"}},{"$f":"IF('SL dod'!D32=0,\"\",'SL dod'!D32)","v":{"$error":"#N/A"}},{"$f":"'SL dod'!E32","v":{"$error":"#N/A"}},{"$f":"'SL dod'!F32","v":{"$error":"#N/A"}},{"$f":"'SL dod'!G32","v":{"$error":"#N/A"}},{"$f":"'SL dod'!H32","v":{"$error":"#N/A"}},{"$f":"'SL dod'!I32","v":{"$error":"#N/A"}},null,{"$f":"'SL dod'!K32","v":{"$error":"#N/A"}},{"$f":"'SL dod'!L32","v":{"$error":"#N/A"}},{"$f":"'SL dod'!M32","v":{"$error":"#N/A"}},{"$f":"'SL dod'!N32","v":{"$error":"#N/A"}},{"$f":"'SL dod'!O32","v":{"$error":"#N/A"}},{"$f":"'SL dod'!P32","v":{"$error":"#N/A"}}]
[{"$f":"'SL dod'!B33","v":{"$error":"#N/A"}},{"$f":"'SL dod'!C33","v":{"$error":"#N/A"}},{"$f":"IF('SL dod'!D33=0,\"\",'SL dod'!D33)","v":{"$error":"#N/A"}},{"$f":"'SL dod'!E33","v":{"$error":"#N/A"}},{"$f":"'SL dod'!F33","v":{"$error":"#N/A"}},{"$f":"'SL dod'!G33","v":{"$error":"#N/A"}},{"$f":"'SL dod'!H33","v":{"$error":"#N/A"}},{"$f":"'SL dod'!I33","v":{"$error":"#N/A"}},null,{"$f":"'SL dod'!K33","v":{"$error":"#N/A"}},{"$f":"'SL dod'!L33","v":{"$error":"#N/A"}},{"$f":"'SL dod'!M33","v":{"$error":"#N/A"}},{"$f":"'SL dod'!N33","v":{"$error":"#N/A"}},{"$f":"'SL dod'!O33","v":{"$error":"#N/A"}},{"$f":"'SL dod'!P33","v":{"$error":"#N/A"}}]
[{"$f":"'SL dod'!B34","v":{"$error":"#N/A"}},{"$f":"'SL dod'!C34","v":{"$error":"#N/A"}},{"$f":"IF('SL dod'!D34=0,\"\",'SL dod'!D34)","v":{"$error":"#N/A"}},{"$f":"'SL dod'!E34","v":{"$error":"#N/A"}},{"$f":"'SL dod'!F34","v":{"$error":"#N/A"}},{"$f":"'SL dod'!G34","v":{"$error":"#N/A"}},{"$f":"'SL dod'!H34","v":{"$error":"#N/A"}},{"$f":"'SL dod'!I34","v":{"$error":"#N/A"}},null,{"$f":"'SL dod'!K34","v":{"$error":"#N/A"}},{"$f":"'SL dod'!L34","v":{"$error":"#N/A"}},{"$f":"'SL dod'!M34","v":{"$error":"#N/A"}},{"$f":"'SL dod'!N34","v":{"$error":"#N/A"}},{"$f":"'SL dod'!O34","v":{"$error":"#N/A"}},{"$f":"'SL dod'!P34","v":{"$error":"#N/A"}}]
[{"$f":"'SL dod'!B35","v":{"$error":"#N/A"}},{"$f":"'SL dod'!C35","v":{"$error":"#N/A"}},{"$f":"IF('SL dod'!D35=0,\"\",'SL dod'!D35)","v":{"$error":"#N/A"}},{"$f":"'SL dod'!E35","v":{"$error":"#N/A"}},{"$f":"'SL dod'!F35","v":{"$error":"#N/A"}},{"$f":"'SL dod'!G35","v":{"$error":"#N/A"}},{"$f":"'SL dod'!H35","v":{"$error":"#N/A"}},{"$f":"'SL dod'!I35","v":{"$error":"#N/A"}},null,{"$f":"'SL dod'!K35","v":{"$error":"#N/A"}},{"$f":"'SL dod'!L35","v":{"$error":"#N/A"}},{"$f":"'SL dod'!M35","v":{"$error":"#N/A"}},{"$f":"'SL dod'!N35","v":{"$error":"#N/A"}},{"$f":"'SL dod'!O35","v":{"$error":"#N/A"}},{"$f":"'SL dod'!P35","v":{"$error":"#N/A"}}]
[{"$f":"'SL dod'!B36","v":{"$error":"#N/A"}},{"$f":"'SL dod'!C36","v":{"$error":"#N/A"}},{"$f":"IF('SL dod'!D36=0,\"\",'SL dod'!D36)","v":{"$error":"#N/A"}},{"$f":"'SL dod'!E36","v":{"$error":"#N/A"}},{"$f":"'SL dod'!F36","v":{"$error":"#N/A"}},{"$f":"'SL dod'!G36","v":{"$error":"#N/A"}},{"$f":"'SL dod'!H36","v":{"$error":"#N/A"}},{"$f":"'SL dod'!I36","v":{"$error":"#N/A"}},null,{"$f":"'SL dod'!K36","v":{"$error":"#N/A"}},{"$f":"'SL dod'!L36","v":{"$error":"#N/A"}},{"$f":"'SL dod'!M36","v":{"$error":"#N/A"}},{"$f":"'SL dod'!N36","v":{"$error":"#N/A"}},{"$f":"'SL dod'!O36","v":{"$error":"#N/A"}},{"$f":"'SL dod'!P36","v":{"$error":"#N/A"}}]
[{"$f":"'SL dod'!B37","v":{"$error":"#N/A"}},{"$f":"'SL dod'!C37","v":{"$error":"#N/A"}},{"$f":"IF('SL dod'!D37=0,\"\",'SL dod'!D37)","v":{"$error":"#N/A"}},{"$f":"'SL dod'!E37","v":{"$error":"#N/A"}},{"$f":"'SL dod'!F37","v":{"$error":"#N/A"}},{"$f":"'SL dod'!G37","v":{"$error":"#N/A"}},{"$f":"'SL dod'!H37","v":{"$error":"#N/A"}},{"$f":"'SL dod'!I37","v":{"$error":"#N/A"}},null,{"$f":"'SL dod'!K37","v":{"$error":"#N/A"}},{"$f":"'SL dod'!L37","v":{"$error":"#N/A"}},{"$f":"'SL dod'!M37","v":{"$error":"#N/A"}},{"$f":"'SL dod'!N37","v":{"$error":"#N/A"}},{"$f":"'SL dod'!O37","v":{"$error":"#N/A"}},{"$f":"'SL dod'!P37","v":{"$error":"#N/A"}}]
[{"$f":"'SL dod'!B38","v":{"$error":"#N/A"}},{"$f":"'SL dod'!C38","v":{"$error":"#N/A"}},{"$f":"IF('SL dod'!D38=0,\"\",'SL dod'!D38)","v":{"$error":"#N/A"}},{"$f":"'SL dod'!E38","v":{"$error":"#N/A"}},{"$f":"'SL dod'!F38","v":{"$error":"#N/A"}},{"$f":"'SL dod'!G38","v":{"$error":"#N/A"}},{"$f":"'SL dod'!H38","v":{"$error":"#N/A"}},{"$f":"'SL dod'!I38","v":{"$error":"#N/A"}},null,{"$f":"'SL dod'!K38","v":{"$error":"#N/A"}},{"$f":"'SL dod'!L38","v":{"$error":"#N/A"}},{"$f":"'SL dod'!M38","v":{"$error":"#N/A"}},{"$f":"'SL dod'!N38","v":{"$error":"#N/A"}},{"$f":"'SL dod'!O38","v":{"$error":"#N/A"}},{"$f":"'SL dod'!P38","v":{"$error":"#N/A"}}]
[{"$f":"'SL dod'!B39","v":{"$error":"#N/A"}},{"$f":"'SL dod'!C39","v":{"$error":"#N/A"}},{"$f":"IF('SL dod'!D39=0,\"\",'SL dod'!D39)","v":{"$error":"#N/A"}},{"$f":"'SL dod'!E39","v":{"$error":"#N/A"}},{"$f":"'SL dod'!F39","v":{"$error":"#N/A"}},{"$f":"'SL dod'!G39","v":{"$error":"#N/A"}},{"$f":"'SL dod'!H39","v":{"$error":"#N/A"}},{"$f":"'SL dod'!I39","v":{"$error":"#N/A"}},null,{"$f":"'SL dod'!K39","v":{"$error":"#N/A"}},{"$f":"'SL dod'!L39","v":{"$error":"#N/A"}},{"$f":"'SL dod'!M39","v":{"$error":"#N/A"}},{"$f":"'SL dod'!N39","v":{"$error":"#N/A"}},{"$f":"'SL dod'!O39","v":{"$error":"#N/A"}},{"$f":"'SL dod'!P39","v":{"$error":"#N/A"}}]
[{"$f":"'SL dod'!B40","v":{"$error":"#N/A"}},{"$f":"'SL dod'!C40","v":{"$error":"#N/A"}},{"$f":"IF('SL dod'!D40=0,\"\",'SL dod'!D40)","v":{"$error":"#N/A"}},{"$f":"'SL dod'!E40","v":{"$error":"#N/A"}},{"$f":"'SL dod'!F40","v":{"$error":"#N/A"}},{"$f":"'SL dod'!G40","v":{"$error":"#N/A"}},{"$f":"'SL dod'!H40","v":{"$error":"#N/A"}},{"$f":"'SL dod'!I40","v":{"$error":"#N/A"}},null,{"$f":"'SL dod'!K40","v":{"$error":"#N/A"}},{"$f":"'SL dod'!L40","v":{"$error":"#N/A"}},{"$f":"'SL dod'!M40","v":{"$error":"#N/A"}},{"$f":"'SL dod'!N40","v":{"$error":"#N/A"}},{"$f":"'SL dod'!O40","v":{"$error":"#N/A"}},{"$f":"'SL dod'!P40","v":{"$error":"#N/A"}}]
[{"$f":"'SL dod'!B41","v":0},{"$f":"'SL dod'!C41","v":0},{"$f":"IF('SL dod'!D41=0,\"\",'SL dod'!D41)","v":""},{"$f":"'SL dod'!E41","v":0},{"$f":"'SL dod'!F41","v":0},{"$f":"'SL dod'!G41","v":0},{"$f":"'SL dod'!H41","v":0},{"$f":"'SL dod'!I41","v":0},null,{"$f":"'SL dod'!K41","v":0},{"$f":"'SL dod'!L41","v":0},{"$f":"'SL dod'!M41","v":0},{"$f":"'SL dod'!N41","v":0},{"$f":"'SL dod'!O41","v":0},{"$f":"'SL dod'!P41","v":0}]
[{"$f":"'SL dod'!B42","v":0},{"$f":"'SL dod'!C42","v":0},{"$f":"IF('SL dod'!D42=0,\"\",'SL dod'!D42)","v":""},{"$f":"'SL dod'!E42","v":0},{"$f":"'SL dod'!F42","v":0},{"$f":"'SL dod'!G42","v":0},{"$f":"'SL dod'!H42","v":0},{"$f":"'SL dod'!I42","v":0},null,{"$f":"'SL dod'!K42","v":0},{"$f":"'SL dod'!L42","v":0},{"$f":"'SL dod'!M42","v":0},{"$f":"'SL dod'!N42","v":0},{"$f":"'SL dod'!O42","v":0},{"$f":"'SL dod'!P42","v":0}]
[{"$f":"'SL dod'!B43","v":0},{"$f":"'SL dod'!C43","v":0},{"$f":"IF('SL dod'!D43=0,\"\",'SL dod'!D43)","v":""},{"$f":"'SL dod'!E43","v":0},{"$f":"'SL dod'!F43","v":0},{"$f":"'SL dod'!G43","v":0},{"$f":"'SL dod'!H43","v":0},{"$f":"'SL dod'!I43","v":0},null,{"$f":"'SL dod'!K43","v":0},{"$f":"'SL dod'!L43","v":0},{"$f":"'SL dod'!M43","v":0},{"$f":"'SL dod'!N43","v":0},{"$f":"'SL dod'!O43","v":0},{"$f":"'SL dod'!P43","v":0}]
[{"$f":"'SL dod'!B44","v":0},{"$f":"'SL dod'!C44","v":0},{"$f":"IF('SL dod'!D44=0,\"\",'SL dod'!D44)","v":""},{"$f":"'SL dod'!E44","v":0},{"$f":"'SL dod'!F44","v":0},{"$f":"'SL dod'!G44","v":0},{"$f":"'SL dod'!H44","v":0},{"$f":"'SL dod'!I44","v":0},null,{"$f":"'SL dod'!K44","v":0},{"$f":"'SL dod'!L44","v":0},{"$f":"'SL dod'!M44","v":0},{"$f":"'SL dod'!N44","v":0},{"$f":"'SL dod'!O44","v":0},{"$f":"'SL dod'!P44","v":0}]

{"sheet":"EL_V_SK","index":16,"n_rows":50,"n_cols":15,"rows_kept":50,"cut":false,"hidden":false,"merged":[]}
["Pořadí","Start. číslo","Kód závodníka","Příjmení","Jméno","Rok nar.","Pohlaví","Stát","FIS kód","Název klubu","Skok pořadí","Skok body","Běh pořadí","Běh čas","Čas"]
[{"$f":"'SK dod'!B6","v":1},{"$f":"'SK dod'!C6","v":22},{"$f":"IF('SK dod'!D6=0,\"\",'SK dod'!D6)","v":777372},{"$f":"'SK dod'!E6","v":"Sankot"},{"$f":"'SK dod'!F6","v":"Antonín"},{"$f":"'SK dod'!G6","v":2017},{"$f":"'SK dod'!H6","v":"MEN"},{"$f":"'SK dod'!I6","v":"CZE"},null,{"$f":"'SK dod'!K6","v":"Lyžařský sportovní klub Lomnice nad Popelkou"},{"$f":"'SK dod'!L6","v":1},{"$f":"'SK dod'!M6","v":96},{"$f":"'SK dod'!N6","v":1},{"$f":"INT('SK dod'!O6*1440) & \":\" & RIGHT(\"0\" & INT(MOD('SK dod'!O6*86400,60)),2) & \".\" & RIGHT(\"0\" & ROUND(MOD('SK dod'!O6*86400,1)*100,0),2)","v":"5:13.00"},{"$f":"INT('SK dod'!P6*1440) & \":\" & RIGHT(\"0\" & INT(MOD('SK dod'!P6*86400,60)),2) & \".\" & RIGHT(\"0\" & ROUND(MOD('SK dod'!P6*86400,1)*100,0),2)","v":"5:13.00"}]
[{"$f":"'SK dod'!B7","v":2},{"$f":"'SK dod'!C7","v":13},{"$f":"IF('SK dod'!D7=0,\"\",'SK dod'!D7)","v":890332},{"$f":"'SK dod'!E7","v":"Zapadlová"},{"$f":"'SK dod'!F7","v":"Sára"},{"$f":"'SK dod'!G7","v":2016},{"$f":"'SK dod'!H7","v":"WOMEN"},{"$f":"'SK dod'!I7","v":"CZE"},null,{"$f":"'SK dod'!K7","v":"Lyžařský sportovní klub Lomnice nad Popelkou"},{"$f":"'SK dod'!L7","v":1},{"$f":"'SK dod'!M7","v":96},{"$f":"'SK dod'!N7","v":2},{"$f":"INT('SK dod'!O7*1440) & \":\" & RIGHT(\"0\" & INT(MOD('SK dod'!O7*86400,60)),2) & \".\" & RIGHT(\"0\" & ROUND(MOD('SK dod'!O7*86400,1)*100,0),2)","v":"5:47.20"},{"$f":"INT('SK dod'!P7*1440) & \":\" & RIGHT(\"0\" & INT(MOD('SK dod'!P7*86400,60)),2) & \".\" & RIGHT(\"0\" & ROUND(MOD('SK dod'!P7*86400,1)*100,0),2)","v":"5:47.20"}]
[{"$f":"'SK dod'!B8","v":3},{"$f":"'SK dod'!C8","v":23},{"$f":"IF('SK dod'!D8=0,\"\",'SK dod'!D8)","v":774426},{"$f":"'SK dod'!E8","v":"Břečka"},{"$f":"'SK dod'!F8","v":"Matyáš"},{"$f":"'SK dod'!G8","v":2014},{"$f":"'SK dod'!H8","v":"MEN"},{"$f":"'SK dod'!I8","v":"CZE"},null,{"$f":"'SK dod'!K8","v":"Lyžařský sportovní klub Lomnice nad Popelkou"},{"$f":"'SK dod'!L8","v":5},{"$f":"'SK dod'!M8","v":90},{"$f":"'SK dod'!N8","v":3},{"$f":"INT('SK dod'!O8*1440) & \":\" & RIGHT(\"0\" & INT(MOD('SK dod'!O8*86400,60)),2) & \".\" & RIGHT(\"0\" & ROUND(MOD('SK dod'!O8*86400,1)*100,0),2)","v":"6:07.00"},{"$f":"INT('SK dod'!P8*1440) & \":\" & RIGHT(\"0\" & INT(MOD('SK dod'!P8*86400,60)),2) & \".\" & RIGHT(\"0\" & ROUND(MOD('SK dod'!P8*86400,1)*100,0),2)","v":"6:14.20"}]
[{"$f":"'SK dod'!B9","v":4},{"$f":"'SK dod'!C9","v":24},{"$f":"IF('SK dod'!D9=0,\"\",'SK dod'!D9)","v":889929},{"$f":"'SK dod'!E9","v":"Huráňová"},{"$f":"'SK dod'!F9","v":"Karolína"},{"$f":"'SK dod'!G9","v":2015},{"$f":"'SK dod'!H9","v":"WOMEN"},{"$f":"'SK dod'!I9","v":"CZE"},null,{"$f":"'SK dod'!K9","v":"Lyžařský sportovní klub Lomnice nad Popelkou"},{"$f":"'SK dod'!L9","v":3},{"$f":"'SK dod'!M9","v":94},{"$f":"'SK dod'!N9","v":4},{"$f":"INT('SK dod'!O9*1440) & \":\" & RIGHT(\"0\" & INT(MOD('SK dod'!O9*86400,60)),2) & \".\" & RIGHT(\"0\" & ROUND(MOD('SK dod'!O9*86400,1)*100,0),2)","v":"6:31.00"},{"$f":"INT('SK dod'!P9*1440) & \":\" & RIGHT(\"0\" & INT(MOD('SK dod'!P9*86400,60)),2) & \".\" & RIGHT(\"0\" & ROUND(MOD('SK dod'!P9*86400,1)*100,0),2)","v":"6:32.80"}]
[{"$f":"'SK dod'!B10","v":5},{"$f":"'SK dod'!C10","v":25},{"$f":"IF('SK dod'!D10=0,\"\",'SK dod'!D10)","v":774424},{"$f":"'SK dod'!E10","v":"Ježek"},{"$f":"'SK dod'!F10","v":"Jakub"},{"$f":"'SK dod'!G10","v":2015},{"$f":"'SK dod'!H10","v":"MEN"},{"$f":"'SK dod'!I10","v":"CZE"},null,{"$f":"'SK dod'!K10","v":"Lyžařský sportovní klub Lomnice nad Popelkou"},{"$f":"'SK dod'!L10","v":4},{"$f":"'SK dod'!M10","v":90},{"$f":"'SK dod'!N10","v":5},{"$f":"INT('SK dod'!O10*1440) & \":\" & RIGHT(\"0\" & INT(MOD('SK dod'!O10*86400,60)),2) & \".\" & RIGHT(\"0\" & ROUND(MOD('SK dod'!O10*86400,1)*100,0),2)","v":"6:49.70"},{"$f":"INT('SK dod'!P10*1440) & \":\" & RIGHT(\"0\" & INT(MOD('SK dod'!P10*86400,60)),2) & \".\" & RIGHT(\"0\" & ROUND(MOD('SK dod'!P10*86400,1)*100,0),2)","v":"6:56.30"}]
[{"$f":"'SK dod'!B11","v":{"$error":"#N/A"}},{"$f":"'SK dod'!C11","v":{"$error":"#N/A"}},{"$f":"IF('SK dod'!D11=0,\"\",'SK dod'!D11)","v":{"$error":"#N/A"}},{"$f":"'SK dod'!E11","v":{"$error":"#N/A"}},{"$f":"'SK dod'!F11","v":{"$error":"#N/A"}},{"$f":"'SK dod'!G11","v":{"$error":"#N/A"}},{"$f":"'SK dod'!H11","v":{"$error":"#N/A"}},{"$f":"'SK dod'!I11","v":{"$error":"#N/A"}},null,{"$f":"'SK dod'!K11","v":{"$error":"#N/A"}},{"$f":"'SK dod'!L11","v":{"$error":"#N/A"}},{"$f":"'SK dod'!M11","v":{"$error":"#N/A"}},{"$f":"'SK dod'!N11","v":{"$error":"#N/A"}},{"$f":"INT('SK dod'!O11*1440) & \":\" & RIGHT(\"0\" & INT(MOD('SK dod'!O11*86400,60)),2) & \".\" & RIGHT(\"0\" & ROUND(MOD('SK dod'!O11*86400,1)*100,0),2)","v":{"$error":"#N/A"}},{"$f":"INT('SK dod'!P11*1440) & \":\" & RIGHT(\"0\" & INT(MOD('SK dod'!P11*86400,60)),2) & \".\" & RIGHT(\"0\" & ROUND(MOD('SK dod'!P11*86400,1)*100,0),2)","v":{"$error":"#N/A"}}]
[{"$f":"'SK dod'!B12","v":{"$error":"#N/A"}},{"$f":"'SK dod'!C12","v":{"$error":"#N/A"}},{"$f":"IF('SK dod'!D12=0,\"\",'SK dod'!D12)","v":{"$error":"#N/A"}},{"$f":"'SK dod'!E12","v":{"$error":"#N/A"}},{"$f":"'SK dod'!F12","v":{"$error":"#N/A"}},{"$f":"'SK dod'!G12","v":{"$error":"#N/A"}},{"$f":"'SK dod'!H12","v":{"$error":"#N/A"}},{"$f":"'SK dod'!I12","v":{"$error":"#N/A"}},null,{"$f":"'SK dod'!K12","v":{"$error":"#N/A"}},{"$f":"'SK dod'!L12","v":{"$error":"#N/A"}},{"$f":"'SK dod'!M12","v":{"$error":"#N/A"}},{"$f":"'SK dod'!N12","v":{"$error":"#N/A"}},{"$f":"INT('SK dod'!O12*1440) & \":\" & RIGHT(\"0\" & INT(MOD('SK dod'!O12*86400,60)),2) & \".\" & RIGHT(\"0\" & ROUND(MOD('SK dod'!O12*86400,1)*100,0),2)","v":{"$error":"#N/A"}},{"$f":"INT('SK dod'!P12*1440) & \":\" & RIGHT(\"0\" & INT(MOD('SK dod'!P12*86400,60)),2) & \".\" & RIGHT(\"0\" & ROUND(MOD('SK dod'!P12*86400,1)*100,0),2)","v":{"$error":"#N/A"}}]
[{"$f":"'SK dod'!B13","v":{"$error":"#N/A"}},{"$f":"'SK dod'!C13","v":{"$error":"#N/A"}},{"$f":"IF('SK dod'!D13=0,\"\",'SK dod'!D13)","v":{"$error":"#N/A"}},{"$f":"'SK dod'!E13","v":{"$error":"#N/A"}},{"$f":"'SK dod'!F13","v":{"$error":"#N/A"}},{"$f":"'SK dod'!G13","v":{"$error":"#N/A"}},{"$f":"'SK dod'!H13","v":{"$error":"#N/A"}},{"$f":"'SK dod'!I13","v":{"$error":"#N/A"}},null,{"$f":"'SK dod'!K13","v":{"$error":"#N/A"}},{"$f":"'SK dod'!L13","v":{"$error":"#N/A"}},{"$f":"'SK dod'!M13","v":{"$error":"#N/A"}},{"$f":"'SK dod'!N13","v":{"$error":"#N/A"}},{"$f":"INT('SK dod'!O13*1440) & \":\" & RIGHT(\"0\" & INT(MOD('SK dod'!O13*86400,60)),2) & \".\" & RIGHT(\"0\" & ROUND(MOD('SK dod'!O13*86400,1)*100,0),2)","v":{"$error":"#N/A"}},{"$f":"INT('SK dod'!P13*1440) & \":\" & RIGHT(\"0\" & INT(MOD('SK dod'!P13*86400,60)),2) & \".\" & RIGHT(\"0\" & ROUND(MOD('SK dod'!P13*86400,1)*100,0),2)","v":{"$error":"#N/A"}}]
[{"$f":"'SK dod'!B14","v":{"$error":"#N/A"}},{"$f":"'SK dod'!C14","v":{"$error":"#N/A"}},{"$f":"IF('SK dod'!D14=0,\"\",'SK dod'!D14)","v":{"$error":"#N/A"}},{"$f":"'SK dod'!E14","v":{"$error":"#N/A"}},{"$f":"'SK dod'!F14","v":{"$error":"#N/A"}},{"$f":"'SK dod'!G14","v":{"$error":"#N/A"}},{"$f":"'SK dod'!H14","v":{"$error":"#N/A"}},{"$f":"'SK dod'!I14","v":{"$error":"#N/A"}},null,{"$f":"'SK dod'!K14","v":{"$error":"#N/A"}},{"$f":"'SK dod'!L14","v":{"$error":"#N/A"}},{"$f":"'SK dod'!M14","v":{"$error":"#N/A"}},{"$f":"'SK dod'!N14","v":{"$error":"#N/A"}},{"$f":"INT('SK dod'!O14*1440) & \":\" & RIGHT(\"0\" & INT(MOD('SK dod'!O14*86400,60)),2) & \".\" & RIGHT(\"0\" & ROUND(MOD('SK dod'!O14*86400,1)*100,0),2)","v":{"$error":"#N/A"}},{"$f":"INT('SK dod'!P14*1440) & \":\" & RIGHT(\"0\" & INT(MOD('SK dod'!P14*86400,60)),2) & \".\" & RIGHT(\"0\" & ROUND(MOD('SK dod'!P14*86400,1)*100,0),2)","v":{"$error":"#N/A"}}]
[{"$f":"'SK dod'!B15","v":{"$error":"#N/A"}},{"$f":"'SK dod'!C15","v":{"$error":"#N/A"}},{"$f":"IF('SK dod'!D15=0,\"\",'SK dod'!D15)","v":{"$error":"#N/A"}},{"$f":"'SK dod'!E15","v":{"$error":"#N/A"}},{"$f":"'SK dod'!F15","v":{"$error":"#N/A"}},{"$f":"'SK dod'!G15","v":{"$error":"#N/A"}},{"$f":"'SK dod'!H15","v":{"$error":"#N/A"}},{"$f":"'SK dod'!I15","v":{"$error":"#N/A"}},null,{"$f":"'SK dod'!K15","v":{"$error":"#N/A"}},{"$f":"'SK dod'!L15","v":{"$error":"#N/A"}},{"$f":"'SK dod'!M15","v":{"$error":"#N/A"}},{"$f":"'SK dod'!N15","v":{"$error":"#N/A"}},{"$f":"INT('SK dod'!O15*1440) & \":\" & RIGHT(\"0\" & INT(MOD('SK dod'!O15*86400,60)),2) & \".\" & RIGHT(\"0\" & ROUND(MOD('SK dod'!O15*86400,1)*100,0),2)","v":{"$error":"#N/A"}},{"$f":"INT('SK dod'!P15*1440) & \":\" & RIGHT(\"0\" & INT(MOD('SK dod'!P15*86400,60)),2) & \".\" & RIGHT(\"0\" & ROUND(MOD('SK dod'!P15*86400,1)*100,0),2)","v":{"$error":"#N/A"}}]
[{"$f":"'SK dod'!B16","v":{"$error":"#N/A"}},{"$f":"'SK dod'!C16","v":{"$error":"#N/A"}},{"$f":"IF('SK dod'!D16=0,\"\",'SK dod'!D16)","v":{"$error":"#N/A"}},{"$f":"'SK dod'!E16","v":{"$error":"#N/A"}},{"$f":"'SK dod'!F16","v":{"$error":"#N/A"}},{"$f":"'SK dod'!G16","v":{"$error":"#N/A"}},{"$f":"'SK dod'!H16","v":{"$error":"#N/A"}},{"$f":"'SK dod'!I16","v":{"$error":"#N/A"}},null,{"$f":"'SK dod'!K16","v":{"$error":"#N/A"}},{"$f":"'SK dod'!L16","v":{"$error":"#N/A"}},{"$f":"'SK dod'!M16","v":{"$error":"#N/A"}},{"$f":"'SK dod'!N16","v":{"$error":"#N/A"}},{"$f":"INT('SK dod'!O16*1440) & \":\" & RIGHT(\"0\" & INT(MOD('SK dod'!O16*86400,60)),2) & \".\" & RIGHT(\"0\" & ROUND(MOD('SK dod'!O16*86400,1)*100,0),2)","v":{"$error":"#N/A"}},{"$f":"INT('SK dod'!P16*1440) & \":\" & RIGHT(\"0\" & INT(MOD('SK dod'!P16*86400,60)),2) & \".\" & RIGHT(\"0\" & ROUND(MOD('SK dod'!P16*86400,1)*100,0),2)","v":{"$error":"#N/A"}}]
[{"$f":"'SK dod'!B17","v":{"$error":"#N/A"}},{"$f":"'SK dod'!C17","v":{"$error":"#N/A"}},{"$f":"IF('SK dod'!D17=0,\"\",'SK dod'!D17)","v":{"$error":"#N/A"}},{"$f":"'SK dod'!E17","v":{"$error":"#N/A"}},{"$f":"'SK dod'!F17","v":{"$error":"#N/A"}},{"$f":"'SK dod'!G17","v":{"$error":"#N/A"}},{"$f":"'SK dod'!H17","v":{"$error":"#N/A"}},{"$f":"'SK dod'!I17","v":{"$error":"#N/A"}},null,{"$f":"'SK dod'!K17","v":{"$error":"#N/A"}},{"$f":"'SK dod'!L17","v":{"$error":"#N/A"}},{"$f":"'SK dod'!M17","v":{"$error":"#N/A"}},{"$f":"'SK dod'!N17","v":{"$error":"#N/A"}},{"$f":"INT('SK dod'!O17*1440) & \":\" & RIGHT(\"0\" & INT(MOD('SK dod'!O17*86400,60)),2) & \".\" & RIGHT(\"0\" & ROUND(MOD('SK dod'!O17*86400,1)*100,0),2)","v":{"$error":"#N/A"}},{"$f":"INT('SK dod'!P17*1440) & \":\" & RIGHT(\"0\" & INT(MOD('SK dod'!P17*86400,60)),2) & \".\" & RIGHT(\"0\" & ROUND(MOD('SK dod'!P17*86400,1)*100,0),2)","v":{"$error":"#N/A"}}]
[{"$f":"'SK dod'!B18","v":{"$error":"#N/A"}},{"$f":"'SK dod'!C18","v":{"$error":"#N/A"}},{"$f":"IF('SK dod'!D18=0,\"\",'SK dod'!D18)","v":{"$error":"#N/A"}},{"$f":"'SK dod'!E18","v":{"$error":"#N/A"}},{"$f":"'SK dod'!F18","v":{"$error":"#N/A"}},{"$f":"'SK dod'!G18","v":{"$error":"#N/A"}},{"$f":"'SK dod'!H18","v":{"$error":"#N/A"}},{"$f":"'SK dod'!I18","v":{"$error":"#N/A"}},null,{"$f":"'SK dod'!K18","v":{"$error":"#N/A"}},{"$f":"'SK dod'!L18","v":{"$error":"#N/A"}},{"$f":"'SK dod'!M18","v":{"$error":"#N/A"}},{"$f":"'SK dod'!N18","v":{"$error":"#N/A"}},{"$f":"INT('SK dod'!O18*1440) & \":\" & RIGHT(\"0\" & INT(MOD('SK dod'!O18*86400,60)),2) & \".\" & RIGHT(\"0\" & ROUND(MOD('SK dod'!O18*86400,1)*100,0),2)","v":{"$error":"#N/A"}},{"$f":"INT('SK dod'!P18*1440) & \":\" & RIGHT(\"0\" & INT(MOD('SK dod'!P18*86400,60)),2) & \".\" & RIGHT(\"0\" & ROUND(MOD('SK dod'!P18*86400,1)*100,0),2)","v":{"$error":"#N/A"}}]
[{"$f":"'SK dod'!B19","v":{"$error":"#N/A"}},{"$f":"'SK dod'!C19","v":{"$error":"#N/A"}},{"$f":"IF('SK dod'!D19=0,\"\",'SK dod'!D19)","v":{"$error":"#N/A"}},{"$f":"'SK dod'!E19","v":{"$error":"#N/A"}},{"$f":"'SK dod'!F19","v":{"$error":"#N/A"}},{"$f":"'SK dod'!G19","v":{"$error":"#N/A"}},{"$f":"'SK dod'!H19","v":{"$error":"#N/A"}},{"$f":"'SK dod'!I19","v":{"$error":"#N/A"}},null,{"$f":"'SK dod'!K19","v":{"$error":"#N/A"}},{"$f":"'SK dod'!L19","v":{"$error":"#N/A"}},{"$f":"'SK dod'!M19","v":{"$error":"#N/A"}},{"$f":"'SK dod'!N19","v":{"$error":"#N/A"}},{"$f":"INT('SK dod'!O19*1440) & \":\" & RIGHT(\"0\" & INT(MOD('SK dod'!O19*86400,60)),2) & \".\" & RIGHT(\"0\" & ROUND(MOD('SK dod'!O19*86400,1)*100,0),2)","v":{"$error":"#N/A"}},{"$f":"INT('SK dod'!P19*1440) & \":\" & RIGHT(\"0\" & INT(MOD('SK dod'!P19*86400,60)),2) & \".\" & RIGHT(\"0\" & ROUND(MOD('SK dod'!P19*86400,1)*100,0),2)","v":{"$error":"#N/A"}}]
[{"$f":"'SK dod'!B20","v":{"$error":"#N/A"}},{"$f":"'SK dod'!C20","v":{"$error":"#N/A"}},{"$f":"IF('SK dod'!D20=0,\"\",'SK dod'!D20)","v":{"$error":"#N/A"}},{"$f":"'SK dod'!E20","v":{"$error":"#N/A"}},{"$f":"'SK dod'!F20","v":{"$error":"#N/A"}},{"$f":"'SK dod'!G20","v":{"$error":"#N/A"}},{"$f":"'SK dod'!H20","v":{"$error":"#N/A"}},{"$f":"'SK dod'!I20","v":{"$error":"#N/A"}},null,{"$f":"'SK dod'!K20","v":{"$error":"#N/A"}},{"$f":"'SK dod'!L20","v":{"$error":"#N/A"}},{"$f":"'SK dod'!M20","v":{"$error":"#N/A"}},{"$f":"'SK dod'!N20","v":{"$error":"#N/A"}},{"$f":"INT('SK dod'!O20*1440) & \":\" & RIGHT(\"0\" & INT(MOD('SK dod'!O20*86400,60)),2) & \".\" & RIGHT(\"0\" & ROUND(MOD('SK dod'!O20*86400,1)*100,0),2)","v":{"$error":"#N/A"}},{"$f":"INT('SK dod'!P20*1440) & \":\" & RIGHT(\"0\" & INT(MOD('SK dod'!P20*86400,60)),2) & \".\" & RIGHT(\"0\" & ROUND(MOD('SK dod'!P20*86400,1)*100,0),2)","v":{"$error":"#N/A"}}]
[{"$f":"'SK dod'!B21","v":{"$error":"#N/A"}},{"$f":"'SK dod'!C21","v":{"$error":"#N/A"}},{"$f":"IF('SK dod'!D21=0,\"\",'SK dod'!D21)","v":{"$error":"#N/A"}},{"$f":"'SK dod'!E21","v":{"$error":"#N/A"}},{"$f":"'SK dod'!F21","v":{"$error":"#N/A"}},{"$f":"'SK dod'!G21","v":{"$error":"#N/A"}},{"$f":"'SK dod'!H21","v":{"$error":"#N/A"}},{"$f":"'SK dod'!I21","v":{"$error":"#N/A"}},null,{"$f":"'SK dod'!K21","v":{"$error":"#N/A"}},{"$f":"'SK dod'!L21","v":{"$error":"#N/A"}},{"$f":"'SK dod'!M21","v":{"$error":"#N/A"}},{"$f":"'SK dod'!N21","v":{"$error":"#N/A"}},{"$f":"INT('SK dod'!O21*1440) & \":\" & RIGHT(\"0\" & INT(MOD('SK dod'!O21*86400,60)),2) & \".\" & RIGHT(\"0\" & ROUND(MOD('SK dod'!O21*86400,1)*100,0),2)","v":{"$error":"#N/A"}},{"$f":"INT('SK dod'!P21*1440) & \":\" & RIGHT(\"0\" & INT(MOD('SK dod'!P21*86400,60)),2) & \".\" & RIGHT(\"0\" & ROUND(MOD('SK dod'!P21*86400,1)*100,0),2)","v":{"$error":"#N/A"}}]
[{"$f":"'SK dod'!B22","v":{"$error":"#N/A"}},{"$f":"'SK dod'!C22","v":{"$error":"#N/A"}},{"$f":"IF('SK dod'!D22=0,\"\",'SK dod'!D22)","v":{"$error":"#N/A"}},{"$f":"'SK dod'!E22","v":{"$error":"#N/A"}},{"$f":"'SK dod'!F22","v":{"$error":"#N/A"}},{"$f":"'SK dod'!G22","v":{"$error":"#N/A"}},{"$f":"'SK dod'!H22","v":{"$error":"#N/A"}},{"$f":"'SK dod'!I22","v":{"$error":"#N/A"}},null,{"$f":"'SK dod'!K22","v":{"$error":"#N/A"}},{"$f":"'SK dod'!L22","v":{"$error":"#N/A"}},{"$f":"'SK dod'!M22","v":{"$error":"#N/A"}},{"$f":"'SK dod'!N22","v":{"$error":"#N/A"}},{"$f":"INT('SK dod'!O22*1440) & \":\" & RIGHT(\"0\" & INT(MOD('SK dod'!O22*86400,60)),2) & \".\" & RIGHT(\"0\" & ROUND(MOD('SK dod'!O22*86400,1)*100,0),2)","v":{"$error":"#N/A"}},{"$f":"INT('SK dod'!P22*1440) & \":\" & RIGHT(\"0\" & INT(MOD('SK dod'!P22*86400,60)),2) & \".\" & RIGHT(\"0\" & ROUND(MOD('SK dod'!P22*86400,1)*100,0),2)","v":{"$error":"#N/A"}}]
[{"$f":"'SK dod'!B23","v":{"$error":"#N/A"}},{"$f":"'SK dod'!C23","v":{"$error":"#N/A"}},{"$f":"IF('SK dod'!D23=0,\"\",'SK dod'!D23)","v":{"$error":"#N/A"}},{"$f":"'SK dod'!E23","v":{"$error":"#N/A"}},{"$f":"'SK dod'!F23","v":{"$error":"#N/A"}},{"$f":"'SK dod'!G23","v":{"$error":"#N/A"}},{"$f":"'SK dod'!H23","v":{"$error":"#N/A"}},{"$f":"'SK dod'!I23","v":{"$error":"#N/A"}},null,{"$f":"'SK dod'!K23","v":{"$error":"#N/A"}},{"$f":"'SK dod'!L23","v":{"$error":"#N/A"}},{"$f":"'SK dod'!M23","v":{"$error":"#N/A"}},{"$f":"'SK dod'!N23","v":{"$error":"#N/A"}},{"$f":"INT('SK dod'!O23*1440) & \":\" & RIGHT(\"0\" & INT(MOD('SK dod'!O23*86400,60)),2) & \".\" & RIGHT(\"0\" & ROUND(MOD('SK dod'!O23*86400,1)*100,0),2)","v":{"$error":"#N/A"}},{"$f":"INT('SK dod'!P23*1440) & \":\" & RIGHT(\"0\" & INT(MOD('SK dod'!P23*86400,60)),2) & \".\" & RIGHT(\"0\" & ROUND(MOD('SK dod'!P23*86400,1)*100,0),2)","v":{"$error":"#N/A"}}]
[{"$f":"'SK dod'!B24","v":{"$error":"#N/A"}},{"$f":"'SK dod'!C24","v":{"$error":"#N/A"}},{"$f":"IF('SK dod'!D24=0,\"\",'SK dod'!D24)","v":{"$error":"#N/A"}},{"$f":"'SK dod'!E24","v":{"$error":"#N/A"}},{"$f":"'SK dod'!F24","v":{"$error":"#N/A"}},{"$f":"'SK dod'!G24","v":{"$error":"#N/A"}},{"$f":"'SK dod'!H24","v":{"$error":"#N/A"}},{"$f":"'SK dod'!I24","v":{"$error":"#N/A"}},null,{"$f":"'SK dod'!K24","v":{"$error":"#N/A"}},{"$f":"'SK dod'!L24","v":{"$error":"#N/A"}},{"$f":"'SK dod'!M24","v":{"$error":"#N/A"}},{"$f":"'SK dod'!N24","v":{"$error":"#N/A"}},{"$f":"INT('SK dod'!O24*1440) & \":\" & RIGHT(\"0\" & INT(MOD('SK dod'!O24*86400,60)),2) & \".\" & RIGHT(\"0\" & ROUND(MOD('SK dod'!O24*86400,1)*100,0),2)","v":{"$error":"#N/A"}},{"$f":"INT('SK dod'!P24*1440) & \":\" & RIGHT(\"0\" & INT(MOD('SK dod'!P24*86400,60)),2) & \".\" & RIGHT(\"0\" & ROUND(MOD('SK dod'!P24*86400,1)*100,0),2)","v":{"$error":"#N/A"}}]
[{"$f":"'SK dod'!B25","v":{"$error":"#N/A"}},{"$f":"'SK dod'!C25","v":{"$error":"#N/A"}},{"$f":"IF('SK dod'!D25=0,\"\",'SK dod'!D25)","v":{"$error":"#N/A"}},{"$f":"'SK dod'!E25","v":{"$error":"#N/A"}},{"$f":"'SK dod'!F25","v":{"$error":"#N/A"}},{"$f":"'SK dod'!G25","v":{"$error":"#N/A"}},{"$f":"'SK dod'!H25","v":{"$error":"#N/A"}},{"$f":"'SK dod'!I25","v":{"$error":"#N/A"}},null,{"$f":"'SK dod'!K25","v":{"$error":"#N/A"}},{"$f":"'SK dod'!L25","v":{"$error":"#N/A"}},{"$f":"'SK dod'!M25","v":{"$error":"#N/A"}},{"$f":"'SK dod'!N25","v":{"$error":"#N/A"}},{"$f":"INT('SK dod'!O25*1440) & \":\" & RIGHT(\"0\" & INT(MOD('SK dod'!O25*86400,60)),2) & \".\" & RIGHT(\"0\" & ROUND(MOD('SK dod'!O25*86400,1)*100,0),2)","v":{"$error":"#N/A"}},{"$f":"INT('SK dod'!P25*1440) & \":\" & RIGHT(\"0\" & INT(MOD('SK dod'!P25*86400,60)),2) & \".\" & RIGHT(\"0\" & ROUND(MOD('SK dod'!P25*86400,1)*100,0),2)","v":{"$error":"#N/A"}}]
[{"$f":"'SK dod'!B26","v":{"$error":"#N/A"}},{"$f":"'SK dod'!C26","v":{"$error":"#N/A"}},{"$f":"IF('SK dod'!D26=0,\"\",'SK dod'!D26)","v":{"$error":"#N/A"}},{"$f":"'SK dod'!E26","v":{"$error":"#N/A"}},{"$f":"'SK dod'!F26","v":{"$error":"#N/A"}},{"$f":"'SK dod'!G26","v":{"$error":"#N/A"}},{"$f":"'SK dod'!H26","v":{"$error":"#N/A"}},{"$f":"'SK dod'!I26","v":{"$error":"#N/A"}},null,{"$f":"'SK dod'!K26","v":{"$error":"#N/A"}},{"$f":"'SK dod'!L26","v":{"$error":"#N/A"}},{"$f":"'SK dod'!M26","v":{"$error":"#N/A"}},{"$f":"'SK dod'!N26","v":{"$error":"#N/A"}},{"$f":"INT('SK dod'!O26*1440) & \":\" & RIGHT(\"0\" & INT(MOD('SK dod'!O26*86400,60)),2) & \".\" & RIGHT(\"0\" & ROUND(MOD('SK dod'!O26*86400,1)*100,0),2)","v":{"$error":"#N/A"}},{"$f":"INT('SK dod'!P26*1440) & \":\" & RIGHT(\"0\" & INT(MOD('SK dod'!P26*86400,60)),2) & \".\" & RIGHT(\"0\" & ROUND(MOD('SK dod'!P26*86400,1)*100,0),2)","v":{"$error":"#N/A"}}]
[{"$f":"'SK dod'!B27","v":{"$error":"#N/A"}},{"$f":"'SK dod'!C27","v":{"$error":"#N/A"}},{"$f":"IF('SK dod'!D27=0,\"\",'SK dod'!D27)","v":{"$error":"#N/A"}},{"$f":"'SK dod'!E27","v":{"$error":"#N/A"}},{"$f":"'SK dod'!F27","v":{"$error":"#N/A"}},{"$f":"'SK dod'!G27","v":{"$error":"#N/A"}},{"$f":"'SK dod'!H27","v":{"$error":"#N/A"}},{"$f":"'SK dod'!I27","v":{"$error":"#N/A"}},null,{"$f":"'SK dod'!K27","v":{"$error":"#N/A"}},{"$f":"'SK dod'!L27","v":{"$error":"#N/A"}},{"$f":"'SK dod'!M27","v":{"$error":"#N/A"}},{"$f":"'SK dod'!N27","v":{"$error":"#N/A"}},{"$f":"INT('SK dod'!O27*1440) & \":\" & RIGHT(\"0\" & INT(MOD('SK dod'!O27*86400,60)),2) & \".\" & RIGHT(\"0\" & ROUND(MOD('SK dod'!O27*86400,1)*100,0),2)","v":{"$error":"#N/A"}},{"$f":"INT('SK dod'!P27*1440) & \":\" & RIGHT(\"0\" & INT(MOD('SK dod'!P27*86400,60)),2) & \".\" & RIGHT(\"0\" & ROUND(MOD('SK dod'!P27*86400,1)*100,0),2)","v":{"$error":"#N/A"}}]
[{"$f":"'SK dod'!B28","v":{"$error":"#N/A"}},{"$f":"'SK dod'!C28","v":{"$error":"#N/A"}},{"$f":"IF('SK dod'!D28=0,\"\",'SK dod'!D28)","v":{"$error":"#N/A"}},{"$f":"'SK dod'!E28","v":{"$error":"#N/A"}},{"$f":"'SK dod'!F28","v":{"$error":"#N/A"}},{"$f":"'SK dod'!G28","v":{"$error":"#N/A"}},{"$f":"'SK dod'!H28","v":{"$error":"#N/A"}},{"$f":"'SK dod'!I28","v":{"$error":"#N/A"}},null,{"$f":"'SK dod'!K28","v":{"$error":"#N/A"}},{"$f":"'SK dod'!L28","v":{"$error":"#N/A"}},{"$f":"'SK dod'!M28","v":{"$error":"#N/A"}},{"$f":"'SK dod'!N28","v":{"$error":"#N/A"}},{"$f":"INT('SK dod'!O28*1440) & \":\" & RIGHT(\"0\" & INT(MOD('SK dod'!O28*86400,60)),2) & \".\" & RIGHT(\"0\" & ROUND(MOD('SK dod'!O28*86400,1)*100,0),2)","v":{"$error":"#N/A"}},{"$f":"INT('SK dod'!P28*1440) & \":\" & RIGHT(\"0\" & INT(MOD('SK dod'!P28*86400,60)),2) & \".\" & RIGHT(\"0\" & ROUND(MOD('SK dod'!P28*86400,1)*100,0),2)","v":{"$error":"#N/A"}}]
[{"$f":"'SK dod'!B29","v":{"$error":"#N/A"}},{"$f":"'SK dod'!C29","v":{"$error":"#N/A"}},{"$f":"IF('SK dod'!D29=0,\"\",'SK dod'!D29)","v":{"$error":"#N/A"}},{"$f":"'SK dod'!E29","v":{"$error":"#N/A"}},{"$f":"'SK dod'!F29","v":{"$error":"#N/A"}},{"$f":"'SK dod'!G29","v":{"$error":"#N/A"}},{"$f":"'SK dod'!H29","v":{"$error":"#N/A"}},{"$f":"'SK dod'!I29","v":{"$error":"#N/A"}},null,{"$f":"'SK dod'!K29","v":{"$error":"#N/A"}},{"$f":"'SK dod'!L29","v":{"$error":"#N/A"}},{"$f":"'SK dod'!M29","v":{"$error":"#N/A"}},{"$f":"'SK dod'!N29","v":{"$error":"#N/A"}},{"$f":"INT('SK dod'!O29*1440) & \":\" & RIGHT(\"0\" & INT(MOD('SK dod'!O29*86400,60)),2) & \".\" & RIGHT(\"0\" & ROUND(MOD('SK dod'!O29*86400,1)*100,0),2)","v":{"$error":"#N/A"}},{"$f":"INT('SK dod'!P29*1440) & \":\" & RIGHT(\"0\" & INT(MOD('SK dod'!P29*86400,60)),2) & \".\" & RIGHT(\"0\" & ROUND(MOD('SK dod'!P29*86400,1)*100,0),2)","v":{"$error":"#N/A"}}]
[{"$f":"'SK dod'!B30","v":{"$error":"#N/A"}},{"$f":"'SK dod'!C30","v":{"$error":"#N/A"}},{"$f":"IF('SK dod'!D30=0,\"\",'SK dod'!D30)","v":{"$error":"#N/A"}},{"$f":"'SK dod'!E30","v":{"$error":"#N/A"}},{"$f":"'SK dod'!F30","v":{"$error":"#N/A"}},{"$f":"'SK dod'!G30","v":{"$error":"#N/A"}},{"$f":"'SK dod'!H30","v":{"$error":"#N/A"}},{"$f":"'SK dod'!I30","v":{"$error":"#N/A"}},null,{"$f":"'SK dod'!K30","v":{"$error":"#N/A"}},{"$f":"'SK dod'!L30","v":{"$error":"#N/A"}},{"$f":"'SK dod'!M30","v":{"$error":"#N/A"}},{"$f":"'SK dod'!N30","v":{"$error":"#N/A"}},{"$f":"INT('SK dod'!O30*1440) & \":\" & RIGHT(\"0\" & INT(MOD('SK dod'!O30*86400,60)),2) & \".\" & RIGHT(\"0\" & ROUND(MOD('SK dod'!O30*86400,1)*100,0),2)","v":{"$error":"#N/A"}},{"$f":"INT('SK dod'!P30*1440) & \":\" & RIGHT(\"0\" & INT(MOD('SK dod'!P30*86400,60)),2) & \".\" & RIGHT(\"0\" & ROUND(MOD('SK dod'!P30*86400,1)*100,0),2)","v":{"$error":"#N/A"}}]
[{"$f":"'SK dod'!B31","v":{"$error":"#N/A"}},{"$f":"'SK dod'!C31","v":{"$error":"#N/A"}},{"$f":"IF('SK dod'!D31=0,\"\",'SK dod'!D31)","v":{"$error":"#N/A"}},{"$f":"'SK dod'!E31","v":{"$error":"#N/A"}},{"$f":"'SK dod'!F31","v":{"$error":"#N/A"}},{"$f":"'SK dod'!G31","v":{"$error":"#N/A"}},{"$f":"'SK dod'!H31","v":{"$error":"#N/A"}},{"$f":"'SK dod'!I31","v":{"$error":"#N/A"}},null,{"$f":"'SK dod'!K31","v":{"$error":"#N/A"}},{"$f":"'SK dod'!L31","v":{"$error":"#N/A"}},{"$f":"'SK dod'!M31","v":{"$error":"#N/A"}},{"$f":"'SK dod'!N31","v":{"$error":"#N/A"}},{"$f":"INT('SK dod'!O31*1440) & \":\" & RIGHT(\"0\" & INT(MOD('SK dod'!O31*86400,60)),2) & \".\" & RIGHT(\"0\" & ROUND(MOD('SK dod'!O31*86400,1)*100,0),2)","v":{"$error":"#N/A"}},{"$f":"INT('SK dod'!P31*1440) & \":\" & RIGHT(\"0\" & INT(MOD('SK dod'!P31*86400,60)),2) & \".\" & RIGHT(\"0\" & ROUND(MOD('SK dod'!P31*86400,1)*100,0),2)","v":{"$error":"#N/A"}}]
[{"$f":"'SK dod'!B32","v":{"$error":"#N/A"}},{"$f":"'SK dod'!C32","v":{"$error":"#N/A"}},{"$f":"IF('SK dod'!D32=0,\"\",'SK dod'!D32)","v":{"$error":"#N/A"}},{"$f":"'SK dod'!E32","v":{"$error":"#N/A"}},{"$f":"'SK dod'!F32","v":{"$error":"#N/A"}},{"$f":"'SK dod'!G32","v":{"$error":"#N/A"}},{"$f":"'SK dod'!H32","v":{"$error":"#N/A"}},{"$f":"'SK dod'!I32","v":{"$error":"#N/A"}},null,{"$f":"'SK dod'!K32","v":{"$error":"#N/A"}},{"$f":"'SK dod'!L32","v":{"$error":"#N/A"}},{"$f":"'SK dod'!M32","v":{"$error":"#N/A"}},{"$f":"'SK dod'!N32","v":{"$error":"#N/A"}},{"$f":"INT('SK dod'!O32*1440) & \":\" & RIGHT(\"0\" & INT(MOD('SK dod'!O32*86400,60)),2) & \".\" & RIGHT(\"0\" & ROUND(MOD('SK dod'!O32*86400,1)*100,0),2)","v":{"$error":"#N/A"}},{"$f":"INT('SK dod'!P32*1440) & \":\" & RIGHT(\"0\" & INT(MOD('SK dod'!P32*86400,60)),2) & \".\" & RIGHT(\"0\" & ROUND(MOD('SK dod'!P32*86400,1)*100,0),2)","v":{"$error":"#N/A"}}]
[{"$f":"'SK dod'!B33","v":{"$error":"#N/A"}},{"$f":"'SK dod'!C33","v":{"$error":"#N/A"}},{"$f":"IF('SK dod'!D33=0,\"\",'SK dod'!D33)","v":{"$error":"#N/A"}},{"$f":"'SK dod'!E33","v":{"$error":"#N/A"}},{"$f":"'SK dod'!F33","v":{"$error":"#N/A"}},{"$f":"'SK dod'!G33","v":{"$error":"#N/A"}},{"$f":"'SK dod'!H33","v":{"$error":"#N/A"}},{"$f":"'SK dod'!I33","v":{"$error":"#N/A"}},null,{"$f":"'SK dod'!K33","v":{"$error":"#N/A"}},{"$f":"'SK dod'!L33","v":{"$error":"#N/A"}},{"$f":"'SK dod'!M33","v":{"$error":"#N/A"}},{"$f":"'SK dod'!N33","v":{"$error":"#N/A"}},{"$f":"INT('SK dod'!O33*1440) & \":\" & RIGHT(\"0\" & INT(MOD('SK dod'!O33*86400,60)),2) & \".\" & RIGHT(\"0\" & ROUND(MOD('SK dod'!O33*86400,1)*100,0),2)","v":{"$error":"#N/A"}},{"$f":"INT('SK dod'!P33*1440) & \":\" & RIGHT(\"0\" & INT(MOD('SK dod'!P33*86400,60)),2) & \".\" & RIGHT(\"0\" & ROUND(MOD('SK dod'!P33*86400,1)*100,0),2)","v":{"$error":"#N/A"}}]
[{"$f":"'SK dod'!B34","v":{"$error":"#N/A"}},{"$f":"'SK dod'!C34","v":{"$error":"#N/A"}},{"$f":"IF('SK dod'!D34=0,\"\",'SK dod'!D34)","v":{"$error":"#N/A"}},{"$f":"'SK dod'!E34","v":{"$error":"#N/A"}},{"$f":"'SK dod'!F34","v":{"$error":"#N/A"}},{"$f":"'SK dod'!G34","v":{"$error":"#N/A"}},{"$f":"'SK dod'!H34","v":{"$error":"#N/A"}},{"$f":"'SK dod'!I34","v":{"$error":"#N/A"}},null,{"$f":"'SK dod'!K34","v":{"$error":"#N/A"}},{"$f":"'SK dod'!L34","v":{"$error":"#N/A"}},{"$f":"'SK dod'!M34","v":{"$error":"#N/A"}},{"$f":"'SK dod'!N34","v":{"$error":"#N/A"}},{"$f":"INT('SK dod'!O34*1440) & \":\" & RIGHT(\"0\" & INT(MOD('SK dod'!O34*86400,60)),2) & \".\" & RIGHT(\"0\" & ROUND(MOD('SK dod'!O34*86400,1)*100,0),2)","v":{"$error":"#N/A"}},{"$f":"INT('SK dod'!P34*1440) & \":\" & RIGHT(\"0\" & INT(MOD('SK dod'!P34*86400,60)),2) & \".\" & RIGHT(\"0\" & ROUND(MOD('SK dod'!P34*86400,1)*100,0),2)","v":{"$error":"#N/A"}}]
[{"$f":"'SK dod'!B35","v":{"$error":"#N/A"}},{"$f":"'SK dod'!C35","v":{"$error":"#N/A"}},{"$f":"IF('SK dod'!D35=0,\"\",'SK dod'!D35)","v":{"$error":"#N/A"}},{"$f":"'SK dod'!E35","v":{"$error":"#N/A"}},{"$f":"'SK dod'!F35","v":{"$error":"#N/A"}},{"$f":"'SK dod'!G35","v":{"$error":"#N/A"}},{"$f":"'SK dod'!H35","v":{"$error":"#N/A"}},{"$f":"'SK dod'!I35","v":{"$error":"#N/A"}},null,{"$f":"'SK dod'!K35","v":{"$error":"#N/A"}},{"$f":"'SK dod'!L35","v":{"$error":"#N/A"}},{"$f":"'SK dod'!M35","v":{"$error":"#N/A"}},{"$f":"'SK dod'!N35","v":{"$error":"#N/A"}},{"$f":"INT('SK dod'!O35*1440) & \":\" & RIGHT(\"0\" & INT(MOD('SK dod'!O35*86400,60)),2) & \".\" & RIGHT(\"0\" & ROUND(MOD('SK dod'!O35*86400,1)*100,0),2)","v":{"$error":"#N/A"}},{"$f":"INT('SK dod'!P35*1440) & \":\" & RIGHT(\"0\" & INT(MOD('SK dod'!P35*86400,60)),2) & \".\" & RIGHT(\"0\" & ROUND(MOD('SK dod'!P35*86400,1)*100,0),2)","v":{"$error":"#N/A"}}]
[{"$f":"'SK dod'!B36","v":{"$error":"#N/A"}},{"$f":"'SK dod'!C36","v":{"$error":"#N/A"}},{"$f":"IF('SK dod'!D36=0,\"\",'SK dod'!D36)","v":{"$error":"#N/A"}},{"$f":"'SK dod'!E36","v":{"$error":"#N/A"}},{"$f":"'SK dod'!F36","v":{"$error":"#N/A"}},{"$f":"'SK dod'!G36","v":{"$error":"#N/A"}},{"$f":"'SK dod'!H36","v":{"$error":"#N/A"}},{"$f":"'SK dod'!I36","v":{"$error":"#N/A"}},null,{"$f":"'SK dod'!K36","v":{"$error":"#N/A"}},{"$f":"'SK dod'!L36","v":{"$error":"#N/A"}},{"$f":"'SK dod'!M36","v":{"$error":"#N/A"}},{"$f":"'SK dod'!N36","v":{"$error":"#N/A"}},{"$f":"INT('SK dod'!O36*1440) & \":\" & RIGHT(\"0\" & INT(MOD('SK dod'!O36*86400,60)),2) & \".\" & RIGHT(\"0\" & ROUND(MOD('SK dod'!O36*86400,1)*100,0),2)","v":{"$error":"#N/A"}},{"$f":"INT('SK dod'!P36*1440) & \":\" & RIGHT(\"0\" & INT(MOD('SK dod'!P36*86400,60)),2) & \".\" & RIGHT(\"0\" & ROUND(MOD('SK dod'!P36*86400,1)*100,0),2)","v":{"$error":"#N/A"}}]
[{"$f":"'SK dod'!B37","v":{"$error":"#N/A"}},{"$f":"'SK dod'!C37","v":{"$error":"#N/A"}},{"$f":"IF('SK dod'!D37=0,\"\",'SK dod'!D37)","v":{"$error":"#N/A"}},{"$f":"'SK dod'!E37","v":{"$error":"#N/A"}},{"$f":"'SK dod'!F37","v":{"$error":"#N/A"}},{"$f":"'SK dod'!G37","v":{"$error":"#N/A"}},{"$f":"'SK dod'!H37","v":{"$error":"#N/A"}},{"$f":"'SK dod'!I37","v":{"$error":"#N/A"}},null,{"$f":"'SK dod'!K37","v":{"$error":"#N/A"}},{"$f":"'SK dod'!L37","v":{"$error":"#N/A"}},{"$f":"'SK dod'!M37","v":{"$error":"#N/A"}},{"$f":"'SK dod'!N37","v":{"$error":"#N/A"}},{"$f":"INT('SK dod'!O37*1440) & \":\" & RIGHT(\"0\" & INT(MOD('SK dod'!O37*86400,60)),2) & \".\" & RIGHT(\"0\" & ROUND(MOD('SK dod'!O37*86400,1)*100,0),2)","v":{"$error":"#N/A"}},{"$f":"INT('SK dod'!P37*1440) & \":\" & RIGHT(\"0\" & INT(MOD('SK dod'!P37*86400,60)),2) & \".\" & RIGHT(\"0\" & ROUND(MOD('SK dod'!P37*86400,1)*100,0),2)","v":{"$error":"#N/A"}}]
[{"$f":"'SK dod'!B38","v":{"$error":"#N/A"}},{"$f":"'SK dod'!C38","v":{"$error":"#N/A"}},{"$f":"IF('SK dod'!D38=0,\"\",'SK dod'!D38)","v":{"$error":"#N/A"}},{"$f":"'SK dod'!E38","v":{"$error":"#N/A"}},{"$f":"'SK dod'!F38","v":{"$error":"#N/A"}},{"$f":"'SK dod'!G38","v":{"$error":"#N/A"}},{"$f":"'SK dod'!H38","v":{"$error":"#N/A"}},{"$f":"'SK dod'!I38","v":{"$error":"#N/A"}},null,{"$f":"'SK dod'!K38","v":{"$error":"#N/A"}},{"$f":"'SK dod'!L38","v":{"$error":"#N/A"}},{"$f":"'SK dod'!M38","v":{"$error":"#N/A"}},{"$f":"'SK dod'!N38","v":{"$error":"#N/A"}},{"$f":"INT('SK dod'!O38*1440) & \":\" & RIGHT(\"0\" & INT(MOD('SK dod'!O38*86400,60)),2) & \".\" & RIGHT(\"0\" & ROUND(MOD('SK dod'!O38*86400,1)*100,0),2)","v":{"$error":"#N/A"}},{"$f":"INT('SK dod'!P38*1440) & \":\" & RIGHT(\"0\" & INT(MOD('SK dod'!P38*86400,60)),2) & \".\" & RIGHT(\"0\" & ROUND(MOD('SK dod'!P38*86400,1)*100,0),2)","v":{"$error":"#N/A"}}]
[{"$f":"'SK dod'!B39","v":{"$error":"#N/A"}},{"$f":"'SK dod'!C39","v":{"$error":"#N/A"}},{"$f":"IF('SK dod'!D39=0,\"\",'SK dod'!D39)","v":{"$error":"#N/A"}},{"$f":"'SK dod'!E39","v":{"$error":"#N/A"}},{"$f":"'SK dod'!F39","v":{"$error":"#N/A"}},{"$f":"'SK dod'!G39","v":{"$error":"#N/A"}},{"$f":"'SK dod'!H39","v":{"$error":"#N/A"}},{"$f":"'SK dod'!I39","v":{"$error":"#N/A"}},null,{"$f":"'SK dod'!K39","v":{"$error":"#N/A"}},{"$f":"'SK dod'!L39","v":{"$error":"#N/A"}},{"$f":"'SK dod'!M39","v":{"$error":"#N/A"}},{"$f":"'SK dod'!N39","v":{"$error":"#N/A"}},{"$f":"INT('SK dod'!O39*1440) & \":\" & RIGHT(\"0\" & INT(MOD('SK dod'!O39*86400,60)),2) & \".\" & RIGHT(\"0\" & ROUND(MOD('SK dod'!O39*86400,1)*100,0),2)","v":{"$error":"#N/A"}},{"$f":"INT('SK dod'!P39*1440) & \":\" & RIGHT(\"0\" & INT(MOD('SK dod'!P39*86400,60)),2) & \".\" & RIGHT(\"0\" & ROUND(MOD('SK dod'!P39*86400,1)*100,0),2)","v":{"$error":"#N/A"}}]
[{"$f":"'SK dod'!B40","v":{"$error":"#N/A"}},{"$f":"'SK dod'!C40","v":{"$error":"#N/A"}},{"$f":"IF('SK dod'!D40=0,\"\",'SK dod'!D40)","v":{"$error":"#N/A"}},{"$f":"'SK dod'!E40","v":{"$error":"#N/A"}},{"$f":"'SK dod'!F40","v":{"$error":"#N/A"}},{"$f":"'SK dod'!G40","v":{"$error":"#N/A"}},{"$f":"'SK dod'!H40","v":{"$error":"#N/A"}},{"$f":"'SK dod'!I40","v":{"$error":"#N/A"}},null,{"$f":"'SK dod'!K40","v":{"$error":"#N/A"}},{"$f":"'SK dod'!L40","v":{"$error":"#N/A"}},{"$f":"'SK dod'!M40","v":{"$error":"#N/A"}},{"$f":"'SK dod'!N40","v":{"$error":"#N/A"}},{"$f":"INT('SK dod'!O40*1440) & \":\" & RIGHT(\"0\" & INT(MOD('SK dod'!O40*86400,60)),2) & \".\" & RIGHT(\"0\" & ROUND(MOD('SK dod'!O40*86400,1)*100,0),2)","v":{"$error":"#N/A"}},{"$f":"INT('SK dod'!P40*1440) & \":\" & RIGHT(\"0\" & INT(MOD('SK dod'!P40*86400,60)),2) & \".\" & RIGHT(\"0\" & ROUND(MOD('SK dod'!P40*86400,1)*100,0),2)","v":{"$error":"#N/A"}}]
[{"$f":"'SK dod'!B41","v":{"$error":"#N/A"}},{"$f":"'SK dod'!C41","v":{"$error":"#N/A"}},{"$f":"IF('SK dod'!D41=0,\"\",'SK dod'!D41)","v":{"$error":"#N/A"}},{"$f":"'SK dod'!E41","v":{"$error":"#N/A"}},{"$f":"'SK dod'!F41","v":{"$error":"#N/A"}},{"$f":"'SK dod'!G41","v":{"$error":"#N/A"}},{"$f":"'SK dod'!H41","v":{"$error":"#N/A"}},{"$f":"'SK dod'!I41","v":{"$error":"#N/A"}},null,{"$f":"'SK dod'!K41","v":{"$error":"#N/A"}},{"$f":"'SK dod'!L41","v":{"$error":"#N/A"}},{"$f":"'SK dod'!M41","v":{"$error":"#N/A"}},{"$f":"'SK dod'!N41","v":{"$error":"#N/A"}},{"$f":"INT('SK dod'!O41*1440) & \":\" & RIGHT(\"0\" & INT(MOD('SK dod'!O41*86400,60)),2) & \".\" & RIGHT(\"0\" & ROUND(MOD('SK dod'!O41*86400,1)*100,0),2)","v":{"$error":"#N/A"}},{"$f":"INT('SK dod'!P41*1440) & \":\" & RIGHT(\"0\" & INT(MOD('SK dod'!P41*86400,60)),2) & \".\" & RIGHT(\"0\" & ROUND(MOD('SK dod'!P41*86400,1)*100,0),2)","v":{"$error":"#N/A"}}]
[{"$f":"'SK dod'!B42","v":{"$error":"#N/A"}},{"$f":"'SK dod'!C42","v":{"$error":"#N/A"}},{"$f":"IF('SK dod'!D42=0,\"\",'SK dod'!D42)","v":{"$error":"#N/A"}},{"$f":"'SK dod'!E42","v":{"$error":"#N/A"}},{"$f":"'SK dod'!F42","v":{"$error":"#N/A"}},{"$f":"'SK dod'!G42","v":{"$error":"#N/A"}},{"$f":"'SK dod'!H42","v":{"$error":"#N/A"}},{"$f":"'SK dod'!I42","v":{"$error":"#N/A"}},null,{"$f":"'SK dod'!K42","v":{"$error":"#N/A"}},{"$f":"'SK dod'!L42","v":{"$error":"#N/A"}},{"$f":"'SK dod'!M42","v":{"$error":"#N/A"}},{"$f":"'SK dod'!N42","v":{"$error":"#N/A"}},{"$f":"INT('SK dod'!O42*1440) & \":\" & RIGHT(\"0\" & INT(MOD('SK dod'!O42*86400,60)),2) & \".\" & RIGHT(\"0\" & ROUND(MOD('SK dod'!O42*86400,1)*100,0),2)","v":{"$error":"#N/A"}},{"$f":"INT('SK dod'!P42*1440) & \":\" & RIGHT(\"0\" & INT(MOD('SK dod'!P42*86400,60)),2) & \".\" & RIGHT(\"0\" & ROUND(MOD('SK dod'!P42*86400,1)*100,0),2)","v":{"$error":"#N/A"}}]
[{"$f":"'SK dod'!B43","v":0},{"$f":"'SK dod'!C43","v":0},{"$f":"IF('SK dod'!D43=0,\"\",'SK dod'!D43)","v":""},{"$f":"'SK dod'!E43","v":0},{"$f":"'SK dod'!F43","v":0},{"$f":"'SK dod'!G43","v":0},{"$f":"'SK dod'!H43","v":0},{"$f":"'SK dod'!I43","v":0},null,{"$f":"'SK dod'!K43","v":0},{"$f":"'SK dod'!L43","v":0},{"$f":"'SK dod'!M43","v":0},{"$f":"'SK dod'!N43","v":0},{"$f":"INT('SK dod'!O43*1440) & \":\" & RIGHT(\"0\" & INT(MOD('SK dod'!O43*86400,60)),2) & \".\" & RIGHT(\"0\" & ROUND(MOD('SK dod'!O43*86400,1)*100,0),2)","v":"0:00.00"},{"$f":"INT('SK dod'!P43*1440) & \":\" & RIGHT(\"0\" & INT(MOD('SK dod'!P43*86400,60)),2) & \".\" & RIGHT(\"0\" & ROUND(MOD('SK dod'!P43*86400,1)*100,0),2)","v":"0:00.00"}]
[{"$f":"'SK dod'!B44","v":0},{"$f":"'SK dod'!C44","v":0},{"$f":"IF('SK dod'!D44=0,\"\",'SK dod'!D44)","v":""},{"$f":"'SK dod'!E44","v":0},{"$f":"'SK dod'!F44","v":0},{"$f":"'SK dod'!G44","v":0},{"$f":"'SK dod'!H44","v":0},{"$f":"'SK dod'!I44","v":0},null,{"$f":"'SK dod'!K44","v":0},{"$f":"'SK dod'!L44","v":0},{"$f":"'SK dod'!M44","v":0},{"$f":"'SK dod'!N44","v":0},{"$f":"INT('SK dod'!O44*1440) & \":\" & RIGHT(\"0\" & INT(MOD('SK dod'!O44*86400,60)),2) & \".\" & RIGHT(\"0\" & ROUND(MOD('SK dod'!O44*86400,1)*100,0),2)","v":"0:00.00"},{"$f":"INT('SK dod'!P44*1440) & \":\" & RIGHT(\"0\" & INT(MOD('SK dod'!P44*86400,60)),2) & \".\" & RIGHT(\"0\" & ROUND(MOD('SK dod'!P44*86400,1)*100,0),2)","v":"0:00.00"}]
[{"$f":"'SK dod'!B45","v":0},{"$f":"'SK dod'!C45","v":0},{"$f":"IF('SK dod'!D45=0,\"\",'SK dod'!D45)","v":""},{"$f":"'SK dod'!E45","v":0},{"$f":"'SK dod'!F45","v":0},{"$f":"'SK dod'!G45","v":0},{"$f":"'SK dod'!H45","v":0},{"$f":"'SK dod'!I45","v":0},null,{"$f":"'SK dod'!K45","v":0},{"$f":"'SK dod'!L45","v":0},{"$f":"'SK dod'!M45","v":0},{"$f":"'SK dod'!N45","v":0},{"$f":"INT('SK dod'!O45*1440) & \":\" & RIGHT(\"0\" & INT(MOD('SK dod'!O45*86400,60)),2) & \".\" & RIGHT(\"0\" & ROUND(MOD('SK dod'!O45*86400,1)*100,0),2)","v":"0:00.00"},{"$f":"INT('SK dod'!P45*1440) & \":\" & RIGHT(\"0\" & INT(MOD('SK dod'!P45*86400,60)),2) & \".\" & RIGHT(\"0\" & ROUND(MOD('SK dod'!P45*86400,1)*100,0),2)","v":"0:00.00"}]
[{"$f":"'SK dod'!B46","v":0},{"$f":"'SK dod'!C46","v":0},{"$f":"IF('SK dod'!D46=0,\"\",'SK dod'!D46)","v":""},{"$f":"'SK dod'!E46","v":0},{"$f":"'SK dod'!F46","v":0},{"$f":"'SK dod'!G46","v":0},{"$f":"'SK dod'!H46","v":0},{"$f":"'SK dod'!I46","v":0},null,{"$f":"'SK dod'!K46","v":0},{"$f":"'SK dod'!L46","v":0},{"$f":"'SK dod'!M46","v":0},{"$f":"'SK dod'!N46","v":0},{"$f":"INT('SK dod'!O46*1440) & \":\" & RIGHT(\"0\" & INT(MOD('SK dod'!O46*86400,60)),2) & \".\" & RIGHT(\"0\" & ROUND(MOD('SK dod'!O46*86400,1)*100,0),2)","v":"0:00.00"},{"$f":"INT('SK dod'!P46*1440) & \":\" & RIGHT(\"0\" & INT(MOD('SK dod'!P46*86400,60)),2) & \".\" & RIGHT(\"0\" & ROUND(MOD('SK dod'!P46*86400,1)*100,0),2)","v":"0:00.00"}]
[{"$f":"'SK dod'!B47","v":0},{"$f":"'SK dod'!C47","v":0},{"$f":"IF('SK dod'!D47=0,\"\",'SK dod'!D47)","v":""},{"$f":"'SK dod'!E47","v":0},{"$f":"'SK dod'!F47","v":0},{"$f":"'SK dod'!G47","v":0},{"$f":"'SK dod'!H47","v":0},{"$f":"'SK dod'!I47","v":0},null,{"$f":"'SK dod'!K47","v":0},{"$f":"'SK dod'!L47","v":0},{"$f":"'SK dod'!M47","v":0},{"$f":"'SK dod'!N47","v":0},{"$f":"INT('SK dod'!O47*1440) & \":\" & RIGHT(\"0\" & INT(MOD('SK dod'!O47*86400,60)),2) & \".\" & RIGHT(\"0\" & ROUND(MOD('SK dod'!O47*86400,1)*100,0),2)","v":"0:00.00"},{"$f":"INT('SK dod'!P47*1440) & \":\" & RIGHT(\"0\" & INT(MOD('SK dod'!P47*86400,60)),2) & \".\" & RIGHT(\"0\" & ROUND(MOD('SK dod'!P47*86400,1)*100,0),2)","v":"0:00.00"}]
[{"$f":"'SK dod'!B48","v":0},{"$f":"'SK dod'!C48","v":0},{"$f":"IF('SK dod'!D48=0,\"\",'SK dod'!D48)","v":""},{"$f":"'SK dod'!E48","v":0},{"$f":"'SK dod'!F48","v":0},{"$f":"'SK dod'!G48","v":0},{"$f":"'SK dod'!H48","v":0},{"$f":"'SK dod'!I48","v":0},null,{"$f":"'SK dod'!K48","v":0},{"$f":"'SK dod'!L48","v":0},{"$f":"'SK dod'!M48","v":0},{"$f":"'SK dod'!N48","v":0},{"$f":"INT('SK dod'!O48*1440) & \":\" & RIGHT(\"0\" & INT(MOD('SK dod'!O48*86400,60)),2) & \".\" & RIGHT(\"0\" & ROUND(MOD('SK dod'!O48*86400,1)*100,0),2)","v":"0:00.00"},{"$f":"INT('SK dod'!P48*1440) & \":\" & RIGHT(\"0\" & INT(MOD('SK dod'!P48*86400,60)),2) & \".\" & RIGHT(\"0\" & ROUND(MOD('SK dod'!P48*86400,1)*100,0),2)","v":"0:00.00"}]
[{"$f":"'SK dod'!B49","v":0},{"$f":"'SK dod'!C49","v":0},{"$f":"IF('SK dod'!D49=0,\"\",'SK dod'!D49)","v":""},{"$f":"'SK dod'!E49","v":0},{"$f":"'SK dod'!F49","v":0},{"$f":"'SK dod'!G49","v":0},{"$f":"'SK dod'!H49","v":0},{"$f":"'SK dod'!I49","v":0},null,{"$f":"'SK dod'!K49","v":0},{"$f":"'SK dod'!L49","v":0},{"$f":"'SK dod'!M49","v":0},{"$f":"'SK dod'!N49","v":0},{"$f":"INT('SK dod'!O49*1440) & \":\" & RIGHT(\"0\" & INT(MOD('SK dod'!O49*86400,60)),2) & \".\" & RIGHT(\"0\" & ROUND(MOD('SK dod'!O49*86400,1)*100,0),2)","v":"0:00.00"},{"$f":"INT('SK dod'!P49*1440) & \":\" & RIGHT(\"0\" & INT(MOD('SK dod'!P49*86400,60)),2) & \".\" & RIGHT(\"0\" & ROUND(MOD('SK dod'!P49*86400,1)*100,0),2)","v":"0:00.00"}]
[{"$f":"'SK dod'!B50","v":0},{"$f":"'SK dod'!C50","v":0},{"$f":"IF('SK dod'!D50=0,\"\",'SK dod'!D50)","v":""},{"$f":"'SK dod'!E50","v":0},{"$f":"'SK dod'!F50","v":0},{"$f":"'SK dod'!G50","v":0},{"$f":"'SK dod'!H50","v":0},{"$f":"'SK dod'!I50","v":0},null,{"$f":"'SK dod'!K50","v":0},{"$f":"'SK dod'!L50","v":0},{"$f":"'SK dod'!M50","v":0},{"$f":"'SK dod'!N50","v":0},{"$f":"INT('SK dod'!O50*1440) & \":\" & RIGHT(\"0\" & INT(MOD('SK dod'!O50*86400,60)),2) & \".\" & RIGHT(\"0\" & ROUND(MOD('SK dod'!O50*86400,1)*100,0),2)","v":"0:00.00"},{"$f":"INT('SK dod'!P50*1440) & \":\" & RIGHT(\"0\" & INT(MOD('SK dod'!P50*86400,60)),2) & \".\" & RIGHT(\"0\" & ROUND(MOD('SK dod'!P50*86400,1)*100,0),2)","v":"0:00.00"}]
[{"$f":"'SK dod'!B51","v":0},{"$f":"'SK dod'!C51","v":0},{"$f":"IF('SK dod'!D51=0,\"\",'SK dod'!D51)","v":""},{"$f":"'SK dod'!E51","v":0},{"$f":"'SK dod'!F51","v":0},{"$f":"'SK dod'!G51","v":0},{"$f":"'SK dod'!H51","v":0},{"$f":"'SK dod'!I51","v":0},null,{"$f":"'SK dod'!K51","v":0},{"$f":"'SK dod'!L51","v":0},{"$f":"'SK dod'!M51","v":0},{"$f":"'SK dod'!N51","v":0},{"$f":"INT('SK dod'!O51*1440) & \":\" & RIGHT(\"0\" & INT(MOD('SK dod'!O51*86400,60)),2) & \".\" & RIGHT(\"0\" & ROUND(MOD('SK dod'!O51*86400,1)*100,0),2)","v":"0:00.00"},{"$f":"INT('SK dod'!P51*1440) & \":\" & RIGHT(\"0\" & INT(MOD('SK dod'!P51*86400,60)),2) & \".\" & RIGHT(\"0\" & ROUND(MOD('SK dod'!P51*86400,1)*100,0),2)","v":"0:00.00"}]
[{"$f":"'SK dod'!B52","v":0},{"$f":"'SK dod'!C52","v":0},{"$f":"IF('SK dod'!D52=0,\"\",'SK dod'!D52)","v":""},{"$f":"'SK dod'!E52","v":0},{"$f":"'SK dod'!F52","v":0},{"$f":"'SK dod'!G52","v":0},{"$f":"'SK dod'!H52","v":0},{"$f":"'SK dod'!I52","v":0},null,{"$f":"'SK dod'!K52","v":0},{"$f":"'SK dod'!L52","v":0},{"$f":"'SK dod'!M52","v":0},{"$f":"'SK dod'!N52","v":0},{"$f":"INT('SK dod'!O52*1440) & \":\" & RIGHT(\"0\" & INT(MOD('SK dod'!O52*86400,60)),2) & \".\" & RIGHT(\"0\" & ROUND(MOD('SK dod'!O52*86400,1)*100,0),2)","v":"0:00.00"},{"$f":"INT('SK dod'!P52*1440) & \":\" & RIGHT(\"0\" & INT(MOD('SK dod'!P52*86400,60)),2) & \".\" & RIGHT(\"0\" & ROUND(MOD('SK dod'!P52*86400,1)*100,0),2)","v":"0:00.00"}]
[{"$f":"'SK dod'!B53","v":0},{"$f":"'SK dod'!C53","v":0},{"$f":"IF('SK dod'!D53=0,\"\",'SK dod'!D53)","v":""},{"$f":"'SK dod'!E53","v":0},{"$f":"'SK dod'!F53","v":0},{"$f":"'SK dod'!G53","v":0},{"$f":"'SK dod'!H53","v":0},{"$f":"'SK dod'!I53","v":0},null,{"$f":"'SK dod'!K53","v":0},{"$f":"'SK dod'!L53","v":0},{"$f":"'SK dod'!M53","v":0},{"$f":"'SK dod'!N53","v":0},{"$f":"INT('SK dod'!O53*1440) & \":\" & RIGHT(\"0\" & INT(MOD('SK dod'!O53*86400,60)),2) & \".\" & RIGHT(\"0\" & ROUND(MOD('SK dod'!O53*86400,1)*100,0),2)","v":"0:00.00"},{"$f":"INT('SK dod'!P53*1440) & \":\" & RIGHT(\"0\" & INT(MOD('SK dod'!P53*86400,60)),2) & \".\" & RIGHT(\"0\" & ROUND(MOD('SK dod'!P53*86400,1)*100,0),2)","v":"0:00.00"}]
[{"$f":"'SK dod'!B54","v":0},{"$f":"'SK dod'!C54","v":0},{"$f":"IF('SK dod'!D54=0,\"\",'SK dod'!D54)","v":""},{"$f":"'SK dod'!E54","v":0},{"$f":"'SK dod'!F54","v":0},{"$f":"'SK dod'!G54","v":0},{"$f":"'SK dod'!H54","v":0},{"$f":"'SK dod'!I54","v":0},null,{"$f":"'SK dod'!K54","v":0},{"$f":"'SK dod'!L54","v":0},{"$f":"'SK dod'!M54","v":0},{"$f":"'SK dod'!N54","v":0},{"$f":"INT('SK dod'!O54*1440) & \":\" & RIGHT(\"0\" & INT(MOD('SK dod'!O54*86400,60)),2) & \".\" & RIGHT(\"0\" & ROUND(MOD('SK dod'!O54*86400,1)*100,0),2)","v":"0:00.00"},{"$f":"INT('SK dod'!P54*1440) & \":\" & RIGHT(\"0\" & INT(MOD('SK dod'!P54*86400,60)),2) & \".\" & RIGHT(\"0\" & ROUND(MOD('SK dod'!P54*86400,1)*100,0),2)","v":"0:00.00"}]