Workbook

Sheet Obalka
E2: VYÚČTOVÁNÍ
A4: Název akce
A6: OSÚ: | D6: Posk. záloha: | F6: 0
A8: Termín akce:
A10: Vedoucí akce:
A12: Místo konání:
A14: Celkem: | B14: =List3!I65 -> 0
A15: K výplatě: | B15: =List3!I67 -> 0
A18: Úhrada za vyúčtování celkem
A19: Osoba | C19: Číslo účtu | F19: VS | H19: Částka
A26: Celkem k výplatě | H26: =SUM(H20:H25) -> 0
A29: Vyúčtovatel prohlašuje a svým podpisem závazně potvrzuje, že žádný z dokladů, které předložil v tomto vyúčtování SLČR nebyl, není a nebude uplatněn ve vyúčtování pro jiný subjekt.
A35: V …........................... dne …...................................
E36: jméno (podpis) vyúčtovatele
A39: V …........................... dne …...................................
E40: jméno (podpis) OSÚ

Sheet List2
A1: Seznam předložených dokladů
A2: Poř. číslo | B2: Popis dokladu | C2: Datum dokladu | D2: Částka v měně dokladu | E2: Měna | F2: Kurz | G2: Částka dokladu v Kč | H2: Částka SLČR v Kč
E3: CZK | F3: 1 | G3: =D3*F3 -> 0 | H3: =G3 -> 0
E4: CZK | F4: 1 | G4: =D4*F4 -> 0 | H4: =G4 -> 0
E5: CZK | F5: 1 | G5: =D5*F5 -> 0 | H5: =G5 -> 0
E6: CZK | F6: 1 | G6: =D6*F6 -> 0 | H6: =G6 -> 0
E7: CZK | F7: 1 | G7: =D7*F7 -> 0 | H7: =G7 -> 0
E8: CZK | F8: 1 | G8: =D8*F8 -> 0 | H8: =G8 -> 0
E9: CZK | F9: 1 | G9: =D9*F9 -> 0 | H9: =G9 -> 0
E10: CZK | F10: 1 | G10: =D10*F10 -> 0 | H10: =G10 -> 0
E11: CZK | F11: 1 | G11: =D11*F11 -> 0 | H11: =G11 -> 0
E12: CZK | F12: 1 | G12: =D12*F12 -> 0 | H12: =G12 -> 0
E13: CZK | F13: 1 | G13: =D13*F13 -> 0 | H13: =G13 -> 0
E14: CZK | F14: 1 | G14: =D14*F14 -> 0 | H14: =G14 -> 0
... E30: CZK | F30: 1 | G30: =D30*F30 -> 0 | H30: =G30 -> 0
A31: Celková výše nákladů na akci | G31: =SUM(G3:G30) -> 0 | H31: =SUM(H3:H30) -> 0
A34: Seznam účtovaných vozidel
A35: Kód vozidla | B35: Název vozidla | C35: RZ | D35: Trasa (není-li to možné, seznam hlavních míst na cestě) | H35: Celkem ujeto km
A46: Vysvětlivky: | C46: Rozdělení nákladů podle kapitol
A47: Kód dot. = (repre, STM, org.sp.) | C47: Kód dotace | D47: Účetní kód | E47: Poznámka | H47: Částka
A48: Kód účto = interní účetní kód skupiny nákladů
A50: Kontrola:
A51: Součet dokl. (L2) vs. náklady dle kapit. (L2)
A52: =H31-H59 -> 0
A53: Součet dokl. (L2) vs. rozděl. dle závod. (L3)
A54: =H31-List3!I65 -> 0
A55: Součet plateb (O) vs. částka k platbě (L3)
A56: =Obalka!H26-List3!I67 -> 0
C59: Celkem | H59: =SUM(H48:H58) -> 0

Sheet List3
A1: Rozdělení nákladů na účastníky akce
A2: Účastníci sportovní přípravy | D2: Náklady sportovní přípravy na účastníky
A3: Jméno a příjmení | B3: Zařazení | C3: Doba účasti | D3: Doprava | E3: Ubytování | F3: Strava | G3: Permanentky + vybavení | H3: Ostatní | I3: Celkem SLČR
I5: =SUM(D5:H5) -> 0
I7: =SUM(D7:H7) -> 0
I9: =SUM(D9:H9) -> 0
I11: =SUM(D11:H11) -> 0
I13: =SUM(D13:H13) -> 0
I15: =SUM(D15:H15) -> 0
I17: =SUM(D17:H17) -> 0
I19: =SUM(D19:H19) -> 0
I21: =SUM(D21:H21) -> 0
I23: =SUM(D23:H23) -> 0
I25: =SUM(D25:H25) -> 0
I27: =SUM(D27:H27) -> 0
... I41: =SUM(D41:H41) -> 0
A42: Celková výše nákladů na účastníky | D42: =D5+D7+D23+D29+D31+D33+D35+D37+D39+D41 -> 0 | E42: =E5+E7+E23+E29+E31+E33+E35+E37+E39+E41 -> 0 | F42: =F5+F7+F23+F29+F31+F33+F35+F37+F39+F41 -> 0 | G42: =G5+G7+G23+G29+G31+G33+G35+G37+G39+G41 -> 0 | H42: =H5+H7+H23+H29+H31+H33+H35+H37+H39+H41 -> 0 | I42: =SUM(I4:I41) -> 0
A45: Ostatní náklady akce
A46: Položka | E46: Odůvod. nemožnosti rozpočtítání položky na účastníky | I46: Částka
A62: Celkem | I62: =SUM(I47:I61) -> 0
A65: Celková výše nákladů na akci | I65: =I42+I62 -> 0
A66: Poskytnutá záloha na akci | I66: =Obalka!F6 -> 0
A67: Částka k zaplacení | I67: =I65-I66 -> 0
A70: Poznámky, vysvětlivky
